{"text_format":"1","workbook":"xlsx","n_sheets":10,"sheets":["Functions","Absorbance","Absorbance Data","Emission","Emission Data","Time","Globals","OOIDRV","Band Edge","Calculations"],"not_rendered":{"charts":9,"images":0,"macros":1,"external_links":0,"defined_names":3,"comments":0,"pivot_tables":0},"unopened":[{"sheet":"Functions","index":0,"reason":"part_missing"},{"sheet":"Globals","index":6,"reason":"part_missing"},{"sheet":"OOIDRV","index":7,"reason":"part_missing"}],"bounds":{"document_bytes":16777216,"sheet_cells":100000,"rows_first":2000,"rows_last":500,"rows_between":2000,"halvings":0,"cell_chars":16384,"cell_head_chars":4096},"cells_cut":0,"cells_raw":0,"read":"whole","date_system":"1900"}

{"sheet":"Absorbance","index":1,"n_rows":14,"n_cols":22,"rows_kept":14,"cut":false,"hidden":false,"merged":[]}
["Chosen wavelength",null,450,null,{"$f":"'Absorbance Data'!D6","v":"USB2000"},null,null,null,null,null,null,null,null,null,null,null,null,null,null,null,"Samples recorded at"]
["Sample","Conc","% T","Abs",null,null,null,null,null,null,null,null,null,null,null,null,null,null,null,null,"Clock","Seconds"]
[]
[]
[]
[]
[]
[]
[]
[]
[]
[null,null,null,null,null,null,null,null,null,null,null,1]
[null,null,null,null,null,null,null,null,null,null,null,null,null,null,{"$f":"C1","v":450},{"$f":"'Absorbance Data'!I8","v":0}]
[null,null,null,null,null,null,null,null,null,null,null,null,null,null,{"$f":"C1","v":450},{"$f":"'Absorbance Data'!I9","v":0}]

{"sheet":"Absorbance Data","index":2,"n_rows":4109,"n_cols":13,"rows_kept":4109,"cut":false,"hidden":false,"merged":[]}
[null,null,"Integration Time/ADC Rate",25,"<<-- Integration time in msec (normally 10)"]
[null,null,"Samples to Average",10,"<<-- Number of spectra to average (normally 10)"]
[null,null,"Boxcar Width",1,"<<-- Boxcar smoothing width in pixels (normally 1)"]
[null,null,"Channel Number",0,"<<-- 0=Master, 1=Slave1, 2=Slave2, 3=Slave3 (normally 0)"]
[null,null,"DelayTime",10,"<<-- Seconds for light to warm up during blank measurment (normally 10)"]
[null,null,"USB Serial Number","USB2000",null,null,"Next Spectrum",null,1]
[null,null,"First Wavelength Coefficient",0.36007791757583618,null,null,"Time Stamp",null,"Blank not measured yet"]
[null,null,"Second Wavelength Coefficient",-1.270869961444987E-5,null,null,"Max Absorbance",null,{"$f":"MAX(E2650:CW4109)","v":0},null,"Multiple Samples",null,2]
[null,null,"Third Wavelength Coefficient",-2.0958799140657902E-9,null,null,"Min Absorbance",null,{"$f":"MIN(E2650:CW4109)","v":0},null,"Delay time (seconds)",null,1]
[null,null,"Wavelength Intercept",189.96490478515625]
["D","R","Pixel #","l (nm)"]
[]
[]
[]
[]
[]
[]
[]
[]
[]
[]
[]
[]
[]
[]
[]
[]
[]
[]
[]
[]
[]
[]
[]
[]
[]
[]
[]
[]
[]
[]
[]
[]
[]
[]
[]
[]
[]
[]
[]
[]
[]
[]
[]
[]
[]
[]
[]
[]
[]
[]
[]
[]
[]
[]
[]
[]
[]
[]
[]
[]
[]
[]
[]
[]
[]
[]
[]
[]
[]
[]
[]
[]
[]
[]
[]
[]
[]
[]
[]
[]
[]
[]
[]
[]
[]
[]
[]
[]
[]
[]
[]
[]
[]
[]
[]
[]
[]
[]
[]
[]
[]
[]
[]
[]
[]
[]
[]
[]
[]
[]
[]
[]
[]
[]
[]
[]
[]
[]
[]
[]
[]
[]
[]
[]
[]
[]
[]
[]
[]
[]
[]
[]
[]
[]
[]
[]
[]
[]
[]
[]
[]
[]
[]
[]
[]
[]
[]
[]
[]
[]
[]
[]
[]
[]
[]
[]
[]
[]
[]
[]
[]
[]
[]
[]
[]
[]
[]
[]
[]
[]
[]
[]
[]
[]
[]
[]
[]
[]
[]
[]
[]
[]
[]
[]
[]
[]
[]
[]
[]
[]
[]
[]
[]
[]
[]
[]
[]
[]
[]
[]
[]
[]
[]
[]
[]
[]
[]
[]
[]
[]
[]
[]
[]
[]
[]
[]
[]
[]
[]
[]
[]
[]
[]
[]
[]
[]
[]
[]
[]
[]
[]
[]
[]
[]
[]
[]
[]
[]
[]
[]
[]
[]
[]
[]
[]
[]
[]
[]
[]
[]
[]
[]
[]
[]
[]
[]
[]
[]
[]
[]
[]
[]
[]
[]
[]
[]
[]
[]
[]
[]
[]
[]
[]
[]
[]
[]
[]
[]
[]
[]
[]
[]
[]
[]
[]
[]
[]
[]
[]
[]
[]
[]
[]
[]
[]
[]
[]
[]
[]
[]
[]
[]
[]
[]
[]
[]
[]
[]
[]
[]
[]
[]
[]
[]
[]
[]
[]
[]
[]
[]
[]
[]
[]
[]
[]
[]
[]
[]
[]
[]
[]
[]
[]
[]
[]
[]
[]
[]
[]
[]
[]
[]
[]
[]
[]
[]
[]
[]
[]
[]
[]
[]
[]
[]
[]
[]
[]
[]
[]
[]
[]
[]
[]
[]
[]
[]
[]
[]
[]
[]
[]
[]
[]
[]
[]
[]
[]
[]
[]
[]
[]
[]
[]
[]
[]
[]
[]
[]
[]
[]
[]
[]
[]
[]
[]
[]
[]
[]
[]
[]
[]
[]
[]
[]
[]
[]
[]
[]
[]
[]
[]
[]
[]
[]
[]
[]
[]
[]
[]
[]
[]
[]
[]
[]
[]
[]
[]
[]
[]
[]
[]
[]
[]
[]
[]
[]
[]
[]
[]
[]
[]
[]
[]
[]
[]
[]
[]
[]
[]
[]
[]
[]
[]
[]
[]
[]
[]
[]
[]
[]
[]
[]
[]
[]
[]
[]
[]
[]
[]
[]
[]
[]
[]
[]
[]
[]
[]
[]
[]
[]
[]
[]
[]
[]
[]
[]
[]
[]
[]
[]
[]
[]
[]
[]
[]
[]
[]
[]
[]
[]
[]
[]
[]
[]
[]
[]
[]
[]
[]
[]
[]
[]
[]
[]
[]
[]
[]
[]
[]
[]
[]
[]
[]
[]
[]
[]
[]
[]
[]
[]
[]
[]
[]
[]
[]
[]
[]
[]
[]
[]
[]
[]
[]
[]
[]
[]
[]
[]
[]
[]
[]
[]
[]
[]
[]
[]
[]
[]
[]
[]
[]
[]
[]
[]
[]
[]
[]
[]
[]
[]
[]
[]
[]
[]
[]
[]
[]
[]
[]
[]
[]
[]
[]
[]
[]
[]
[]
[]
[]
[]
[]
[]
[]
[]
[]
[]
[]
[]
[]
[]
[]
[]
[]
[]
[]
[]
[]
[]
[]
[]
[]
[]
[]
[]
[]
[]
[]
[]
[]
[]
[]
[]
[]
[]
[]
[]
[]
[]
[]
[]
[]
[]
[]
[]
[]
[]
[]
[]
[]
[]
[]
[]
[]
[]
[]
[]
[]
[]
[]
[]
[]
[]
[]
[]
[]
[]
[]
[]
[]
[]
[]
[]
[]
[]
[]
[]
[]
[]
[]
[]
[]
[]
[]
[]
[]
[]
[]
[]
[]
[]
[]
[]
[]
[]
[]
[]
[]
[]
[]
[]
[]
[]
[]
[]
[]
[]
[]
[]
[]
[]
[]
[]
[]
[]
[]
[]
[]
[]
[]
[]
[]
[]
[]
[]
[]
[]
[]
[]
[]
[]
[]
[]
[]
[]
[]
[]
[]
[]
[]
[]
[]
[]
[]
[]
[]
[]
[]
[]
[]
[]
[]
[]
[]
[]
[]
[]
[]
[]
[]
[]
[]
[]
[]
[]
[]
[]
[]
[]
[]
[]
[]
[]
[]
[]
[]
[]
[]
[]
[]
[]
[]
[]
[]
[]
[]
[]
[]
[]
[]
[]
[]
[]
[]
[]
[]
[]
[]
[]
[]
[]
[]
[]
[]
[]
[]
[]
[]
[]
[]
[]
[]
[]
[]
[]
[]
[]
[]
[]
[]
[]
[]
[]
[]
[]
[]
[]
[]
[]
[]
[]
[]
[]
[]
[]
[]
[]
[]
[]
[]
[]
[]
[]
[]
[]
[]
[]
[]
[]
[]
[]
[]
[]
[]
[]
[]
[]
[]
[]
[]
[]
[]
[]
[]
[]
[]
[]
[]
[]
[]
[]
[]
[]
[]
[]
[]
[]
[]
[]
[]
[]
[]
[]
[]
[]
[]
[]
[]
[]
[]
[]
[]
[]
[]
[]
[]
[]
[]
[]
[]
[]
[]
[]
[]
[]
[]
[]
[]
[]
[]
[]
[]
[]
[]
[]
[]
[]
[]
[]
[]
[]
[]
[]
[]
[]
[]
[]
[]
[]
[]
[]
[]
[]
[]
[]
[]
[]
[]
[]
[]
[]
[]
[]
[]
[]
[]
[]
[]
[]
[]
[]
[]
[]
[]
[]
[]
[]
[]
[]
[]
[]
[]
[]
[]
[]
[]
[]
[]
[]
[]
[]
[]
[]
[]
[]
[]
[]
[]
[]
[]
[]
[]
[]
[]
[]
[]
[]
[]
[]
[]
[]
[]
[]
[]
[]
[]
[]
[]
[]
[]
[]
[]
[]
[]
[]
[]
[]
[]
[]
[]
[]
[]
[]
[]
[]
[]
[]
[]
[]
[]
[]
[]
[]
[]
[]
[]
[]
[]
[]
[]
[]
[]
[]
[]
[]
[]
[]
[]
[]
[]
[]
[]
[]
[]
[]
[]
[]
[]
[]
[]
[]
[]
[]
[]
[]
[]
[]
[]
[]
[]
[]
[]
[]
[]
[]
[]
[]
[]
[]
[]
[]
[]
[]
[]
[]
[]
[]
[]
[]
[]
[]
[]
[]
[]
[]
[]
[]
[]
[]
[]
[]
[]
[]
[]
[]
[]
[]
[]
[]
[]
[]
[]
[]
[]
[]
[]
[]
[]
[]
[]
[]
[]
[]
[]
[]
[]
[]
[]
[]
[]
[]
[]
[]
[]
[]
[]
[]
[]
[]
[]
[]
[]
[]
[]
[]
[]
[]
[]
[]
[]
[]
[]
[]
[]
[]
[]
[]
[]
[]
[]
[]
[]
[]
[]
[]
[]
[]
[]
[]
[]
[]
[]
[]
[]
[]
[]
[]
[]
[]
[]
[]
[]
[]
[]
[]
[]
[]
[]
[]
[]
[]
[]
[]
[]
[]
[]
[]
[]
[]
[]
[]
[]
[]
[]
[]
[]
[]
[]
[]
[]
[]
[]
[]
[]
[]
[]
[]
[]
[]
[]
[]
[]
[]
[]
[]
[]
[]
[]
[]
[]
[]
[]
[]
[]
[]
[]
[]
[]
[]
[]
[]
[]
[]
[]
[]
[]
[]
[]
[]
[]
[]
[]
[]
[]
[]
[]
[]
[]
[]
[]
[]
[]
[]
[]
[]
[]
[]
[]
[]
[]
[]
[]
[]
[]
[]
[]
[]
[]
[]
[]
[]
[]
[]
[]
[]
[]
[]
[]
[]
[]
[]
[]
[]
[]
[]
[]
[]
[]
[]
[]
[]
[]
[]
[]
[]
[]
[]
[]
[]
[]
[]
[]
[]
[]
[]
[]
[]
[]
[]
[]
[]
[]
[]
[]
[]
[]
[]
[]
[]
[]
[]
[]
[]
[]
[]
[]
[]
[]
[]
[]
[]
[]
[]
[]
[]
[]
[]
[]
[]
[]
[]
[]
[]
[]
[]
[]
[]
[]
[]
[]
[]
[]
[]
[]
[]
[]
[]
[]
[]
[]
[]
[]
[]
[]
[]
[]
[]
[]
[]
[]
[]
[]
[]
[]
[]
[]
[]
[]
[]
[]
[]
[]
[]
[]
[]
[]
[]
[]
[]
[]
[]
[]
[]
[]
[]
[]
[]
[]
[]
[]
[]
[]
[]
[]
[]
[]
[]
[]
[]
[]
[]
[]
[]
[]
[]
[]
[]
[]
[]
[]
[]
[]
[]
[]
[]
[]
[]
[]
[]
[]
[]
[]
[]
[]
[]
[]
[]
[]
[]
[]
[]
[]
[]
[]
[]
[]
[]
[]
[]
[]
[]
[]
[]
[]
[]
[]
[]
[]
[]
[]
[]
[]
[]
[]
[]
[]
[]
[]
[]
[]
[]
[]
[]
[]
[]
[]
[]
[]
[]
[]
[]
[]
[]
[]
[]
[]
[]
[]
[]
[]
[]
[]
[]
[]
[]
[]
[]
[]
[]
[]
[]
[]
[]
[]
[]
[]
[]
[]
[]
[]
[]
[]
[]
[]
[]
[]
[]
[]
[]
[]
[]
[]
[]
[]
[]
[]
[]
[]
[]
[]
[]
[]
[]
[]
[]
[]
[]
[]
[]
[]
[]
[]
[]
[]
[]
[]
[]
[]
[]
[]
[]
[]
[]
[]
[]
[]
[]
[]
[]
[]
[]
[]
[]
[]
[]
[]
[]
[]
[]
[]
[]
[]
[]
[]
[]
[]
[]
[]
[]
[]
[]
[]
[]
[]
[]
[]
[]
[]
[]
[]
[]
[]
[]
[]
[]
[]
[]
[]
[]
[]
[]
[]
[]
[]
[]
[]
[]
[]
[]
[]
[]
[]
[]
[]
[]
[]
[]
[]
[]
[]
[]
[]
[]
[]
[]
[]
[]
[]
[]
[]
[]
[]
[]
[]
[]
[]
[]
[]
[]
[]
[]
[]
[]
[]
[]
[]
[]
[]
[]
[]
[]
[]
[]
[]
[]
[]
[]
[]
[]
[]
[]
[]
[]
[]
[]
[]
[]
[]
[]
[]
[]
[]
[]
[]
[]
[]
[]
[]
[]
[]
[]
[]
[]
[]
[]
[]
[]
[]
[]
[]
[]
[]
[]
[]
[]
[]
[]
[]
[]
[]
[]
[]
[]
[]
[]
[]
[]
[]
[]
[]
[]
[]
[]
[]
[]
[]
[]
[]
[]
[]
[]
[]
[]
[]
[]
[]
[]
[]
[]
[]
[]
[]
[]
[]
[]
[]
[]
[]
[]
[]
[]
[]
[]
[]
[]
[]
[]
[]
[]
[]
[]
[]
[]
[]
[]
[]
[]
[]
[]
[]
[]
[]
[]
[]
[]
[]
[]
[]
[]
[]
[]
[]
[]
[]
[]
[]
[]
[]
[]
[]
[]
[]
[]
[]
[]
[]
[]
[]
[]
[]
[]
[]
[]
[]
[]
[]
[]
[]
[]
[]
[]
[]
[]
[]
[]
[]
[]
[]
[]
[]
[]
[]
[]
[]
[]
[]
[]
[]
[]
[]
[]
[]
[]
[]
[]
[]
[]
[]
[]
[]
[]
[]
[]
[]
[]
[]
[]
[]
[]
[]
[]
[]
[]
[]
[]
[]
[]
[]
[]
[]
[]
[]
[]
[]
[]
[]
[]
[]
[]
[]
[]
[]
[]
[]
[]
[]
[]
[]
[]
[]
[]
[]
[]
[]
[]
[]
[]
[]
[]
[]
[]
[]
[]
[]
[]
[]
[]
[]
[]
[]
[]
[]
[]
[]
[]
[]
[]
[]
[]
[]
[]
[]
[]
[]
[]
[]
[]
[]
[]
[]
[]
[]
[]
[]
[]
[]
[]
[]
[]
[]
[]
[]
[]
[]
[]
[]
[]
[]
[]
[]
[]
[]
[]
[]
[]
[]
[]
[]
[]
[]
[]
[]
[]
[]
[]
[]
[]
[]
[]
[]
[]
[]
[]
[]
[]
[]
[]
[]
[]
[]
[]
[]
[]
[]
[]
[]
[]
[]
[]
[]
[]
[]
[]
[]
[]
[]
[]
[]
[]
[]
[]
[]
[]
[]
[]
[]
[]
[]
[]
[]
[]
[]
[]
[]
[]
[]
[]
[]
[]
[]
[]
[]
[]
[]
[]
[]
[]
[]
[]
[]
[]
[]
[]
[]
[]
[]
[]
[]
[]
[]
[]
[]
[]
[]
[]
[]
[]
[]
[]
[]
[]
[]
[]
[]
[]
[]
[]
[]
[]
[]
[]
[]
[]
[]
[]
[]
[]
[]
[]
[]
[]
[]
[]
[]
[]
[]
[]
[]
[]
[]
[]
[]
[null,null,null,190.32496643066406]
[null,null,null,190.68501281738281]
[null,null,null,191.04502868652344]
[null,null,null,191.40501403808594]
[null,null,null,191.76496887207031]
[null,null,null,192.12490844726562]
[null,null,null,192.48481750488281]
[null,null,null,192.8447265625]
[null,null,null,193.20458984375]
[null,null,null,193.56442260742188]
[null,null,null,193.92422485351562]
[null,null,null,194.28401184082031]
[null,null,null,194.64376831054688]
[null,null,null,195.00350952148438]
[null,null,null,195.36322021484375]
[null,null,null,195.72288513183594]
[null,null,null,196.08253479003906]
[null,null,null,196.44216918945312]
[null,null,null,196.80177307128906]
[null,null,null,197.16136169433594]
[null,null,null,197.52091979980469]
[null,null,null,197.88044738769531]
[null,null,null,198.23994445800781]
[null,null,null,198.59942626953125]
[null,null,null,198.95887756347656]
[null,null,null,199.31831359863281]
[null,null,null,199.67770385742188]
[null,null,null,200.03707885742188]
[null,null,null,200.39643859863281]
[null,null,null,200.7557373046875]
[null,null,null,201.11505126953125]
[null,null,null,201.47430419921875]
[null,null,null,201.83355712890625]
[null,null,null,202.19277954101562]
[null,null,null,202.55197143554688]
[null,null,null,202.91114807128906]
[null,null,null,203.27027893066406]
[null,null,null,203.62937927246094]
[null,null,null,203.98849487304688]
[null,null,null,204.34754943847656]
[null,null,null,204.70660400390625]
[null,null,null,205.06561279296875]
[null,null,null,205.42459106445312]
[null,null,null,205.78355407714844]
[null,null,null,206.14247131347656]
[null,null,null,206.50140380859375]
[null,null,null,206.86027526855469]
[null,null,null,207.21913146972656]
[null,null,null,207.57795715332031]
[null,null,null,207.936767578125]
[null,null,null,208.29554748535156]
[null,null,null,208.65431213378906]
[null,null,null,209.01303100585938]
[null,null,null,209.37171936035156]
[null,null,null,209.73040771484375]
[null,null,null,210.08905029296875]
[null,null,null,210.44767761230469]
[null,null,null,210.80625915527344]
[null,null,null,211.16484069824219]
[null,null,null,211.52337646484375]
[null,null,null,211.88189697265625]
[null,null,null,212.24037170410156]
[null,null,null,212.59884643554688]
[null,null,null,212.95729064941406]
[null,null,null,213.31568908691406]
[null,null,null,213.67408752441406]
[null,null,null,214.03244018554688]
[null,null,null,214.39077758789062]
[null,null,null,214.74909973144531]
[null,null,null,215.10737609863281]
[null,null,null,215.46562194824219]
[null,null,null,215.8238525390625]
[null,null,null,216.18206787109375]
[null,null,null,216.54022216796875]
[null,null,null,216.89837646484375]
[null,null,null,217.25650024414062]
[null,null,null,217.61459350585938]
[null,null,null,217.97267150878906]
[null,null,null,218.33070373535156]
[null,null,null,218.68873596191406]
[null,null,null,219.04670715332031]
[null,null,null,219.40469360351562]
[null,null,null,219.76261901855469]
[null,null,null,220.12054443359375]
[null,null,null,220.47842407226562]
[null,null,null,220.83628845214844]
[null,null,null,221.19412231445312]
[null,null,null,221.55191040039062]
[null,null,null,221.90969848632812]
[null,null,null,222.2674560546875]
[null,null,null,222.62516784667969]
[null,null,null,222.98287963867188]
[null,null,null,223.34054565429688]
[null,null,null,223.69819641113281]
[null,null,null,224.05580139160156]
[null,null,null,224.41339111328125]
[null,null,null,224.77096557617188]
[null,null,null,225.12850952148438]
[null,null,null,225.48602294921875]
[null,null,null,225.84352111816406]
[null,null,null,226.20097351074219]
[null,null,null,226.55841064453125]
[null,null,null,226.91581726074219]
[null,null,null,227.273193359375]
[null,null,null,227.63055419921875]
[null,null,null,227.98786926269531]
[null,null,null,228.34516906738281]
[null,null,null,228.70243835449219]
[null,null,null,229.0596923828125]
[null,null,null,229.41690063476562]
[null,null,null,229.77409362792969]
[null,null,null,230.13127136230469]
[null,null,null,230.48841857910156]
[null,null,null,230.84553527832031]
[null,null,null,231.20260620117188]
[null,null,null,231.55967712402344]
[null,null,null,231.91670227050781]
[null,null,null,232.27369689941406]
[null,null,null,232.63069152832031]
[null,null,null,232.98764038085938]
[null,null,null,233.34455871582031]
[null,null,null,233.70144653320312]
[null,null,null,234.05830383300781]
[null,null,null,234.4151611328125]
[null,null,null,234.77197265625]
[null,null,null,235.12875366210938]
[null,null,null,235.48553466796875]
[null,null,null,235.84225463867188]
[null,null,null,236.19895935058594]
[null,null,null,236.55564880371094]
[null,null,null,236.91230773925781]
[null,null,null,237.26893615722656]
[null,null,null,237.62553405761719]
[null,null,null,237.98211669921875]
[null,null,null,238.33865356445312]
[null,null,null,238.69515991210938]
[null,null,null,239.05166625976562]
[null,null,null,239.40812683105469]
[null,null,null,239.76455688476562]
[null,null,null,240.1209716796875]
[null,null,null,240.47735595703125]
[null,null,null,240.83372497558594]
[null,null,null,241.19003295898438]
[null,null,null,241.54634094238281]
[null,null,null,241.90261840820312]
[null,null,null,242.25886535644531]
[null,null,null,242.61508178710938]
[null,null,null,242.97128295898438]
[null,null,null,243.32743835449219]
[null,null,null,243.68356323242188]
[null,null,null,244.03968811035156]
[null,null,null,244.39576721191406]
[null,null,null,244.75181579589844]
[null,null,null,245.10783386230469]
[null,null,null,245.46385192871094]
[null,null,null,245.81982421875]
[null,null,null,246.17575073242188]
[null,null,null,246.53167724609375]
[null,null,null,246.8875732421875]
[null,null,null,247.24342346191406]
[null,null,null,247.59928894042969]
[null,null,null,247.95509338378906]
[null,null,null,248.31086730957031]
[null,null,null,248.6666259765625]
[null,null,null,249.02235412597656]
[null,null,null,249.3780517578125]
[null,null,null,249.73371887207031]
[null,null,null,250.08937072753906]
[null,null,null,250.44497680664062]
[null,null,null,250.80056762695312]
[null,null,null,251.1561279296875]
[null,null,null,251.51167297363281]
[null,null,null,251.8671875]
[null,null,null,252.22265625]
[null,null,null,252.57810974121094]
[null,null,null,252.93353271484375]
[null,null,null,253.28892517089844]
[null,null,null,253.644287109375]
[null,null,null,253.9996337890625]
[null,null,null,254.35494995117188]
[null,null,null,254.71023559570312]
[null,null,null,255.06549072265625]
[null,null,null,255.42071533203125]
[null,null,null,255.77590942382812]
[null,null,null,256.13107299804688]
[null,null,null,256.48623657226562]
[null,null,null,256.84136962890625]
[null,null,null,257.19644165039062]
[null,null,null,257.55148315429688]
[null,null,null,257.90655517578125]
[null,null,null,258.26153564453125]
[null,null,null,258.61651611328125]
[null,null,null,258.97149658203125]
[null,null,null,259.326416015625]
[null,null,null,259.68133544921875]
[null,null,null,260.03616333007812]
[null,null,null,260.39102172851562]
[null,null,null,260.74581909179688]
[null,null,null,261.10064697265625]
[null,null,null,261.45538330078125]
[null,null,null,261.81008911132812]
[null,null,null,262.16482543945312]
[null,null,null,262.51947021484375]
[null,null,null,262.87411499023438]
[null,null,null,263.22872924804688]
[null,null,null,263.58334350585938]
[null,null,null,263.93789672851562]
[null,null,null,264.29241943359375]
[null,null,null,264.64694213867188]
[null,null,null,265.00140380859375]
[null,null,null,265.35586547851562]
[null,null,null,265.71029663085938]
[null,null,null,266.06466674804688]
[null,null,null,266.41903686523438]
[null,null,null,266.77334594726562]
[null,null,null,267.127685546875]
[null,null,null,267.48193359375]
[null,null,null,267.836181640625]
[null,null,null,268.1904296875]
[null,null,null,268.54461669921875]
[null,null,null,268.8988037109375]
[null,null,null,269.2529296875]
[null,null,null,269.60702514648438]
[null,null,null,269.96115112304688]
[null,null,null,270.315185546875]
[null,null,null,270.66921997070312]
[null,null,null,271.023193359375]
[null,null,null,271.377197265625]
[null,null,null,271.73110961914062]
[null,null,null,272.08502197265625]
[null,null,null,272.43890380859375]
[null,null,null,272.79278564453125]
[null,null,null,273.1466064453125]
[null,null,null,273.50039672851562]
[null,null,null,273.85418701171875]
[null,null,null,274.20791625976562]
[null,null,null,274.5616455078125]
[null,null,null,274.91531372070312]
[null,null,null,275.26898193359375]
[null,null,null,275.62261962890625]
[null,null,null,275.97622680664062]
[null,null,null,276.32980346679688]
[null,null,null,276.683349609375]
[null,null,null,277.03683471679688]
[null,null,null,277.39031982421875]
[null,null,null,277.74380493164062]
[null,null,null,278.09719848632812]
[null,null,null,278.45059204101562]
[null,null,null,278.80398559570312]
[null,null,null,279.1573486328125]
[null,null,null,279.51065063476562]
[null,null,null,279.86392211914062]
[null,null,null,280.21722412109375]
[null,null,null,280.5704345703125]
[null,null,null,280.92364501953125]
[null,null,null,281.27679443359375]
[null,null,null,281.62997436523438]
[null,null,null,281.98306274414062]
[null,null,null,282.336181640625]
[null,null,null,282.68923950195312]
[null,null,null,283.04226684570312]
[null,null,null,283.395263671875]
[null,null,null,283.74822998046875]
[null,null,null,284.10116577148438]
[null,null,null,284.4541015625]
[null,null,null,284.80694580078125]
[null,null,null,285.15985107421875]
[null,null,null,285.51266479492188]
[null,null,null,285.86544799804688]
[null,null,null,286.21823120117188]
[null,null,null,286.57095336914062]
[null,null,null,286.92367553710938]
[null,null,null,287.2763671875]
[null,null,null,287.62899780273438]
[null,null,null,287.98165893554688]
[null,null,null,288.334228515625]
[null,null,null,288.68679809570312]
[null,null,null,289.03933715820312]
[null,null,null,289.391845703125]
[null,null,null,289.74432373046875]
[null,null,null,290.0968017578125]
[null,null,null,290.44921875]
[null,null,null,290.80160522460938]
[null,null,null,291.15402221679688]
[null,null,null,291.50631713867188]
[null,null,null,291.858642578125]
[null,null,null,292.21087646484375]
[null,null,null,292.56317138671875]
[null,null,null,292.91537475585938]
[null,null,null,293.26760864257812]
[null,null,null,293.61978149414062]
[null,null,null,293.97189331054688]
[null,null,null,294.323974609375]
[null,null,null,294.67608642578125]
[null,null,null,295.02810668945312]
[null,null,null,295.380126953125]
[null,null,null,295.73211669921875]
[null,null,null,296.0841064453125]
[null,null,null,296.43600463867188]
[null,null,null,296.78793334960938]
[null,null,null,297.1397705078125]
[null,null,null,297.49160766601562]
[null,null,null,297.84344482421875]
[null,null,null,298.19522094726562]
[null,null,null,298.54696655273438]
[null,null,null,298.898681640625]
[null,null,null,299.25039672851562]
[null,null,null,299.60205078125]
[null,null,null,299.95370483398438]
[null,null,null,300.3052978515625]
[null,null,null,300.65689086914062]
[null,null,null,301.0084228515625]
[null,null,null,301.3599853515625]
[null,null,null,301.71145629882812]
[null,null,null,302.06292724609375]
[null,null,null,302.41433715820312]
[null,null,null,302.7657470703125]
[null,null,null,303.11709594726562]
[null,null,null,303.468505859375]
[null,null,null,303.81979370117188]
[null,null,null,304.17108154296875]
[null,null,null,304.5223388671875]
[null,null,null,304.87356567382812]
[null,null,null,305.22476196289062]
[null,null,null,305.575927734375]
[null,null,null,305.92709350585938]
[null,null,null,306.2781982421875]
[null,null,null,306.6292724609375]
[null,null,null,306.98028564453125]
[null,null,null,307.33132934570312]
[null,null,null,307.68231201171875]
[null,null,null,308.03326416015625]
[null,null,null,308.38421630859375]
[null,null,null,308.735107421875]
[null,null,null,309.08596801757812]
[null,null,null,309.43682861328125]
[null,null,null,309.78762817382812]
[null,null,null,310.13839721679688]
[null,null,null,310.4891357421875]
[null,null,null,310.83990478515625]
[null,null,null,311.19058227539062]
[null,null,null,311.541259765625]
[null,null,null,311.89187622070312]
[null,null,null,312.24249267578125]
[null,null,null,312.59304809570312]
[null,null,null,312.94363403320312]
[null,null,null,313.29412841796875]
[null,null,null,313.6446533203125]
[null,null,null,313.99505615234375]
[null,null,null,314.34548950195312]
[null,null,null,314.69589233398438]
[null,null,null,315.04629516601562]
[null,null,null,315.3966064453125]
[null,null,null,315.74691772460938]
[null,null,null,316.09716796875]
[null,null,null,316.44741821289062]
[null,null,null,316.79763793945312]
[null,null,null,317.14785766601562]
[null,null,null,317.49798583984375]
[null,null,null,317.84814453125]
[null,null,null,318.19821166992188]
[null,null,null,318.54827880859375]
[null,null,null,318.8983154296875]
[null,null,null,319.24835205078125]
[null,null,null,319.59829711914062]
[null,null,null,319.94827270507812]
[null,null,null,320.29815673828125]
[null,null,null,320.64804077148438]
[null,null,null,320.9979248046875]
[null,null,null,321.34774780273438]
[null,null,null,321.69757080078125]
[null,null,null,322.04733276367188]
[null,null,null,322.39706420898438]
[null,null,null,322.74673461914062]
[null,null,null,323.096435546875]
[null,null,null,323.44607543945312]
[null,null,null,323.79571533203125]
[null,null,null,324.14529418945312]
[null,null,null,324.49484252929688]
[null,null,null,324.8443603515625]
[null,null,null,325.19387817382812]
[null,null,null,325.5433349609375]
[null,null,null,325.89279174804688]
[null,null,null,326.2421875]
[null,null,null,326.591552734375]
[null,null,null,326.94088745117188]
[null,null,null,327.29019165039062]
[null,null,null,327.63949584960938]
[null,null,null,327.98873901367188]
[null,null,null,328.33798217773438]
[null,null,null,328.68716430664062]
[null,null,null,329.03631591796875]
[null,null,null,329.38543701171875]
[null,null,null,329.73455810546875]
[null,null,null,330.0836181640625]
[null,null,null,330.43267822265625]
[null,null,null,330.78170776367188]
[null,null,null,331.13064575195312]
[null,null,null,331.47964477539062]
[null,null,null,331.82858276367188]
[null,null,null,332.17742919921875]
[null,null,null,332.52630615234375]
[null,null,null,332.8751220703125]
[null,null,null,333.22393798828125]
[null,null,null,333.57269287109375]
[null,null,null,333.92144775390625]
[null,null,null,334.27011108398438]
[null,null,null,334.61883544921875]
[null,null,null,334.96743774414062]
[null,null,null,335.31610107421875]
[null,null,null,335.66464233398438]
[null,null,null,336.01321411132812]
[null,null,null,336.3616943359375]
[null,null,null,336.71023559570312]
[null,null,null,337.05868530273438]
[null,null,null,337.40713500976562]
[null,null,null,337.75552368164062]
[null,null,null,338.1038818359375]
[null,null,null,338.45223999023438]
[null,null,null,338.800537109375]
[null,null,null,339.1488037109375]
[null,null,null,339.4970703125]
[null,null,null,339.84527587890625]
[null,null,null,340.19345092773438]
[null,null,null,340.5416259765625]
[null,null,null,340.88973999023438]
[null,null,null,341.23782348632812]
[null,null,null,341.58587646484375]
[null,null,null,341.93392944335938]
[null,null,null,342.28192138671875]
[null,null,null,342.62991333007812]
[null,null,null,342.97784423828125]
[null,null,null,343.32577514648438]
[null,null,null,343.67361450195312]
[null,null,null,344.021484375]
[null,null,null,344.36929321289062]
[null,null,null,344.71710205078125]
[null,null,null,345.0648193359375]
[null,null,null,345.41259765625]
[null,null,null,345.76022338867188]
[null,null,null,346.10794067382812]
[null,null,null,346.45553588867188]
[null,null,null,346.80313110351562]
[null,null,null,347.15069580078125]
[null,null,null,347.49826049804688]
[null,null,null,347.84576416015625]
[null,null,null,348.1932373046875]
[null,null,null,348.54067993164062]
[null,null,null,348.88809204101562]
[null,null,null,349.2354736328125]
[null,null,null,349.58282470703125]
[null,null,null,349.93014526367188]
[null,null,null,350.27743530273438]
[null,null,null,350.62466430664062]
[null,null,null,350.971923828125]
[null,null,null,351.319091796875]
[null,null,null,351.666259765625]
[null,null,null,352.01339721679688]
[null,null,null,352.36050415039062]
[null,null,null,352.70761108398438]
[null,null,null,353.05459594726562]
[null,null,null,353.40167236328125]
[null,null,null,353.74859619140625]
[null,null,null,354.09555053710938]
[null,null,null,354.44247436523438]
[null,null,null,354.78936767578125]
[null,null,null,355.13616943359375]
[null,null,null,355.4830322265625]
[null,null,null,355.82980346679688]
[null,null,null,356.17660522460938]
[null,null,null,356.52328491210938]
[null,null,null,356.8699951171875]
[null,null,null,357.21664428710938]
[null,null,null,357.56329345703125]
[null,null,null,357.909912109375]
[null,null,null,358.2564697265625]
[null,null,null,358.60299682617188]
[null,null,null,358.94949340820312]
[null,null,null,359.29598999023438]
[null,null,null,359.6424560546875]
[null,null,null,359.98883056640625]
[null,null,null,360.335205078125]
[null,null,null,360.68154907226562]
[null,null,null,361.02789306640625]
[null,null,null,361.37417602539062]
[null,null,null,361.72042846679688]
[null,null,null,362.06668090820312]
[null,null,null,362.41287231445312]
[null,null,null,362.75900268554688]
[null,null,null,363.10513305664062]
[null,null,null,363.4512939453125]
[null,null,null,363.79730224609375]
[null,null,null,364.14337158203125]
[null,null,null,364.48934936523438]
[null,null,null,364.8353271484375]
[null,null,null,365.18124389648438]
[null,null,null,365.52719116210938]
[null,null,null,365.873046875]
[null,null,null,366.21890258789062]
[null,null,null,366.56466674804688]
[null,null,null,366.91049194335938]
[null,null,null,367.2562255859375]
[null,null,null,367.60195922851562]
[null,null,null,367.9476318359375]
[null,null,null,368.29330444335938]
[null,null,null,368.63894653320312]
[null,null,null,368.98452758789062]
[null,null,null,369.330078125]
[null,null,null,369.67559814453125]
[null,null,null,370.02108764648438]
[null,null,null,370.36654663085938]
[null,null,null,370.71197509765625]
[null,null,null,371.057373046875]
[null,null,null,371.40277099609375]
[null,null,null,371.74807739257812]
[null,null,null,372.0933837890625]
[null,null,null,372.43869018554688]
[null,null,null,372.78390502929688]
[null,null,null,373.12911987304688]
[null,null,null,373.47430419921875]
[null,null,null,373.81942749023438]
[null,null,null,374.16458129882812]
[null,null,null,374.50961303710938]
[null,null,null,374.85470581054688]
[null,null,null,375.19967651367188]
[null,null,null,375.544677734375]
[null,null,null,375.88961791992188]
[null,null,null,376.23458862304688]
[null,null,null,376.57940673828125]
[null,null,null,376.92428588867188]
[null,null,null,377.26910400390625]
[null,null,null,377.61392211914062]
[null,null,null,377.95864868164062]
[null,null,null,378.30340576171875]
[null,null,null,378.64810180664062]
[null,null,null,378.99276733398438]
[null,null,null,379.33740234375]
[null,null,null,379.68197631835938]
[null,null,null,380.02658081054688]
[null,null,null,380.37109375]
[null,null,null,380.71560668945312]
[null,null,null,381.06005859375]
[null,null,null,381.40447998046875]
[null,null,null,381.74893188476562]
[null,null,null,382.09329223632812]
[null,null,null,382.4376220703125]
[null,null,null,382.78195190429688]
[null,null,null,383.126220703125]
[null,null,null,383.470458984375]
[null,null,null,383.81466674804688]
[null,null,null,384.15887451171875]
[null,null,null,384.50299072265625]
[null,null,null,384.84713745117188]
[null,null,null,385.19119262695312]
[null,null,null,385.53524780273438]
[null,null,null,385.8792724609375]
[null,null,null,386.2232666015625]
[null,null,null,386.56719970703125]
[null,null,null,386.91116333007812]
[null,null,null,387.2550048828125]
[null,null,null,387.598876953125]
[null,null,null,387.94265747070312]
[null,null,null,388.2864990234375]
[null,null,null,388.6302490234375]
[null,null,null,388.97396850585938]
[null,null,null,389.31765747070312]
[null,null,null,389.66134643554688]
[null,null,null,390.00497436523438]
[null,null,null,390.34854125976562]
[null,null,null,390.69210815429688]
[null,null,null,391.03564453125]
[null,null,null,391.379150390625]
[null,null,null,391.72259521484375]
[null,null,null,392.0660400390625]
[null,null,null,392.40945434570312]
[null,null,null,392.7528076171875]
[null,null,null,393.09613037109375]
[null,null,null,393.439453125]
[null,null,null,393.78271484375]
[null,null,null,394.1259765625]
[null,null,null,394.46917724609375]
[null,null,null,394.81234741210938]
[null,null,null,395.15545654296875]
[null,null,null,395.49859619140625]
[null,null,null,395.84164428710938]
[null,null,null,396.18472290039062]
[null,null,null,396.52767944335938]
[null,null,null,396.87069702148438]
[null,null,null,397.213623046875]
[null,null,null,397.55654907226562]
[null,null,null,397.89938354492188]
[null,null,null,398.24224853515625]
[null,null,null,398.58505249023438]
[null,null,null,398.92782592773438]
[null,null,null,399.27056884765625]
[null,null,null,399.61328125]
[null,null,null,399.95596313476562]
[null,null,null,400.29861450195312]
[null,null,null,400.6412353515625]
[null,null,null,400.98382568359375]
[null,null,null,401.32635498046875]
[null,null,null,401.66888427734375]
[null,null,null,402.0113525390625]
[null,null,null,402.35379028320312]
[null,null,null,402.69622802734375]
[null,null,null,403.03860473632812]
[null,null,null,403.38095092773438]
[null,null,null,403.7232666015625]
[null,null,null,404.0655517578125]
[null,null,null,404.40777587890625]
[null,null,null,404.75006103515625]
[null,null,null,405.09219360351562]
[null,null,null,405.43435668945312]
[null,null,null,405.77645874023438]
[null,null,null,406.11856079101562]
[null,null,null,406.46060180664062]
[null,null,null,406.80264282226562]
[null,null,null,407.14459228515625]
[null,null,null,407.486572265625]
[null,null,null,407.82846069335938]
[null,null,null,408.17037963867188]
[null,null,null,408.51220703125]
[null,null,null,408.85403442382812]
[null,null,null,409.19580078125]
[null,null,null,409.53759765625]
[null,null,null,409.87930297851562]
[null,null,null,410.22097778320312]
[null,null,null,410.5626220703125]
[null,null,null,410.90426635742188]
[null,null,null,411.24581909179688]
[null,null,null,411.58737182617188]
[null,null,null,411.92889404296875]
[null,null,null,412.27041625976562]
[null,null,null,412.61184692382812]
[null,null,null,412.95327758789062]
[null,null,null,413.29464721679688]
[null,null,null,413.63601684570312]
[null,null,null,413.97732543945312]
[null,null,null,414.318603515625]
[null,null,null,414.65988159179688]
[null,null,null,415.00106811523438]
[null,null,null,415.34228515625]
[null,null,null,415.68341064453125]
[null,null,null,416.02456665039062]
[null,null,null,416.3656005859375]
[null,null,null,416.7066650390625]
[null,null,null,417.04766845703125]
[null,null,null,417.38870239257812]
[null,null,null,417.7296142578125]
[null,null,null,418.070556640625]
[null,null,null,418.41140747070312]
[null,null,null,418.75228881835938]
[null,null,null,419.09307861328125]
[null,null,null,419.43389892578125]
[null,null,null,419.77459716796875]
[null,null,null,420.11532592773438]
[null,null,null,420.45602416992188]
[null,null,null,420.79666137695312]
[null,null,null,421.13729858398438]
[null,null,null,421.47784423828125]
[null,null,null,421.81842041015625]
[null,null,null,422.15890502929688]
[null,null,null,422.4993896484375]
[null,null,null,422.83984375]
[null,null,null,423.18023681640625]
[null,null,null,423.5206298828125]
[null,null,null,423.8609619140625]
[null,null,null,424.2012939453125]
[null,null,null,424.54156494140625]
[null,null,null,424.88180541992188]
[null,null,null,425.2220458984375]
[null,null,null,425.56219482421875]
[null,null,null,425.90237426757812]
[null,null,null,426.242431640625]
[null,null,null,426.58251953125]
[null,null,null,426.92254638671875]
[null,null,null,427.2625732421875]
[null,null,null,427.60250854492188]
[null,null,null,427.9425048828125]
[null,null,null,428.28237915039062]
[null,null,null,428.62225341796875]
[null,null,null,428.9620361328125]
[null,null,null,429.3018798828125]
[null,null,null,429.64163208007812]
[null,null,null,429.98141479492188]
[null,null,null,430.32110595703125]
[null,null,null,430.6607666015625]
[null,null,null,431.0003662109375]
[null,null,null,431.33999633789062]
[null,null,null,431.6795654296875]
[null,null,null,432.01904296875]
[null,null,null,432.35858154296875]
[null,null,null,432.69802856445312]
[null,null,null,433.03744506835938]
[null,null,null,433.37686157226562]
[null,null,null,433.7161865234375]
[null,null,null,434.05551147460938]
[null,null,null,434.39480590820312]
[null,null,null,434.73406982421875]
[null,null,null,435.07330322265625]
[null,null,null,435.4124755859375]
[null,null,null,435.75164794921875]
[null,null,null,436.09072875976562]
[null,null,null,436.42984008789062]
[null,null,null,436.76889038085938]
[null,null,null,437.10794067382812]
[null,null,null,437.4468994140625]
[null,null,null,437.78585815429688]
[null,null,null,438.12472534179688]
[null,null,null,438.463623046875]
[null,null,null,438.802490234375]
[null,null,null,439.14129638671875]
[null,null,null,439.48007202148438]
[null,null,null,439.81881713867188]
[null,null,null,440.15750122070312]
[null,null,null,440.49618530273438]
[null,null,null,440.83480834960938]
[null,null,null,441.17343139648438]
[null,null,null,441.51199340820312]
[null,null,null,441.85052490234375]
[null,null,null,442.18902587890625]
[null,null,null,442.52749633789062]
[null,null,null,442.86590576171875]
[null,null,null,443.204345703125]
[null,null,null,443.54266357421875]
[null,null,null,443.88101196289062]
[null,null,null,444.21929931640625]
[null,null,null,444.55755615234375]
[null,null,null,444.89578247070312]
[null,null,null,445.23397827148438]
[null,null,null,445.57211303710938]
[null,null,null,445.91024780273438]
[null,null,null,446.24832153320312]
[null,null,null,446.58639526367188]
[null,null,null,446.92437744140625]
[null,null,null,447.26239013671875]
[null,null,null,447.60031127929688]
[null,null,null,447.93826293945312]
[null,null,null,448.27615356445312]
[null,null,null,448.61398315429688]
[null,null,null,448.9517822265625]
[null,null,null,449.28958129882812]
[null,null,null,449.62728881835938]
[null,null,null,449.96499633789062]
[null,null,null,450.30267333984375]
[null,null,null,450.64031982421875]
[null,null,null,450.9779052734375]
[null,null,null,451.31549072265625]
[null,null,null,451.65298461914062]
[null,null,null,451.99050903320312]
[null,null,null,452.32797241210938]
[null,null,null,452.66537475585938]
[null,null,null,453.00277709960938]
[null,null,null,453.34014892578125]
[null,null,null,453.67745971679688]
[null,null,null,454.01473999023438]
[null,null,null,454.35198974609375]
[null,null,null,454.68917846679688]
[null,null,null,455.02639770507812]
[null,null,null,455.363525390625]
[null,null,null,455.70065307617188]
[null,null,null,456.03768920898438]
[null,null,null,456.374755859375]
[null,null,null,456.71176147460938]
[null,null,null,457.04873657226562]
[null,null,null,457.38565063476562]
[null,null,null,457.72256469726562]
[null,null,null,458.0594482421875]
[null,null,null,458.39627075195312]
[null,null,null,458.73309326171875]
[null,null,null,459.06985473632812]
[null,null,null,459.40655517578125]
[null,null,null,459.74325561523438]
[null,null,null,460.07992553710938]
[null,null,null,460.41656494140625]
[null,null,null,460.75314331054688]
[null,null,null,461.08966064453125]
[null,null,null,461.42617797851562]
[null,null,null,461.76266479492188]
[null,null,null,462.09912109375]
[null,null,null,462.43551635742188]
[null,null,null,462.77188110351562]
[null,null,null,463.10821533203125]
[null,null,null,463.44451904296875]
[null,null,null,463.78079223632812]
[null,null,null,464.11703491210938]
[null,null,null,464.45321655273438]
[null,null,null,464.78939819335938]
[null,null,null,465.12551879882812]
[null,null,null,465.46160888671875]
[null,null,null,465.79763793945312]
[null,null,null,466.1336669921875]
[null,null,null,466.46966552734375]
[null,null,null,466.80560302734375]
[null,null,null,467.14151000976562]
[null,null,null,467.4774169921875]
[null,null,null,467.813232421875]
[null,null,null,468.1490478515625]
[null,null,null,468.48486328125]
[null,null,null,468.82058715820312]
[null,null,null,469.15631103515625]
[null,null,null,469.49197387695312]
[null,null,null,469.82760620117188]
[null,null,null,470.16317749023438]
[null,null,null,470.49874877929688]
[null,null,null,470.83425903320312]
[null,null,null,471.16976928710938]
[null,null,null,471.50518798828125]
[null,null,null,471.84063720703125]
[null,null,null,472.176025390625]
[null,null,null,472.5113525390625]
[null,null,null,472.8466796875]
[null,null,null,473.18194580078125]
[null,null,null,473.51715087890625]
[null,null,null,473.85238647460938]
[null,null,null,474.18756103515625]
[null,null,null,474.52267456054688]
[null,null,null,474.8577880859375]
[null,null,null,475.19284057617188]
[null,null,null,475.52786254882812]
[null,null,null,475.86285400390625]
[null,null,null,476.19781494140625]
[null,null,null,476.53271484375]
[null,null,null,476.86758422851562]
[null,null,null,477.20242309570312]
[null,null,null,477.53726196289062]
[null,null,null,477.87203979492188]
[null,null,null,478.20675659179688]
[null,null,null,478.54150390625]
[null,null,null,478.87615966796875]
[null,null,null,479.2108154296875]
[null,null,null,479.54537963867188]
[null,null,null,479.87997436523438]
[null,null,null,480.2144775390625]
[null,null,null,480.54898071289062]
[null,null,null,480.8834228515625]
[null,null,null,481.21783447265625]
[null,null,null,481.55218505859375]
[null,null,null,481.88656616210938]
[null,null,null,482.22085571289062]
[null,null,null,482.55514526367188]
[null,null,null,482.88937377929688]
[null,null,null,483.22357177734375]
[null,null,null,483.5577392578125]
[null,null,null,483.891845703125]
[null,null,null,484.2259521484375]
[null,null,null,484.55999755859375]
[null,null,null,484.89401245117188]
[null,null,null,485.22802734375]
[null,null,null,485.56195068359375]
[null,null,null,485.8958740234375]
[null,null,null,486.22976684570312]
[null,null,null,486.56356811523438]
[null,null,null,486.89739990234375]
[null,null,null,487.23117065429688]
[null,null,null,487.56488037109375]
[null,null,null,487.89859008789062]
[null,null,null,488.23223876953125]
[null,null,null,488.56588745117188]
[null,null,null,488.89947509765625]
[null,null,null,489.2330322265625]
[null,null,null,489.56655883789062]
[null,null,null,489.89999389648438]
[null,null,null,490.23345947265625]
[null,null,null,490.56686401367188]
[null,null,null,490.90020751953125]
[null,null,null,491.23358154296875]
[null,null,null,491.56686401367188]
[null,null,null,491.90011596679688]
[null,null,null,492.23333740234375]
[null,null,null,492.5665283203125]
[null,null,null,492.89968872070312]
[null,null,null,493.2327880859375]
[null,null,null,493.56588745117188]
[null,null,null,493.89889526367188]
[null,null,null,494.23190307617188]
[null,null,null,494.56488037109375]
[null,null,null,494.89779663085938]
[null,null,null,495.23068237304688]
[null,null,null,495.56356811523438]
[null,null,null,495.89639282226562]
[null,null,null,496.22915649414062]
[null,null,null,496.56192016601562]
[null,null,null,496.89462280273438]
[null,null,null,497.22732543945312]
[null,null,null,497.5599365234375]
[null,null,null,497.89254760742188]
[null,null,null,498.22512817382812]
[null,null,null,498.55767822265625]
[null,null,null,498.89016723632812]
[null,null,null,499.22262573242188]
[null,null,null,499.5550537109375]
[null,null,null,499.88742065429688]
[null,null,null,500.21978759765625]
[null,null,null,500.55206298828125]
[null,null,null,500.88433837890625]
[null,null,null,501.21664428710938]
[null,null,null,501.54879760742188]
[null,null,null,501.88095092773438]
[null,null,null,502.21310424804688]
[null,null,null,502.54522705078125]
[null,null,null,502.87722778320312]
[null,null,null,503.209228515625]
[null,null,null,503.54122924804688]
[null,null,null,503.87319946289062]
[null,null,null,504.205078125]
[null,null,null,504.53692626953125]
[null,null,null,504.8687744140625]
[null,null,null,505.20062255859375]
[null,null,null,505.53231811523438]
[null,null,null,505.86404418945312]
[null,null,null,506.19573974609375]
[null,null,null,506.52743530273438]
[null,null,null,506.8590087890625]
[null,null,null,507.1905517578125]
[null,null,null,507.52212524414062]
[null,null,null,507.8536376953125]
[null,null,null,508.18505859375]
[null,null,null,508.51654052734375]
[null,null,null,508.84786987304688]
[null,null,null,509.17929077148438]
[null,null,null,509.5106201171875]
[null,null,null,509.84188842773438]
[null,null,null,510.173095703125]
[null,null,null,510.50430297851562]
[null,null,null,510.83551025390625]
[null,null,null,511.16659545898438]
[null,null,null,511.4976806640625]
[null,null,null,511.82876586914062]
[null,null,null,512.1597900390625]
[null,null,null,512.49078369140625]
[null,null,null,512.82171630859375]
[null,null,null,513.152587890625]
[null,null,null,513.4835205078125]
[null,null,null,513.81427001953125]
[null,null,null,514.14508056640625]
[null,null,null,514.47589111328125]
[null,null,null,514.80657958984375]
[null,null,null,515.1373291015625]
[null,null,null,515.4678955078125]
[null,null,null,515.798583984375]
[null,null,null,516.129150390625]
[null,null,null,516.45965576171875]
[null,null,null,516.79010009765625]
[null,null,null,517.12060546875]
[null,null,null,517.4510498046875]
[null,null,null,517.78143310546875]
[null,null,null,518.1116943359375]
[null,null,null,518.44207763671875]
[null,null,null,518.77239990234375]
[null,null,null,519.1026611328125]
[null,null,null,519.43280029296875]
[null,null,null,519.762939453125]
[null,null,null,520.09307861328125]
[null,null,null,520.4232177734375]
[null,null,null,520.75323486328125]
[null,null,null,521.083251953125]
[null,null,null,521.41326904296875]
[null,null,null,521.74322509765625]
[null,null,null,522.07305908203125]
[null,null,null,522.40289306640625]
[null,null,null,522.7327880859375]
[null,null,null,523.06256103515625]
[null,null,null,523.392333984375]
[null,null,null,523.72198486328125]
[null,null,null,524.05169677734375]
[null,null,null,524.38134765625]
[null,null,null,524.71087646484375]
[null,null,null,525.04046630859375]
[null,null,null,525.3699951171875]
[null,null,null,525.69952392578125]
[null,null,null,526.02899169921875]
[null,null,null,526.35833740234375]
[null,null,null,526.687744140625]
[null,null,null,527.01708984375]
[null,null,null,527.34637451171875]
[null,null,null,527.67559814453125]
[null,null,null,528.0048828125]
[null,null,null,528.33404541015625]
[null,null,null,528.66326904296875]
[null,null,null,528.9923095703125]
[null,null,null,529.32135009765625]
[null,null,null,529.65045166015625]
[null,null,null,529.97943115234375]
[null,null,null,530.308349609375]
[null,null,null,530.63726806640625]
[null,null,null,530.9661865234375]
[null,null,null,531.29510498046875]
[null,null,null,531.62384033203125]
[null,null,null,531.95257568359375]
[null,null,null,532.2813720703125]
[null,null,null,532.610107421875]
[null,null,null,532.938720703125]
[null,null,null,533.267333984375]
[null,null,null,533.595947265625]
[null,null,null,533.92449951171875]
[null,null,null,534.2529296875]
[null,null,null,534.5814208984375]
[null,null,null,534.90985107421875]
[null,null,null,535.23828125]
[null,null,null,535.56658935546875]
[null,null,null,535.8948974609375]
[null,null,null,536.22314453125]
[null,null,null,536.55145263671875]
[null,null,null,536.87957763671875]
[null,null,null,537.207763671875]
[null,null,null,537.535888671875]
[null,null,null,537.864013671875]
[null,null,null,538.192138671875]
[null,null,null,538.52008056640625]
[null,null,null,538.8480224609375]
[null,null,null,539.17596435546875]
[null,null,null,539.50390625]
[null,null,null,539.831787109375]
[null,null,null,540.1595458984375]
[null,null,null,540.4873046875]
[null,null,null,540.81512451171875]
[null,null,null,541.14276123046875]
[null,null,null,541.47039794921875]
[null,null,null,541.798095703125]
[null,null,null,542.125732421875]
[null,null,null,542.4532470703125]
[null,null,null,542.78070068359375]
[null,null,null,543.10821533203125]
[null,null,null,543.43572998046875]
[null,null,null,543.7630615234375]
[null,null,null,544.09039306640625]
[null,null,null,544.417724609375]
[null,null,null,544.74505615234375]
[null,null,null,545.072265625]
[null,null,null,545.39947509765625]
[null,null,null,545.72662353515625]
[null,null,null,546.05377197265625]
[null,null,null,546.380859375]
[null,null,null,546.7078857421875]
[null,null,null,547.034912109375]
[null,null,null,547.3619384765625]
[null,null,null,547.6888427734375]
[null,null,null,548.0157470703125]
[null,null,null,548.34259033203125]
[null,null,null,548.66949462890625]
[null,null,null,548.99627685546875]
[null,null,null,549.322998046875]
[null,null,null,549.649658203125]
[null,null,null,549.97637939453125]
[null,null,null,550.30303955078125]
[null,null,null,550.62957763671875]
[null,null,null,550.95611572265625]
[null,null,null,551.28265380859375]
[null,null,null,551.609130859375]
[null,null,null,551.93560791015625]
[null,null,null,552.261962890625]
[null,null,null,552.58837890625]
[null,null,null,552.9146728515625]
[null,null,null,553.240966796875]
[null,null,null,553.567138671875]
[null,null,null,553.89337158203125]
[null,null,null,554.2196044921875]
[null,null,null,554.545654296875]
[null,null,null,554.87176513671875]
[null,null,null,555.19781494140625]
[null,null,null,555.52386474609375]
[null,null,null,555.849853515625]
[null,null,null,556.17572021484375]
[null,null,null,556.5015869140625]
[null,null,null,556.8275146484375]
[null,null,null,557.1533203125]
[null,null,null,557.47906494140625]
[null,null,null,557.8048095703125]
[null,null,null,558.13055419921875]
[null,null,null,558.45623779296875]
[null,null,null,558.7818603515625]
[null,null,null,559.107421875]
[null,null,null,559.4329833984375]
[null,null,null,559.758544921875]
[null,null,null,560.083984375]
[null,null,null,560.4093017578125]
[null,null,null,560.73480224609375]
[null,null,null,561.0601806640625]
[null,null,null,561.38543701171875]
[null,null,null,561.710693359375]
[null,null,null,562.03594970703125]
[null,null,null,562.36114501953125]
[null,null,null,562.686279296875]
[null,null,null,563.0113525390625]
[null,null,null,563.33648681640625]
[null,null,null,563.6614990234375]
[null,null,null,563.98651123046875]
[null,null,null,564.3114013671875]
[null,null,null,564.63641357421875]
[null,null,null,564.9613037109375]
[null,null,null,565.2861328125]
[null,null,null,565.61090087890625]
[null,null,null,565.93572998046875]
[null,null,null,566.26043701171875]
[null,null,null,566.58514404296875]
[null,null,null,566.90972900390625]
[null,null,null,567.234375]
[null,null,null,567.55889892578125]
[null,null,null,567.883544921875]
[null,null,null,568.20794677734375]
[null,null,null,568.53240966796875]
[null,null,null,568.8568115234375]
[null,null,null,569.1812744140625]
[null,null,null,569.50555419921875]
[null,null,null,569.829833984375]
[null,null,null,570.15411376953125]
[null,null,null,570.47833251953125]
[null,null,null,570.802490234375]
[null,null,null,571.1265869140625]
[null,null,null,571.45068359375]
[null,null,null,571.77484130859375]
[null,null,null,572.0987548828125]
[null,null,null,572.42279052734375]
[null,null,null,572.74676513671875]
[null,null,null,573.07061767578125]
[null,null,null,573.39447021484375]
[null,null,null,573.71826171875]
[null,null,null,574.04205322265625]
[null,null,null,574.3658447265625]
[null,null,null,574.68951416015625]
[null,null,null,575.01312255859375]
[null,null,null,575.33685302734375]
[null,null,null,575.66046142578125]
[null,null,null,575.98388671875]
[null,null,null,576.30743408203125]
[null,null,null,576.63092041015625]
[null,null,null,576.954345703125]
[null,null,null,577.2777099609375]
[null,null,null,577.60113525390625]
[null,null,null,577.92437744140625]
[null,null,null,578.2476806640625]
[null,null,null,578.5709228515625]
[null,null,null,578.89404296875]
[null,null,null,579.21722412109375]
[null,null,null,579.54034423828125]
[null,null,null,579.8634033203125]
[null,null,null,580.18646240234375]
[null,null,null,580.5093994140625]
[null,null,null,580.83233642578125]
[null,null,null,581.1552734375]
[null,null,null,581.4781494140625]
[null,null,null,581.80096435546875]
[null,null,null,582.123779296875]
[null,null,null,582.446533203125]
[null,null,null,582.76922607421875]
[null,null,null,583.09185791015625]
[null,null,null,583.41455078125]
[null,null,null,583.7371826171875]
[null,null,null,584.0596923828125]
[null,null,null,584.38214111328125]
[null,null,null,584.70465087890625]
[null,null,null,585.027099609375]
[null,null,null,585.3494873046875]
[null,null,null,585.67181396484375]
[null,null,null,585.994140625]
[null,null,null,586.31640625]
[null,null,null,586.63861083984375]
[null,null,null,586.9608154296875]
[null,null,null,587.28302001953125]
[null,null,null,587.60516357421875]
[null,null,null,587.92724609375]
[null,null,null,588.249267578125]
[null,null,null,588.5711669921875]
[null,null,null,588.8931884765625]
[null,null,null,589.21514892578125]
[null,null,null,589.53692626953125]
[null,null,null,589.8587646484375]
[null,null,null,590.18060302734375]
[null,null,null,590.50238037109375]
[null,null,null,590.82403564453125]
[null,null,null,591.14569091796875]
[null,null,null,591.46734619140625]
[null,null,null,591.7889404296875]
[null,null,null,592.1104736328125]
[null,null,null,592.4320068359375]
[null,null,null,592.75347900390625]
[null,null,null,593.07489013671875]
[null,null,null,593.39630126953125]
[null,null,null,593.71759033203125]
[null,null,null,594.03900146484375]
[null,null,null,594.36029052734375]
[null,null,null,594.68145751953125]
[null,null,null,595.0025634765625]
[null,null,null,595.32379150390625]
[null,null,null,595.64495849609375]
[null,null,null,595.9659423828125]
[null,null,null,596.2869873046875]
[null,null,null,596.60797119140625]
[null,null,null,596.928955078125]
[null,null,null,597.2498779296875]
[null,null,null,597.57073974609375]
[null,null,null,597.89154052734375]
[null,null,null,598.21234130859375]
[null,null,null,598.53314208984375]
[null,null,null,598.85382080078125]
[null,null,null,599.17437744140625]
[null,null,null,599.4951171875]
[null,null,null,599.81573486328125]
[null,null,null,600.13616943359375]
[null,null,null,600.4566650390625]
[null,null,null,600.77716064453125]
[null,null,null,601.09759521484375]
[null,null,null,601.41796875]
[null,null,null,601.73828125]
[null,null,null,602.05859375]
[null,null,null,602.37890625]
[null,null,null,602.6990966796875]
[null,null,null,603.01922607421875]
[null,null,null,603.33941650390625]
[null,null,null,603.6595458984375]
[null,null,null,603.9794921875]
[null,null,null,604.299560546875]
[null,null,null,604.6195068359375]
[null,null,null,604.939453125]
[null,null,null,605.25933837890625]
[null,null,null,605.5792236328125]
[null,null,null,605.8990478515625]
[null,null,null,606.21881103515625]
[null,null,null,606.53857421875]
[null,null,null,606.85821533203125]
[null,null,null,607.1778564453125]
[null,null,null,607.49749755859375]
[null,null,null,607.81707763671875]
[null,null,null,608.1365966796875]
[null,null,null,608.4560546875]
[null,null,null,608.7755126953125]
[null,null,null,609.094970703125]
[null,null,null,609.414306640625]
[null,null,null,609.73358154296875]
[null,null,null,610.05291748046875]
[null,null,null,610.3721923828125]
[null,null,null,610.6912841796875]
[null,null,null,611.01043701171875]
[null,null,null,611.32958984375]
[null,null,null,611.648681640625]
[null,null,null,611.96771240234375]
[null,null,null,612.28668212890625]
[null,null,null,612.60565185546875]
[null,null,null,612.92462158203125]
[null,null,null,613.243408203125]
[null,null,null,613.56219482421875]
[null,null,null,613.88104248046875]
[null,null,null,614.1998291015625]
[null,null,null,614.51849365234375]
[null,null,null,614.837158203125]
[null,null,null,615.15582275390625]
[null,null,null,615.47442626953125]
[null,null,null,615.79296875]
[null,null,null,616.1114501953125]
[null,null,null,616.429931640625]
[null,null,null,616.748291015625]
[null,null,null,617.0667724609375]
[null,null,null,617.38507080078125]
[null,null,null,617.70330810546875]
[null,null,null,618.02154541015625]
[null,null,null,618.33984375]
[null,null,null,618.65802001953125]
[null,null,null,618.97613525390625]
[null,null,null,619.294189453125]
[null,null,null,619.6123046875]
[null,null,null,619.9302978515625]
[null,null,null,620.2481689453125]
[null,null,null,620.566162109375]
[null,null,null,620.884033203125]
[null,null,null,621.20184326171875]
[null,null,null,621.5196533203125]
[null,null,null,621.83746337890625]
[null,null,null,622.15521240234375]
[null,null,null,622.47283935546875]
[null,null,null,622.7904052734375]
[null,null,null,623.1080322265625]
[null,null,null,623.4256591796875]
[null,null,null,623.74310302734375]
[null,null,null,624.060546875]
[null,null,null,624.37799072265625]
[null,null,null,624.6954345703125]
[null,null,null,625.01275634765625]
[null,null,null,625.33001708984375]
[null,null,null,625.64727783203125]
[null,null,null,625.96453857421875]
[null,null,null,626.28179931640625]
[null,null,null,626.598876953125]
[null,null,null,626.91595458984375]
[null,null,null,627.2330322265625]
[null,null,null,627.55010986328125]
[null,null,null,627.86700439453125]
[null,null,null,628.18389892578125]
[null,null,null,628.50079345703125]
[null,null,null,628.81768798828125]
[null,null,null,629.134521484375]
[null,null,null,629.45123291015625]
[null,null,null,629.76800537109375]
[null,null,null,630.08465576171875]
[null,null,null,630.40130615234375]
[null,null,null,630.71783447265625]
[null,null,null,631.03448486328125]
[null,null,null,631.3509521484375]
[null,null,null,631.6673583984375]
[null,null,null,631.9837646484375]
[null,null,null,632.30023193359375]
[null,null,null,632.61663818359375]
[null,null,null,632.932861328125]
[null,null,null,633.2491455078125]
[null,null,null,633.56536865234375]
[null,null,null,633.881591796875]
[null,null,null,634.19769287109375]
[null,null,null,634.51373291015625]
[null,null,null,634.829833984375]
[null,null,null,635.1458740234375]
[null,null,null,635.46185302734375]
[null,null,null,635.77777099609375]
[null,null,null,636.09356689453125]
[null,null,null,636.40948486328125]
[null,null,null,636.725341796875]
[null,null,null,637.041015625]
[null,null,null,637.35675048828125]
[null,null,null,637.67242431640625]
[null,null,null,637.98809814453125]
[null,null,null,638.3037109375]
[null,null,null,638.61920166015625]
[null,null,null,638.9346923828125]
[null,null,null,639.250244140625]
[null,null,null,639.56561279296875]
[null,null,null,639.8809814453125]
[null,null,null,640.19635009765625]
[null,null,null,640.51165771484375]
[null,null,null,640.826904296875]
[null,null,null,641.14202880859375]
[null,null,null,641.457275390625]
[null,null,null,641.7724609375]
[null,null,null,642.08746337890625]
[null,null,null,642.4024658203125]
[null,null,null,642.717529296875]
[null,null,null,643.032470703125]
[null,null,null,643.347412109375]
[null,null,null,643.66229248046875]
[null,null,null,643.97711181640625]
[null,null,null,644.29193115234375]
[null,null,null,644.60662841796875]
[null,null,null,644.92138671875]
[null,null,null,645.23602294921875]
[null,null,null,645.5506591796875]
[null,null,null,645.86529541015625]
[null,null,null,646.1798095703125]
[null,null,null,646.4942626953125]
[null,null,null,646.8087158203125]
[null,null,null,647.1231689453125]
[null,null,null,647.4375]
[null,null,null,647.75177001953125]
[null,null,null,648.066162109375]
[null,null,null,648.38037109375]
[null,null,null,648.694580078125]
[null,null,null,649.0086669921875]
[null,null,null,649.32281494140625]
[null,null,null,649.636962890625]
[null,null,null,649.950927734375]
[null,null,null,650.264892578125]
[null,null,null,650.578857421875]
[null,null,null,650.892822265625]
[null,null,null,651.20660400390625]
[null,null,null,651.5203857421875]
[null,null,null,651.834228515625]
[null,null,null,652.14801025390625]
[null,null,null,652.461669921875]
[null,null,null,652.7752685546875]
[null,null,null,653.0888671875]
[null,null,null,653.4024658203125]
[null,null,null,653.7159423828125]
[null,null,null,654.0294189453125]
[null,null,null,654.34283447265625]
[null,null,null,654.65625]
[null,null,null,654.96966552734375]
[null,null,null,655.282958984375]
[null,null,null,655.59613037109375]
[null,null,null,655.909423828125]
[null,null,null,656.22259521484375]
[null,null,null,656.5357666015625]
[null,null,null,656.84881591796875]
[null,null,null,657.161865234375]
[null,null,null,657.47491455078125]
[null,null,null,657.787841796875]
[null,null,null,658.1007080078125]
[null,null,null,658.41363525390625]
[null,null,null,658.7264404296875]
[null,null,null,659.03924560546875]
[null,null,null,659.35198974609375]
[null,null,null,659.6646728515625]
[null,null,null,659.9774169921875]
[null,null,null,660.28997802734375]
[null,null,null,660.6025390625]
[null,null,null,660.91510009765625]
[null,null,null,661.22760009765625]
[null,null,null,661.5400390625]
[null,null,null,661.8524169921875]
[null,null,null,662.164794921875]
[null,null,null,662.4771728515625]
[null,null,null,662.78936767578125]
[null,null,null,663.10162353515625]
[null,null,null,663.413818359375]
[null,null,null,663.72601318359375]
[null,null,null,664.03814697265625]
[null,null,null,664.35015869140625]
[null,null,null,664.66217041015625]
[null,null,null,664.97418212890625]
[null,null,null,665.2861328125]
[null,null,null,665.5980224609375]
[null,null,null,665.90985107421875]
[null,null,null,666.22161865234375]
[null,null,null,666.53338623046875]
[null,null,null,666.84515380859375]
[null,null,null,667.15673828125]
[null,null,null,667.46844482421875]
[null,null,null,667.780029296875]
[null,null,null,668.091552734375]
[null,null,null,668.40301513671875]
[null,null,null,668.71453857421875]
[null,null,null,669.02593994140625]
[null,null,null,669.3372802734375]
[null,null,null,669.64862060546875]
[null,null,null,669.95989990234375]
[null,null,null,670.27117919921875]
[null,null,null,670.58233642578125]
[null,null,null,670.8935546875]
[null,null,null,671.20465087890625]
[null,null,null,671.51568603515625]
[null,null,null,671.82672119140625]
[null,null,null,672.1376953125]
[null,null,null,672.4486083984375]
[null,null,null,672.759521484375]
[null,null,null,673.07037353515625]
[null,null,null,673.38116455078125]
[null,null,null,673.69195556640625]
[null,null,null,674.002685546875]
[null,null,null,674.3133544921875]
[null,null,null,674.6240234375]
[null,null,null,674.9345703125]
[null,null,null,675.2451171875]
[null,null,null,675.55560302734375]
[null,null,null,675.8660888671875]
[null,null,null,676.17645263671875]
[null,null,null,676.48687744140625]
[null,null,null,676.797119140625]
[null,null,null,677.10748291015625]
[null,null,null,677.417724609375]
[null,null,null,677.72796630859375]
[null,null,null,678.0380859375]
[null,null,null,678.34820556640625]
[null,null,null,678.6583251953125]
[null,null,null,678.96832275390625]
[null,null,null,679.2783203125]
[null,null,null,679.58819580078125]
[null,null,null,679.8980712890625]
[null,null,null,680.20794677734375]
[null,null,null,680.51776123046875]
[null,null,null,680.8275146484375]
[null,null,null,681.13726806640625]
[null,null,null,681.4468994140625]
[null,null,null,681.75653076171875]
[null,null,null,682.066162109375]
[null,null,null,682.37567138671875]
[null,null,null,682.6851806640625]
[null,null,null,682.99468994140625]
[null,null,null,683.30401611328125]
[null,null,null,683.6134033203125]
[null,null,null,683.9227294921875]
[null,null,null,684.23199462890625]
[null,null,null,684.54119873046875]
[null,null,null,684.8504638671875]
[null,null,null,685.15960693359375]
[null,null,null,685.46868896484375]
[null,null,null,685.77777099609375]
[null,null,null,686.0867919921875]
[null,null,null,686.395751953125]
[null,null,null,686.7047119140625]
[null,null,null,687.01361083984375]
[null,null,null,687.3223876953125]
[null,null,null,687.6312255859375]
[null,null,null,687.93994140625]
[null,null,null,688.2486572265625]
[null,null,null,688.557373046875]
[null,null,null,688.86602783203125]
[null,null,null,689.174560546875]
[null,null,null,689.48309326171875]
[null,null,null,689.79150390625]
[null,null,null,690.10003662109375]
[null,null,null,690.40838623046875]
[null,null,null,690.71673583984375]
[null,null,null,691.02508544921875]
[null,null,null,691.3333740234375]
[null,null,null,691.6416015625]
[null,null,null,691.94976806640625]
[null,null,null,692.25787353515625]
[null,null,null,692.56597900390625]
[null,null,null,692.8740234375]
[null,null,null,693.18206787109375]
[null,null,null,693.489990234375]
[null,null,null,693.79791259765625]
[null,null,null,694.10577392578125]
[null,null,null,694.41357421875]
[null,null,null,694.72137451171875]
[null,null,null,695.02911376953125]
[null,null,null,695.3367919921875]
[null,null,null,695.64453125]
[null,null,null,695.9520263671875]
[null,null,null,696.2596435546875]
[null,null,null,696.56719970703125]
[null,null,null,696.8746337890625]
[null,null,null,697.18212890625]
[null,null,null,697.48944091796875]
[null,null,null,697.79681396484375]
[null,null,null,698.10406494140625]
[null,null,null,698.411376953125]
[null,null,null,698.718505859375]
[null,null,null,699.0257568359375]
[null,null,null,699.33282470703125]
[null,null,null,699.639892578125]
[null,null,null,699.9468994140625]
[null,null,null,700.25390625]
[null,null,null,700.560791015625]
[null,null,null,700.86773681640625]
[null,null,null,701.174560546875]
[null,null,null,701.48138427734375]
[null,null,null,701.78814697265625]
[null,null,null,702.0948486328125]
[null,null,null,702.40155029296875]
[null,null,null,702.70819091796875]
[null,null,null,703.01470947265625]
[null,null,null,703.3212890625]
[null,null,null,703.62774658203125]
[null,null,null,703.9342041015625]
[null,null,null,704.2406005859375]
[null,null,null,704.5469970703125]
[null,null,null,704.85321044921875]
[null,null,null,705.1595458984375]
[null,null,null,705.4658203125]
[null,null,null,705.77197265625]
[null,null,null,706.078125]
[null,null,null,706.3841552734375]
[null,null,null,706.69024658203125]
[null,null,null,706.99627685546875]
[null,null,null,707.30224609375]
[null,null,null,707.60809326171875]
[null,null,null,707.9139404296875]
[null,null,null,708.21978759765625]
[null,null,null,708.525634765625]
[null,null,null,708.831298828125]
[null,null,null,709.13702392578125]
[null,null,null,709.442626953125]
[null,null,null,709.74822998046875]
[null,null,null,710.05377197265625]
[null,null,null,710.35931396484375]
[null,null,null,710.66473388671875]
[null,null,null,710.97021484375]
[null,null,null,711.2755126953125]
[null,null,null,711.5809326171875]
[null,null,null,711.8861083984375]
[null,null,null,712.19140625]
[null,null,null,712.49658203125]
[null,null,null,712.80169677734375]
[null,null,null,713.1068115234375]
[null,null,null,713.411865234375]
[null,null,null,713.7169189453125]
[null,null,null,714.02191162109375]
[null,null,null,714.3267822265625]
[null,null,null,714.63165283203125]
[null,null,null,714.9365234375]
[null,null,null,715.24127197265625]
[null,null,null,715.54608154296875]
[null,null,null,715.8507080078125]
[null,null,null,716.1553955078125]
[null,null,null,716.46002197265625]
[null,null,null,716.76458740234375]
[null,null,null,717.069091796875]
[null,null,null,717.37353515625]
[null,null,null,717.677978515625]
[null,null,null,717.98236083984375]
[null,null,null,718.28662109375]
[null,null,null,718.59100341796875]
[null,null,null,718.89520263671875]
[null,null,null,719.19940185546875]
[null,null,null,719.5035400390625]
[null,null,null,719.80767822265625]
[null,null,null,720.1116943359375]
[null,null,null,720.415771484375]
[null,null,null,720.7197265625]
[null,null,null,721.023681640625]
[null,null,null,721.3275146484375]
[null,null,null,721.63140869140625]
[null,null,null,721.9351806640625]
[null,null,null,722.2388916015625]
[null,null,null,722.5426025390625]
[null,null,null,722.84625244140625]
[null,null,null,723.14984130859375]
[null,null,null,723.45343017578125]
[null,null,null,723.75689697265625]
[null,null,null,724.06048583984375]
[null,null,null,724.3638916015625]
[null,null,null,724.667236328125]
[null,null,null,724.9705810546875]
[null,null,null,725.27386474609375]
[null,null,null,725.5771484375]
[null,null,null,725.88031005859375]
[null,null,null,726.1834716796875]
[null,null,null,726.486572265625]
[null,null,null,726.7896728515625]
[null,null,null,727.0926513671875]
[null,null,null,727.39569091796875]
[null,null,null,727.69854736328125]
[null,null,null,728.00146484375]
[null,null,null,728.30426025390625]
[null,null,null,728.6070556640625]
[null,null,null,728.9097900390625]
[null,null,null,729.21246337890625]
[null,null,null,729.51513671875]
[null,null,null,729.8177490234375]
[null,null,null,730.12030029296875]
[null,null,null,730.4228515625]
[null,null,null,730.72528076171875]
[null,null,null,731.0277099609375]
[null,null,null,731.330078125]
[null,null,null,731.6324462890625]
[null,null,null,731.9346923828125]
[null,null,null,732.2369384765625]
[null,null,null,732.53912353515625]
[null,null,null,732.84130859375]
[null,null,null,733.14349365234375]
[null,null,null,733.44549560546875]
[null,null,null,733.74749755859375]
[null,null,null,734.0494384765625]
[null,null,null,734.35137939453125]
[null,null,null,734.65325927734375]
[null,null,null,734.955078125]
[null,null,null,735.25677490234375]
[null,null,null,735.55859375]
[null,null,null,735.86029052734375]
[null,null,null,736.16192626953125]
[null,null,null,736.4635009765625]
[null,null,null,736.76507568359375]
[null,null,null,737.0665283203125]
[null,null,null,737.3680419921875]
[null,null,null,737.66943359375]
[null,null,null,737.9708251953125]
[null,null,null,738.2720947265625]
[null,null,null,738.5733642578125]
[null,null,null,738.8746337890625]
[null,null,null,739.17578125]
[null,null,null,739.4769287109375]
[null,null,null,739.778076171875]
[null,null,null,740.07904052734375]
[null,null,null,740.380126953125]
[null,null,null,740.6810302734375]
[null,null,null,740.98193359375]
[null,null,null,741.28277587890625]
[null,null,null,741.5836181640625]
[null,null,null,741.88433837890625]
[null,null,null,742.18511962890625]
[null,null,null,742.48583984375]
[null,null,null,742.786376953125]
[null,null,null,743.0870361328125]
[null,null,null,743.38751220703125]
[null,null,null,743.68798828125]
[null,null,null,743.98846435546875]
[null,null,null,744.288818359375]
[null,null,null,744.58917236328125]
[null,null,null,744.8895263671875]
[null,null,null,745.18975830078125]
[null,null,null,745.489990234375]
[null,null,null,745.79010009765625]
[null,null,null,746.09027099609375]
[null,null,null,746.3902587890625]
[null,null,null,746.69036865234375]
[null,null,null,746.99029541015625]
[null,null,null,747.290283203125]
[null,null,null,747.59014892578125]
[null,null,null,747.8900146484375]
[null,null,null,748.18975830078125]
[null,null,null,748.489501953125]
[null,null,null,748.7891845703125]
[null,null,null,749.08892822265625]
[null,null,null,749.38848876953125]
[null,null,null,749.68804931640625]
[null,null,null,749.987548828125]
[null,null,null,750.28704833984375]
[null,null,null,750.58636474609375]
[null,null,null,750.8858642578125]
[null,null,null,751.1851806640625]
[null,null,null,751.484375]
[null,null,null,751.78369140625]
[null,null,null,752.0828857421875]
[null,null,null,752.38201904296875]
[null,null,null,752.68109130859375]
[null,null,null,752.98016357421875]
[null,null,null,753.27911376953125]
[null,null,null,753.578125]
[null,null,null,753.87701416015625]
[null,null,null,754.1759033203125]
[null,null,null,754.47467041015625]
[null,null,null,754.77349853515625]
[null,null,null,755.0721435546875]
[null,null,null,755.370849609375]
[null,null,null,755.66943359375]
[null,null,null,755.968017578125]
[null,null,null,756.26654052734375]
[null,null,null,756.5650634765625]
[null,null,null,756.86346435546875]
[null,null,null,757.161865234375]
[null,null,null,757.460205078125]
[null,null,null,757.758544921875]
[null,null,null,758.0567626953125]
[null,null,null,758.35504150390625]
[null,null,null,758.65313720703125]
[null,null,null,758.9512939453125]
[null,null,null,759.24932861328125]
[null,null,null,759.54736328125]
[null,null,null,759.8453369140625]
[null,null,null,760.14324951171875]
[null,null,null,760.441162109375]
[null,null,null,760.73895263671875]
[null,null,null,761.0367431640625]
[null,null,null,761.33441162109375]
[null,null,null,761.6322021484375]
[null,null,null,761.92974853515625]
[null,null,null,762.2274169921875]
[null,null,null,762.52490234375]
[null,null,null,762.82244873046875]
[null,null,null,763.119873046875]
[null,null,null,763.41729736328125]
[null,null,null,763.71466064453125]
[null,null,null,764.011962890625]
[null,null,null,764.3092041015625]
[null,null,null,764.60650634765625]
[null,null,null,764.903564453125]
[null,null,null,765.20074462890625]
[null,null,null,765.497802734375]
[null,null,null,765.79486083984375]
[null,null,null,766.091796875]
[null,null,null,766.3887939453125]
[null,null,null,766.6856689453125]
[null,null,null,766.98248291015625]
[null,null,null,767.27923583984375]
[null,null,null,767.57598876953125]
[null,null,null,767.8726806640625]
[null,null,null,768.1693115234375]
[null,null,null,768.4659423828125]
[null,null,null,768.76251220703125]
[null,null,null,769.05908203125]
[null,null,null,769.35546875]
[null,null,null,769.65191650390625]
[null,null,null,769.9482421875]
[null,null,null,770.24456787109375]
[null,null,null,770.54083251953125]
[null,null,null,770.83709716796875]
[null,null,null,771.13323974609375]
[null,null,null,771.42938232421875]
[null,null,null,771.7254638671875]
[null,null,null,772.02154541015625]
[null,null,null,772.3175048828125]
[null,null,null,772.61346435546875]
[null,null,null,772.9093017578125]
[null,null,null,773.2052001953125]
[null,null,null,773.50091552734375]
[null,null,null,773.79669189453125]
[null,null,null,774.0924072265625]
[null,null,null,774.3880615234375]
[null,null,null,774.68365478515625]
[null,null,null,774.97918701171875]
[null,null,null,775.27471923828125]
[null,null,null,775.5701904296875]
[null,null,null,775.8656005859375]
[null,null,null,776.16094970703125]
[null,null,null,776.456298828125]
[null,null,null,776.75152587890625]
[null,null,null,777.0467529296875]
[null,null,null,777.34197998046875]
[null,null,null,777.6370849609375]
[null,null,null,777.93218994140625]
[null,null,null,778.22723388671875]
[null,null,null,778.52215576171875]
[null,null,null,778.817138671875]
[null,null,null,779.11199951171875]
[null,null,null,779.4068603515625]
[null,null,null,779.70159912109375]
[null,null,null,779.99639892578125]
[null,null,null,780.29107666015625]
[null,null,null,780.58575439453125]
[null,null,null,780.88031005859375]
[null,null,null,781.17486572265625]
[null,null,null,781.46942138671875]
[null,null,null,781.76385498046875]
[null,null,null,782.05828857421875]
[null,null,null,782.3526611328125]
[null,null,null,782.64691162109375]
[null,null,null,782.94122314453125]
[null,null,null,783.23541259765625]
[null,null,null,783.52960205078125]
[null,null,null,783.82366943359375]
[null,null,null,784.1177978515625]
[null,null,null,784.41180419921875]
[null,null,null,784.705810546875]
[null,null,null,784.999755859375]
[null,null,null,785.2935791015625]
[null,null,null,785.58746337890625]
[null,null,null,785.8812255859375]
[null,null,null,786.1749267578125]
[null,null,null,786.4686279296875]
[null,null,null,786.76226806640625]
[null,null,null,787.05584716796875]
[null,null,null,787.3494873046875]
[null,null,null,787.6429443359375]
[null,null,null,787.93646240234375]
[null,null,null,788.229736328125]
[null,null,null,788.52313232421875]
[null,null,null,788.81640625]
[null,null,null,789.1097412109375]
[null,null,null,789.4029541015625]
[null,null,null,789.69610595703125]
[null,null,null,789.9891357421875]
[null,null,null,790.28228759765625]
[null,null,null,790.57525634765625]
[null,null,null,790.86822509765625]
[null,null,null,791.1611328125]
[null,null,null,791.45404052734375]
[null,null,null,791.746826171875]
[null,null,null,792.03961181640625]
[null,null,null,792.332275390625]
[null,null,null,792.62506103515625]
[null,null,null,792.91766357421875]
[null,null,null,793.210205078125]
[null,null,null,793.50274658203125]
[null,null,null,793.79522705078125]
[null,null,null,794.087646484375]
[null,null,null,794.38006591796875]
[null,null,null,794.67242431640625]
[null,null,null,794.9647216796875]
[null,null,null,795.25689697265625]
[null,null,null,795.549072265625]
[null,null,null,795.84130859375]
[null,null,null,796.13336181640625]
[null,null,null,796.42547607421875]
[null,null,null,796.7174072265625]
[null,null,null,797.00933837890625]
[null,null,null,797.30126953125]
[null,null,null,797.5931396484375]
[null,null,null,797.8848876953125]
[null,null,null,798.17669677734375]
[null,null,null,798.4683837890625]
[null,null,null,798.760009765625]
[null,null,null,799.05157470703125]
[null,null,null,799.34320068359375]
[null,null,null,799.63470458984375]
[null,null,null,799.92620849609375]
[null,null,null,800.21759033203125]
[null,null,null,800.50897216796875]
[null,null,null,800.80023193359375]
[null,null,null,801.091552734375]
[null,null,null,801.38275146484375]
[null,null,null,801.6739501953125]
[null,null,null,801.96502685546875]
[null,null,null,802.256103515625]
[null,null,null,802.54718017578125]
[null,null,null,802.838134765625]
[null,null,null,803.1290283203125]
[null,null,null,803.419921875]
[null,null,null,803.710693359375]
[null,null,null,804.00152587890625]
[null,null,null,804.292236328125]
[null,null,null,804.58294677734375]
[null,null,null,804.87359619140625]
[null,null,null,805.1641845703125]
[null,null,null,805.45477294921875]
[null,null,null,805.7452392578125]
[null,null,null,806.03570556640625]
[null,null,null,806.32598876953125]
[null,null,null,806.61639404296875]
[null,null,null,806.90667724609375]
[null,null,null,807.1968994140625]
[null,null,null,807.48712158203125]
[null,null,null,807.7772216796875]
[null,null,null,808.06732177734375]
[null,null,null,808.35736083984375]
[null,null,null,808.6473388671875]
[null,null,null,808.93731689453125]
[null,null,null,809.22723388671875]
[null,null,null,809.51708984375]
[null,null,null,809.806884765625]
[null,null,null,810.09661865234375]
[null,null,null,810.38629150390625]
[null,null,null,810.676025390625]
[null,null,null,810.965576171875]
[null,null,null,811.255126953125]
[null,null,null,811.54461669921875]
[null,null,null,811.8341064453125]
[null,null,null,812.12347412109375]
[null,null,null,812.412841796875]
[null,null,null,812.7021484375]
[null,null,null,812.99139404296875]
[null,null,null,813.2806396484375]
[null,null,null,813.56976318359375]
[null,null,null,813.85894775390625]
[null,null,null,814.14794921875]
[null,null,null,814.43701171875]
[null,null,null,814.7259521484375]
[null,null,null,815.014892578125]
[null,null,null,815.3037109375]
[null,null,null,815.592529296875]
[null,null,null,815.88128662109375]
[null,null,null,816.1700439453125]
[null,null,null,816.45867919921875]
[null,null,null,816.747314453125]
[null,null,null,817.03582763671875]
[null,null,null,817.32440185546875]
[null,null,null,817.61285400390625]
[null,null,null,817.90130615234375]
[null,null,null,818.18963623046875]
[null,null,null,818.47796630859375]
[null,null,null,818.7662353515625]
[null,null,null,819.05450439453125]
[null,null,null,819.3426513671875]
[null,null,null,819.6307373046875]
[null,null,null,819.91876220703125]
[null,null,null,820.20684814453125]
[null,null,null,820.49481201171875]
[null,null,null,820.78277587890625]
[null,null,null,821.070556640625]
[null,null,null,821.3583984375]
[null,null,null,821.64617919921875]
[null,null,null,821.93389892578125]
[null,null,null,822.22161865234375]
[null,null,null,822.50927734375]
[null,null,null,822.796875]
[null,null,null,823.08428955078125]
[null,null,null,823.37188720703125]
[null,null,null,823.6593017578125]
[null,null,null,823.9466552734375]
[null,null,null,824.23394775390625]
[null,null,null,824.521240234375]
[null,null,null,824.8084716796875]
[null,null,null,825.09564208984375]
[null,null,null,825.3828125]
[null,null,null,825.669921875]
[null,null,null,825.95684814453125]
[null,null,null,826.243896484375]
[null,null,null,826.53076171875]
[null,null,null,826.81768798828125]
[null,null,null,827.1044921875]
[null,null,null,827.39129638671875]
[null,null,null,827.677978515625]
[null,null,null,827.9647216796875]
[null,null,null,828.25128173828125]
[null,null,null,828.53790283203125]
[null,null,null,828.82440185546875]
[null,null,null,829.11090087890625]
[null,null,null,829.39727783203125]
[null,null,null,829.6837158203125]
[null,null,null,829.97003173828125]
[null,null,null,830.25628662109375]
[null,null,null,830.5426025390625]
[null,null,null,830.82879638671875]
[null,null,null,831.11492919921875]
[null,null,null,831.40093994140625]
[null,null,null,831.68701171875]
[null,null,null,831.97296142578125]
[null,null,null,832.2589111328125]
[null,null,null,832.54473876953125]
[null,null,null,832.83062744140625]
[null,null,null,833.11639404296875]
[null,null,null,833.40216064453125]
[null,null,null,833.68780517578125]
[null,null,null,833.97344970703125]
[null,null,null,834.25897216796875]
[null,null,null,834.5445556640625]
[null,null,null,834.83001708984375]
[null,null,null,835.115478515625]
[null,null,null,835.4007568359375]
[null,null,null,835.6861572265625]
[null,null,null,835.971435546875]
[null,null,null,836.25665283203125]
[null,null,null,836.54180908203125]
[null,null,null,836.82696533203125]
[null,null,null,837.11199951171875]
[null,null,null,837.39703369140625]
[null,null,null,837.6820068359375]
[null,null,null,837.9669189453125]
[null,null,null,838.2518310546875]
[null,null,null,838.53662109375]
[null,null,null,838.8214111328125]
[null,null,null,839.10614013671875]
[null,null,null,839.390869140625]
[null,null,null,839.67547607421875]
[null,null,null,839.9600830078125]
[null,null,null,840.2445068359375]
[null,null,null,840.529052734375]
[null,null,null,840.81341552734375]
[null,null,null,841.09783935546875]
[null,null,null,841.38214111328125]
[null,null,null,841.6663818359375]
[null,null,null,841.95062255859375]
[null,null,null,842.23480224609375]
[null,null,null,842.5189208984375]
[null,null,null,842.80303955078125]
[null,null,null,843.08697509765625]
[null,null,null,843.3709716796875]
[null,null,null,843.65484619140625]
[null,null,null,843.938720703125]
[null,null,null,844.2225341796875]
[null,null,null,844.50628662109375]
[null,null,null,844.78997802734375]
[null,null,null,845.07373046875]
[null,null,null,845.3572998046875]
[null,null,null,845.640869140625]
[null,null,null,845.92431640625]
[null,null,null,846.20782470703125]
[null,null,null,846.4912109375]
[null,null,null,846.77459716796875]
[null,null,null,847.057861328125]
[null,null,null,847.3411865234375]
[null,null,null,847.6243896484375]
[null,null,null,847.90753173828125]
[null,null,null,848.190673828125]
[null,null,null,848.4736328125]
[null,null,null,848.7567138671875]
[null,null,null,849.03961181640625]
[null,null,null,849.32257080078125]
[null,null,null,849.60540771484375]
[null,null,null,849.88818359375]
[null,null,null,850.1708984375]
[null,null,null,850.45367431640625]
[null,null,null,850.73626708984375]
[null,null,null,851.01885986328125]
[null,null,null,851.3013916015625]
[null,null,null,851.58392333984375]
[null,null,null,851.8663330078125]
[null,null,null,852.14874267578125]
[null,null,null,852.43109130859375]
[null,null,null,852.71337890625]
[null,null,null,852.99560546875]
[null,null,null,853.27783203125]
[null,null,null,853.5599365234375]
[null,null,null,853.84197998046875]
[null,null,null,854.1240234375]
[null,null,null,854.40606689453125]
[null,null,null,854.68792724609375]
[null,null,null,854.9698486328125]
[null,null,null,855.25164794921875]
[null,null,null,855.533447265625]
[null,null,null,855.81512451171875]

{"sheet":"Emission","index":3,"n_rows":13,"n_cols":22,"rows_kept":13,"cut":false,"hidden":false,"merged":[]}
["Chosen wavelength",null,300,null,{"$f":"'Emission Data'!D6","v":"USB2000"},null,null,null,null,null,"Trigger level",null,null,null,null,null,null,null,null,null,"Samples recorded at"]
["Sample","Intensity","Peak","Intensity",null,null,null,null,null,null,1000,null,null,null,null,null,null,null,null,null,"Clock","Seconds"]
[null,null,null,null,null,null,null,null,null,null,"Press ESC or"]
[null,null,null,null,null,null,null,null,null,null,"set value for"]
[null,null,null,null,null,null,null,null,null,null," sample capture"]
[]
[]
[]
[]
[]
[]
[null,null,null,null,null,null,{"$f":"C1","v":300},{"$f":"'Emission Data'!I8","v":0}]
[null,null,null,null,null,null,{"$f":"C1","v":300},{"$f":"'Emission Data'!I9","v":0}]

{"sheet":"Emission Data","index":4,"n_rows":11,"n_cols":13,"rows_kept":11,"cut":false,"hidden":false,"merged":[]}
[null,null,"Integration Time/ADC Rate",10,"<<-- Integration time in msec (normally 10)"]
[null,null,"Samples to Average",1,"<<-- Number of spectra to average (normally 1)"]
[null,null,"Boxcar Width",1,"<<-- Boxcar smoothing width in pixels (normally 1)"]
[null,null,"Channel Number",0,"<<-- 0=Master, 1=Slave1, 2=Slave2, 3=Slave3, 4=Slave4, 5=Slave5, 6=Slave6, 7=Slave7 (normally 0)"]
[null,null,"Get the USB Coeficients",1,"<<-- 1=True, 0=False (Do this if spectrometer is changed)"]
[null,null,"USB Serial Number","USB2000",null,null,"Next Spectrum",null,1]
[null,null,"First Wavelength Coefficient",0.3573606014251709,null,null,"Time Stamp",null,"Blank not measured"]
[null,null,"Second Wavelength Coefficient",-9.4459701358573511E-6,null,null,"Max Intensity",null,{"$f":"MAX(D12:BG2059)","v":0},null,"Multiple Samples",null,2]
[null,null,"Third Wavelength Coefficient",-2.7281399361811509E-9,null,null,"Min Intensity",null,{"$f":"MIN(D12:BG2059)","v":0},null,"Delay time (seconds)",null,1]
[null,null,"Wavelength Intercept",190.33358764648438,null,null,"Trigger Level",null,1000]
[null,"Pixel #","l (nm)"]

{"sheet":"Time","index":5,"n_rows":5,"n_cols":16,"rows_kept":5,"cut":false,"hidden":false,"merged":[]}
["Sample","Seconds","%T(400)","%T(600)","%T(700)",{"$f":"'Absorbance Data'!D6","v":"USB2000"},null,null,null,null,"Wavelength 1",null,400,null,null,"This sheet only records selected"]
[null,null,null,null,null,null,null,null,null,null,"Wavelength 2",null,600,null,null,"wavelengths and not full spectrum"]
[null,null,null,null,null,null,null,null,null,null,"Wavelength 3",null,700,null,null,"so data can be collected faster."]
[null,null,null,null,null,null,"Be sure to record blank spectrum",null,null,null,"Number of Samples",null,20]
[null,null,null,null,null,null,"on the Absorbance sheet first!",null,null,null,"Delay time (seconds)",null,0]

{"sheet":"Band Edge","index":8,"n_rows":33,"n_cols":35,"rows_kept":33,"cut":false,"hidden":false,"merged":[]}
["Absorbance data is adjusted in calculations tab, pick line segments here",null,null,null,null,null,null,null,null,null,null,null,"Show",null,"Sample","start1","stop1","start2","stop2","intersection","slope1","intercept1","slope2","intercept2",null,null,{"$f":"\"index_\"&P1","v":"index_start1"},{"$f":"\"index_\"&Q1","v":"index_stop1"},{"$f":"\"index_\"&R1","v":"index_start2"},{"$f":"\"index_\"&S1","v":"index_stop2"},"y_start1","y_stop1","y_start2","y_stop2","y_intersection"]
[null,null,null,null,null,null,null,null,null,null,null,null,null,"B",{"$f":"Absorbance!A3","v":0},400,410,500,700,{"$f":"(X2-V2)/(U2-W2)","v":{"$error":"#DIV/0!"}},{"$f":"SLOPE(INDIRECT(\"Calculations!B\"&AA2&\":B\"&AB2),INDIRECT(\"Calculations!A\"&AA2&\":A\"&AB2))","v":0},{"$f":"INTERCEPT(INDIRECT(\"Calculations!B\"&AA2&\":B\"&AB2),INDIRECT(\"Calculations!A\"&AA2&\":A\"&AB2))","v":0},{"$f":"SLOPE(INDIRECT(\"Calculations!B\"&AC2&\":B\"&AD2),INDIRECT(\"Calculations!A\"&AC2&\":A\"&AD2))","v":0},{"$f":"INTERCEPT(INDIRECT(\"Calculations!B\"&AC2&\":B\"&AD2),INDIRECT(\"Calculations!A\"&AC2&\":A\"&AD2))","v":0},null,{"$f":"O2","v":0},{"$f":"IF(P2,MATCH(P2,Calculations!$A$1:'Calculations'!$A$1600),\"\")","v":32},{"$f":"IF(Q2,MATCH(Q2,Calculations!$A$1:'Calculations'!$A$1600),\"\")","v":61},{"$f":"IF(R2,MATCH(R2,Calculations!$A$1:'Calculations'!$A$1600),\"\")","v":328},{"$f":"IF(S2,MATCH(S2,Calculations!$A$1:'Calculations'!$A$1600),\"\")","v":953},{"$f":"U2*P2+V2","v":0},{"$f":"U2*Q2+V2","v":0},{"$f":"W2*R2+X2","v":0},{"$f":"W2*S2+X2","v":0},{"$f":"W2*T2+X2","v":{"$error":"#DIV/0!"}}]
[null,null,null,null,null,null,null,null,null,null,null,null,null,"C",{"$f":"Absorbance!A4","v":0},400,410,500,700,{"$f":"(X3-V3)/(U3-W3)","v":{"$error":"#DIV/0!"}},{"$f":"SLOPE(INDIRECT(\"Calculations!C\"&AA3&\":C\"&AB3),INDIRECT(\"Calculations!A\"&AA3&\":A\"&AB3))","v":0},{"$f":"INTERCEPT(INDIRECT(\"Calculations!C\"&AA3&\":C\"&AB3),INDIRECT(\"Calculations!A\"&AA3&\":A\"&AB3))","v":0},{"$f":"SLOPE(INDIRECT(\"Calculations!C\"&AC3&\":C\"&AD3),INDIRECT(\"Calculations!A\"&AC3&\":A\"&AD3))","v":0},{"$f":"INTERCEPT(INDIRECT(\"Calculations!C\"&AC3&\":C\"&AD3),INDIRECT(\"Calculations!A\"&AC3&\":A\"&AD3))","v":0},null,0,{"$f":"IF(P3,MATCH(P3,Calculations!$A$1:'Calculations'!$A$1600),\"\")","v":32},{"$f":"IF(Q3,MATCH(Q3,Calculations!$A$1:'Calculations'!$A$1600),\"\")","v":61},{"$f":"IF(R3,MATCH(R3,Calculations!$A$1:'Calculations'!$A$1600),\"\")","v":328},{"$f":"IF(S3,MATCH(S3,Calculations!$A$1:'Calculations'!$A$1600),\"\")","v":953},0,0,0,{"$f":"W3*S3+X3","v":0},{"$f":"W3*T3+X3","v":{"$error":"#DIV/0!"}}]
[null,null,null,null,null,null,null,null,null,null,null,null,null,"D",{"$f":"Absorbance!A5","v":0},400,410,500,700,{"$error":"#DIV/0!"},{"$f":"SLOPE(INDIRECT(\"Calculations!D\"&AA4&\":D\"&AB4),INDIRECT(\"Calculations!A\"&AA4&\":A\"&AB4))","v":0},{"$f":"INTERCEPT(INDIRECT(\"Calculations!D\"&AA4&\":D\"&AB4),INDIRECT(\"Calculations!A\"&AA4&\":A\"&AB4))","v":0},{"$f":"SLOPE(INDIRECT(\"Calculations!D\"&AC4&\":D\"&AD4),INDIRECT(\"Calculations!A\"&AC4&\":A\"&AD4))","v":0},{"$f":"INTERCEPT(INDIRECT(\"Calculations!D\"&AC4&\":D\"&AD4),INDIRECT(\"Calculations!A\"&AC4&\":A\"&AD4))","v":0},null,0,{"$f":"IF(P4,MATCH(P4,Calculations!$A$1:'Calculations'!$A$1600),\"\")","v":32},{"$f":"IF(Q4,MATCH(Q4,Calculations!$A$1:'Calculations'!$A$1600),\"\")","v":61},{"$f":"IF(R4,MATCH(R4,Calculations!$A$1:'Calculations'!$A$1600),\"\")","v":328},{"$f":"IF(S4,MATCH(S4,Calculations!$A$1:'Calculations'!$A$1600),\"\")","v":953},0,0,0,0,{"$error":"#DIV/0!"}]
[null,null,null,null,null,null,null,null,null,null,null,null,null,"E",{"$f":"Absorbance!A6","v":0},410,420,510,700,{"$error":"#DIV/0!"},{"$f":"SLOPE(INDIRECT(\"Calculations!E\"&AA5&\":E\"&AB5),INDIRECT(\"Calculations!A\"&AA5&\":A\"&AB5))","v":0},{"$f":"INTERCEPT(INDIRECT(\"Calculations!E\"&AA5&\":E\"&AB5),INDIRECT(\"Calculations!A\"&AA5&\":A\"&AB5))","v":0},{"$f":"SLOPE(INDIRECT(\"Calculations!E\"&AC5&\":E\"&AD5),INDIRECT(\"Calculations!A\"&AC5&\":A\"&AD5))","v":0},{"$f":"INTERCEPT(INDIRECT(\"Calculations!E\"&AC5&\":E\"&AD5),INDIRECT(\"Calculations!A\"&AC5&\":A\"&AD5))","v":0},null,0,{"$f":"IF(P5,MATCH(P5,Calculations!$A$1:'Calculations'!$A$1600),\"\")","v":61},{"$f":"IF(Q5,MATCH(Q5,Calculations!$A$1:'Calculations'!$A$1600),\"\")","v":90},{"$f":"IF(R5,MATCH(R5,Calculations!$A$1:'Calculations'!$A$1600),\"\")","v":358},{"$f":"IF(S5,MATCH(S5,Calculations!$A$1:'Calculations'!$A$1600),\"\")","v":953},0,0,0,0,{"$error":"#DIV/0!"}]
[null,null,null,null,null,null,null,null,null,null,null,null,null,"F",{"$f":"Absorbance!A7","v":0},410,420,520,700,{"$error":"#DIV/0!"},{"$f":"SLOPE(INDIRECT(\"Calculations!F\"&AA6&\":F\"&AB6),INDIRECT(\"Calculations!A\"&AA6&\":A\"&AB6))","v":0},{"$f":"INTERCEPT(INDIRECT(\"Calculations!F\"&AA6&\":F\"&AB6),INDIRECT(\"Calculations!A\"&AA6&\":A\"&AB6))","v":0},{"$f":"SLOPE(INDIRECT(\"Calculations!F\"&AC6&\":F\"&AD6),INDIRECT(\"Calculations!A\"&AC6&\":A\"&AD6))","v":0},{"$f":"INTERCEPT(INDIRECT(\"Calculations!F\"&AC6&\":F\"&AD6),INDIRECT(\"Calculations!A\"&AC6&\":A\"&AD6))","v":0},null,0,{"$f":"IF(P6,MATCH(P6,Calculations!$A$1:'Calculations'!$A$1600),\"\")","v":61},{"$f":"IF(Q6,MATCH(Q6,Calculations!$A$1:'Calculations'!$A$1600),\"\")","v":90},{"$f":"IF(R6,MATCH(R6,Calculations!$A$1:'Calculations'!$A$1600),\"\")","v":388},{"$f":"IF(S6,MATCH(S6,Calculations!$A$1:'Calculations'!$A$1600),\"\")","v":953},0,0,0,0,{"$error":"#DIV/0!"}]
[null,null,null,null,null,null,null,null,null,null,null,null,null,"G",{"$f":"Absorbance!A8","v":0},420,440,530,700,{"$error":"#DIV/0!"},{"$f":"SLOPE(INDIRECT(\"Calculations!G\"&AA7&\":G\"&AB7),INDIRECT(\"Calculations!A\"&AA7&\":A\"&AB7))","v":0},{"$f":"INTERCEPT(INDIRECT(\"Calculations!G\"&AA7&\":G\"&AB7),INDIRECT(\"Calculations!A\"&AA7&\":A\"&AB7))","v":0},{"$f":"SLOPE(INDIRECT(\"Calculations!G\"&AC7&\":G\"&AD7),INDIRECT(\"Calculations!A\"&AC7&\":A\"&AD7))","v":0},{"$f":"INTERCEPT(INDIRECT(\"Calculations!G\"&AC7&\":G\"&AD7),INDIRECT(\"Calculations!A\"&AC7&\":A\"&AD7))","v":0},null,0,{"$f":"IF(P7,MATCH(P7,Calculations!$A$1:'Calculations'!$A$1600),\"\")","v":90},{"$f":"IF(Q7,MATCH(Q7,Calculations!$A$1:'Calculations'!$A$1600),\"\")","v":149},{"$f":"IF(R7,MATCH(R7,Calculations!$A$1:'Calculations'!$A$1600),\"\")","v":419},{"$f":"IF(S7,MATCH(S7,Calculations!$A$1:'Calculations'!$A$1600),\"\")","v":953},0,0,0,0,{"$error":"#DIV/0!"}]
[null,null,null,null,null,null,null,null,null,null,null,null,null,"H",{"$f":"Absorbance!A9","v":0},430,460,550,700,{"$error":"#DIV/0!"},{"$f":"SLOPE(INDIRECT(\"Calculations!H\"&AA8&\":H\"&AB8),INDIRECT(\"Calculations!A\"&AA8&\":A\"&AB8))","v":0},{"$f":"INTERCEPT(INDIRECT(\"Calculations!H\"&AA8&\":H\"&AB8),INDIRECT(\"Calculations!A\"&AA8&\":A\"&AB8))","v":0},{"$f":"SLOPE(INDIRECT(\"Calculations!H\"&AC8&\":H\"&AD8),INDIRECT(\"Calculations!A\"&AC8&\":A\"&AD8))","v":0},{"$f":"INTERCEPT(INDIRECT(\"Calculations!H\"&AC8&\":H\"&AD8),INDIRECT(\"Calculations!A\"&AC8&\":A\"&AD8))","v":0},null,0,{"$f":"IF(P8,MATCH(P8,Calculations!$A$1:'Calculations'!$A$1600),\"\")","v":120},{"$f":"IF(Q8,MATCH(Q8,Calculations!$A$1:'Calculations'!$A$1600),\"\")","v":208},{"$f":"IF(R8,MATCH(R8,Calculations!$A$1:'Calculations'!$A$1600),\"\")","v":480},{"$f":"IF(S8,MATCH(S8,Calculations!$A$1:'Calculations'!$A$1600),\"\")","v":953},0,0,0,0,{"$error":"#DIV/0!"}]
[null,null,null,null,null,null,null,null,null,null,null,null,null,"I",{"$f":"Absorbance!A10","v":0},430,460,550,700,{"$error":"#DIV/0!"},{"$f":"SLOPE(INDIRECT(\"Calculations!I\"&AA9&\":I\"&AB9),INDIRECT(\"Calculations!A\"&AA9&\":A\"&AB9))","v":0},{"$f":"INTERCEPT(INDIRECT(\"Calculations!I\"&AA9&\":I\"&AB9),INDIRECT(\"Calculations!A\"&AA9&\":A\"&AB9))","v":0},{"$f":"SLOPE(INDIRECT(\"Calculations!I\"&AC9&\":I\"&AD9),INDIRECT(\"Calculations!A\"&AC9&\":A\"&AD9))","v":0},{"$f":"INTERCEPT(INDIRECT(\"Calculations!I\"&AC9&\":I\"&AD9),INDIRECT(\"Calculations!A\"&AC9&\":A\"&AD9))","v":0},null,0,{"$f":"IF(P9,MATCH(P9,Calculations!$A$1:'Calculations'!$A$1600),\"\")","v":120},{"$f":"IF(Q9,MATCH(Q9,Calculations!$A$1:'Calculations'!$A$1600),\"\")","v":208},{"$f":"IF(R9,MATCH(R9,Calculations!$A$1:'Calculations'!$A$1600),\"\")","v":480},{"$f":"IF(S9,MATCH(S9,Calculations!$A$1:'Calculations'!$A$1600),\"\")","v":953},0,0,0,0,{"$error":"#DIV/0!"}]
[null,null,null,null,null,null,null,null,null,null,null,null,null,"J",{"$f":"Absorbance!A11","v":0},430,460,550,700,{"$error":"#DIV/0!"},{"$f":"SLOPE(INDIRECT(\"Calculations!J\"&AA10&\":J\"&AB10),INDIRECT(\"Calculations!A\"&AA10&\":A\"&AB10))","v":0},{"$f":"INTERCEPT(INDIRECT(\"Calculations!J\"&AA10&\":J\"&AB10),INDIRECT(\"Calculations!A\"&AA10&\":A\"&AB10))","v":0},{"$f":"SLOPE(INDIRECT(\"Calculations!J\"&AC10&\":J\"&AD10),INDIRECT(\"Calculations!A\"&AC10&\":A\"&AD10))","v":0},{"$f":"INTERCEPT(INDIRECT(\"Calculations!J\"&AC10&\":J\"&AD10),INDIRECT(\"Calculations!A\"&AC10&\":A\"&AD10))","v":0},null,0,{"$f":"IF(P10,MATCH(P10,Calculations!$A$1:'Calculations'!$A$1600),\"\")","v":120},{"$f":"IF(Q10,MATCH(Q10,Calculations!$A$1:'Calculations'!$A$1600),\"\")","v":208},{"$f":"IF(R10,MATCH(R10,Calculations!$A$1:'Calculations'!$A$1600),\"\")","v":480},{"$f":"IF(S10,MATCH(S10,Calculations!$A$1:'Calculations'!$A$1600),\"\")","v":953},0,0,0,0,{"$error":"#DIV/0!"}]
[null,null,null,null,null,null,null,null,null,null,null,null,null,"K",{"$f":"Absorbance!A12","v":0},440,480,560,725,{"$error":"#DIV/0!"},{"$f":"SLOPE(INDIRECT(\"Calculations!K\"&AA11&\":K\"&AB11),INDIRECT(\"Calculations!A\"&AA11&\":A\"&AB11))","v":0},{"$f":"INTERCEPT(INDIRECT(\"Calculations!K\"&AA11&\":K\"&AB11),INDIRECT(\"Calculations!A\"&AA11&\":A\"&AB11))","v":0},{"$f":"SLOPE(INDIRECT(\"Calculations!K\"&AC11&\":K\"&AD11),INDIRECT(\"Calculations!A\"&AC11&\":A\"&AD11))","v":0},{"$f":"INTERCEPT(INDIRECT(\"Calculations!K\"&AC11&\":K\"&AD11),INDIRECT(\"Calculations!A\"&AC11&\":A\"&AD11))","v":0},null,0,{"$f":"IF(P11,MATCH(P11,Calculations!$A$1:'Calculations'!$A$1600),\"\")","v":149},{"$f":"IF(Q11,MATCH(Q11,Calculations!$A$1:'Calculations'!$A$1600),\"\")","v":268},{"$f":"IF(R11,MATCH(R11,Calculations!$A$1:'Calculations'!$A$1600),\"\")","v":510},{"$f":"IF(S11,MATCH(S11,Calculations!$A$1:'Calculations'!$A$1600),\"\")","v":1035},0,0,0,0,{"$error":"#DIV/0!"}]
[null,null,null,null,null,null,null,null,null,null,null,null,null,"L",{"$f":"Absorbance!A13","v":0},455,495,580,725,{"$error":"#DIV/0!"},{"$f":"SLOPE(INDIRECT(\"Calculations!L\"&AA12&\":L\"&AB12),INDIRECT(\"Calculations!A\"&AA12&\":A\"&AB12))","v":0},{"$f":"INTERCEPT(INDIRECT(\"Calculations!L\"&AA12&\":L\"&AB12),INDIRECT(\"Calculations!A\"&AA12&\":A\"&AB12))","v":0},{"$f":"SLOPE(INDIRECT(\"Calculations!L\"&AC12&\":L\"&AD12),INDIRECT(\"Calculations!A\"&AC12&\":A\"&AD12))","v":0},{"$f":"INTERCEPT(INDIRECT(\"Calculations!L\"&AC12&\":L\"&AD12),INDIRECT(\"Calculations!A\"&AC12&\":A\"&AD12))","v":0},null,0,{"$f":"IF(P12,MATCH(P12,Calculations!$A$1:'Calculations'!$A$1600),\"\")","v":193},{"$f":"IF(Q12,MATCH(Q12,Calculations!$A$1:'Calculations'!$A$1600),\"\")","v":313},{"$f":"IF(R12,MATCH(R12,Calculations!$A$1:'Calculations'!$A$1600),\"\")","v":572},{"$f":"IF(S12,MATCH(S12,Calculations!$A$1:'Calculations'!$A$1600),\"\")","v":1035},0,0,0,0,{"$error":"#DIV/0!"}]
[null,null,null,null,null,null,null,null,null,null,null,null,null,"M",{"$f":"Absorbance!A14","v":0},475,515,600,725,{"$error":"#DIV/0!"},{"$f":"SLOPE(INDIRECT(\"Calculations!M\"&AA13&\":M\"&AB13),INDIRECT(\"Calculations!A\"&AA13&\":A\"&AB13))","v":0},{"$f":"INTERCEPT(INDIRECT(\"Calculations!M\"&AA13&\":M\"&AB13),INDIRECT(\"Calculations!A\"&AA13&\":A\"&AB13))","v":0},{"$f":"SLOPE(INDIRECT(\"Calculations!M\"&AC13&\":M\"&AD13),INDIRECT(\"Calculations!A\"&AC13&\":A\"&AD13))","v":0},{"$f":"INTERCEPT(INDIRECT(\"Calculations!M\"&AC13&\":M\"&AD13),INDIRECT(\"Calculations!A\"&AC13&\":A\"&AD13))","v":0},null,0,{"$f":"IF(P13,MATCH(P13,Calculations!$A$1:'Calculations'!$A$1600),\"\")","v":253},{"$f":"IF(Q13,MATCH(Q13,Calculations!$A$1:'Calculations'!$A$1600),\"\")","v":373},{"$f":"IF(R13,MATCH(R13,Calculations!$A$1:'Calculations'!$A$1600),\"\")","v":634},{"$f":"IF(S13,MATCH(S13,Calculations!$A$1:'Calculations'!$A$1600),\"\")","v":1035},0,0,0,0,{"$error":"#DIV/0!"}]
[null,null,null,null,null,null,null,null,null,null,null,null,null,"N",{"$f":"Absorbance!A15","v":0},490,530,620,750,{"$error":"#DIV/0!"},{"$f":"SLOPE(INDIRECT(\"Calculations!N\"&AA14&\":N\"&AB14),INDIRECT(\"Calculations!A\"&AA14&\":A\"&AB14))","v":0},{"$f":"INTERCEPT(INDIRECT(\"Calculations!N\"&AA14&\":N\"&AB14),INDIRECT(\"Calculations!A\"&AA14&\":A\"&AB14))","v":0},{"$f":"SLOPE(INDIRECT(\"Calculations!N\"&AC14&\":N\"&AD14),INDIRECT(\"Calculations!A\"&AC14&\":A\"&AD14))","v":0},{"$f":"INTERCEPT(INDIRECT(\"Calculations!N\"&AC14&\":N\"&AD14),INDIRECT(\"Calculations!A\"&AC14&\":A\"&AD14))","v":0},null,0,{"$f":"IF(P14,MATCH(P14,Calculations!$A$1:'Calculations'!$A$1600),\"\")","v":298},{"$f":"IF(Q14,MATCH(Q14,Calculations!$A$1:'Calculations'!$A$1600),\"\")","v":419},{"$f":"IF(R14,MATCH(R14,Calculations!$A$1:'Calculations'!$A$1600),\"\")","v":697},{"$f":"IF(S14,MATCH(S14,Calculations!$A$1:'Calculations'!$A$1600),\"\")","v":1118},0,0,0,0,{"$error":"#DIV/0!"}]
[null,null,null,null,null,null,null,null,null,null,null,null,null,"O",{"$f":"Absorbance!A16","v":0},510,545,650,750,{"$error":"#DIV/0!"},{"$f":"SLOPE(INDIRECT(\"Calculations!O\"&AA15&\":O\"&AB15),INDIRECT(\"Calculations!A\"&AA15&\":A\"&AB15))","v":0},{"$f":"INTERCEPT(INDIRECT(\"Calculations!O\"&AA15&\":O\"&AB15),INDIRECT(\"Calculations!A\"&AA15&\":A\"&AB15))","v":0},{"$f":"SLOPE(INDIRECT(\"Calculations!O\"&AC15&\":O\"&AD15),INDIRECT(\"Calculations!A\"&AC15&\":A\"&AD15))","v":0},{"$f":"INTERCEPT(INDIRECT(\"Calculations!O\"&AC15&\":O\"&AD15),INDIRECT(\"Calculations!A\"&AC15&\":A\"&AD15))","v":0},null,0,{"$f":"IF(P15,MATCH(P15,Calculations!$A$1:'Calculations'!$A$1600),\"\")","v":358},{"$f":"IF(Q15,MATCH(Q15,Calculations!$A$1:'Calculations'!$A$1600),\"\")","v":464},{"$f":"IF(R15,MATCH(R15,Calculations!$A$1:'Calculations'!$A$1600),\"\")","v":792},{"$f":"IF(S15,MATCH(S15,Calculations!$A$1:'Calculations'!$A$1600),\"\")","v":1118},0,0,0,0,{"$error":"#DIV/0!"}]
[null,null,null,null,null,null,null,null,null,null,null,null,null,"P",{"$f":"Absorbance!A17","v":0},530,565,655,750,{"$error":"#DIV/0!"},{"$f":"SLOPE(INDIRECT(\"Calculations!P\"&AA16&\":P\"&AB16),INDIRECT(\"Calculations!A\"&AA16&\":A\"&AB16))","v":0},{"$f":"INTERCEPT(INDIRECT(\"Calculations!P\"&AA16&\":P\"&AB16),INDIRECT(\"Calculations!A\"&AA16&\":A\"&AB16))","v":0},{"$f":"SLOPE(INDIRECT(\"Calculations!P\"&AC16&\":P\"&AD16),INDIRECT(\"Calculations!A\"&AC16&\":A\"&AD16))","v":0},{"$f":"INTERCEPT(INDIRECT(\"Calculations!P\"&AC16&\":P\"&AD16),INDIRECT(\"Calculations!A\"&AC16&\":A\"&AD16))","v":0},null,0,{"$f":"IF(P16,MATCH(P16,Calculations!$A$1:'Calculations'!$A$1600),\"\")","v":419},{"$f":"IF(Q16,MATCH(Q16,Calculations!$A$1:'Calculations'!$A$1600),\"\")","v":526},{"$f":"IF(R16,MATCH(R16,Calculations!$A$1:'Calculations'!$A$1600),\"\")","v":808},{"$f":"IF(S16,MATCH(S16,Calculations!$A$1:'Calculations'!$A$1600),\"\")","v":1118},0,0,0,0,{"$error":"#DIV/0!"}]
[null,null,null,null,null,null,null,null,null,null,null,null,null,"Q",{"$f":"Absorbance!A18","v":0},550,580,660,750,{"$error":"#DIV/0!"},{"$f":"SLOPE(INDIRECT(\"Calculations!Q\"&AA17&\":Q\"&AB17),INDIRECT(\"Calculations!A\"&AA17&\":A\"&AB17))","v":0},{"$f":"INTERCEPT(INDIRECT(\"Calculations!Q\"&AA17&\":Q\"&AB17),INDIRECT(\"Calculations!A\"&AA17&\":A\"&AB17))","v":0},{"$f":"SLOPE(INDIRECT(\"Calculations!Q\"&AC17&\":Q\"&AD17),INDIRECT(\"Calculations!A\"&AC17&\":A\"&AD17))","v":0},{"$f":"INTERCEPT(INDIRECT(\"Calculations!Q\"&AC17&\":Q\"&AD17),INDIRECT(\"Calculations!A\"&AC17&\":A\"&AD17))","v":0},null,0,{"$f":"IF(P17,MATCH(P17,Calculations!$A$1:'Calculations'!$A$1600),\"\")","v":480},{"$f":"IF(Q17,MATCH(Q17,Calculations!$A$1:'Calculations'!$A$1600),\"\")","v":572},{"$f":"IF(R17,MATCH(R17,Calculations!$A$1:'Calculations'!$A$1600),\"\")","v":824},{"$f":"IF(S17,MATCH(S17,Calculations!$A$1:'Calculations'!$A$1600),\"\")","v":1118},0,0,0,0,{"$error":"#DIV/0!"}]
[null,null,null,null,null,null,null,null,null,null,null,null,null,"R",{"$f":"Absorbance!A19","v":0},560,590,675,760,{"$error":"#DIV/0!"},{"$f":"SLOPE(INDIRECT(\"Calculations!R\"&AA18&\":R\"&AB18),INDIRECT(\"Calculations!A\"&AA18&\":A\"&AB18))","v":0},{"$f":"INTERCEPT(INDIRECT(\"Calculations!R\"&AA18&\":R\"&AB18),INDIRECT(\"Calculations!A\"&AA18&\":A\"&AB18))","v":0},{"$f":"SLOPE(INDIRECT(\"Calculations!R\"&AC18&\":R\"&AD18),INDIRECT(\"Calculations!A\"&AC18&\":A\"&AD18))","v":0},{"$f":"INTERCEPT(INDIRECT(\"Calculations!R\"&AC18&\":R\"&AD18),INDIRECT(\"Calculations!A\"&AC18&\":A\"&AD18))","v":0},null,0,{"$f":"IF(P18,MATCH(P18,Calculations!$A$1:'Calculations'!$A$1600),\"\")","v":510},{"$f":"IF(Q18,MATCH(Q18,Calculations!$A$1:'Calculations'!$A$1600),\"\")","v":603},{"$f":"IF(R18,MATCH(R18,Calculations!$A$1:'Calculations'!$A$1600),\"\")","v":872},{"$f":"IF(S18,MATCH(S18,Calculations!$A$1:'Calculations'!$A$1600),\"\")","v":1151},0,0,0,0,{"$error":"#DIV/0!"}]
[null,null,null,null,null,null,null,null,null,null,null,null,null,"S",{"$f":"Absorbance!A20","v":0},600,650,770,800,{"$error":"#DIV/0!"},{"$f":"SLOPE(INDIRECT(\"Calculations!S\"&AA19&\":S\"&AB19),INDIRECT(\"Calculations!A\"&AA19&\":A\"&AB19))","v":0},{"$f":"INTERCEPT(INDIRECT(\"Calculations!S\"&AA19&\":S\"&AB19),INDIRECT(\"Calculations!A\"&AA19&\":A\"&AB19))","v":0},{"$f":"SLOPE(INDIRECT(\"Calculations!S\"&AC19&\":S\"&AD19),INDIRECT(\"Calculations!A\"&AC19&\":A\"&AD19))","v":0},{"$f":"INTERCEPT(INDIRECT(\"Calculations!S\"&AC19&\":S\"&AD19),INDIRECT(\"Calculations!A\"&AC19&\":A\"&AD19))","v":0},null,0,{"$f":"IF(P19,MATCH(P19,Calculations!$A$1:'Calculations'!$A$1600),\"\")","v":634},{"$f":"IF(Q19,MATCH(Q19,Calculations!$A$1:'Calculations'!$A$1600),\"\")","v":792},{"$f":"IF(R19,MATCH(R19,Calculations!$A$1:'Calculations'!$A$1600),\"\")","v":1185},{"$f":"IF(S19,MATCH(S19,Calculations!$A$1:'Calculations'!$A$1600),\"\")","v":1287},0,0,0,0,{"$error":"#DIV/0!"}]
[null,null,null,null,null,null,null,null,null,null,null,null,null,"T",{"$f":"Absorbance!A21","v":0},620,680,770,800,{"$error":"#DIV/0!"},{"$f":"SLOPE(INDIRECT(\"Calculations!T\"&AA20&\":T\"&AB20),INDIRECT(\"Calculations!A\"&AA20&\":A\"&AB20))","v":0},{"$f":"INTERCEPT(INDIRECT(\"Calculations!T\"&AA20&\":T\"&AB20),INDIRECT(\"Calculations!A\"&AA20&\":A\"&AB20))","v":0},{"$f":"SLOPE(INDIRECT(\"Calculations!T\"&AC20&\":T\"&AD20),INDIRECT(\"Calculations!A\"&AC20&\":A\"&AD20))","v":0},{"$f":"INTERCEPT(INDIRECT(\"Calculations!T\"&AC20&\":T\"&AD20),INDIRECT(\"Calculations!A\"&AC20&\":A\"&AD20))","v":0},null,0,{"$f":"IF(P20,MATCH(P20,Calculations!$A$1:'Calculations'!$A$1600),\"\")","v":697},{"$f":"IF(Q20,MATCH(Q20,Calculations!$A$1:'Calculations'!$A$1600),\"\")","v":888},{"$f":"IF(R20,MATCH(R20,Calculations!$A$1:'Calculations'!$A$1600),\"\")","v":1185},{"$f":"IF(S20,MATCH(S20,Calculations!$A$1:'Calculations'!$A$1600),\"\")","v":1287},0,0,0,0,{"$error":"#DIV/0!"}]
[null,null,null,null,null,null,null,null,null,null,null,null,null,"U",{"$f":"Absorbance!A22","v":0},650,700,780,800,{"$error":"#DIV/0!"},{"$f":"SLOPE(INDIRECT(\"Calculations!U\"&AA21&\":U\"&AB21),INDIRECT(\"Calculations!A\"&AA21&\":A\"&AB21))","v":0},{"$f":"INTERCEPT(INDIRECT(\"Calculations!U\"&AA21&\":U\"&AB21),INDIRECT(\"Calculations!A\"&AA21&\":A\"&AB21))","v":0},{"$f":"SLOPE(INDIRECT(\"Calculations!U\"&AC21&\":U\"&AD21),INDIRECT(\"Calculations!A\"&AC21&\":A\"&AD21))","v":0},{"$f":"INTERCEPT(INDIRECT(\"Calculations!U\"&AC21&\":U\"&AD21),INDIRECT(\"Calculations!A\"&AC21&\":A\"&AD21))","v":0},null,0,{"$f":"IF(P21,MATCH(P21,Calculations!$A$1:'Calculations'!$A$1600),\"\")","v":792},{"$f":"IF(Q21,MATCH(Q21,Calculations!$A$1:'Calculations'!$A$1600),\"\")","v":953},{"$f":"IF(R21,MATCH(R21,Calculations!$A$1:'Calculations'!$A$1600),\"\")","v":1219},{"$f":"IF(S21,MATCH(S21,Calculations!$A$1:'Calculations'!$A$1600),\"\")","v":1287},0,0,0,0,{"$error":"#DIV/0!"}]
[null,null,null,null,null,null,null,null,null,null,null,null,null,"V",{"$f":"Absorbance!A23","v":0},650,700,780,800,{"$error":"#DIV/0!"},{"$f":"SLOPE(INDIRECT(\"Calculations!V\"&AA22&\":V\"&AB22),INDIRECT(\"Calculations!A\"&AA22&\":A\"&AB22))","v":0},{"$f":"INTERCEPT(INDIRECT(\"Calculations!V\"&AA22&\":V\"&AB22),INDIRECT(\"Calculations!A\"&AA22&\":A\"&AB22))","v":0},{"$f":"SLOPE(INDIRECT(\"Calculations!V\"&AC22&\":V\"&AD22),INDIRECT(\"Calculations!A\"&AC22&\":A\"&AD22))","v":0},{"$f":"INTERCEPT(INDIRECT(\"Calculations!V\"&AC22&\":V\"&AD22),INDIRECT(\"Calculations!A\"&AC22&\":A\"&AD22))","v":0},null,0,{"$f":"IF(P22,MATCH(P22,Calculations!$A$1:'Calculations'!$A$1600),\"\")","v":792},{"$f":"IF(Q22,MATCH(Q22,Calculations!$A$1:'Calculations'!$A$1600),\"\")","v":953},{"$f":"IF(R22,MATCH(R22,Calculations!$A$1:'Calculations'!$A$1600),\"\")","v":1219},{"$f":"IF(S22,MATCH(S22,Calculations!$A$1:'Calculations'!$A$1600),\"\")","v":1287},0,0,0,0,{"$error":"#DIV/0!"}]
[null,null,null,null,null,null,null,null,null,null,null,null,null,"W",{"$f":"Absorbance!A24","v":0},650,700,780,800,{"$error":"#DIV/0!"},{"$f":"SLOPE(INDIRECT(\"Calculations!W\"&AA23&\":W\"&AB23),INDIRECT(\"Calculations!A\"&AA23&\":A\"&AB23))","v":0},{"$f":"INTERCEPT(INDIRECT(\"Calculations!W\"&AA23&\":W\"&AB23),INDIRECT(\"Calculations!A\"&AA23&\":A\"&AB23))","v":0},{"$f":"SLOPE(INDIRECT(\"Calculations!W\"&AC23&\":W\"&AD23),INDIRECT(\"Calculations!A\"&AC23&\":A\"&AD23))","v":0},{"$f":"INTERCEPT(INDIRECT(\"Calculations!W\"&AC23&\":W\"&AD23),INDIRECT(\"Calculations!A\"&AC23&\":A\"&AD23))","v":0},null,0,{"$f":"IF(P23,MATCH(P23,Calculations!$A$1:'Calculations'!$A$1600),\"\")","v":792},{"$f":"IF(Q23,MATCH(Q23,Calculations!$A$1:'Calculations'!$A$1600),\"\")","v":953},{"$f":"IF(R23,MATCH(R23,Calculations!$A$1:'Calculations'!$A$1600),\"\")","v":1219},{"$f":"IF(S23,MATCH(S23,Calculations!$A$1:'Calculations'!$A$1600),\"\")","v":1287},0,0,0,0,{"$error":"#DIV/0!"}]
[]
[]
[]
[]
[]
[]
[]
[]
[]
[null,null,null,null,null,null,null,null,null,null,null,null,null,null,"Reselect to restore fit lines"]

{"sheet":"Calculations","index":9,"n_rows":1482,"n_cols":23,"rows_kept":1482,"cut":false,"hidden":false,"merged":[]}
["substract minimum",{"$f":"MIN('Absorbance Data'!E2630:E4109)","v":0},{"$f":"MIN('Absorbance Data'!F2630:F4109)","v":0},{"$f":"MIN('Absorbance Data'!G2630:G4109)","v":0},{"$f":"MIN('Absorbance Data'!H2630:H4109)","v":0},{"$f":"MIN('Absorbance Data'!I2630:I4109)","v":0},{"$f":"MIN('Absorbance Data'!J2630:J4109)","v":0},{"$f":"MIN('Absorbance Data'!K2630:K4109)","v":0},{"$f":"MIN('Absorbance Data'!L2630:L4109)","v":0},{"$f":"MIN('Absorbance Data'!M2630:M4109)","v":0},{"$f":"MIN('Absorbance Data'!N2630:N4109)","v":0},{"$f":"MIN('Absorbance Data'!O2630:O4109)","v":0},{"$f":"MIN('Absorbance Data'!P2630:P4109)","v":0},{"$f":"MIN('Absorbance Data'!Q2630:Q4109)","v":0},{"$f":"MIN('Absorbance Data'!R2630:R4109)","v":0},{"$f":"MIN('Absorbance Data'!S2630:S4109)","v":0},{"$f":"MIN('Absorbance Data'!T2630:T4109)","v":0},{"$f":"MIN('Absorbance Data'!U2630:U4109)","v":0},{"$f":"MIN('Absorbance Data'!V2630:V4109)","v":0},{"$f":"MIN('Absorbance Data'!W2630:W4109)","v":0},{"$f":"MIN('Absorbance Data'!X2630:X4109)","v":0},{"$f":"MIN('Absorbance Data'!Y2630:Y4109)","v":0},{"$f":"MIN('Absorbance Data'!Z2630:Z4109)","v":0}]
["l (nm)",{"$f":"'Absorbance Data'!E2060","v":0},{"$f":"'Absorbance Data'!F2060","v":0},{"$f":"'Absorbance Data'!G2060","v":0},{"$f":"'Absorbance Data'!H2060","v":0},{"$f":"'Absorbance Data'!I2060","v":0},{"$f":"'Absorbance Data'!J2060","v":0},{"$f":"'Absorbance Data'!K2060","v":0},{"$f":"'Absorbance Data'!L2060","v":0},{"$f":"'Absorbance Data'!M2060","v":0},{"$f":"'Absorbance Data'!N2060","v":0},{"$f":"'Absorbance Data'!O2060","v":0},{"$f":"'Absorbance Data'!P2060","v":0},{"$f":"'Absorbance Data'!Q2060","v":0},{"$f":"'Absorbance Data'!R2060","v":0},{"$f":"'Absorbance Data'!S2060","v":0},{"$f":"'Absorbance Data'!T2060","v":0},{"$f":"'Absorbance Data'!U2060","v":0},{"$f":"'Absorbance Data'!V2060","v":0},{"$f":"'Absorbance Data'!W2060","v":0},{"$f":"'Absorbance Data'!X2060","v":0},{"$f":"'Absorbance Data'!Y2060","v":0},{"$f":"'Absorbance Data'!Z2060","v":0}]
[{"$f":"'Absorbance Data'!D2630","v":390.00497436523438},{"$f":"'Absorbance Data'!E2630-Calculations!B$1","v":0},{"$f":"'Absorbance Data'!F2630-Calculations!C$1","v":0},{"$f":"'Absorbance Data'!G2630-Calculations!D$1","v":0},{"$f":"'Absorbance Data'!H2630-Calculations!E$1","v":0},{"$f":"'Absorbance Data'!I2630-Calculations!F$1","v":0},{"$f":"'Absorbance Data'!J2630-Calculations!G$1","v":0},{"$f":"'Absorbance Data'!K2630-Calculations!H$1","v":0},{"$f":"'Absorbance Data'!L2630-Calculations!I$1","v":0},{"$f":"'Absorbance Data'!M2630-Calculations!J$1","v":0},{"$f":"'Absorbance Data'!N2630-Calculations!K$1","v":0},{"$f":"'Absorbance Data'!O2630-Calculations!L$1","v":0},{"$f":"'Absorbance Data'!P2630-Calculations!M$1","v":0},{"$f":"'Absorbance Data'!Q2630-Calculations!N$1","v":0},{"$f":"'Absorbance Data'!R2630-Calculations!O$1","v":0},{"$f":"'Absorbance Data'!S2630-Calculations!P$1","v":0},{"$f":"'Absorbance Data'!T2630-Calculations!Q$1","v":0},{"$f":"'Absorbance Data'!U2630-Calculations!R$1","v":0},{"$f":"'Absorbance Data'!V2630-Calculations!S$1","v":0},{"$f":"'Absorbance Data'!W2630-Calculations!T$1","v":0},{"$f":"'Absorbance Data'!X2630-Calculations!U$1","v":0},{"$f":"'Absorbance Data'!Y2630-Calculations!V$1","v":0},{"$f":"'Absorbance Data'!Z2630-Calculations!W$1","v":0}]
[{"$f":"'Absorbance Data'!D2631","v":390.34854125976562},{"$f":"'Absorbance Data'!E2631-Calculations!B$1","v":0},{"$f":"'Absorbance Data'!F2631-Calculations!C$1","v":0},{"$f":"'Absorbance Data'!G2631-Calculations!D$1","v":0},{"$f":"'Absorbance Data'!H2631-Calculations!E$1","v":0},{"$f":"'Absorbance Data'!I2631-Calculations!F$1","v":0},{"$f":"'Absorbance Data'!J2631-Calculations!G$1","v":0},{"$f":"'Absorbance Data'!K2631-Calculations!H$1","v":0},{"$f":"'Absorbance Data'!L2631-Calculations!I$1","v":0},{"$f":"'Absorbance Data'!M2631-Calculations!J$1","v":0},{"$f":"'Absorbance Data'!N2631-Calculations!K$1","v":0},{"$f":"'Absorbance Data'!O2631-Calculations!L$1","v":0},{"$f":"'Absorbance Data'!P2631-Calculations!M$1","v":0},{"$f":"'Absorbance Data'!Q2631-Calculations!N$1","v":0},{"$f":"'Absorbance Data'!R2631-Calculations!O$1","v":0},{"$f":"'Absorbance Data'!S2631-Calculations!P$1","v":0},{"$f":"'Absorbance Data'!T2631-Calculations!Q$1","v":0},{"$f":"'Absorbance Data'!U2631-Calculations!R$1","v":0},{"$f":"'Absorbance Data'!V2631-Calculations!S$1","v":0},{"$f":"'Absorbance Data'!W2631-Calculations!T$1","v":0},{"$f":"'Absorbance Data'!X2631-Calculations!U$1","v":0},{"$f":"'Absorbance Data'!Y2631-Calculations!V$1","v":0},{"$f":"'Absorbance Data'!Z2631-Calculations!W$1","v":0}]
[{"$f":"'Absorbance Data'!D2632","v":390.69210815429688},{"$f":"'Absorbance Data'!E2632-Calculations!B$1","v":0},{"$f":"'Absorbance Data'!F2632-Calculations!C$1","v":0},{"$f":"'Absorbance Data'!G2632-Calculations!D$1","v":0},{"$f":"'Absorbance Data'!H2632-Calculations!E$1","v":0},{"$f":"'Absorbance Data'!I2632-Calculations!F$1","v":0},{"$f":"'Absorbance Data'!J2632-Calculations!G$1","v":0},{"$f":"'Absorbance Data'!K2632-Calculations!H$1","v":0},{"$f":"'Absorbance Data'!L2632-Calculations!I$1","v":0},{"$f":"'Absorbance Data'!M2632-Calculations!J$1","v":0},{"$f":"'Absorbance Data'!N2632-Calculations!K$1","v":0},{"$f":"'Absorbance Data'!O2632-Calculations!L$1","v":0},{"$f":"'Absorbance Data'!P2632-Calculations!M$1","v":0},{"$f":"'Absorbance Data'!Q2632-Calculations!N$1","v":0},{"$f":"'Absorbance Data'!R2632-Calculations!O$1","v":0},{"$f":"'Absorbance Data'!S2632-Calculations!P$1","v":0},{"$f":"'Absorbance Data'!T2632-Calculations!Q$1","v":0},{"$f":"'Absorbance Data'!U2632-Calculations!R$1","v":0},{"$f":"'Absorbance Data'!V2632-Calculations!S$1","v":0},{"$f":"'Absorbance Data'!W2632-Calculations!T$1","v":0},{"$f":"'Absorbance Data'!X2632-Calculations!U$1","v":0},{"$f":"'Absorbance Data'!Y2632-Calculations!V$1","v":0},{"$f":"'Absorbance Data'!Z2632-Calculations!W$1","v":0}]
[{"$f":"'Absorbance Data'!D2633","v":391.03564453125},{"$f":"'Absorbance Data'!E2633-Calculations!B$1","v":0},{"$f":"'Absorbance Data'!F2633-Calculations!C$1","v":0},{"$f":"'Absorbance Data'!G2633-Calculations!D$1","v":0},{"$f":"'Absorbance Data'!H2633-Calculations!E$1","v":0},{"$f":"'Absorbance Data'!I2633-Calculations!F$1","v":0},{"$f":"'Absorbance Data'!J2633-Calculations!G$1","v":0},{"$f":"'Absorbance Data'!K2633-Calculations!H$1","v":0},{"$f":"'Absorbance Data'!L2633-Calculations!I$1","v":0},{"$f":"'Absorbance Data'!M2633-Calculations!J$1","v":0},{"$f":"'Absorbance Data'!N2633-Calculations!K$1","v":0},{"$f":"'Absorbance Data'!O2633-Calculations!L$1","v":0},{"$f":"'Absorbance Data'!P2633-Calculations!M$1","v":0},{"$f":"'Absorbance Data'!Q2633-Calculations!N$1","v":0},{"$f":"'Absorbance Data'!R2633-Calculations!O$1","v":0},{"$f":"'Absorbance Data'!S2633-Calculations!P$1","v":0},{"$f":"'Absorbance Data'!T2633-Calculations!Q$1","v":0},{"$f":"'Absorbance Data'!U2633-Calculations!R$1","v":0},{"$f":"'Absorbance Data'!V2633-Calculations!S$1","v":0},{"$f":"'Absorbance Data'!W2633-Calculations!T$1","v":0},{"$f":"'Absorbance Data'!X2633-Calculations!U$1","v":0},{"$f":"'Absorbance Data'!Y2633-Calculations!V$1","v":0},{"$f":"'Absorbance Data'!Z2633-Calculations!W$1","v":0}]
[{"$f":"'Absorbance Data'!D2634","v":391.379150390625},{"$f":"'Absorbance Data'!E2634-Calculations!B$1","v":0},{"$f":"'Absorbance Data'!F2634-Calculations!C$1","v":0},{"$f":"'Absorbance Data'!G2634-Calculations!D$1","v":0},{"$f":"'Absorbance Data'!H2634-Calculations!E$1","v":0},{"$f":"'Absorbance Data'!I2634-Calculations!F$1","v":0},{"$f":"'Absorbance Data'!J2634-Calculations!G$1","v":0},{"$f":"'Absorbance Data'!K2634-Calculations!H$1","v":0},{"$f":"'Absorbance Data'!L2634-Calculations!I$1","v":0},{"$f":"'Absorbance Data'!M2634-Calculations!J$1","v":0},{"$f":"'Absorbance Data'!N2634-Calculations!K$1","v":0},{"$f":"'Absorbance Data'!O2634-Calculations!L$1","v":0},{"$f":"'Absorbance Data'!P2634-Calculations!M$1","v":0},{"$f":"'Absorbance Data'!Q2634-Calculations!N$1","v":0},{"$f":"'Absorbance Data'!R2634-Calculations!O$1","v":0},{"$f":"'Absorbance Data'!S2634-Calculations!P$1","v":0},{"$f":"'Absorbance Data'!T2634-Calculations!Q$1","v":0},{"$f":"'Absorbance Data'!U2634-Calculations!R$1","v":0},{"$f":"'Absorbance Data'!V2634-Calculations!S$1","v":0},{"$f":"'Absorbance Data'!W2634-Calculations!T$1","v":0},{"$f":"'Absorbance Data'!X2634-Calculations!U$1","v":0},{"$f":"'Absorbance Data'!Y2634-Calculations!V$1","v":0},{"$f":"'Absorbance Data'!Z2634-Calculations!W$1","v":0}]
[{"$f":"'Absorbance Data'!D2635","v":391.72259521484375},{"$f":"'Absorbance Data'!E2635-Calculations!B$1","v":0},{"$f":"'Absorbance Data'!F2635-Calculations!C$1","v":0},{"$f":"'Absorbance Data'!G2635-Calculations!D$1","v":0},{"$f":"'Absorbance Data'!H2635-Calculations!E$1","v":0},{"$f":"'Absorbance Data'!I2635-Calculations!F$1","v":0},{"$f":"'Absorbance Data'!J2635-Calculations!G$1","v":0},{"$f":"'Absorbance Data'!K2635-Calculations!H$1","v":0},{"$f":"'Absorbance Data'!L2635-Calculations!I$1","v":0},{"$f":"'Absorbance Data'!M2635-Calculations!J$1","v":0},{"$f":"'Absorbance Data'!N2635-Calculations!K$1","v":0},{"$f":"'Absorbance Data'!O2635-Calculations!L$1","v":0},{"$f":"'Absorbance Data'!P2635-Calculations!M$1","v":0},{"$f":"'Absorbance Data'!Q2635-Calculations!N$1","v":0},{"$f":"'Absorbance Data'!R2635-Calculations!O$1","v":0},{"$f":"'Absorbance Data'!S2635-Calculations!P$1","v":0},{"$f":"'Absorbance Data'!T2635-Calculations!Q$1","v":0},{"$f":"'Absorbance Data'!U2635-Calculations!R$1","v":0},{"$f":"'Absorbance Data'!V2635-Calculations!S$1","v":0},{"$f":"'Absorbance Data'!W2635-Calculations!T$1","v":0},{"$f":"'Absorbance Data'!X2635-Calculations!U$1","v":0},{"$f":"'Absorbance Data'!Y2635-Calculations!V$1","v":0},{"$f":"'Absorbance Data'!Z2635-Calculations!W$1","v":0}]
[{"$f":"'Absorbance Data'!D2636","v":392.0660400390625},{"$f":"'Absorbance Data'!E2636-Calculations!B$1","v":0},{"$f":"'Absorbance Data'!F2636-Calculations!C$1","v":0},{"$f":"'Absorbance Data'!G2636-Calculations!D$1","v":0},{"$f":"'Absorbance Data'!H2636-Calculations!E$1","v":0},{"$f":"'Absorbance Data'!I2636-Calculations!F$1","v":0},{"$f":"'Absorbance Data'!J2636-Calculations!G$1","v":0},{"$f":"'Absorbance Data'!K2636-Calculations!H$1","v":0},{"$f":"'Absorbance Data'!L2636-Calculations!I$1","v":0},{"$f":"'Absorbance Data'!M2636-Calculations!J$1","v":0},{"$f":"'Absorbance Data'!N2636-Calculations!K$1","v":0},{"$f":"'Absorbance Data'!O2636-Calculations!L$1","v":0},{"$f":"'Absorbance Data'!P2636-Calculations!M$1","v":0},{"$f":"'Absorbance Data'!Q2636-Calculations!N$1","v":0},{"$f":"'Absorbance Data'!R2636-Calculations!O$1","v":0},{"$f":"'Absorbance Data'!S2636-Calculations!P$1","v":0},{"$f":"'Absorbance Data'!T2636-Calculations!Q$1","v":0},{"$f":"'Absorbance Data'!U2636-Calculations!R$1","v":0},{"$f":"'Absorbance Data'!V2636-Calculations!S$1","v":0},{"$f":"'Absorbance Data'!W2636-Calculations!T$1","v":0},{"$f":"'Absorbance Data'!X2636-Calculations!U$1","v":0},{"$f":"'Absorbance Data'!Y2636-Calculations!V$1","v":0},{"$f":"'Absorbance Data'!Z2636-Calculations!W$1","v":0}]
[{"$f":"'Absorbance Data'!D2637","v":392.40945434570312},{"$f":"'Absorbance Data'!E2637-Calculations!B$1","v":0},{"$f":"'Absorbance Data'!F2637-Calculations!C$1","v":0},{"$f":"'Absorbance Data'!G2637-Calculations!D$1","v":0},{"$f":"'Absorbance Data'!H2637-Calculations!E$1","v":0},{"$f":"'Absorbance Data'!I2637-Calculations!F$1","v":0},{"$f":"'Absorbance Data'!J2637-Calculations!G$1","v":0},{"$f":"'Absorbance Data'!K2637-Calculations!H$1","v":0},{"$f":"'Absorbance Data'!L2637-Calculations!I$1","v":0},{"$f":"'Absorbance Data'!M2637-Calculations!J$1","v":0},{"$f":"'Absorbance Data'!N2637-Calculations!K$1","v":0},{"$f":"'Absorbance Data'!O2637-Calculations!L$1","v":0},{"$f":"'Absorbance Data'!P2637-Calculations!M$1","v":0},{"$f":"'Absorbance Data'!Q2637-Calculations!N$1","v":0},{"$f":"'Absorbance Data'!R2637-Calculations!O$1","v":0},{"$f":"'Absorbance Data'!S2637-Calculations!P$1","v":0},{"$f":"'Absorbance Data'!T2637-Calculations!Q$1","v":0},{"$f":"'Absorbance Data'!U2637-Calculations!R$1","v":0},{"$f":"'Absorbance Data'!V2637-Calculations!S$1","v":0},{"$f":"'Absorbance Data'!W2637-Calculations!T$1","v":0},{"$f":"'Absorbance Data'!X2637-Calculations!U$1","v":0},{"$f":"'Absorbance Data'!Y2637-Calculations!V$1","v":0},{"$f":"'Absorbance Data'!Z2637-Calculations!W$1","v":0}]
[{"$f":"'Absorbance Data'!D2638","v":392.7528076171875},{"$f":"'Absorbance Data'!E2638-Calculations!B$1","v":0},{"$f":"'Absorbance Data'!F2638-Calculations!C$1","v":0},{"$f":"'Absorbance Data'!G2638-Calculations!D$1","v":0},{"$f":"'Absorbance Data'!H2638-Calculations!E$1","v":0},{"$f":"'Absorbance Data'!I2638-Calculations!F$1","v":0},{"$f":"'Absorbance Data'!J2638-Calculations!G$1","v":0},{"$f":"'Absorbance Data'!K2638-Calculations!H$1","v":0},{"$f":"'Absorbance Data'!L2638-Calculations!I$1","v":0},{"$f":"'Absorbance Data'!M2638-Calculations!J$1","v":0},{"$f":"'Absorbance Data'!N2638-Calculations!K$1","v":0},{"$f":"'Absorbance Data'!O2638-Calculations!L$1","v":0},{"$f":"'Absorbance Data'!P2638-Calculations!M$1","v":0},{"$f":"'Absorbance Data'!Q2638-Calculations!N$1","v":0},{"$f":"'Absorbance Data'!R2638-Calculations!O$1","v":0},{"$f":"'Absorbance Data'!S2638-Calculations!P$1","v":0},{"$f":"'Absorbance Data'!T2638-Calculations!Q$1","v":0},{"$f":"'Absorbance Data'!U2638-Calculations!R$1","v":0},{"$f":"'Absorbance Data'!V2638-Calculations!S$1","v":0},{"$f":"'Absorbance Data'!W2638-Calculations!T$1","v":0},{"$f":"'Absorbance Data'!X2638-Calculations!U$1","v":0},{"$f":"'Absorbance Data'!Y2638-Calculations!V$1","v":0},{"$f":"'Absorbance Data'!Z2638-Calculations!W$1","v":0}]
[{"$f":"'Absorbance Data'!D2639","v":393.09613037109375},{"$f":"'Absorbance Data'!E2639-Calculations!B$1","v":0},{"$f":"'Absorbance Data'!F2639-Calculations!C$1","v":0},{"$f":"'Absorbance Data'!G2639-Calculations!D$1","v":0},{"$f":"'Absorbance Data'!H2639-Calculations!E$1","v":0},{"$f":"'Absorbance Data'!I2639-Calculations!F$1","v":0},{"$f":"'Absorbance Data'!J2639-Calculations!G$1","v":0},{"$f":"'Absorbance Data'!K2639-Calculations!H$1","v":0},{"$f":"'Absorbance Data'!L2639-Calculations!I$1","v":0},{"$f":"'Absorbance Data'!M2639-Calculations!J$1","v":0},{"$f":"'Absorbance Data'!N2639-Calculations!K$1","v":0},{"$f":"'Absorbance Data'!O2639-Calculations!L$1","v":0},{"$f":"'Absorbance Data'!P2639-Calculations!M$1","v":0},{"$f":"'Absorbance Data'!Q2639-Calculations!N$1","v":0},{"$f":"'Absorbance Data'!R2639-Calculations!O$1","v":0},{"$f":"'Absorbance Data'!S2639-Calculations!P$1","v":0},{"$f":"'Absorbance Data'!T2639-Calculations!Q$1","v":0},{"$f":"'Absorbance Data'!U2639-Calculations!R$1","v":0},{"$f":"'Absorbance Data'!V2639-Calculations!S$1","v":0},{"$f":"'Absorbance Data'!W2639-Calculations!T$1","v":0},{"$f":"'Absorbance Data'!X2639-Calculations!U$1","v":0},{"$f":"'Absorbance Data'!Y2639-Calculations!V$1","v":0},{"$f":"'Absorbance Data'!Z2639-Calculations!W$1","v":0}]
[{"$f":"'Absorbance Data'!D2640","v":393.439453125},{"$f":"'Absorbance Data'!E2640-Calculations!B$1","v":0},{"$f":"'Absorbance Data'!F2640-Calculations!C$1","v":0},{"$f":"'Absorbance Data'!G2640-Calculations!D$1","v":0},{"$f":"'Absorbance Data'!H2640-Calculations!E$1","v":0},{"$f":"'Absorbance Data'!I2640-Calculations!F$1","v":0},{"$f":"'Absorbance Data'!J2640-Calculations!G$1","v":0},{"$f":"'Absorbance Data'!K2640-Calculations!H$1","v":0},{"$f":"'Absorbance Data'!L2640-Calculations!I$1","v":0},{"$f":"'Absorbance Data'!M2640-Calculations!J$1","v":0},{"$f":"'Absorbance Data'!N2640-Calculations!K$1","v":0},{"$f":"'Absorbance Data'!O2640-Calculations!L$1","v":0},{"$f":"'Absorbance Data'!P2640-Calculations!M$1","v":0},{"$f":"'Absorbance Data'!Q2640-Calculations!N$1","v":0},{"$f":"'Absorbance Data'!R2640-Calculations!O$1","v":0},{"$f":"'Absorbance Data'!S2640-Calculations!P$1","v":0},{"$f":"'Absorbance Data'!T2640-Calculations!Q$1","v":0},{"$f":"'Absorbance Data'!U2640-Calculations!R$1","v":0},{"$f":"'Absorbance Data'!V2640-Calculations!S$1","v":0},{"$f":"'Absorbance Data'!W2640-Calculations!T$1","v":0},{"$f":"'Absorbance Data'!X2640-Calculations!U$1","v":0},{"$f":"'Absorbance Data'!Y2640-Calculations!V$1","v":0},{"$f":"'Absorbance Data'!Z2640-Calculations!W$1","v":0}]
[{"$f":"'Absorbance Data'!D2641","v":393.78271484375},{"$f":"'Absorbance Data'!E2641-Calculations!B$1","v":0},{"$f":"'Absorbance Data'!F2641-Calculations!C$1","v":0},{"$f":"'Absorbance Data'!G2641-Calculations!D$1","v":0},{"$f":"'Absorbance Data'!H2641-Calculations!E$1","v":0},{"$f":"'Absorbance Data'!I2641-Calculations!F$1","v":0},{"$f":"'Absorbance Data'!J2641-Calculations!G$1","v":0},{"$f":"'Absorbance Data'!K2641-Calculations!H$1","v":0},{"$f":"'Absorbance Data'!L2641-Calculations!I$1","v":0},{"$f":"'Absorbance Data'!M2641-Calculations!J$1","v":0},{"$f":"'Absorbance Data'!N2641-Calculations!K$1","v":0},{"$f":"'Absorbance Data'!O2641-Calculations!L$1","v":0},{"$f":"'Absorbance Data'!P2641-Calculations!M$1","v":0},{"$f":"'Absorbance Data'!Q2641-Calculations!N$1","v":0},{"$f":"'Absorbance Data'!R2641-Calculations!O$1","v":0},{"$f":"'Absorbance Data'!S2641-Calculations!P$1","v":0},{"$f":"'Absorbance Data'!T2641-Calculations!Q$1","v":0},{"$f":"'Absorbance Data'!U2641-Calculations!R$1","v":0},{"$f":"'Absorbance Data'!V2641-Calculations!S$1","v":0},{"$f":"'Absorbance Data'!W2641-Calculations!T$1","v":0},{"$f":"'Absorbance Data'!X2641-Calculations!U$1","v":0},{"$f":"'Absorbance Data'!Y2641-Calculations!V$1","v":0},{"$f":"'Absorbance Data'!Z2641-Calculations!W$1","v":0}]
[{"$f":"'Absorbance Data'!D2642","v":394.1259765625},{"$f":"'Absorbance Data'!E2642-Calculations!B$1","v":0},{"$f":"'Absorbance Data'!F2642-Calculations!C$1","v":0},{"$f":"'Absorbance Data'!G2642-Calculations!D$1","v":0},{"$f":"'Absorbance Data'!H2642-Calculations!E$1","v":0},{"$f":"'Absorbance Data'!I2642-Calculations!F$1","v":0},{"$f":"'Absorbance Data'!J2642-Calculations!G$1","v":0},{"$f":"'Absorbance Data'!K2642-Calculations!H$1","v":0},{"$f":"'Absorbance Data'!L2642-Calculations!I$1","v":0},{"$f":"'Absorbance Data'!M2642-Calculations!J$1","v":0},{"$f":"'Absorbance Data'!N2642-Calculations!K$1","v":0},{"$f":"'Absorbance Data'!O2642-Calculations!L$1","v":0},{"$f":"'Absorbance Data'!P2642-Calculations!M$1","v":0},{"$f":"'Absorbance Data'!Q2642-Calculations!N$1","v":0},{"$f":"'Absorbance Data'!R2642-Calculations!O$1","v":0},{"$f":"'Absorbance Data'!S2642-Calculations!P$1","v":0},{"$f":"'Absorbance Data'!T2642-Calculations!Q$1","v":0},{"$f":"'Absorbance Data'!U2642-Calculations!R$1","v":0},{"$f":"'Absorbance Data'!V2642-Calculations!S$1","v":0},{"$f":"'Absorbance Data'!W2642-Calculations!T$1","v":0},{"$f":"'Absorbance Data'!X2642-Calculations!U$1","v":0},{"$f":"'Absorbance Data'!Y2642-Calculations!V$1","v":0},{"$f":"'Absorbance Data'!Z2642-Calculations!W$1","v":0}]
[{"$f":"'Absorbance Data'!D2643","v":394.46917724609375},{"$f":"'Absorbance Data'!E2643-Calculations!B$1","v":0},{"$f":"'Absorbance Data'!F2643-Calculations!C$1","v":0},{"$f":"'Absorbance Data'!G2643-Calculations!D$1","v":0},{"$f":"'Absorbance Data'!H2643-Calculations!E$1","v":0},{"$f":"'Absorbance Data'!I2643-Calculations!F$1","v":0},{"$f":"'Absorbance Data'!J2643-Calculations!G$1","v":0},{"$f":"'Absorbance Data'!K2643-Calculations!H$1","v":0},{"$f":"'Absorbance Data'!L2643-Calculations!I$1","v":0},{"$f":"'Absorbance Data'!M2643-Calculations!J$1","v":0},{"$f":"'Absorbance Data'!N2643-Calculations!K$1","v":0},{"$f":"'Absorbance Data'!O2643-Calculations!L$1","v":0},{"$f":"'Absorbance Data'!P2643-Calculations!M$1","v":0},{"$f":"'Absorbance Data'!Q2643-Calculations!N$1","v":0},{"$f":"'Absorbance Data'!R2643-Calculations!O$1","v":0},{"$f":"'Absorbance Data'!S2643-Calculations!P$1","v":0},{"$f":"'Absorbance Data'!T2643-Calculations!Q$1","v":0},{"$f":"'Absorbance Data'!U2643-Calculations!R$1","v":0},{"$f":"'Absorbance Data'!V2643-Calculations!S$1","v":0},{"$f":"'Absorbance Data'!W2643-Calculations!T$1","v":0},{"$f":"'Absorbance Data'!X2643-Calculations!U$1","v":0},{"$f":"'Absorbance Data'!Y2643-Calculations!V$1","v":0},{"$f":"'Absorbance Data'!Z2643-Calculations!W$1","v":0}]
[{"$f":"'Absorbance Data'!D2644","v":394.81234741210938},{"$f":"'Absorbance Data'!E2644-Calculations!B$1","v":0},{"$f":"'Absorbance Data'!F2644-Calculations!C$1","v":0},{"$f":"'Absorbance Data'!G2644-Calculations!D$1","v":0},{"$f":"'Absorbance Data'!H2644-Calculations!E$1","v":0},{"$f":"'Absorbance Data'!I2644-Calculations!F$1","v":0},{"$f":"'Absorbance Data'!J2644-Calculations!G$1","v":0},{"$f":"'Absorbance Data'!K2644-Calculations!H$1","v":0},{"$f":"'Absorbance Data'!L2644-Calculations!I$1","v":0},{"$f":"'Absorbance Data'!M2644-Calculations!J$1","v":0},{"$f":"'Absorbance Data'!N2644-Calculations!K$1","v":0},{"$f":"'Absorbance Data'!O2644-Calculations!L$1","v":0},{"$f":"'Absorbance Data'!P2644-Calculations!M$1","v":0},{"$f":"'Absorbance Data'!Q2644-Calculations!N$1","v":0},{"$f":"'Absorbance Data'!R2644-Calculations!O$1","v":0},{"$f":"'Absorbance Data'!S2644-Calculations!P$1","v":0},{"$f":"'Absorbance Data'!T2644-Calculations!Q$1","v":0},{"$f":"'Absorbance Data'!U2644-Calculations!R$1","v":0},{"$f":"'Absorbance Data'!V2644-Calculations!S$1","v":0},{"$f":"'Absorbance Data'!W2644-Calculations!T$1","v":0},{"$f":"'Absorbance Data'!X2644-Calculations!U$1","v":0},{"$f":"'Absorbance Data'!Y2644-Calculations!V$1","v":0},{"$f":"'Absorbance Data'!Z2644-Calculations!W$1","v":0}]
[{"$f":"'Absorbance Data'!D2645","v":395.15545654296875},{"$f":"'Absorbance Data'!E2645-Calculations!B$1","v":0},{"$f":"'Absorbance Data'!F2645-Calculations!C$1","v":0},{"$f":"'Absorbance Data'!G2645-Calculations!D$1","v":0},{"$f":"'Absorbance Data'!H2645-Calculations!E$1","v":0},{"$f":"'Absorbance Data'!I2645-Calculations!F$1","v":0},{"$f":"'Absorbance Data'!J2645-Calculations!G$1","v":0},{"$f":"'Absorbance Data'!K2645-Calculations!H$1","v":0},{"$f":"'Absorbance Data'!L2645-Calculations!I$1","v":0},{"$f":"'Absorbance Data'!M2645-Calculations!J$1","v":0},{"$f":"'Absorbance Data'!N2645-Calculations!K$1","v":0},{"$f":"'Absorbance Data'!O2645-Calculations!L$1","v":0},{"$f":"'Absorbance Data'!P2645-Calculations!M$1","v":0},{"$f":"'Absorbance Data'!Q2645-Calculations!N$1","v":0},{"$f":"'Absorbance Data'!R2645-Calculations!O$1","v":0},{"$f":"'Absorbance Data'!S2645-Calculations!P$1","v":0},{"$f":"'Absorbance Data'!T2645-Calculations!Q$1","v":0},{"$f":"'Absorbance Data'!U2645-Calculations!R$1","v":0},{"$f":"'Absorbance Data'!V2645-Calculations!S$1","v":0},{"$f":"'Absorbance Data'!W2645-Calculations!T$1","v":0},{"$f":"'Absorbance Data'!X2645-Calculations!U$1","v":0},{"$f":"'Absorbance Data'!Y2645-Calculations!V$1","v":0},{"$f":"'Absorbance Data'!Z2645-Calculations!W$1","v":0}]
[{"$f":"'Absorbance Data'!D2646","v":395.49859619140625},{"$f":"'Absorbance Data'!E2646-Calculations!B$1","v":0},{"$f":"'Absorbance Data'!F2646-Calculations!C$1","v":0},{"$f":"'Absorbance Data'!G2646-Calculations!D$1","v":0},{"$f":"'Absorbance Data'!H2646-Calculations!E$1","v":0},{"$f":"'Absorbance Data'!I2646-Calculations!F$1","v":0},{"$f":"'Absorbance Data'!J2646-Calculations!G$1","v":0},{"$f":"'Absorbance Data'!K2646-Calculations!H$1","v":0},{"$f":"'Absorbance Data'!L2646-Calculations!I$1","v":0},{"$f":"'Absorbance Data'!M2646-Calculations!J$1","v":0},{"$f":"'Absorbance Data'!N2646-Calculations!K$1","v":0},{"$f":"'Absorbance Data'!O2646-Calculations!L$1","v":0},{"$f":"'Absorbance Data'!P2646-Calculations!M$1","v":0},{"$f":"'Absorbance Data'!Q2646-Calculations!N$1","v":0},{"$f":"'Absorbance Data'!R2646-Calculations!O$1","v":0},{"$f":"'Absorbance Data'!S2646-Calculations!P$1","v":0},{"$f":"'Absorbance Data'!T2646-Calculations!Q$1","v":0},{"$f":"'Absorbance Data'!U2646-Calculations!R$1","v":0},{"$f":"'Absorbance Data'!V2646-Calculations!S$1","v":0},{"$f":"'Absorbance Data'!W2646-Calculations!T$1","v":0},{"$f":"'Absorbance Data'!X2646-Calculations!U$1","v":0},{"$f":"'Absorbance Data'!Y2646-Calculations!V$1","v":0},{"$f":"'Absorbance Data'!Z2646-Calculations!W$1","v":0}]
[{"$f":"'Absorbance Data'!D2647","v":395.84164428710938},{"$f":"'Absorbance Data'!E2647-Calculations!B$1","v":0},{"$f":"'Absorbance Data'!F2647-Calculations!C$1","v":0},{"$f":"'Absorbance Data'!G2647-Calculations!D$1","v":0},{"$f":"'Absorbance Data'!H2647-Calculations!E$1","v":0},{"$f":"'Absorbance Data'!I2647-Calculations!F$1","v":0},{"$f":"'Absorbance Data'!J2647-Calculations!G$1","v":0},{"$f":"'Absorbance Data'!K2647-Calculations!H$1","v":0},{"$f":"'Absorbance Data'!L2647-Calculations!I$1","v":0},{"$f":"'Absorbance Data'!M2647-Calculations!J$1","v":0},{"$f":"'Absorbance Data'!N2647-Calculations!K$1","v":0},{"$f":"'Absorbance Data'!O2647-Calculations!L$1","v":0},{"$f":"'Absorbance Data'!P2647-Calculations!M$1","v":0},{"$f":"'Absorbance Data'!Q2647-Calculations!N$1","v":0},{"$f":"'Absorbance Data'!R2647-Calculations!O$1","v":0},{"$f":"'Absorbance Data'!S2647-Calculations!P$1","v":0},{"$f":"'Absorbance Data'!T2647-Calculations!Q$1","v":0},{"$f":"'Absorbance Data'!U2647-Calculations!R$1","v":0},{"$f":"'Absorbance Data'!V2647-Calculations!S$1","v":0},{"$f":"'Absorbance Data'!W2647-Calculations!T$1","v":0},{"$f":"'Absorbance Data'!X2647-Calculations!U$1","v":0},{"$f":"'Absorbance Data'!Y2647-Calculations!V$1","v":0},{"$f":"'Absorbance Data'!Z2647-Calculations!W$1","v":0}]
[{"$f":"'Absorbance Data'!D2648","v":396.18472290039062},{"$f":"'Absorbance Data'!E2648-Calculations!B$1","v":0},{"$f":"'Absorbance Data'!F2648-Calculations!C$1","v":0},{"$f":"'Absorbance Data'!G2648-Calculations!D$1","v":0},{"$f":"'Absorbance Data'!H2648-Calculations!E$1","v":0},{"$f":"'Absorbance Data'!I2648-Calculations!F$1","v":0},{"$f":"'Absorbance Data'!J2648-Calculations!G$1","v":0},{"$f":"'Absorbance Data'!K2648-Calculations!H$1","v":0},{"$f":"'Absorbance Data'!L2648-Calculations!I$1","v":0},{"$f":"'Absorbance Data'!M2648-Calculations!J$1","v":0},{"$f":"'Absorbance Data'!N2648-Calculations!K$1","v":0},{"$f":"'Absorbance Data'!O2648-Calculations!L$1","v":0},{"$f":"'Absorbance Data'!P2648-Calculations!M$1","v":0},{"$f":"'Absorbance Data'!Q2648-Calculations!N$1","v":0},{"$f":"'Absorbance Data'!R2648-Calculations!O$1","v":0},{"$f":"'Absorbance Data'!S2648-Calculations!P$1","v":0},{"$f":"'Absorbance Data'!T2648-Calculations!Q$1","v":0},{"$f":"'Absorbance Data'!U2648-Calculations!R$1","v":0},{"$f":"'Absorbance Data'!V2648-Calculations!S$1","v":0},{"$f":"'Absorbance Data'!W2648-Calculations!T$1","v":0},{"$f":"'Absorbance Data'!X2648-Calculations!U$1","v":0},{"$f":"'Absorbance Data'!Y2648-Calculations!V$1","v":0},{"$f":"'Absorbance Data'!Z2648-Calculations!W$1","v":0}]
[{"$f":"'Absorbance Data'!D2649","v":396.52767944335938},{"$f":"'Absorbance Data'!E2649-Calculations!B$1","v":0},{"$f":"'Absorbance Data'!F2649-Calculations!C$1","v":0},{"$f":"'Absorbance Data'!G2649-Calculations!D$1","v":0},{"$f":"'Absorbance Data'!H2649-Calculations!E$1","v":0},{"$f":"'Absorbance Data'!I2649-Calculations!F$1","v":0},{"$f":"'Absorbance Data'!J2649-Calculations!G$1","v":0},{"$f":"'Absorbance Data'!K2649-Calculations!H$1","v":0},{"$f":"'Absorbance Data'!L2649-Calculations!I$1","v":0},{"$f":"'Absorbance Data'!M2649-Calculations!J$1","v":0},{"$f":"'Absorbance Data'!N2649-Calculations!K$1","v":0},{"$f":"'Absorbance Data'!O2649-Calculations!L$1","v":0},{"$f":"'Absorbance Data'!P2649-Calculations!M$1","v":0},{"$f":"'Absorbance Data'!Q2649-Calculations!N$1","v":0},{"$f":"'Absorbance Data'!R2649-Calculations!O$1","v":0},{"$f":"'Absorbance Data'!S2649-Calculations!P$1","v":0},{"$f":"'Absorbance Data'!T2649-Calculations!Q$1","v":0},{"$f":"'Absorbance Data'!U2649-Calculations!R$1","v":0},{"$f":"'Absorbance Data'!V2649-Calculations!S$1","v":0},{"$f":"'Absorbance Data'!W2649-Calculations!T$1","v":0},{"$f":"'Absorbance Data'!X2649-Calculations!U$1","v":0},{"$f":"'Absorbance Data'!Y2649-Calculations!V$1","v":0},{"$f":"'Absorbance Data'!Z2649-Calculations!W$1","v":0}]
[{"$f":"'Absorbance Data'!D2650","v":396.87069702148438},{"$f":"'Absorbance Data'!E2650-Calculations!B$1","v":0},{"$f":"'Absorbance Data'!F2650-Calculations!C$1","v":0},{"$f":"'Absorbance Data'!G2650-Calculations!D$1","v":0},{"$f":"'Absorbance Data'!H2650-Calculations!E$1","v":0},{"$f":"'Absorbance Data'!I2650-Calculations!F$1","v":0},{"$f":"'Absorbance Data'!J2650-Calculations!G$1","v":0},{"$f":"'Absorbance Data'!K2650-Calculations!H$1","v":0},{"$f":"'Absorbance Data'!L2650-Calculations!I$1","v":0},{"$f":"'Absorbance Data'!M2650-Calculations!J$1","v":0},{"$f":"'Absorbance Data'!N2650-Calculations!K$1","v":0},{"$f":"'Absorbance Data'!O2650-Calculations!L$1","v":0},{"$f":"'Absorbance Data'!P2650-Calculations!M$1","v":0},{"$f":"'Absorbance Data'!Q2650-Calculations!N$1","v":0},{"$f":"'Absorbance Data'!R2650-Calculations!O$1","v":0},{"$f":"'Absorbance Data'!S2650-Calculations!P$1","v":0},{"$f":"'Absorbance Data'!T2650-Calculations!Q$1","v":0},{"$f":"'Absorbance Data'!U2650-Calculations!R$1","v":0},{"$f":"'Absorbance Data'!V2650-Calculations!S$1","v":0},{"$f":"'Absorbance Data'!W2650-Calculations!T$1","v":0},{"$f":"'Absorbance Data'!X2650-Calculations!U$1","v":0},{"$f":"'Absorbance Data'!Y2650-Calculations!V$1","v":0},{"$f":"'Absorbance Data'!Z2650-Calculations!W$1","v":0}]
[{"$f":"'Absorbance Data'!D2651","v":397.213623046875},{"$f":"'Absorbance Data'!E2651-Calculations!B$1","v":0},{"$f":"'Absorbance Data'!F2651-Calculations!C$1","v":0},{"$f":"'Absorbance Data'!G2651-Calculations!D$1","v":0},{"$f":"'Absorbance Data'!H2651-Calculations!E$1","v":0},{"$f":"'Absorbance Data'!I2651-Calculations!F$1","v":0},{"$f":"'Absorbance Data'!J2651-Calculations!G$1","v":0},{"$f":"'Absorbance Data'!K2651-Calculations!H$1","v":0},{"$f":"'Absorbance Data'!L2651-Calculations!I$1","v":0},{"$f":"'Absorbance Data'!M2651-Calculations!J$1","v":0},{"$f":"'Absorbance Data'!N2651-Calculations!K$1","v":0},{"$f":"'Absorbance Data'!O2651-Calculations!L$1","v":0},{"$f":"'Absorbance Data'!P2651-Calculations!M$1","v":0},{"$f":"'Absorbance Data'!Q2651-Calculations!N$1","v":0},{"$f":"'Absorbance Data'!R2651-Calculations!O$1","v":0},{"$f":"'Absorbance Data'!S2651-Calculations!P$1","v":0},{"$f":"'Absorbance Data'!T2651-Calculations!Q$1","v":0},{"$f":"'Absorbance Data'!U2651-Calculations!R$1","v":0},{"$f":"'Absorbance Data'!V2651-Calculations!S$1","v":0},{"$f":"'Absorbance Data'!W2651-Calculations!T$1","v":0},{"$f":"'Absorbance Data'!X2651-Calculations!U$1","v":0},{"$f":"'Absorbance Data'!Y2651-Calculations!V$1","v":0},{"$f":"'Absorbance Data'!Z2651-Calculations!W$1","v":0}]
[{"$f":"'Absorbance Data'!D2652","v":397.55654907226562},{"$f":"'Absorbance Data'!E2652-Calculations!B$1","v":0},{"$f":"'Absorbance Data'!F2652-Calculations!C$1","v":0},{"$f":"'Absorbance Data'!G2652-Calculations!D$1","v":0},{"$f":"'Absorbance Data'!H2652-Calculations!E$1","v":0},{"$f":"'Absorbance Data'!I2652-Calculations!F$1","v":0},{"$f":"'Absorbance Data'!J2652-Calculations!G$1","v":0},{"$f":"'Absorbance Data'!K2652-Calculations!H$1","v":0},{"$f":"'Absorbance Data'!L2652-Calculations!I$1","v":0},{"$f":"'Absorbance Data'!M2652-Calculations!J$1","v":0},{"$f":"'Absorbance Data'!N2652-Calculations!K$1","v":0},{"$f":"'Absorbance Data'!O2652-Calculations!L$1","v":0},{"$f":"'Absorbance Data'!P2652-Calculations!M$1","v":0},{"$f":"'Absorbance Data'!Q2652-Calculations!N$1","v":0},{"$f":"'Absorbance Data'!R2652-Calculations!O$1","v":0},{"$f":"'Absorbance Data'!S2652-Calculations!P$1","v":0},{"$f":"'Absorbance Data'!T2652-Calculations!Q$1","v":0},{"$f":"'Absorbance Data'!U2652-Calculations!R$1","v":0},{"$f":"'Absorbance Data'!V2652-Calculations!S$1","v":0},{"$f":"'Absorbance Data'!W2652-Calculations!T$1","v":0},{"$f":"'Absorbance Data'!X2652-Calculations!U$1","v":0},{"$f":"'Absorbance Data'!Y2652-Calculations!V$1","v":0},{"$f":"'Absorbance Data'!Z2652-Calculations!W$1","v":0}]
[{"$f":"'Absorbance Data'!D2653","v":397.89938354492188},{"$f":"'Absorbance Data'!E2653-Calculations!B$1","v":0},{"$f":"'Absorbance Data'!F2653-Calculations!C$1","v":0},{"$f":"'Absorbance Data'!G2653-Calculations!D$1","v":0},{"$f":"'Absorbance Data'!H2653-Calculations!E$1","v":0},{"$f":"'Absorbance Data'!I2653-Calculations!F$1","v":0},{"$f":"'Absorbance Data'!J2653-Calculations!G$1","v":0},{"$f":"'Absorbance Data'!K2653-Calculations!H$1","v":0},{"$f":"'Absorbance Data'!L2653-Calculations!I$1","v":0},{"$f":"'Absorbance Data'!M2653-Calculations!J$1","v":0},{"$f":"'Absorbance Data'!N2653-Calculations!K$1","v":0},{"$f":"'Absorbance Data'!O2653-Calculations!L$1","v":0},{"$f":"'Absorbance Data'!P2653-Calculations!M$1","v":0},{"$f":"'Absorbance Data'!Q2653-Calculations!N$1","v":0},{"$f":"'Absorbance Data'!R2653-Calculations!O$1","v":0},{"$f":"'Absorbance Data'!S2653-Calculations!P$1","v":0},{"$f":"'Absorbance Data'!T2653-Calculations!Q$1","v":0},{"$f":"'Absorbance Data'!U2653-Calculations!R$1","v":0},{"$f":"'Absorbance Data'!V2653-Calculations!S$1","v":0},{"$f":"'Absorbance Data'!W2653-Calculations!T$1","v":0},{"$f":"'Absorbance Data'!X2653-Calculations!U$1","v":0},{"$f":"'Absorbance Data'!Y2653-Calculations!V$1","v":0},{"$f":"'Absorbance Data'!Z2653-Calculations!W$1","v":0}]
[{"$f":"'Absorbance Data'!D2654","v":398.24224853515625},{"$f":"'Absorbance Data'!E2654-Calculations!B$1","v":0},{"$f":"'Absorbance Data'!F2654-Calculations!C$1","v":0},{"$f":"'Absorbance Data'!G2654-Calculations!D$1","v":0},{"$f":"'Absorbance Data'!H2654-Calculations!E$1","v":0},{"$f":"'Absorbance Data'!I2654-Calculations!F$1","v":0},{"$f":"'Absorbance Data'!J2654-Calculations!G$1","v":0},{"$f":"'Absorbance Data'!K2654-Calculations!H$1","v":0},{"$f":"'Absorbance Data'!L2654-Calculations!I$1","v":0},{"$f":"'Absorbance Data'!M2654-Calculations!J$1","v":0},{"$f":"'Absorbance Data'!N2654-Calculations!K$1","v":0},{"$f":"'Absorbance Data'!O2654-Calculations!L$1","v":0},{"$f":"'Absorbance Data'!P2654-Calculations!M$1","v":0},{"$f":"'Absorbance Data'!Q2654-Calculations!N$1","v":0},{"$f":"'Absorbance Data'!R2654-Calculations!O$1","v":0},{"$f":"'Absorbance Data'!S2654-Calculations!P$1","v":0},{"$f":"'Absorbance Data'!T2654-Calculations!Q$1","v":0},{"$f":"'Absorbance Data'!U2654-Calculations!R$1","v":0},{"$f":"'Absorbance Data'!V2654-Calculations!S$1","v":0},{"$f":"'Absorbance Data'!W2654-Calculations!T$1","v":0},{"$f":"'Absorbance Data'!X2654-Calculations!U$1","v":0},{"$f":"'Absorbance Data'!Y2654-Calculations!V$1","v":0},{"$f":"'Absorbance Data'!Z2654-Calculations!W$1","v":0}]
[{"$f":"'Absorbance Data'!D2655","v":398.58505249023438},{"$f":"'Absorbance Data'!E2655-Calculations!B$1","v":0},{"$f":"'Absorbance Data'!F2655-Calculations!C$1","v":0},{"$f":"'Absorbance Data'!G2655-Calculations!D$1","v":0},{"$f":"'Absorbance Data'!H2655-Calculations!E$1","v":0},{"$f":"'Absorbance Data'!I2655-Calculations!F$1","v":0},{"$f":"'Absorbance Data'!J2655-Calculations!G$1","v":0},{"$f":"'Absorbance Data'!K2655-Calculations!H$1","v":0},{"$f":"'Absorbance Data'!L2655-Calculations!I$1","v":0},{"$f":"'Absorbance Data'!M2655-Calculations!J$1","v":0},{"$f":"'Absorbance Data'!N2655-Calculations!K$1","v":0},{"$f":"'Absorbance Data'!O2655-Calculations!L$1","v":0},{"$f":"'Absorbance Data'!P2655-Calculations!M$1","v":0},{"$f":"'Absorbance Data'!Q2655-Calculations!N$1","v":0},{"$f":"'Absorbance Data'!R2655-Calculations!O$1","v":0},{"$f":"'Absorbance Data'!S2655-Calculations!P$1","v":0},{"$f":"'Absorbance Data'!T2655-Calculations!Q$1","v":0},{"$f":"'Absorbance Data'!U2655-Calculations!R$1","v":0},{"$f":"'Absorbance Data'!V2655-Calculations!S$1","v":0},{"$f":"'Absorbance Data'!W2655-Calculations!T$1","v":0},{"$f":"'Absorbance Data'!X2655-Calculations!U$1","v":0},{"$f":"'Absorbance Data'!Y2655-Calculations!V$1","v":0},{"$f":"'Absorbance Data'!Z2655-Calculations!W$1","v":0}]
[{"$f":"'Absorbance Data'!D2656","v":398.92782592773438},{"$f":"'Absorbance Data'!E2656-Calculations!B$1","v":0},{"$f":"'Absorbance Data'!F2656-Calculations!C$1","v":0},{"$f":"'Absorbance Data'!G2656-Calculations!D$1","v":0},{"$f":"'Absorbance Data'!H2656-Calculations!E$1","v":0},{"$f":"'Absorbance Data'!I2656-Calculations!F$1","v":0},{"$f":"'Absorbance Data'!J2656-Calculations!G$1","v":0},{"$f":"'Absorbance Data'!K2656-Calculations!H$1","v":0},{"$f":"'Absorbance Data'!L2656-Calculations!I$1","v":0},{"$f":"'Absorbance Data'!M2656-Calculations!J$1","v":0},{"$f":"'Absorbance Data'!N2656-Calculations!K$1","v":0},{"$f":"'Absorbance Data'!O2656-Calculations!L$1","v":0},{"$f":"'Absorbance Data'!P2656-Calculations!M$1","v":0},{"$f":"'Absorbance Data'!Q2656-Calculations!N$1","v":0},{"$f":"'Absorbance Data'!R2656-Calculations!O$1","v":0},{"$f":"'Absorbance Data'!S2656-Calculations!P$1","v":0},{"$f":"'Absorbance Data'!T2656-Calculations!Q$1","v":0},{"$f":"'Absorbance Data'!U2656-Calculations!R$1","v":0},{"$f":"'Absorbance Data'!V2656-Calculations!S$1","v":0},{"$f":"'Absorbance Data'!W2656-Calculations!T$1","v":0},{"$f":"'Absorbance Data'!X2656-Calculations!U$1","v":0},{"$f":"'Absorbance Data'!Y2656-Calculations!V$1","v":0},{"$f":"'Absorbance Data'!Z2656-Calculations!W$1","v":0}]
[{"$f":"'Absorbance Data'!D2657","v":399.27056884765625},{"$f":"'Absorbance Data'!E2657-Calculations!B$1","v":0},{"$f":"'Absorbance Data'!F2657-Calculations!C$1","v":0},{"$f":"'Absorbance Data'!G2657-Calculations!D$1","v":0},{"$f":"'Absorbance Data'!H2657-Calculations!E$1","v":0},{"$f":"'Absorbance Data'!I2657-Calculations!F$1","v":0},{"$f":"'Absorbance Data'!J2657-Calculations!G$1","v":0},{"$f":"'Absorbance Data'!K2657-Calculations!H$1","v":0},{"$f":"'Absorbance Data'!L2657-Calculations!I$1","v":0},{"$f":"'Absorbance Data'!M2657-Calculations!J$1","v":0},{"$f":"'Absorbance Data'!N2657-Calculations!K$1","v":0},{"$f":"'Absorbance Data'!O2657-Calculations!L$1","v":0},{"$f":"'Absorbance Data'!P2657-Calculations!M$1","v":0},{"$f":"'Absorbance Data'!Q2657-Calculations!N$1","v":0},{"$f":"'Absorbance Data'!R2657-Calculations!O$1","v":0},{"$f":"'Absorbance Data'!S2657-Calculations!P$1","v":0},{"$f":"'Absorbance Data'!T2657-Calculations!Q$1","v":0},{"$f":"'Absorbance Data'!U2657-Calculations!R$1","v":0},{"$f":"'Absorbance Data'!V2657-Calculations!S$1","v":0},{"$f":"'Absorbance Data'!W2657-Calculations!T$1","v":0},{"$f":"'Absorbance Data'!X2657-Calculations!U$1","v":0},{"$f":"'Absorbance Data'!Y2657-Calculations!V$1","v":0},{"$f":"'Absorbance Data'!Z2657-Calculations!W$1","v":0}]
[{"$f":"'Absorbance Data'!D2658","v":399.61328125},{"$f":"'Absorbance Data'!E2658-Calculations!B$1","v":0},{"$f":"'Absorbance Data'!F2658-Calculations!C$1","v":0},{"$f":"'Absorbance Data'!G2658-Calculations!D$1","v":0},{"$f":"'Absorbance Data'!H2658-Calculations!E$1","v":0},{"$f":"'Absorbance Data'!I2658-Calculations!F$1","v":0},{"$f":"'Absorbance Data'!J2658-Calculations!G$1","v":0},{"$f":"'Absorbance Data'!K2658-Calculations!H$1","v":0},{"$f":"'Absorbance Data'!L2658-Calculations!I$1","v":0},{"$f":"'Absorbance Data'!M2658-Calculations!J$1","v":0},{"$f":"'Absorbance Data'!N2658-Calculations!K$1","v":0},{"$f":"'Absorbance Data'!O2658-Calculations!L$1","v":0},{"$f":"'Absorbance Data'!P2658-Calculations!M$1","v":0},{"$f":"'Absorbance Data'!Q2658-Calculations!N$1","v":0},{"$f":"'Absorbance Data'!R2658-Calculations!O$1","v":0},{"$f":"'Absorbance Data'!S2658-Calculations!P$1","v":0},{"$f":"'Absorbance Data'!T2658-Calculations!Q$1","v":0},{"$f":"'Absorbance Data'!U2658-Calculations!R$1","v":0},{"$f":"'Absorbance Data'!V2658-Calculations!S$1","v":0},{"$f":"'Absorbance Data'!W2658-Calculations!T$1","v":0},{"$f":"'Absorbance Data'!X2658-Calculations!U$1","v":0},{"$f":"'Absorbance Data'!Y2658-Calculations!V$1","v":0},{"$f":"'Absorbance Data'!Z2658-Calculations!W$1","v":0}]
[{"$f":"'Absorbance Data'!D2659","v":399.95596313476562},{"$f":"'Absorbance Data'!E2659-Calculations!B$1","v":0},{"$f":"'Absorbance Data'!F2659-Calculations!C$1","v":0},{"$f":"'Absorbance Data'!G2659-Calculations!D$1","v":0},{"$f":"'Absorbance Data'!H2659-Calculations!E$1","v":0},{"$f":"'Absorbance Data'!I2659-Calculations!F$1","v":0},{"$f":"'Absorbance Data'!J2659-Calculations!G$1","v":0},{"$f":"'Absorbance Data'!K2659-Calculations!H$1","v":0},{"$f":"'Absorbance Data'!L2659-Calculations!I$1","v":0},{"$f":"'Absorbance Data'!M2659-Calculations!J$1","v":0},{"$f":"'Absorbance Data'!N2659-Calculations!K$1","v":0},{"$f":"'Absorbance Data'!O2659-Calculations!L$1","v":0},{"$f":"'Absorbance Data'!P2659-Calculations!M$1","v":0},{"$f":"'Absorbance Data'!Q2659-Calculations!N$1","v":0},{"$f":"'Absorbance Data'!R2659-Calculations!O$1","v":0},{"$f":"'Absorbance Data'!S2659-Calculations!P$1","v":0},{"$f":"'Absorbance Data'!T2659-Calculations!Q$1","v":0},{"$f":"'Absorbance Data'!U2659-Calculations!R$1","v":0},{"$f":"'Absorbance Data'!V2659-Calculations!S$1","v":0},{"$f":"'Absorbance Data'!W2659-Calculations!T$1","v":0},{"$f":"'Absorbance Data'!X2659-Calculations!U$1","v":0},{"$f":"'Absorbance Data'!Y2659-Calculations!V$1","v":0},{"$f":"'Absorbance Data'!Z2659-Calculations!W$1","v":0}]
[{"$f":"'Absorbance Data'!D2660","v":400.29861450195312},{"$f":"'Absorbance Data'!E2660-Calculations!B$1","v":0},{"$f":"'Absorbance Data'!F2660-Calculations!C$1","v":0},{"$f":"'Absorbance Data'!G2660-Calculations!D$1","v":0},{"$f":"'Absorbance Data'!H2660-Calculations!E$1","v":0},{"$f":"'Absorbance Data'!I2660-Calculations!F$1","v":0},{"$f":"'Absorbance Data'!J2660-Calculations!G$1","v":0},{"$f":"'Absorbance Data'!K2660-Calculations!H$1","v":0},{"$f":"'Absorbance Data'!L2660-Calculations!I$1","v":0},{"$f":"'Absorbance Data'!M2660-Calculations!J$1","v":0},{"$f":"'Absorbance Data'!N2660-Calculations!K$1","v":0},{"$f":"'Absorbance Data'!O2660-Calculations!L$1","v":0},{"$f":"'Absorbance Data'!P2660-Calculations!M$1","v":0},{"$f":"'Absorbance Data'!Q2660-Calculations!N$1","v":0},{"$f":"'Absorbance Data'!R2660-Calculations!O$1","v":0},{"$f":"'Absorbance Data'!S2660-Calculations!P$1","v":0},{"$f":"'Absorbance Data'!T2660-Calculations!Q$1","v":0},{"$f":"'Absorbance Data'!U2660-Calculations!R$1","v":0},{"$f":"'Absorbance Data'!V2660-Calculations!S$1","v":0},{"$f":"'Absorbance Data'!W2660-Calculations!T$1","v":0},{"$f":"'Absorbance Data'!X2660-Calculations!U$1","v":0},{"$f":"'Absorbance Data'!Y2660-Calculations!V$1","v":0},{"$f":"'Absorbance Data'!Z2660-Calculations!W$1","v":0}]
[{"$f":"'Absorbance Data'!D2661","v":400.6412353515625},{"$f":"'Absorbance Data'!E2661-Calculations!B$1","v":0},{"$f":"'Absorbance Data'!F2661-Calculations!C$1","v":0},{"$f":"'Absorbance Data'!G2661-Calculations!D$1","v":0},{"$f":"'Absorbance Data'!H2661-Calculations!E$1","v":0},{"$f":"'Absorbance Data'!I2661-Calculations!F$1","v":0},{"$f":"'Absorbance Data'!J2661-Calculations!G$1","v":0},{"$f":"'Absorbance Data'!K2661-Calculations!H$1","v":0},{"$f":"'Absorbance Data'!L2661-Calculations!I$1","v":0},{"$f":"'Absorbance Data'!M2661-Calculations!J$1","v":0},{"$f":"'Absorbance Data'!N2661-Calculations!K$1","v":0},{"$f":"'Absorbance Data'!O2661-Calculations!L$1","v":0},{"$f":"'Absorbance Data'!P2661-Calculations!M$1","v":0},{"$f":"'Absorbance Data'!Q2661-Calculations!N$1","v":0},{"$f":"'Absorbance Data'!R2661-Calculations!O$1","v":0},{"$f":"'Absorbance Data'!S2661-Calculations!P$1","v":0},{"$f":"'Absorbance Data'!T2661-Calculations!Q$1","v":0},{"$f":"'Absorbance Data'!U2661-Calculations!R$1","v":0},{"$f":"'Absorbance Data'!V2661-Calculations!S$1","v":0},{"$f":"'Absorbance Data'!W2661-Calculations!T$1","v":0},{"$f":"'Absorbance Data'!X2661-Calculations!U$1","v":0},{"$f":"'Absorbance Data'!Y2661-Calculations!V$1","v":0},{"$f":"'Absorbance Data'!Z2661-Calculations!W$1","v":0}]
[{"$f":"'Absorbance Data'!D2662","v":400.98382568359375},{"$f":"'Absorbance Data'!E2662-Calculations!B$1","v":0},{"$f":"'Absorbance Data'!F2662-Calculations!C$1","v":0},{"$f":"'Absorbance Data'!G2662-Calculations!D$1","v":0},{"$f":"'Absorbance Data'!H2662-Calculations!E$1","v":0},{"$f":"'Absorbance Data'!I2662-Calculations!F$1","v":0},{"$f":"'Absorbance Data'!J2662-Calculations!G$1","v":0},{"$f":"'Absorbance Data'!K2662-Calculations!H$1","v":0},{"$f":"'Absorbance Data'!L2662-Calculations!I$1","v":0},{"$f":"'Absorbance Data'!M2662-Calculations!J$1","v":0},{"$f":"'Absorbance Data'!N2662-Calculations!K$1","v":0},{"$f":"'Absorbance Data'!O2662-Calculations!L$1","v":0},{"$f":"'Absorbance Data'!P2662-Calculations!M$1","v":0},{"$f":"'Absorbance Data'!Q2662-Calculations!N$1","v":0},{"$f":"'Absorbance Data'!R2662-Calculations!O$1","v":0},{"$f":"'Absorbance Data'!S2662-Calculations!P$1","v":0},{"$f":"'Absorbance Data'!T2662-Calculations!Q$1","v":0},{"$f":"'Absorbance Data'!U2662-Calculations!R$1","v":0},{"$f":"'Absorbance Data'!V2662-Calculations!S$1","v":0},{"$f":"'Absorbance Data'!W2662-Calculations!T$1","v":0},{"$f":"'Absorbance Data'!X2662-Calculations!U$1","v":0},{"$f":"'Absorbance Data'!Y2662-Calculations!V$1","v":0},{"$f":"'Absorbance Data'!Z2662-Calculations!W$1","v":0}]
[{"$f":"'Absorbance Data'!D2663","v":401.32635498046875},{"$f":"'Absorbance Data'!E2663-Calculations!B$1","v":0},{"$f":"'Absorbance Data'!F2663-Calculations!C$1","v":0},{"$f":"'Absorbance Data'!G2663-Calculations!D$1","v":0},{"$f":"'Absorbance Data'!H2663-Calculations!E$1","v":0},{"$f":"'Absorbance Data'!I2663-Calculations!F$1","v":0},{"$f":"'Absorbance Data'!J2663-Calculations!G$1","v":0},{"$f":"'Absorbance Data'!K2663-Calculations!H$1","v":0},{"$f":"'Absorbance Data'!L2663-Calculations!I$1","v":0},{"$f":"'Absorbance Data'!M2663-Calculations!J$1","v":0},{"$f":"'Absorbance Data'!N2663-Calculations!K$1","v":0},{"$f":"'Absorbance Data'!O2663-Calculations!L$1","v":0},{"$f":"'Absorbance Data'!P2663-Calculations!M$1","v":0},{"$f":"'Absorbance Data'!Q2663-Calculations!N$1","v":0},{"$f":"'Absorbance Data'!R2663-Calculations!O$1","v":0},{"$f":"'Absorbance Data'!S2663-Calculations!P$1","v":0},{"$f":"'Absorbance Data'!T2663-Calculations!Q$1","v":0},{"$f":"'Absorbance Data'!U2663-Calculations!R$1","v":0},{"$f":"'Absorbance Data'!V2663-Calculations!S$1","v":0},{"$f":"'Absorbance Data'!W2663-Calculations!T$1","v":0},{"$f":"'Absorbance Data'!X2663-Calculations!U$1","v":0},{"$f":"'Absorbance Data'!Y2663-Calculations!V$1","v":0},{"$f":"'Absorbance Data'!Z2663-Calculations!W$1","v":0}]
[{"$f":"'Absorbance Data'!D2664","v":401.66888427734375},{"$f":"'Absorbance Data'!E2664-Calculations!B$1","v":0},{"$f":"'Absorbance Data'!F2664-Calculations!C$1","v":0},{"$f":"'Absorbance Data'!G2664-Calculations!D$1","v":0},{"$f":"'Absorbance Data'!H2664-Calculations!E$1","v":0},{"$f":"'Absorbance Data'!I2664-Calculations!F$1","v":0},{"$f":"'Absorbance Data'!J2664-Calculations!G$1","v":0},{"$f":"'Absorbance Data'!K2664-Calculations!H$1","v":0},{"$f":"'Absorbance Data'!L2664-Calculations!I$1","v":0},{"$f":"'Absorbance Data'!M2664-Calculations!J$1","v":0},{"$f":"'Absorbance Data'!N2664-Calculations!K$1","v":0},{"$f":"'Absorbance Data'!O2664-Calculations!L$1","v":0},{"$f":"'Absorbance Data'!P2664-Calculations!M$1","v":0},{"$f":"'Absorbance Data'!Q2664-Calculations!N$1","v":0},{"$f":"'Absorbance Data'!R2664-Calculations!O$1","v":0},{"$f":"'Absorbance Data'!S2664-Calculations!P$1","v":0},{"$f":"'Absorbance Data'!T2664-Calculations!Q$1","v":0},{"$f":"'Absorbance Data'!U2664-Calculations!R$1","v":0},{"$f":"'Absorbance Data'!V2664-Calculations!S$1","v":0},{"$f":"'Absorbance Data'!W2664-Calculations!T$1","v":0},{"$f":"'Absorbance Data'!X2664-Calculations!U$1","v":0},{"$f":"'Absorbance Data'!Y2664-Calculations!V$1","v":0},{"$f":"'Absorbance Data'!Z2664-Calculations!W$1","v":0}]
[{"$f":"'Absorbance Data'!D2665","v":402.0113525390625},{"$f":"'Absorbance Data'!E2665-Calculations!B$1","v":0},{"$f":"'Absorbance Data'!F2665-Calculations!C$1","v":0},{"$f":"'Absorbance Data'!G2665-Calculations!D$1","v":0},{"$f":"'Absorbance Data'!H2665-Calculations!E$1","v":0},{"$f":"'Absorbance Data'!I2665-Calculations!F$1","v":0},{"$f":"'Absorbance Data'!J2665-Calculations!G$1","v":0},{"$f":"'Absorbance Data'!K2665-Calculations!H$1","v":0},{"$f":"'Absorbance Data'!L2665-Calculations!I$1","v":0},{"$f":"'Absorbance Data'!M2665-Calculations!J$1","v":0},{"$f":"'Absorbance Data'!N2665-Calculations!K$1","v":0},{"$f":"'Absorbance Data'!O2665-Calculations!L$1","v":0},{"$f":"'Absorbance Data'!P2665-Calculations!M$1","v":0},{"$f":"'Absorbance Data'!Q2665-Calculations!N$1","v":0},{"$f":"'Absorbance Data'!R2665-Calculations!O$1","v":0},{"$f":"'Absorbance Data'!S2665-Calculations!P$1","v":0},{"$f":"'Absorbance Data'!T2665-Calculations!Q$1","v":0},{"$f":"'Absorbance Data'!U2665-Calculations!R$1","v":0},{"$f":"'Absorbance Data'!V2665-Calculations!S$1","v":0},{"$f":"'Absorbance Data'!W2665-Calculations!T$1","v":0},{"$f":"'Absorbance Data'!X2665-Calculations!U$1","v":0},{"$f":"'Absorbance Data'!Y2665-Calculations!V$1","v":0},{"$f":"'Absorbance Data'!Z2665-Calculations!W$1","v":0}]
[{"$f":"'Absorbance Data'!D2666","v":402.35379028320312},{"$f":"'Absorbance Data'!E2666-Calculations!B$1","v":0},{"$f":"'Absorbance Data'!F2666-Calculations!C$1","v":0},{"$f":"'Absorbance Data'!G2666-Calculations!D$1","v":0},{"$f":"'Absorbance Data'!H2666-Calculations!E$1","v":0},{"$f":"'Absorbance Data'!I2666-Calculations!F$1","v":0},{"$f":"'Absorbance Data'!J2666-Calculations!G$1","v":0},{"$f":"'Absorbance Data'!K2666-Calculations!H$1","v":0},{"$f":"'Absorbance Data'!L2666-Calculations!I$1","v":0},{"$f":"'Absorbance Data'!M2666-Calculations!J$1","v":0},{"$f":"'Absorbance Data'!N2666-Calculations!K$1","v":0},{"$f":"'Absorbance Data'!O2666-Calculations!L$1","v":0},{"$f":"'Absorbance Data'!P2666-Calculations!M$1","v":0},{"$f":"'Absorbance Data'!Q2666-Calculations!N$1","v":0},{"$f":"'Absorbance Data'!R2666-Calculations!O$1","v":0},{"$f":"'Absorbance Data'!S2666-Calculations!P$1","v":0},{"$f":"'Absorbance Data'!T2666-Calculations!Q$1","v":0},{"$f":"'Absorbance Data'!U2666-Calculations!R$1","v":0},{"$f":"'Absorbance Data'!V2666-Calculations!S$1","v":0},{"$f":"'Absorbance Data'!W2666-Calculations!T$1","v":0},{"$f":"'Absorbance Data'!X2666-Calculations!U$1","v":0},{"$f":"'Absorbance Data'!Y2666-Calculations!V$1","v":0},{"$f":"'Absorbance Data'!Z2666-Calculations!W$1","v":0}]
[{"$f":"'Absorbance Data'!D2667","v":402.69622802734375},{"$f":"'Absorbance Data'!E2667-Calculations!B$1","v":0},{"$f":"'Absorbance Data'!F2667-Calculations!C$1","v":0},{"$f":"'Absorbance Data'!G2667-Calculations!D$1","v":0},{"$f":"'Absorbance Data'!H2667-Calculations!E$1","v":0},{"$f":"'Absorbance Data'!I2667-Calculations!F$1","v":0},{"$f":"'Absorbance Data'!J2667-Calculations!G$1","v":0},{"$f":"'Absorbance Data'!K2667-Calculations!H$1","v":0},{"$f":"'Absorbance Data'!L2667-Calculations!I$1","v":0},{"$f":"'Absorbance Data'!M2667-Calculations!J$1","v":0},{"$f":"'Absorbance Data'!N2667-Calculations!K$1","v":0},{"$f":"'Absorbance Data'!O2667-Calculations!L$1","v":0},{"$f":"'Absorbance Data'!P2667-Calculations!M$1","v":0},{"$f":"'Absorbance Data'!Q2667-Calculations!N$1","v":0},{"$f":"'Absorbance Data'!R2667-Calculations!O$1","v":0},{"$f":"'Absorbance Data'!S2667-Calculations!P$1","v":0},{"$f":"'Absorbance Data'!T2667-Calculations!Q$1","v":0},{"$f":"'Absorbance Data'!U2667-Calculations!R$1","v":0},{"$f":"'Absorbance Data'!V2667-Calculations!S$1","v":0},{"$f":"'Absorbance Data'!W2667-Calculations!T$1","v":0},{"$f":"'Absorbance Data'!X2667-Calculations!U$1","v":0},{"$f":"'Absorbance Data'!Y2667-Calculations!V$1","v":0},{"$f":"'Absorbance Data'!Z2667-Calculations!W$1","v":0}]
[{"$f":"'Absorbance Data'!D2668","v":403.03860473632812},{"$f":"'Absorbance Data'!E2668-Calculations!B$1","v":0},{"$f":"'Absorbance Data'!F2668-Calculations!C$1","v":0},{"$f":"'Absorbance Data'!G2668-Calculations!D$1","v":0},{"$f":"'Absorbance Data'!H2668-Calculations!E$1","v":0},{"$f":"'Absorbance Data'!I2668-Calculations!F$1","v":0},{"$f":"'Absorbance Data'!J2668-Calculations!G$1","v":0},{"$f":"'Absorbance Data'!K2668-Calculations!H$1","v":0},{"$f":"'Absorbance Data'!L2668-Calculations!I$1","v":0},{"$f":"'Absorbance Data'!M2668-Calculations!J$1","v":0},{"$f":"'Absorbance Data'!N2668-Calculations!K$1","v":0},{"$f":"'Absorbance Data'!O2668-Calculations!L$1","v":0},{"$f":"'Absorbance Data'!P2668-Calculations!M$1","v":0},{"$f":"'Absorbance Data'!Q2668-Calculations!N$1","v":0},{"$f":"'Absorbance Data'!R2668-Calculations!O$1","v":0},{"$f":"'Absorbance Data'!S2668-Calculations!P$1","v":0},{"$f":"'Absorbance Data'!T2668-Calculations!Q$1","v":0},{"$f":"'Absorbance Data'!U2668-Calculations!R$1","v":0},{"$f":"'Absorbance Data'!V2668-Calculations!S$1","v":0},{"$f":"'Absorbance Data'!W2668-Calculations!T$1","v":0},{"$f":"'Absorbance Data'!X2668-Calculations!U$1","v":0},{"$f":"'Absorbance Data'!Y2668-Calculations!V$1","v":0},{"$f":"'Absorbance Data'!Z2668-Calculations!W$1","v":0}]
[{"$f":"'Absorbance Data'!D2669","v":403.38095092773438},{"$f":"'Absorbance Data'!E2669-Calculations!B$1","v":0},{"$f":"'Absorbance Data'!F2669-Calculations!C$1","v":0},{"$f":"'Absorbance Data'!G2669-Calculations!D$1","v":0},{"$f":"'Absorbance Data'!H2669-Calculations!E$1","v":0},{"$f":"'Absorbance Data'!I2669-Calculations!F$1","v":0},{"$f":"'Absorbance Data'!J2669-Calculations!G$1","v":0},{"$f":"'Absorbance Data'!K2669-Calculations!H$1","v":0},{"$f":"'Absorbance Data'!L2669-Calculations!I$1","v":0},{"$f":"'Absorbance Data'!M2669-Calculations!J$1","v":0},{"$f":"'Absorbance Data'!N2669-Calculations!K$1","v":0},{"$f":"'Absorbance Data'!O2669-Calculations!L$1","v":0},{"$f":"'Absorbance Data'!P2669-Calculations!M$1","v":0},{"$f":"'Absorbance Data'!Q2669-Calculations!N$1","v":0},{"$f":"'Absorbance Data'!R2669-Calculations!O$1","v":0},{"$f":"'Absorbance Data'!S2669-Calculations!P$1","v":0},{"$f":"'Absorbance Data'!T2669-Calculations!Q$1","v":0},{"$f":"'Absorbance Data'!U2669-Calculations!R$1","v":0},{"$f":"'Absorbance Data'!V2669-Calculations!S$1","v":0},{"$f":"'Absorbance Data'!W2669-Calculations!T$1","v":0},{"$f":"'Absorbance Data'!X2669-Calculations!U$1","v":0},{"$f":"'Absorbance Data'!Y2669-Calculations!V$1","v":0},{"$f":"'Absorbance Data'!Z2669-Calculations!W$1","v":0}]
[{"$f":"'Absorbance Data'!D2670","v":403.7232666015625},{"$f":"'Absorbance Data'!E2670-Calculations!B$1","v":0},{"$f":"'Absorbance Data'!F2670-Calculations!C$1","v":0},{"$f":"'Absorbance Data'!G2670-Calculations!D$1","v":0},{"$f":"'Absorbance Data'!H2670-Calculations!E$1","v":0},{"$f":"'Absorbance Data'!I2670-Calculations!F$1","v":0},{"$f":"'Absorbance Data'!J2670-Calculations!G$1","v":0},{"$f":"'Absorbance Data'!K2670-Calculations!H$1","v":0},{"$f":"'Absorbance Data'!L2670-Calculations!I$1","v":0},{"$f":"'Absorbance Data'!M2670-Calculations!J$1","v":0},{"$f":"'Absorbance Data'!N2670-Calculations!K$1","v":0},{"$f":"'Absorbance Data'!O2670-Calculations!L$1","v":0},{"$f":"'Absorbance Data'!P2670-Calculations!M$1","v":0},{"$f":"'Absorbance Data'!Q2670-Calculations!N$1","v":0},{"$f":"'Absorbance Data'!R2670-Calculations!O$1","v":0},{"$f":"'Absorbance Data'!S2670-Calculations!P$1","v":0},{"$f":"'Absorbance Data'!T2670-Calculations!Q$1","v":0},{"$f":"'Absorbance Data'!U2670-Calculations!R$1","v":0},{"$f":"'Absorbance Data'!V2670-Calculations!S$1","v":0},{"$f":"'Absorbance Data'!W2670-Calculations!T$1","v":0},{"$f":"'Absorbance Data'!X2670-Calculations!U$1","v":0},{"$f":"'Absorbance Data'!Y2670-Calculations!V$1","v":0},{"$f":"'Absorbance Data'!Z2670-Calculations!W$1","v":0}]
[{"$f":"'Absorbance Data'!D2671","v":404.0655517578125},{"$f":"'Absorbance Data'!E2671-Calculations!B$1","v":0},{"$f":"'Absorbance Data'!F2671-Calculations!C$1","v":0},{"$f":"'Absorbance Data'!G2671-Calculations!D$1","v":0},{"$f":"'Absorbance Data'!H2671-Calculations!E$1","v":0},{"$f":"'Absorbance Data'!I2671-Calculations!F$1","v":0},{"$f":"'Absorbance Data'!J2671-Calculations!G$1","v":0},{"$f":"'Absorbance Data'!K2671-Calculations!H$1","v":0},{"$f":"'Absorbance Data'!L2671-Calculations!I$1","v":0},{"$f":"'Absorbance Data'!M2671-Calculations!J$1","v":0},{"$f":"'Absorbance Data'!N2671-Calculations!K$1","v":0},{"$f":"'Absorbance Data'!O2671-Calculations!L$1","v":0},{"$f":"'Absorbance Data'!P2671-Calculations!M$1","v":0},{"$f":"'Absorbance Data'!Q2671-Calculations!N$1","v":0},{"$f":"'Absorbance Data'!R2671-Calculations!O$1","v":0},{"$f":"'Absorbance Data'!S2671-Calculations!P$1","v":0},{"$f":"'Absorbance Data'!T2671-Calculations!Q$1","v":0},{"$f":"'Absorbance Data'!U2671-Calculations!R$1","v":0},{"$f":"'Absorbance Data'!V2671-Calculations!S$1","v":0},{"$f":"'Absorbance Data'!W2671-Calculations!T$1","v":0},{"$f":"'Absorbance Data'!X2671-Calculations!U$1","v":0},{"$f":"'Absorbance Data'!Y2671-Calculations!V$1","v":0},{"$f":"'Absorbance Data'!Z2671-Calculations!W$1","v":0}]
[{"$f":"'Absorbance Data'!D2672","v":404.40777587890625},{"$f":"'Absorbance Data'!E2672-Calculations!B$1","v":0},{"$f":"'Absorbance Data'!F2672-Calculations!C$1","v":0},{"$f":"'Absorbance Data'!G2672-Calculations!D$1","v":0},{"$f":"'Absorbance Data'!H2672-Calculations!E$1","v":0},{"$f":"'Absorbance Data'!I2672-Calculations!F$1","v":0},{"$f":"'Absorbance Data'!J2672-Calculations!G$1","v":0},{"$f":"'Absorbance Data'!K2672-Calculations!H$1","v":0},{"$f":"'Absorbance Data'!L2672-Calculations!I$1","v":0},{"$f":"'Absorbance Data'!M2672-Calculations!J$1","v":0},{"$f":"'Absorbance Data'!N2672-Calculations!K$1","v":0},{"$f":"'Absorbance Data'!O2672-Calculations!L$1","v":0},{"$f":"'Absorbance Data'!P2672-Calculations!M$1","v":0},{"$f":"'Absorbance Data'!Q2672-Calculations!N$1","v":0},{"$f":"'Absorbance Data'!R2672-Calculations!O$1","v":0},{"$f":"'Absorbance Data'!S2672-Calculations!P$1","v":0},{"$f":"'Absorbance Data'!T2672-Calculations!Q$1","v":0},{"$f":"'Absorbance Data'!U2672-Calculations!R$1","v":0},{"$f":"'Absorbance Data'!V2672-Calculations!S$1","v":0},{"$f":"'Absorbance Data'!W2672-Calculations!T$1","v":0},{"$f":"'Absorbance Data'!X2672-Calculations!U$1","v":0},{"$f":"'Absorbance Data'!Y2672-Calculations!V$1","v":0},{"$f":"'Absorbance Data'!Z2672-Calculations!W$1","v":0}]
[{"$f":"'Absorbance Data'!D2673","v":404.75006103515625},{"$f":"'Absorbance Data'!E2673-Calculations!B$1","v":0},{"$f":"'Absorbance Data'!F2673-Calculations!C$1","v":0},{"$f":"'Absorbance Data'!G2673-Calculations!D$1","v":0},{"$f":"'Absorbance Data'!H2673-Calculations!E$1","v":0},{"$f":"'Absorbance Data'!I2673-Calculations!F$1","v":0},{"$f":"'Absorbance Data'!J2673-Calculations!G$1","v":0},{"$f":"'Absorbance Data'!K2673-Calculations!H$1","v":0},{"$f":"'Absorbance Data'!L2673-Calculations!I$1","v":0},{"$f":"'Absorbance Data'!M2673-Calculations!J$1","v":0},{"$f":"'Absorbance Data'!N2673-Calculations!K$1","v":0},{"$f":"'Absorbance Data'!O2673-Calculations!L$1","v":0},{"$f":"'Absorbance Data'!P2673-Calculations!M$1","v":0},{"$f":"'Absorbance Data'!Q2673-Calculations!N$1","v":0},{"$f":"'Absorbance Data'!R2673-Calculations!O$1","v":0},{"$f":"'Absorbance Data'!S2673-Calculations!P$1","v":0},{"$f":"'Absorbance Data'!T2673-Calculations!Q$1","v":0},{"$f":"'Absorbance Data'!U2673-Calculations!R$1","v":0},{"$f":"'Absorbance Data'!V2673-Calculations!S$1","v":0},{"$f":"'Absorbance Data'!W2673-Calculations!T$1","v":0},{"$f":"'Absorbance Data'!X2673-Calculations!U$1","v":0},{"$f":"'Absorbance Data'!Y2673-Calculations!V$1","v":0},{"$f":"'Absorbance Data'!Z2673-Calculations!W$1","v":0}]
[{"$f":"'Absorbance Data'!D2674","v":405.09219360351562},{"$f":"'Absorbance Data'!E2674-Calculations!B$1","v":0},{"$f":"'Absorbance Data'!F2674-Calculations!C$1","v":0},{"$f":"'Absorbance Data'!G2674-Calculations!D$1","v":0},{"$f":"'Absorbance Data'!H2674-Calculations!E$1","v":0},{"$f":"'Absorbance Data'!I2674-Calculations!F$1","v":0},{"$f":"'Absorbance Data'!J2674-Calculations!G$1","v":0},{"$f":"'Absorbance Data'!K2674-Calculations!H$1","v":0},{"$f":"'Absorbance Data'!L2674-Calculations!I$1","v":0},{"$f":"'Absorbance Data'!M2674-Calculations!J$1","v":0},{"$f":"'Absorbance Data'!N2674-Calculations!K$1","v":0},{"$f":"'Absorbance Data'!O2674-Calculations!L$1","v":0},{"$f":"'Absorbance Data'!P2674-Calculations!M$1","v":0},{"$f":"'Absorbance Data'!Q2674-Calculations!N$1","v":0},{"$f":"'Absorbance Data'!R2674-Calculations!O$1","v":0},{"$f":"'Absorbance Data'!S2674-Calculations!P$1","v":0},{"$f":"'Absorbance Data'!T2674-Calculations!Q$1","v":0},{"$f":"'Absorbance Data'!U2674-Calculations!R$1","v":0},{"$f":"'Absorbance Data'!V2674-Calculations!S$1","v":0},{"$f":"'Absorbance Data'!W2674-Calculations!T$1","v":0},{"$f":"'Absorbance Data'!X2674-Calculations!U$1","v":0},{"$f":"'Absorbance Data'!Y2674-Calculations!V$1","v":0},{"$f":"'Absorbance Data'!Z2674-Calculations!W$1","v":0}]
[{"$f":"'Absorbance Data'!D2675","v":405.43435668945312},{"$f":"'Absorbance Data'!E2675-Calculations!B$1","v":0},{"$f":"'Absorbance Data'!F2675-Calculations!C$1","v":0},{"$f":"'Absorbance Data'!G2675-Calculations!D$1","v":0},{"$f":"'Absorbance Data'!H2675-Calculations!E$1","v":0},{"$f":"'Absorbance Data'!I2675-Calculations!F$1","v":0},{"$f":"'Absorbance Data'!J2675-Calculations!G$1","v":0},{"$f":"'Absorbance Data'!K2675-Calculations!H$1","v":0},{"$f":"'Absorbance Data'!L2675-Calculations!I$1","v":0},{"$f":"'Absorbance Data'!M2675-Calculations!J$1","v":0},{"$f":"'Absorbance Data'!N2675-Calculations!K$1","v":0},{"$f":"'Absorbance Data'!O2675-Calculations!L$1","v":0},{"$f":"'Absorbance Data'!P2675-Calculations!M$1","v":0},{"$f":"'Absorbance Data'!Q2675-Calculations!N$1","v":0},{"$f":"'Absorbance Data'!R2675-Calculations!O$1","v":0},{"$f":"'Absorbance Data'!S2675-Calculations!P$1","v":0},{"$f":"'Absorbance Data'!T2675-Calculations!Q$1","v":0},{"$f":"'Absorbance Data'!U2675-Calculations!R$1","v":0},{"$f":"'Absorbance Data'!V2675-Calculations!S$1","v":0},{"$f":"'Absorbance Data'!W2675-Calculations!T$1","v":0},{"$f":"'Absorbance Data'!X2675-Calculations!U$1","v":0},{"$f":"'Absorbance Data'!Y2675-Calculations!V$1","v":0},{"$f":"'Absorbance Data'!Z2675-Calculations!W$1","v":0}]
[{"$f":"'Absorbance Data'!D2676","v":405.77645874023438},{"$f":"'Absorbance Data'!E2676-Calculations!B$1","v":0},{"$f":"'Absorbance Data'!F2676-Calculations!C$1","v":0},{"$f":"'Absorbance Data'!G2676-Calculations!D$1","v":0},{"$f":"'Absorbance Data'!H2676-Calculations!E$1","v":0},{"$f":"'Absorbance Data'!I2676-Calculations!F$1","v":0},{"$f":"'Absorbance Data'!J2676-Calculations!G$1","v":0},{"$f":"'Absorbance Data'!K2676-Calculations!H$1","v":0},{"$f":"'Absorbance Data'!L2676-Calculations!I$1","v":0},{"$f":"'Absorbance Data'!M2676-Calculations!J$1","v":0},{"$f":"'Absorbance Data'!N2676-Calculations!K$1","v":0},{"$f":"'Absorbance Data'!O2676-Calculations!L$1","v":0},{"$f":"'Absorbance Data'!P2676-Calculations!M$1","v":0},{"$f":"'Absorbance Data'!Q2676-Calculations!N$1","v":0},{"$f":"'Absorbance Data'!R2676-Calculations!O$1","v":0},{"$f":"'Absorbance Data'!S2676-Calculations!P$1","v":0},{"$f":"'Absorbance Data'!T2676-Calculations!Q$1","v":0},{"$f":"'Absorbance Data'!U2676-Calculations!R$1","v":0},{"$f":"'Absorbance Data'!V2676-Calculations!S$1","v":0},{"$f":"'Absorbance Data'!W2676-Calculations!T$1","v":0},{"$f":"'Absorbance Data'!X2676-Calculations!U$1","v":0},{"$f":"'Absorbance Data'!Y2676-Calculations!V$1","v":0},{"$f":"'Absorbance Data'!Z2676-Calculations!W$1","v":0}]
[{"$f":"'Absorbance Data'!D2677","v":406.11856079101562},{"$f":"'Absorbance Data'!E2677-Calculations!B$1","v":0},{"$f":"'Absorbance Data'!F2677-Calculations!C$1","v":0},{"$f":"'Absorbance Data'!G2677-Calculations!D$1","v":0},{"$f":"'Absorbance Data'!H2677-Calculations!E$1","v":0},{"$f":"'Absorbance Data'!I2677-Calculations!F$1","v":0},{"$f":"'Absorbance Data'!J2677-Calculations!G$1","v":0},{"$f":"'Absorbance Data'!K2677-Calculations!H$1","v":0},{"$f":"'Absorbance Data'!L2677-Calculations!I$1","v":0},{"$f":"'Absorbance Data'!M2677-Calculations!J$1","v":0},{"$f":"'Absorbance Data'!N2677-Calculations!K$1","v":0},{"$f":"'Absorbance Data'!O2677-Calculations!L$1","v":0},{"$f":"'Absorbance Data'!P2677-Calculations!M$1","v":0},{"$f":"'Absorbance Data'!Q2677-Calculations!N$1","v":0},{"$f":"'Absorbance Data'!R2677-Calculations!O$1","v":0},{"$f":"'Absorbance Data'!S2677-Calculations!P$1","v":0},{"$f":"'Absorbance Data'!T2677-Calculations!Q$1","v":0},{"$f":"'Absorbance Data'!U2677-Calculations!R$1","v":0},{"$f":"'Absorbance Data'!V2677-Calculations!S$1","v":0},{"$f":"'Absorbance Data'!W2677-Calculations!T$1","v":0},{"$f":"'Absorbance Data'!X2677-Calculations!U$1","v":0},{"$f":"'Absorbance Data'!Y2677-Calculations!V$1","v":0},{"$f":"'Absorbance Data'!Z2677-Calculations!W$1","v":0}]
[{"$f":"'Absorbance Data'!D2678","v":406.46060180664062},{"$f":"'Absorbance Data'!E2678-Calculations!B$1","v":0},{"$f":"'Absorbance Data'!F2678-Calculations!C$1","v":0},{"$f":"'Absorbance Data'!G2678-Calculations!D$1","v":0},{"$f":"'Absorbance Data'!H2678-Calculations!E$1","v":0},{"$f":"'Absorbance Data'!I2678-Calculations!F$1","v":0},{"$f":"'Absorbance Data'!J2678-Calculations!G$1","v":0},{"$f":"'Absorbance Data'!K2678-Calculations!H$1","v":0},{"$f":"'Absorbance Data'!L2678-Calculations!I$1","v":0},{"$f":"'Absorbance Data'!M2678-Calculations!J$1","v":0},{"$f":"'Absorbance Data'!N2678-Calculations!K$1","v":0},{"$f":"'Absorbance Data'!O2678-Calculations!L$1","v":0},{"$f":"'Absorbance Data'!P2678-Calculations!M$1","v":0},{"$f":"'Absorbance Data'!Q2678-Calculations!N$1","v":0},{"$f":"'Absorbance Data'!R2678-Calculations!O$1","v":0},{"$f":"'Absorbance Data'!S2678-Calculations!P$1","v":0},{"$f":"'Absorbance Data'!T2678-Calculations!Q$1","v":0},{"$f":"'Absorbance Data'!U2678-Calculations!R$1","v":0},{"$f":"'Absorbance Data'!V2678-Calculations!S$1","v":0},{"$f":"'Absorbance Data'!W2678-Calculations!T$1","v":0},{"$f":"'Absorbance Data'!X2678-Calculations!U$1","v":0},{"$f":"'Absorbance Data'!Y2678-Calculations!V$1","v":0},{"$f":"'Absorbance Data'!Z2678-Calculations!W$1","v":0}]
[{"$f":"'Absorbance Data'!D2679","v":406.80264282226562},{"$f":"'Absorbance Data'!E2679-Calculations!B$1","v":0},{"$f":"'Absorbance Data'!F2679-Calculations!C$1","v":0},{"$f":"'Absorbance Data'!G2679-Calculations!D$1","v":0},{"$f":"'Absorbance Data'!H2679-Calculations!E$1","v":0},{"$f":"'Absorbance Data'!I2679-Calculations!F$1","v":0},{"$f":"'Absorbance Data'!J2679-Calculations!G$1","v":0},{"$f":"'Absorbance Data'!K2679-Calculations!H$1","v":0},{"$f":"'Absorbance Data'!L2679-Calculations!I$1","v":0},{"$f":"'Absorbance Data'!M2679-Calculations!J$1","v":0},{"$f":"'Absorbance Data'!N2679-Calculations!K$1","v":0},{"$f":"'Absorbance Data'!O2679-Calculations!L$1","v":0},{"$f":"'Absorbance Data'!P2679-Calculations!M$1","v":0},{"$f":"'Absorbance Data'!Q2679-Calculations!N$1","v":0},{"$f":"'Absorbance Data'!R2679-Calculations!O$1","v":0},{"$f":"'Absorbance Data'!S2679-Calculations!P$1","v":0},{"$f":"'Absorbance Data'!T2679-Calculations!Q$1","v":0},{"$f":"'Absorbance Data'!U2679-Calculations!R$1","v":0},{"$f":"'Absorbance Data'!V2679-Calculations!S$1","v":0},{"$f":"'Absorbance Data'!W2679-Calculations!T$1","v":0},{"$f":"'Absorbance Data'!X2679-Calculations!U$1","v":0},{"$f":"'Absorbance Data'!Y2679-Calculations!V$1","v":0},{"$f":"'Absorbance Data'!Z2679-Calculations!W$1","v":0}]
[{"$f":"'Absorbance Data'!D2680","v":407.14459228515625},{"$f":"'Absorbance Data'!E2680-Calculations!B$1","v":0},{"$f":"'Absorbance Data'!F2680-Calculations!C$1","v":0},{"$f":"'Absorbance Data'!G2680-Calculations!D$1","v":0},{"$f":"'Absorbance Data'!H2680-Calculations!E$1","v":0},{"$f":"'Absorbance Data'!I2680-Calculations!F$1","v":0},{"$f":"'Absorbance Data'!J2680-Calculations!G$1","v":0},{"$f":"'Absorbance Data'!K2680-Calculations!H$1","v":0},{"$f":"'Absorbance Data'!L2680-Calculations!I$1","v":0},{"$f":"'Absorbance Data'!M2680-Calculations!J$1","v":0},{"$f":"'Absorbance Data'!N2680-Calculations!K$1","v":0},{"$f":"'Absorbance Data'!O2680-Calculations!L$1","v":0},{"$f":"'Absorbance Data'!P2680-Calculations!M$1","v":0},{"$f":"'Absorbance Data'!Q2680-Calculations!N$1","v":0},{"$f":"'Absorbance Data'!R2680-Calculations!O$1","v":0},{"$f":"'Absorbance Data'!S2680-Calculations!P$1","v":0},{"$f":"'Absorbance Data'!T2680-Calculations!Q$1","v":0},{"$f":"'Absorbance Data'!U2680-Calculations!R$1","v":0},{"$f":"'Absorbance Data'!V2680-Calculations!S$1","v":0},{"$f":"'Absorbance Data'!W2680-Calculations!T$1","v":0},{"$f":"'Absorbance Data'!X2680-Calculations!U$1","v":0},{"$f":"'Absorbance Data'!Y2680-Calculations!V$1","v":0},{"$f":"'Absorbance Data'!Z2680-Calculations!W$1","v":0}]
[{"$f":"'Absorbance Data'!D2681","v":407.486572265625},{"$f":"'Absorbance Data'!E2681-Calculations!B$1","v":0},{"$f":"'Absorbance Data'!F2681-Calculations!C$1","v":0},{"$f":"'Absorbance Data'!G2681-Calculations!D$1","v":0},{"$f":"'Absorbance Data'!H2681-Calculations!E$1","v":0},{"$f":"'Absorbance Data'!I2681-Calculations!F$1","v":0},{"$f":"'Absorbance Data'!J2681-Calculations!G$1","v":0},{"$f":"'Absorbance Data'!K2681-Calculations!H$1","v":0},{"$f":"'Absorbance Data'!L2681-Calculations!I$1","v":0},{"$f":"'Absorbance Data'!M2681-Calculations!J$1","v":0},{"$f":"'Absorbance Data'!N2681-Calculations!K$1","v":0},{"$f":"'Absorbance Data'!O2681-Calculations!L$1","v":0},{"$f":"'Absorbance Data'!P2681-Calculations!M$1","v":0},{"$f":"'Absorbance Data'!Q2681-Calculations!N$1","v":0},{"$f":"'Absorbance Data'!R2681-Calculations!O$1","v":0},{"$f":"'Absorbance Data'!S2681-Calculations!P$1","v":0},{"$f":"'Absorbance Data'!T2681-Calculations!Q$1","v":0},{"$f":"'Absorbance Data'!U2681-Calculations!R$1","v":0},{"$f":"'Absorbance Data'!V2681-Calculations!S$1","v":0},{"$f":"'Absorbance Data'!W2681-Calculations!T$1","v":0},{"$f":"'Absorbance Data'!X2681-Calculations!U$1","v":0},{"$f":"'Absorbance Data'!Y2681-Calculations!V$1","v":0},{"$f":"'Absorbance Data'!Z2681-Calculations!W$1","v":0}]
[{"$f":"'Absorbance Data'!D2682","v":407.82846069335938},{"$f":"'Absorbance Data'!E2682-Calculations!B$1","v":0},{"$f":"'Absorbance Data'!F2682-Calculations!C$1","v":0},{"$f":"'Absorbance Data'!G2682-Calculations!D$1","v":0},{"$f":"'Absorbance Data'!H2682-Calculations!E$1","v":0},{"$f":"'Absorbance Data'!I2682-Calculations!F$1","v":0},{"$f":"'Absorbance Data'!J2682-Calculations!G$1","v":0},{"$f":"'Absorbance Data'!K2682-Calculations!H$1","v":0},{"$f":"'Absorbance Data'!L2682-Calculations!I$1","v":0},{"$f":"'Absorbance Data'!M2682-Calculations!J$1","v":0},{"$f":"'Absorbance Data'!N2682-Calculations!K$1","v":0},{"$f":"'Absorbance Data'!O2682-Calculations!L$1","v":0},{"$f":"'Absorbance Data'!P2682-Calculations!M$1","v":0},{"$f":"'Absorbance Data'!Q2682-Calculations!N$1","v":0},{"$f":"'Absorbance Data'!R2682-Calculations!O$1","v":0},{"$f":"'Absorbance Data'!S2682-Calculations!P$1","v":0},{"$f":"'Absorbance Data'!T2682-Calculations!Q$1","v":0},{"$f":"'Absorbance Data'!U2682-Calculations!R$1","v":0},{"$f":"'Absorbance Data'!V2682-Calculations!S$1","v":0},{"$f":"'Absorbance Data'!W2682-Calculations!T$1","v":0},{"$f":"'Absorbance Data'!X2682-Calculations!U$1","v":0},{"$f":"'Absorbance Data'!Y2682-Calculations!V$1","v":0},{"$f":"'Absorbance Data'!Z2682-Calculations!W$1","v":0}]
[{"$f":"'Absorbance Data'!D2683","v":408.17037963867188},{"$f":"'Absorbance Data'!E2683-Calculations!B$1","v":0},{"$f":"'Absorbance Data'!F2683-Calculations!C$1","v":0},{"$f":"'Absorbance Data'!G2683-Calculations!D$1","v":0},{"$f":"'Absorbance Data'!H2683-Calculations!E$1","v":0},{"$f":"'Absorbance Data'!I2683-Calculations!F$1","v":0},{"$f":"'Absorbance Data'!J2683-Calculations!G$1","v":0},{"$f":"'Absorbance Data'!K2683-Calculations!H$1","v":0},{"$f":"'Absorbance Data'!L2683-Calculations!I$1","v":0},{"$f":"'Absorbance Data'!M2683-Calculations!J$1","v":0},{"$f":"'Absorbance Data'!N2683-Calculations!K$1","v":0},{"$f":"'Absorbance Data'!O2683-Calculations!L$1","v":0},{"$f":"'Absorbance Data'!P2683-Calculations!M$1","v":0},{"$f":"'Absorbance Data'!Q2683-Calculations!N$1","v":0},{"$f":"'Absorbance Data'!R2683-Calculations!O$1","v":0},{"$f":"'Absorbance Data'!S2683-Calculations!P$1","v":0},{"$f":"'Absorbance Data'!T2683-Calculations!Q$1","v":0},{"$f":"'Absorbance Data'!U2683-Calculations!R$1","v":0},{"$f":"'Absorbance Data'!V2683-Calculations!S$1","v":0},{"$f":"'Absorbance Data'!W2683-Calculations!T$1","v":0},{"$f":"'Absorbance Data'!X2683-Calculations!U$1","v":0},{"$f":"'Absorbance Data'!Y2683-Calculations!V$1","v":0},{"$f":"'Absorbance Data'!Z2683-Calculations!W$1","v":0}]
[{"$f":"'Absorbance Data'!D2684","v":408.51220703125},{"$f":"'Absorbance Data'!E2684-Calculations!B$1","v":0},{"$f":"'Absorbance Data'!F2684-Calculations!C$1","v":0},{"$f":"'Absorbance Data'!G2684-Calculations!D$1","v":0},{"$f":"'Absorbance Data'!H2684-Calculations!E$1","v":0},{"$f":"'Absorbance Data'!I2684-Calculations!F$1","v":0},{"$f":"'Absorbance Data'!J2684-Calculations!G$1","v":0},{"$f":"'Absorbance Data'!K2684-Calculations!H$1","v":0},{"$f":"'Absorbance Data'!L2684-Calculations!I$1","v":0},{"$f":"'Absorbance Data'!M2684-Calculations!J$1","v":0},{"$f":"'Absorbance Data'!N2684-Calculations!K$1","v":0},{"$f":"'Absorbance Data'!O2684-Calculations!L$1","v":0},{"$f":"'Absorbance Data'!P2684-Calculations!M$1","v":0},{"$f":"'Absorbance Data'!Q2684-Calculations!N$1","v":0},{"$f":"'Absorbance Data'!R2684-Calculations!O$1","v":0},{"$f":"'Absorbance Data'!S2684-Calculations!P$1","v":0},{"$f":"'Absorbance Data'!T2684-Calculations!Q$1","v":0},{"$f":"'Absorbance Data'!U2684-Calculations!R$1","v":0},{"$f":"'Absorbance Data'!V2684-Calculations!S$1","v":0},{"$f":"'Absorbance Data'!W2684-Calculations!T$1","v":0},{"$f":"'Absorbance Data'!X2684-Calculations!U$1","v":0},{"$f":"'Absorbance Data'!Y2684-Calculations!V$1","v":0},{"$f":"'Absorbance Data'!Z2684-Calculations!W$1","v":0}]
[{"$f":"'Absorbance Data'!D2685","v":408.85403442382812},{"$f":"'Absorbance Data'!E2685-Calculations!B$1","v":0},{"$f":"'Absorbance Data'!F2685-Calculations!C$1","v":0},{"$f":"'Absorbance Data'!G2685-Calculations!D$1","v":0},{"$f":"'Absorbance Data'!H2685-Calculations!E$1","v":0},{"$f":"'Absorbance Data'!I2685-Calculations!F$1","v":0},{"$f":"'Absorbance Data'!J2685-Calculations!G$1","v":0},{"$f":"'Absorbance Data'!K2685-Calculations!H$1","v":0},{"$f":"'Absorbance Data'!L2685-Calculations!I$1","v":0},{"$f":"'Absorbance Data'!M2685-Calculations!J$1","v":0},{"$f":"'Absorbance Data'!N2685-Calculations!K$1","v":0},{"$f":"'Absorbance Data'!O2685-Calculations!L$1","v":0},{"$f":"'Absorbance Data'!P2685-Calculations!M$1","v":0},{"$f":"'Absorbance Data'!Q2685-Calculations!N$1","v":0},{"$f":"'Absorbance Data'!R2685-Calculations!O$1","v":0},{"$f":"'Absorbance Data'!S2685-Calculations!P$1","v":0},{"$f":"'Absorbance Data'!T2685-Calculations!Q$1","v":0},{"$f":"'Absorbance Data'!U2685-Calculations!R$1","v":0},{"$f":"'Absorbance Data'!V2685-Calculations!S$1","v":0},{"$f":"'Absorbance Data'!W2685-Calculations!T$1","v":0},{"$f":"'Absorbance Data'!X2685-Calculations!U$1","v":0},{"$f":"'Absorbance Data'!Y2685-Calculations!V$1","v":0},{"$f":"'Absorbance Data'!Z2685-Calculations!W$1","v":0}]
[{"$f":"'Absorbance Data'!D2686","v":409.19580078125},{"$f":"'Absorbance Data'!E2686-Calculations!B$1","v":0},{"$f":"'Absorbance Data'!F2686-Calculations!C$1","v":0},{"$f":"'Absorbance Data'!G2686-Calculations!D$1","v":0},{"$f":"'Absorbance Data'!H2686-Calculations!E$1","v":0},{"$f":"'Absorbance Data'!I2686-Calculations!F$1","v":0},{"$f":"'Absorbance Data'!J2686-Calculations!G$1","v":0},{"$f":"'Absorbance Data'!K2686-Calculations!H$1","v":0},{"$f":"'Absorbance Data'!L2686-Calculations!I$1","v":0},{"$f":"'Absorbance Data'!M2686-Calculations!J$1","v":0},{"$f":"'Absorbance Data'!N2686-Calculations!K$1","v":0},{"$f":"'Absorbance Data'!O2686-Calculations!L$1","v":0},{"$f":"'Absorbance Data'!P2686-Calculations!M$1","v":0},{"$f":"'Absorbance Data'!Q2686-Calculations!N$1","v":0},{"$f":"'Absorbance Data'!R2686-Calculations!O$1","v":0},{"$f":"'Absorbance Data'!S2686-Calculations!P$1","v":0},{"$f":"'Absorbance Data'!T2686-Calculations!Q$1","v":0},{"$f":"'Absorbance Data'!U2686-Calculations!R$1","v":0},{"$f":"'Absorbance Data'!V2686-Calculations!S$1","v":0},{"$f":"'Absorbance Data'!W2686-Calculations!T$1","v":0},{"$f":"'Absorbance Data'!X2686-Calculations!U$1","v":0},{"$f":"'Absorbance Data'!Y2686-Calculations!V$1","v":0},{"$f":"'Absorbance Data'!Z2686-Calculations!W$1","v":0}]
[{"$f":"'Absorbance Data'!D2687","v":409.53759765625},{"$f":"'Absorbance Data'!E2687-Calculations!B$1","v":0},{"$f":"'Absorbance Data'!F2687-Calculations!C$1","v":0},{"$f":"'Absorbance Data'!G2687-Calculations!D$1","v":0},{"$f":"'Absorbance Data'!H2687-Calculations!E$1","v":0},{"$f":"'Absorbance Data'!I2687-Calculations!F$1","v":0},{"$f":"'Absorbance Data'!J2687-Calculations!G$1","v":0},{"$f":"'Absorbance Data'!K2687-Calculations!H$1","v":0},{"$f":"'Absorbance Data'!L2687-Calculations!I$1","v":0},{"$f":"'Absorbance Data'!M2687-Calculations!J$1","v":0},{"$f":"'Absorbance Data'!N2687-Calculations!K$1","v":0},{"$f":"'Absorbance Data'!O2687-Calculations!L$1","v":0},{"$f":"'Absorbance Data'!P2687-Calculations!M$1","v":0},{"$f":"'Absorbance Data'!Q2687-Calculations!N$1","v":0},{"$f":"'Absorbance Data'!R2687-Calculations!O$1","v":0},{"$f":"'Absorbance Data'!S2687-Calculations!P$1","v":0},{"$f":"'Absorbance Data'!T2687-Calculations!Q$1","v":0},{"$f":"'Absorbance Data'!U2687-Calculations!R$1","v":0},{"$f":"'Absorbance Data'!V2687-Calculations!S$1","v":0},{"$f":"'Absorbance Data'!W2687-Calculations!T$1","v":0},{"$f":"'Absorbance Data'!X2687-Calculations!U$1","v":0},{"$f":"'Absorbance Data'!Y2687-Calculations!V$1","v":0},{"$f":"'Absorbance Data'!Z2687-Calculations!W$1","v":0}]
[{"$f":"'Absorbance Data'!D2688","v":409.87930297851562},{"$f":"'Absorbance Data'!E2688-Calculations!B$1","v":0},{"$f":"'Absorbance Data'!F2688-Calculations!C$1","v":0},{"$f":"'Absorbance Data'!G2688-Calculations!D$1","v":0},{"$f":"'Absorbance Data'!H2688-Calculations!E$1","v":0},{"$f":"'Absorbance Data'!I2688-Calculations!F$1","v":0},{"$f":"'Absorbance Data'!J2688-Calculations!G$1","v":0},{"$f":"'Absorbance Data'!K2688-Calculations!H$1","v":0},{"$f":"'Absorbance Data'!L2688-Calculations!I$1","v":0},{"$f":"'Absorbance Data'!M2688-Calculations!J$1","v":0},{"$f":"'Absorbance Data'!N2688-Calculations!K$1","v":0},{"$f":"'Absorbance Data'!O2688-Calculations!L$1","v":0},{"$f":"'Absorbance Data'!P2688-Calculations!M$1","v":0},{"$f":"'Absorbance Data'!Q2688-Calculations!N$1","v":0},{"$f":"'Absorbance Data'!R2688-Calculations!O$1","v":0},{"$f":"'Absorbance Data'!S2688-Calculations!P$1","v":0},{"$f":"'Absorbance Data'!T2688-Calculations!Q$1","v":0},{"$f":"'Absorbance Data'!U2688-Calculations!R$1","v":0},{"$f":"'Absorbance Data'!V2688-Calculations!S$1","v":0},{"$f":"'Absorbance Data'!W2688-Calculations!T$1","v":0},{"$f":"'Absorbance Data'!X2688-Calculations!U$1","v":0},{"$f":"'Absorbance Data'!Y2688-Calculations!V$1","v":0},{"$f":"'Absorbance Data'!Z2688-Calculations!W$1","v":0}]
[{"$f":"'Absorbance Data'!D2689","v":410.22097778320312},{"$f":"'Absorbance Data'!E2689-Calculations!B$1","v":0},{"$f":"'Absorbance Data'!F2689-Calculations!C$1","v":0},{"$f":"'Absorbance Data'!G2689-Calculations!D$1","v":0},{"$f":"'Absorbance Data'!H2689-Calculations!E$1","v":0},{"$f":"'Absorbance Data'!I2689-Calculations!F$1","v":0},{"$f":"'Absorbance Data'!J2689-Calculations!G$1","v":0},{"$f":"'Absorbance Data'!K2689-Calculations!H$1","v":0},{"$f":"'Absorbance Data'!L2689-Calculations!I$1","v":0},{"$f":"'Absorbance Data'!M2689-Calculations!J$1","v":0},{"$f":"'Absorbance Data'!N2689-Calculations!K$1","v":0},{"$f":"'Absorbance Data'!O2689-Calculations!L$1","v":0},{"$f":"'Absorbance Data'!P2689-Calculations!M$1","v":0},{"$f":"'Absorbance Data'!Q2689-Calculations!N$1","v":0},{"$f":"'Absorbance Data'!R2689-Calculations!O$1","v":0},{"$f":"'Absorbance Data'!S2689-Calculations!P$1","v":0},{"$f":"'Absorbance Data'!T2689-Calculations!Q$1","v":0},{"$f":"'Absorbance Data'!U2689-Calculations!R$1","v":0},{"$f":"'Absorbance Data'!V2689-Calculations!S$1","v":0},{"$f":"'Absorbance Data'!W2689-Calculations!T$1","v":0},{"$f":"'Absorbance Data'!X2689-Calculations!U$1","v":0},{"$f":"'Absorbance Data'!Y2689-Calculations!V$1","v":0},{"$f":"'Absorbance Data'!Z2689-Calculations!W$1","v":0}]
[{"$f":"'Absorbance Data'!D2690","v":410.5626220703125},{"$f":"'Absorbance Data'!E2690-Calculations!B$1","v":0},{"$f":"'Absorbance Data'!F2690-Calculations!C$1","v":0},{"$f":"'Absorbance Data'!G2690-Calculations!D$1","v":0},{"$f":"'Absorbance Data'!H2690-Calculations!E$1","v":0},{"$f":"'Absorbance Data'!I2690-Calculations!F$1","v":0},{"$f":"'Absorbance Data'!J2690-Calculations!G$1","v":0},{"$f":"'Absorbance Data'!K2690-Calculations!H$1","v":0},{"$f":"'Absorbance Data'!L2690-Calculations!I$1","v":0},{"$f":"'Absorbance Data'!M2690-Calculations!J$1","v":0},{"$f":"'Absorbance Data'!N2690-Calculations!K$1","v":0},{"$f":"'Absorbance Data'!O2690-Calculations!L$1","v":0},{"$f":"'Absorbance Data'!P2690-Calculations!M$1","v":0},{"$f":"'Absorbance Data'!Q2690-Calculations!N$1","v":0},{"$f":"'Absorbance Data'!R2690-Calculations!O$1","v":0},{"$f":"'Absorbance Data'!S2690-Calculations!P$1","v":0},{"$f":"'Absorbance Data'!T2690-Calculations!Q$1","v":0},{"$f":"'Absorbance Data'!U2690-Calculations!R$1","v":0},{"$f":"'Absorbance Data'!V2690-Calculations!S$1","v":0},{"$f":"'Absorbance Data'!W2690-Calculations!T$1","v":0},{"$f":"'Absorbance Data'!X2690-Calculations!U$1","v":0},{"$f":"'Absorbance Data'!Y2690-Calculations!V$1","v":0},{"$f":"'Absorbance Data'!Z2690-Calculations!W$1","v":0}]
[{"$f":"'Absorbance Data'!D2691","v":410.90426635742188},{"$f":"'Absorbance Data'!E2691-Calculations!B$1","v":0},{"$f":"'Absorbance Data'!F2691-Calculations!C$1","v":0},{"$f":"'Absorbance Data'!G2691-Calculations!D$1","v":0},{"$f":"'Absorbance Data'!H2691-Calculations!E$1","v":0},{"$f":"'Absorbance Data'!I2691-Calculations!F$1","v":0},{"$f":"'Absorbance Data'!J2691-Calculations!G$1","v":0},{"$f":"'Absorbance Data'!K2691-Calculations!H$1","v":0},{"$f":"'Absorbance Data'!L2691-Calculations!I$1","v":0},{"$f":"'Absorbance Data'!M2691-Calculations!J$1","v":0},{"$f":"'Absorbance Data'!N2691-Calculations!K$1","v":0},{"$f":"'Absorbance Data'!O2691-Calculations!L$1","v":0},{"$f":"'Absorbance Data'!P2691-Calculations!M$1","v":0},{"$f":"'Absorbance Data'!Q2691-Calculations!N$1","v":0},{"$f":"'Absorbance Data'!R2691-Calculations!O$1","v":0},{"$f":"'Absorbance Data'!S2691-Calculations!P$1","v":0},{"$f":"'Absorbance Data'!T2691-Calculations!Q$1","v":0},{"$f":"'Absorbance Data'!U2691-Calculations!R$1","v":0},{"$f":"'Absorbance Data'!V2691-Calculations!S$1","v":0},{"$f":"'Absorbance Data'!W2691-Calculations!T$1","v":0},{"$f":"'Absorbance Data'!X2691-Calculations!U$1","v":0},{"$f":"'Absorbance Data'!Y2691-Calculations!V$1","v":0},{"$f":"'Absorbance Data'!Z2691-Calculations!W$1","v":0}]
[{"$f":"'Absorbance Data'!D2692","v":411.24581909179688},{"$f":"'Absorbance Data'!E2692-Calculations!B$1","v":0},{"$f":"'Absorbance Data'!F2692-Calculations!C$1","v":0},{"$f":"'Absorbance Data'!G2692-Calculations!D$1","v":0},{"$f":"'Absorbance Data'!H2692-Calculations!E$1","v":0},{"$f":"'Absorbance Data'!I2692-Calculations!F$1","v":0},{"$f":"'Absorbance Data'!J2692-Calculations!G$1","v":0},{"$f":"'Absorbance Data'!K2692-Calculations!H$1","v":0},{"$f":"'Absorbance Data'!L2692-Calculations!I$1","v":0},{"$f":"'Absorbance Data'!M2692-Calculations!J$1","v":0},{"$f":"'Absorbance Data'!N2692-Calculations!K$1","v":0},{"$f":"'Absorbance Data'!O2692-Calculations!L$1","v":0},{"$f":"'Absorbance Data'!P2692-Calculations!M$1","v":0},{"$f":"'Absorbance Data'!Q2692-Calculations!N$1","v":0},{"$f":"'Absorbance Data'!R2692-Calculations!O$1","v":0},{"$f":"'Absorbance Data'!S2692-Calculations!P$1","v":0},{"$f":"'Absorbance Data'!T2692-Calculations!Q$1","v":0},{"$f":"'Absorbance Data'!U2692-Calculations!R$1","v":0},{"$f":"'Absorbance Data'!V2692-Calculations!S$1","v":0},{"$f":"'Absorbance Data'!W2692-Calculations!T$1","v":0},{"$f":"'Absorbance Data'!X2692-Calculations!U$1","v":0},{"$f":"'Absorbance Data'!Y2692-Calculations!V$1","v":0},{"$f":"'Absorbance Data'!Z2692-Calculations!W$1","v":0}]
[{"$f":"'Absorbance Data'!D2693","v":411.58737182617188},{"$f":"'Absorbance Data'!E2693-Calculations!B$1","v":0},{"$f":"'Absorbance Data'!F2693-Calculations!C$1","v":0},{"$f":"'Absorbance Data'!G2693-Calculations!D$1","v":0},{"$f":"'Absorbance Data'!H2693-Calculations!E$1","v":0},{"$f":"'Absorbance Data'!I2693-Calculations!F$1","v":0},{"$f":"'Absorbance Data'!J2693-Calculations!G$1","v":0},{"$f":"'Absorbance Data'!K2693-Calculations!H$1","v":0},{"$f":"'Absorbance Data'!L2693-Calculations!I$1","v":0},{"$f":"'Absorbance Data'!M2693-Calculations!J$1","v":0},{"$f":"'Absorbance Data'!N2693-Calculations!K$1","v":0},{"$f":"'Absorbance Data'!O2693-Calculations!L$1","v":0},{"$f":"'Absorbance Data'!P2693-Calculations!M$1","v":0},{"$f":"'Absorbance Data'!Q2693-Calculations!N$1","v":0},{"$f":"'Absorbance Data'!R2693-Calculations!O$1","v":0},{"$f":"'Absorbance Data'!S2693-Calculations!P$1","v":0},{"$f":"'Absorbance Data'!T2693-Calculations!Q$1","v":0},{"$f":"'Absorbance Data'!U2693-Calculations!R$1","v":0},{"$f":"'Absorbance Data'!V2693-Calculations!S$1","v":0},{"$f":"'Absorbance Data'!W2693-Calculations!T$1","v":0},{"$f":"'Absorbance Data'!X2693-Calculations!U$1","v":0},{"$f":"'Absorbance Data'!Y2693-Calculations!V$1","v":0},{"$f":"'Absorbance Data'!Z2693-Calculations!W$1","v":0}]
[{"$f":"'Absorbance Data'!D2694","v":411.92889404296875},{"$f":"'Absorbance Data'!E2694-Calculations!B$1","v":0},{"$f":"'Absorbance Data'!F2694-Calculations!C$1","v":0},{"$f":"'Absorbance Data'!G2694-Calculations!D$1","v":0},{"$f":"'Absorbance Data'!H2694-Calculations!E$1","v":0},{"$f":"'Absorbance Data'!I2694-Calculations!F$1","v":0},{"$f":"'Absorbance Data'!J2694-Calculations!G$1","v":0},{"$f":"'Absorbance Data'!K2694-Calculations!H$1","v":0},{"$f":"'Absorbance Data'!L2694-Calculations!I$1","v":0},{"$f":"'Absorbance Data'!M2694-Calculations!J$1","v":0},{"$f":"'Absorbance Data'!N2694-Calculations!K$1","v":0},{"$f":"'Absorbance Data'!O2694-Calculations!L$1","v":0},{"$f":"'Absorbance Data'!P2694-Calculations!M$1","v":0},{"$f":"'Absorbance Data'!Q2694-Calculations!N$1","v":0},{"$f":"'Absorbance Data'!R2694-Calculations!O$1","v":0},{"$f":"'Absorbance Data'!S2694-Calculations!P$1","v":0},{"$f":"'Absorbance Data'!T2694-Calculations!Q$1","v":0},{"$f":"'Absorbance Data'!U2694-Calculations!R$1","v":0},{"$f":"'Absorbance Data'!V2694-Calculations!S$1","v":0},{"$f":"'Absorbance Data'!W2694-Calculations!T$1","v":0},{"$f":"'Absorbance Data'!X2694-Calculations!U$1","v":0},{"$f":"'Absorbance Data'!Y2694-Calculations!V$1","v":0},{"$f":"'Absorbance Data'!Z2694-Calculations!W$1","v":0}]
[{"$f":"'Absorbance Data'!D2695","v":412.27041625976562},{"$f":"'Absorbance Data'!E2695-Calculations!B$1","v":0},{"$f":"'Absorbance Data'!F2695-Calculations!C$1","v":0},{"$f":"'Absorbance Data'!G2695-Calculations!D$1","v":0},{"$f":"'Absorbance Data'!H2695-Calculations!E$1","v":0},{"$f":"'Absorbance Data'!I2695-Calculations!F$1","v":0},{"$f":"'Absorbance Data'!J2695-Calculations!G$1","v":0},{"$f":"'Absorbance Data'!K2695-Calculations!H$1","v":0},{"$f":"'Absorbance Data'!L2695-Calculations!I$1","v":0},{"$f":"'Absorbance Data'!M2695-Calculations!J$1","v":0},{"$f":"'Absorbance Data'!N2695-Calculations!K$1","v":0},{"$f":"'Absorbance Data'!O2695-Calculations!L$1","v":0},{"$f":"'Absorbance Data'!P2695-Calculations!M$1","v":0},{"$f":"'Absorbance Data'!Q2695-Calculations!N$1","v":0},{"$f":"'Absorbance Data'!R2695-Calculations!O$1","v":0},{"$f":"'Absorbance Data'!S2695-Calculations!P$1","v":0},{"$f":"'Absorbance Data'!T2695-Calculations!Q$1","v":0},{"$f":"'Absorbance Data'!U2695-Calculations!R$1","v":0},{"$f":"'Absorbance Data'!V2695-Calculations!S$1","v":0},{"$f":"'Absorbance Data'!W2695-Calculations!T$1","v":0},{"$f":"'Absorbance Data'!X2695-Calculations!U$1","v":0},{"$f":"'Absorbance Data'!Y2695-Calculations!V$1","v":0},{"$f":"'Absorbance Data'!Z2695-Calculations!W$1","v":0}]
[{"$f":"'Absorbance Data'!D2696","v":412.61184692382812},{"$f":"'Absorbance Data'!E2696-Calculations!B$1","v":0},{"$f":"'Absorbance Data'!F2696-Calculations!C$1","v":0},{"$f":"'Absorbance Data'!G2696-Calculations!D$1","v":0},{"$f":"'Absorbance Data'!H2696-Calculations!E$1","v":0},{"$f":"'Absorbance Data'!I2696-Calculations!F$1","v":0},{"$f":"'Absorbance Data'!J2696-Calculations!G$1","v":0},{"$f":"'Absorbance Data'!K2696-Calculations!H$1","v":0},{"$f":"'Absorbance Data'!L2696-Calculations!I$1","v":0},{"$f":"'Absorbance Data'!M2696-Calculations!J$1","v":0},{"$f":"'Absorbance Data'!N2696-Calculations!K$1","v":0},{"$f":"'Absorbance Data'!O2696-Calculations!L$1","v":0},{"$f":"'Absorbance Data'!P2696-Calculations!M$1","v":0},{"$f":"'Absorbance Data'!Q2696-Calculations!N$1","v":0},{"$f":"'Absorbance Data'!R2696-Calculations!O$1","v":0},{"$f":"'Absorbance Data'!S2696-Calculations!P$1","v":0},{"$f":"'Absorbance Data'!T2696-Calculations!Q$1","v":0},{"$f":"'Absorbance Data'!U2696-Calculations!R$1","v":0},{"$f":"'Absorbance Data'!V2696-Calculations!S$1","v":0},{"$f":"'Absorbance Data'!W2696-Calculations!T$1","v":0},{"$f":"'Absorbance Data'!X2696-Calculations!U$1","v":0},{"$f":"'Absorbance Data'!Y2696-Calculations!V$1","v":0},{"$f":"'Absorbance Data'!Z2696-Calculations!W$1","v":0}]
[{"$f":"'Absorbance Data'!D2697","v":412.95327758789062},{"$f":"'Absorbance Data'!E2697-Calculations!B$1","v":0},{"$f":"'Absorbance Data'!F2697-Calculations!C$1","v":0},{"$f":"'Absorbance Data'!G2697-Calculations!D$1","v":0},{"$f":"'Absorbance Data'!H2697-Calculations!E$1","v":0},{"$f":"'Absorbance Data'!I2697-Calculations!F$1","v":0},{"$f":"'Absorbance Data'!J2697-Calculations!G$1","v":0},{"$f":"'Absorbance Data'!K2697-Calculations!H$1","v":0},{"$f":"'Absorbance Data'!L2697-Calculations!I$1","v":0},{"$f":"'Absorbance Data'!M2697-Calculations!J$1","v":0},{"$f":"'Absorbance Data'!N2697-Calculations!K$1","v":0},{"$f":"'Absorbance Data'!O2697-Calculations!L$1","v":0},{"$f":"'Absorbance Data'!P2697-Calculations!M$1","v":0},{"$f":"'Absorbance Data'!Q2697-Calculations!N$1","v":0},{"$f":"'Absorbance Data'!R2697-Calculations!O$1","v":0},{"$f":"'Absorbance Data'!S2697-Calculations!P$1","v":0},{"$f":"'Absorbance Data'!T2697-Calculations!Q$1","v":0},{"$f":"'Absorbance Data'!U2697-Calculations!R$1","v":0},{"$f":"'Absorbance Data'!V2697-Calculations!S$1","v":0},{"$f":"'Absorbance Data'!W2697-Calculations!T$1","v":0},{"$f":"'Absorbance Data'!X2697-Calculations!U$1","v":0},{"$f":"'Absorbance Data'!Y2697-Calculations!V$1","v":0},{"$f":"'Absorbance Data'!Z2697-Calculations!W$1","v":0}]
[{"$f":"'Absorbance Data'!D2698","v":413.29464721679688},{"$f":"'Absorbance Data'!E2698-Calculations!B$1","v":0},{"$f":"'Absorbance Data'!F2698-Calculations!C$1","v":0},{"$f":"'Absorbance Data'!G2698-Calculations!D$1","v":0},{"$f":"'Absorbance Data'!H2698-Calculations!E$1","v":0},{"$f":"'Absorbance Data'!I2698-Calculations!F$1","v":0},{"$f":"'Absorbance Data'!J2698-Calculations!G$1","v":0},{"$f":"'Absorbance Data'!K2698-Calculations!H$1","v":0},{"$f":"'Absorbance Data'!L2698-Calculations!I$1","v":0},{"$f":"'Absorbance Data'!M2698-Calculations!J$1","v":0},{"$f":"'Absorbance Data'!N2698-Calculations!K$1","v":0},{"$f":"'Absorbance Data'!O2698-Calculations!L$1","v":0},{"$f":"'Absorbance Data'!P2698-Calculations!M$1","v":0},{"$f":"'Absorbance Data'!Q2698-Calculations!N$1","v":0},{"$f":"'Absorbance Data'!R2698-Calculations!O$1","v":0},{"$f":"'Absorbance Data'!S2698-Calculations!P$1","v":0},{"$f":"'Absorbance Data'!T2698-Calculations!Q$1","v":0},{"$f":"'Absorbance Data'!U2698-Calculations!R$1","v":0},{"$f":"'Absorbance Data'!V2698-Calculations!S$1","v":0},{"$f":"'Absorbance Data'!W2698-Calculations!T$1","v":0},{"$f":"'Absorbance Data'!X2698-Calculations!U$1","v":0},{"$f":"'Absorbance Data'!Y2698-Calculations!V$1","v":0},{"$f":"'Absorbance Data'!Z2698-Calculations!W$1","v":0}]
[{"$f":"'Absorbance Data'!D2699","v":413.63601684570312},{"$f":"'Absorbance Data'!E2699-Calculations!B$1","v":0},{"$f":"'Absorbance Data'!F2699-Calculations!C$1","v":0},{"$f":"'Absorbance Data'!G2699-Calculations!D$1","v":0},{"$f":"'Absorbance Data'!H2699-Calculations!E$1","v":0},{"$f":"'Absorbance Data'!I2699-Calculations!F$1","v":0},{"$f":"'Absorbance Data'!J2699-Calculations!G$1","v":0},{"$f":"'Absorbance Data'!K2699-Calculations!H$1","v":0},{"$f":"'Absorbance Data'!L2699-Calculations!I$1","v":0},{"$f":"'Absorbance Data'!M2699-Calculations!J$1","v":0},{"$f":"'Absorbance Data'!N2699-Calculations!K$1","v":0},{"$f":"'Absorbance Data'!O2699-Calculations!L$1","v":0},{"$f":"'Absorbance Data'!P2699-Calculations!M$1","v":0},{"$f":"'Absorbance Data'!Q2699-Calculations!N$1","v":0},{"$f":"'Absorbance Data'!R2699-Calculations!O$1","v":0},{"$f":"'Absorbance Data'!S2699-Calculations!P$1","v":0},{"$f":"'Absorbance Data'!T2699-Calculations!Q$1","v":0},{"$f":"'Absorbance Data'!U2699-Calculations!R$1","v":0},{"$f":"'Absorbance Data'!V2699-Calculations!S$1","v":0},{"$f":"'Absorbance Data'!W2699-Calculations!T$1","v":0},{"$f":"'Absorbance Data'!X2699-Calculations!U$1","v":0},{"$f":"'Absorbance Data'!Y2699-Calculations!V$1","v":0},{"$f":"'Absorbance Data'!Z2699-Calculations!W$1","v":0}]
[{"$f":"'Absorbance Data'!D2700","v":413.97732543945312},{"$f":"'Absorbance Data'!E2700-Calculations!B$1","v":0},{"$f":"'Absorbance Data'!F2700-Calculations!C$1","v":0},{"$f":"'Absorbance Data'!G2700-Calculations!D$1","v":0},{"$f":"'Absorbance Data'!H2700-Calculations!E$1","v":0},{"$f":"'Absorbance Data'!I2700-Calculations!F$1","v":0},{"$f":"'Absorbance Data'!J2700-Calculations!G$1","v":0},{"$f":"'Absorbance Data'!K2700-Calculations!H$1","v":0},{"$f":"'Absorbance Data'!L2700-Calculations!I$1","v":0},{"$f":"'Absorbance Data'!M2700-Calculations!J$1","v":0},{"$f":"'Absorbance Data'!N2700-Calculations!K$1","v":0},{"$f":"'Absorbance Data'!O2700-Calculations!L$1","v":0},{"$f":"'Absorbance Data'!P2700-Calculations!M$1","v":0},{"$f":"'Absorbance Data'!Q2700-Calculations!N$1","v":0},{"$f":"'Absorbance Data'!R2700-Calculations!O$1","v":0},{"$f":"'Absorbance Data'!S2700-Calculations!P$1","v":0},{"$f":"'Absorbance Data'!T2700-Calculations!Q$1","v":0},{"$f":"'Absorbance Data'!U2700-Calculations!R$1","v":0},{"$f":"'Absorbance Data'!V2700-Calculations!S$1","v":0},{"$f":"'Absorbance Data'!W2700-Calculations!T$1","v":0},{"$f":"'Absorbance Data'!X2700-Calculations!U$1","v":0},{"$f":"'Absorbance Data'!Y2700-Calculations!V$1","v":0},{"$f":"'Absorbance Data'!Z2700-Calculations!W$1","v":0}]
[{"$f":"'Absorbance Data'!D2701","v":414.318603515625},{"$f":"'Absorbance Data'!E2701-Calculations!B$1","v":0},{"$f":"'Absorbance Data'!F2701-Calculations!C$1","v":0},{"$f":"'Absorbance Data'!G2701-Calculations!D$1","v":0},{"$f":"'Absorbance Data'!H2701-Calculations!E$1","v":0},{"$f":"'Absorbance Data'!I2701-Calculations!F$1","v":0},{"$f":"'Absorbance Data'!J2701-Calculations!G$1","v":0},{"$f":"'Absorbance Data'!K2701-Calculations!H$1","v":0},{"$f":"'Absorbance Data'!L2701-Calculations!I$1","v":0},{"$f":"'Absorbance Data'!M2701-Calculations!J$1","v":0},{"$f":"'Absorbance Data'!N2701-Calculations!K$1","v":0},{"$f":"'Absorbance Data'!O2701-Calculations!L$1","v":0},{"$f":"'Absorbance Data'!P2701-Calculations!M$1","v":0},{"$f":"'Absorbance Data'!Q2701-Calculations!N$1","v":0},{"$f":"'Absorbance Data'!R2701-Calculations!O$1","v":0},{"$f":"'Absorbance Data'!S2701-Calculations!P$1","v":0},{"$f":"'Absorbance Data'!T2701-Calculations!Q$1","v":0},{"$f":"'Absorbance Data'!U2701-Calculations!R$1","v":0},{"$f":"'Absorbance Data'!V2701-Calculations!S$1","v":0},{"$f":"'Absorbance Data'!W2701-Calculations!T$1","v":0},{"$f":"'Absorbance Data'!X2701-Calculations!U$1","v":0},{"$f":"'Absorbance Data'!Y2701-Calculations!V$1","v":0},{"$f":"'Absorbance Data'!Z2701-Calculations!W$1","v":0}]
[{"$f":"'Absorbance Data'!D2702","v":414.65988159179688},{"$f":"'Absorbance Data'!E2702-Calculations!B$1","v":0},{"$f":"'Absorbance Data'!F2702-Calculations!C$1","v":0},{"$f":"'Absorbance Data'!G2702-Calculations!D$1","v":0},{"$f":"'Absorbance Data'!H2702-Calculations!E$1","v":0},{"$f":"'Absorbance Data'!I2702-Calculations!F$1","v":0},{"$f":"'Absorbance Data'!J2702-Calculations!G$1","v":0},{"$f":"'Absorbance Data'!K2702-Calculations!H$1","v":0},{"$f":"'Absorbance Data'!L2702-Calculations!I$1","v":0},{"$f":"'Absorbance Data'!M2702-Calculations!J$1","v":0},{"$f":"'Absorbance Data'!N2702-Calculations!K$1","v":0},{"$f":"'Absorbance Data'!O2702-Calculations!L$1","v":0},{"$f":"'Absorbance Data'!P2702-Calculations!M$1","v":0},{"$f":"'Absorbance Data'!Q2702-Calculations!N$1","v":0},{"$f":"'Absorbance Data'!R2702-Calculations!O$1","v":0},{"$f":"'Absorbance Data'!S2702-Calculations!P$1","v":0},{"$f":"'Absorbance Data'!T2702-Calculations!Q$1","v":0},{"$f":"'Absorbance Data'!U2702-Calculations!R$1","v":0},{"$f":"'Absorbance Data'!V2702-Calculations!S$1","v":0},{"$f":"'Absorbance Data'!W2702-Calculations!T$1","v":0},{"$f":"'Absorbance Data'!X2702-Calculations!U$1","v":0},{"$f":"'Absorbance Data'!Y2702-Calculations!V$1","v":0},{"$f":"'Absorbance Data'!Z2702-Calculations!W$1","v":0}]
[{"$f":"'Absorbance Data'!D2703","v":415.00106811523438},{"$f":"'Absorbance Data'!E2703-Calculations!B$1","v":0},{"$f":"'Absorbance Data'!F2703-Calculations!C$1","v":0},{"$f":"'Absorbance Data'!G2703-Calculations!D$1","v":0},{"$f":"'Absorbance Data'!H2703-Calculations!E$1","v":0},{"$f":"'Absorbance Data'!I2703-Calculations!F$1","v":0},{"$f":"'Absorbance Data'!J2703-Calculations!G$1","v":0},{"$f":"'Absorbance Data'!K2703-Calculations!H$1","v":0},{"$f":"'Absorbance Data'!L2703-Calculations!I$1","v":0},{"$f":"'Absorbance Data'!M2703-Calculations!J$1","v":0},{"$f":"'Absorbance Data'!N2703-Calculations!K$1","v":0},{"$f":"'Absorbance Data'!O2703-Calculations!L$1","v":0},{"$f":"'Absorbance Data'!P2703-Calculations!M$1","v":0},{"$f":"'Absorbance Data'!Q2703-Calculations!N$1","v":0},{"$f":"'Absorbance Data'!R2703-Calculations!O$1","v":0},{"$f":"'Absorbance Data'!S2703-Calculations!P$1","v":0},{"$f":"'Absorbance Data'!T2703-Calculations!Q$1","v":0},{"$f":"'Absorbance Data'!U2703-Calculations!R$1","v":0},{"$f":"'Absorbance Data'!V2703-Calculations!S$1","v":0},{"$f":"'Absorbance Data'!W2703-Calculations!T$1","v":0},{"$f":"'Absorbance Data'!X2703-Calculations!U$1","v":0},{"$f":"'Absorbance Data'!Y2703-Calculations!V$1","v":0},{"$f":"'Absorbance Data'!Z2703-Calculations!W$1","v":0}]
[{"$f":"'Absorbance Data'!D2704","v":415.34228515625},{"$f":"'Absorbance Data'!E2704-Calculations!B$1","v":0},{"$f":"'Absorbance Data'!F2704-Calculations!C$1","v":0},{"$f":"'Absorbance Data'!G2704-Calculations!D$1","v":0},{"$f":"'Absorbance Data'!H2704-Calculations!E$1","v":0},{"$f":"'Absorbance Data'!I2704-Calculations!F$1","v":0},{"$f":"'Absorbance Data'!J2704-Calculations!G$1","v":0},{"$f":"'Absorbance Data'!K2704-Calculations!H$1","v":0},{"$f":"'Absorbance Data'!L2704-Calculations!I$1","v":0},{"$f":"'Absorbance Data'!M2704-Calculations!J$1","v":0},{"$f":"'Absorbance Data'!N2704-Calculations!K$1","v":0},{"$f":"'Absorbance Data'!O2704-Calculations!L$1","v":0},{"$f":"'Absorbance Data'!P2704-Calculations!M$1","v":0},{"$f":"'Absorbance Data'!Q2704-Calculations!N$1","v":0},{"$f":"'Absorbance Data'!R2704-Calculations!O$1","v":0},{"$f":"'Absorbance Data'!S2704-Calculations!P$1","v":0},{"$f":"'Absorbance Data'!T2704-Calculations!Q$1","v":0},{"$f":"'Absorbance Data'!U2704-Calculations!R$1","v":0},{"$f":"'Absorbance Data'!V2704-Calculations!S$1","v":0},{"$f":"'Absorbance Data'!W2704-Calculations!T$1","v":0},{"$f":"'Absorbance Data'!X2704-Calculations!U$1","v":0},{"$f":"'Absorbance Data'!Y2704-Calculations!V$1","v":0},{"$f":"'Absorbance Data'!Z2704-Calculations!W$1","v":0}]
[{"$f":"'Absorbance Data'!D2705","v":415.68341064453125},{"$f":"'Absorbance Data'!E2705-Calculations!B$1","v":0},{"$f":"'Absorbance Data'!F2705-Calculations!C$1","v":0},{"$f":"'Absorbance Data'!G2705-Calculations!D$1","v":0},{"$f":"'Absorbance Data'!H2705-Calculations!E$1","v":0},{"$f":"'Absorbance Data'!I2705-Calculations!F$1","v":0},{"$f":"'Absorbance Data'!J2705-Calculations!G$1","v":0},{"$f":"'Absorbance Data'!K2705-Calculations!H$1","v":0},{"$f":"'Absorbance Data'!L2705-Calculations!I$1","v":0},{"$f":"'Absorbance Data'!M2705-Calculations!J$1","v":0},{"$f":"'Absorbance Data'!N2705-Calculations!K$1","v":0},{"$f":"'Absorbance Data'!O2705-Calculations!L$1","v":0},{"$f":"'Absorbance Data'!P2705-Calculations!M$1","v":0},{"$f":"'Absorbance Data'!Q2705-Calculations!N$1","v":0},{"$f":"'Absorbance Data'!R2705-Calculations!O$1","v":0},{"$f":"'Absorbance Data'!S2705-Calculations!P$1","v":0},{"$f":"'Absorbance Data'!T2705-Calculations!Q$1","v":0},{"$f":"'Absorbance Data'!U2705-Calculations!R$1","v":0},{"$f":"'Absorbance Data'!V2705-Calculations!S$1","v":0},{"$f":"'Absorbance Data'!W2705-Calculations!T$1","v":0},{"$f":"'Absorbance Data'!X2705-Calculations!U$1","v":0},{"$f":"'Absorbance Data'!Y2705-Calculations!V$1","v":0},{"$f":"'Absorbance Data'!Z2705-Calculations!W$1","v":0}]
[{"$f":"'Absorbance Data'!D2706","v":416.02456665039062},{"$f":"'Absorbance Data'!E2706-Calculations!B$1","v":0},{"$f":"'Absorbance Data'!F2706-Calculations!C$1","v":0},{"$f":"'Absorbance Data'!G2706-Calculations!D$1","v":0},{"$f":"'Absorbance Data'!H2706-Calculations!E$1","v":0},{"$f":"'Absorbance Data'!I2706-Calculations!F$1","v":0},{"$f":"'Absorbance Data'!J2706-Calculations!G$1","v":0},{"$f":"'Absorbance Data'!K2706-Calculations!H$1","v":0},{"$f":"'Absorbance Data'!L2706-Calculations!I$1","v":0},{"$f":"'Absorbance Data'!M2706-Calculations!J$1","v":0},{"$f":"'Absorbance Data'!N2706-Calculations!K$1","v":0},{"$f":"'Absorbance Data'!O2706-Calculations!L$1","v":0},{"$f":"'Absorbance Data'!P2706-Calculations!M$1","v":0},{"$f":"'Absorbance Data'!Q2706-Calculations!N$1","v":0},{"$f":"'Absorbance Data'!R2706-Calculations!O$1","v":0},{"$f":"'Absorbance Data'!S2706-Calculations!P$1","v":0},{"$f":"'Absorbance Data'!T2706-Calculations!Q$1","v":0},{"$f":"'Absorbance Data'!U2706-Calculations!R$1","v":0},{"$f":"'Absorbance Data'!V2706-Calculations!S$1","v":0},{"$f":"'Absorbance Data'!W2706-Calculations!T$1","v":0},{"$f":"'Absorbance Data'!X2706-Calculations!U$1","v":0},{"$f":"'Absorbance Data'!Y2706-Calculations!V$1","v":0},{"$f":"'Absorbance Data'!Z2706-Calculations!W$1","v":0}]
[{"$f":"'Absorbance Data'!D2707","v":416.3656005859375},{"$f":"'Absorbance Data'!E2707-Calculations!B$1","v":0},{"$f":"'Absorbance Data'!F2707-Calculations!C$1","v":0},{"$f":"'Absorbance Data'!G2707-Calculations!D$1","v":0},{"$f":"'Absorbance Data'!H2707-Calculations!E$1","v":0},{"$f":"'Absorbance Data'!I2707-Calculations!F$1","v":0},{"$f":"'Absorbance Data'!J2707-Calculations!G$1","v":0},{"$f":"'Absorbance Data'!K2707-Calculations!H$1","v":0},{"$f":"'Absorbance Data'!L2707-Calculations!I$1","v":0},{"$f":"'Absorbance Data'!M2707-Calculations!J$1","v":0},{"$f":"'Absorbance Data'!N2707-Calculations!K$1","v":0},{"$f":"'Absorbance Data'!O2707-Calculations!L$1","v":0},{"$f":"'Absorbance Data'!P2707-Calculations!M$1","v":0},{"$f":"'Absorbance Data'!Q2707-Calculations!N$1","v":0},{"$f":"'Absorbance Data'!R2707-Calculations!O$1","v":0},{"$f":"'Absorbance Data'!S2707-Calculations!P$1","v":0},{"$f":"'Absorbance Data'!T2707-Calculations!Q$1","v":0},{"$f":"'Absorbance Data'!U2707-Calculations!R$1","v":0},{"$f":"'Absorbance Data'!V2707-Calculations!S$1","v":0},{"$f":"'Absorbance Data'!W2707-Calculations!T$1","v":0},{"$f":"'Absorbance Data'!X2707-Calculations!U$1","v":0},{"$f":"'Absorbance Data'!Y2707-Calculations!V$1","v":0},{"$f":"'Absorbance Data'!Z2707-Calculations!W$1","v":0}]
[{"$f":"'Absorbance Data'!D2708","v":416.7066650390625},{"$f":"'Absorbance Data'!E2708-Calculations!B$1","v":0},{"$f":"'Absorbance Data'!F2708-Calculations!C$1","v":0},{"$f":"'Absorbance Data'!G2708-Calculations!D$1","v":0},{"$f":"'Absorbance Data'!H2708-Calculations!E$1","v":0},{"$f":"'Absorbance Data'!I2708-Calculations!F$1","v":0},{"$f":"'Absorbance Data'!J2708-Calculations!G$1","v":0},{"$f":"'Absorbance Data'!K2708-Calculations!H$1","v":0},{"$f":"'Absorbance Data'!L2708-Calculations!I$1","v":0},{"$f":"'Absorbance Data'!M2708-Calculations!J$1","v":0},{"$f":"'Absorbance Data'!N2708-Calculations!K$1","v":0},{"$f":"'Absorbance Data'!O2708-Calculations!L$1","v":0},{"$f":"'Absorbance Data'!P2708-Calculations!M$1","v":0},{"$f":"'Absorbance Data'!Q2708-Calculations!N$1","v":0},{"$f":"'Absorbance Data'!R2708-Calculations!O$1","v":0},{"$f":"'Absorbance Data'!S2708-Calculations!P$1","v":0},{"$f":"'Absorbance Data'!T2708-Calculations!Q$1","v":0},{"$f":"'Absorbance Data'!U2708-Calculations!R$1","v":0},{"$f":"'Absorbance Data'!V2708-Calculations!S$1","v":0},{"$f":"'Absorbance Data'!W2708-Calculations!T$1","v":0},{"$f":"'Absorbance Data'!X2708-Calculations!U$1","v":0},{"$f":"'Absorbance Data'!Y2708-Calculations!V$1","v":0},{"$f":"'Absorbance Data'!Z2708-Calculations!W$1","v":0}]
[{"$f":"'Absorbance Data'!D2709","v":417.04766845703125},{"$f":"'Absorbance Data'!E2709-Calculations!B$1","v":0},{"$f":"'Absorbance Data'!F2709-Calculations!C$1","v":0},{"$f":"'Absorbance Data'!G2709-Calculations!D$1","v":0},{"$f":"'Absorbance Data'!H2709-Calculations!E$1","v":0},{"$f":"'Absorbance Data'!I2709-Calculations!F$1","v":0},{"$f":"'Absorbance Data'!J2709-Calculations!G$1","v":0},{"$f":"'Absorbance Data'!K2709-Calculations!H$1","v":0},{"$f":"'Absorbance Data'!L2709-Calculations!I$1","v":0},{"$f":"'Absorbance Data'!M2709-Calculations!J$1","v":0},{"$f":"'Absorbance Data'!N2709-Calculations!K$1","v":0},{"$f":"'Absorbance Data'!O2709-Calculations!L$1","v":0},{"$f":"'Absorbance Data'!P2709-Calculations!M$1","v":0},{"$f":"'Absorbance Data'!Q2709-Calculations!N$1","v":0},{"$f":"'Absorbance Data'!R2709-Calculations!O$1","v":0},{"$f":"'Absorbance Data'!S2709-Calculations!P$1","v":0},{"$f":"'Absorbance Data'!T2709-Calculations!Q$1","v":0},{"$f":"'Absorbance Data'!U2709-Calculations!R$1","v":0},{"$f":"'Absorbance Data'!V2709-Calculations!S$1","v":0},{"$f":"'Absorbance Data'!W2709-Calculations!T$1","v":0},{"$f":"'Absorbance Data'!X2709-Calculations!U$1","v":0},{"$f":"'Absorbance Data'!Y2709-Calculations!V$1","v":0},{"$f":"'Absorbance Data'!Z2709-Calculations!W$1","v":0}]
[{"$f":"'Absorbance Data'!D2710","v":417.38870239257812},{"$f":"'Absorbance Data'!E2710-Calculations!B$1","v":0},{"$f":"'Absorbance Data'!F2710-Calculations!C$1","v":0},{"$f":"'Absorbance Data'!G2710-Calculations!D$1","v":0},{"$f":"'Absorbance Data'!H2710-Calculations!E$1","v":0},{"$f":"'Absorbance Data'!I2710-Calculations!F$1","v":0},{"$f":"'Absorbance Data'!J2710-Calculations!G$1","v":0},{"$f":"'Absorbance Data'!K2710-Calculations!H$1","v":0},{"$f":"'Absorbance Data'!L2710-Calculations!I$1","v":0},{"$f":"'Absorbance Data'!M2710-Calculations!J$1","v":0},{"$f":"'Absorbance Data'!N2710-Calculations!K$1","v":0},{"$f":"'Absorbance Data'!O2710-Calculations!L$1","v":0},{"$f":"'Absorbance Data'!P2710-Calculations!M$1","v":0},{"$f":"'Absorbance Data'!Q2710-Calculations!N$1","v":0},{"$f":"'Absorbance Data'!R2710-Calculations!O$1","v":0},{"$f":"'Absorbance Data'!S2710-Calculations!P$1","v":0},{"$f":"'Absorbance Data'!T2710-Calculations!Q$1","v":0},{"$f":"'Absorbance Data'!U2710-Calculations!R$1","v":0},{"$f":"'Absorbance Data'!V2710-Calculations!S$1","v":0},{"$f":"'Absorbance Data'!W2710-Calculations!T$1","v":0},{"$f":"'Absorbance Data'!X2710-Calculations!U$1","v":0},{"$f":"'Absorbance Data'!Y2710-Calculations!V$1","v":0},{"$f":"'Absorbance Data'!Z2710-Calculations!W$1","v":0}]
[{"$f":"'Absorbance Data'!D2711","v":417.7296142578125},{"$f":"'Absorbance Data'!E2711-Calculations!B$1","v":0},{"$f":"'Absorbance Data'!F2711-Calculations!C$1","v":0},{"$f":"'Absorbance Data'!G2711-Calculations!D$1","v":0},{"$f":"'Absorbance Data'!H2711-Calculations!E$1","v":0},{"$f":"'Absorbance Data'!I2711-Calculations!F$1","v":0},{"$f":"'Absorbance Data'!J2711-Calculations!G$1","v":0},{"$f":"'Absorbance Data'!K2711-Calculations!H$1","v":0},{"$f":"'Absorbance Data'!L2711-Calculations!I$1","v":0},{"$f":"'Absorbance Data'!M2711-Calculations!J$1","v":0},{"$f":"'Absorbance Data'!N2711-Calculations!K$1","v":0},{"$f":"'Absorbance Data'!O2711-Calculations!L$1","v":0},{"$f":"'Absorbance Data'!P2711-Calculations!M$1","v":0},{"$f":"'Absorbance Data'!Q2711-Calculations!N$1","v":0},{"$f":"'Absorbance Data'!R2711-Calculations!O$1","v":0},{"$f":"'Absorbance Data'!S2711-Calculations!P$1","v":0},{"$f":"'Absorbance Data'!T2711-Calculations!Q$1","v":0},{"$f":"'Absorbance Data'!U2711-Calculations!R$1","v":0},{"$f":"'Absorbance Data'!V2711-Calculations!S$1","v":0},{"$f":"'Absorbance Data'!W2711-Calculations!T$1","v":0},{"$f":"'Absorbance Data'!X2711-Calculations!U$1","v":0},{"$f":"'Absorbance Data'!Y2711-Calculations!V$1","v":0},{"$f":"'Absorbance Data'!Z2711-Calculations!W$1","v":0}]
[{"$f":"'Absorbance Data'!D2712","v":418.070556640625},{"$f":"'Absorbance Data'!E2712-Calculations!B$1","v":0},{"$f":"'Absorbance Data'!F2712-Calculations!C$1","v":0},{"$f":"'Absorbance Data'!G2712-Calculations!D$1","v":0},{"$f":"'Absorbance Data'!H2712-Calculations!E$1","v":0},{"$f":"'Absorbance Data'!I2712-Calculations!F$1","v":0},{"$f":"'Absorbance Data'!J2712-Calculations!G$1","v":0},{"$f":"'Absorbance Data'!K2712-Calculations!H$1","v":0},{"$f":"'Absorbance Data'!L2712-Calculations!I$1","v":0},{"$f":"'Absorbance Data'!M2712-Calculations!J$1","v":0},{"$f":"'Absorbance Data'!N2712-Calculations!K$1","v":0},{"$f":"'Absorbance Data'!O2712-Calculations!L$1","v":0},{"$f":"'Absorbance Data'!P2712-Calculations!M$1","v":0},{"$f":"'Absorbance Data'!Q2712-Calculations!N$1","v":0},{"$f":"'Absorbance Data'!R2712-Calculations!O$1","v":0},{"$f":"'Absorbance Data'!S2712-Calculations!P$1","v":0},{"$f":"'Absorbance Data'!T2712-Calculations!Q$1","v":0},{"$f":"'Absorbance Data'!U2712-Calculations!R$1","v":0},{"$f":"'Absorbance Data'!V2712-Calculations!S$1","v":0},{"$f":"'Absorbance Data'!W2712-Calculations!T$1","v":0},{"$f":"'Absorbance Data'!X2712-Calculations!U$1","v":0},{"$f":"'Absorbance Data'!Y2712-Calculations!V$1","v":0},{"$f":"'Absorbance Data'!Z2712-Calculations!W$1","v":0}]
[{"$f":"'Absorbance Data'!D2713","v":418.41140747070312},{"$f":"'Absorbance Data'!E2713-Calculations!B$1","v":0},{"$f":"'Absorbance Data'!F2713-Calculations!C$1","v":0},{"$f":"'Absorbance Data'!G2713-Calculations!D$1","v":0},{"$f":"'Absorbance Data'!H2713-Calculations!E$1","v":0},{"$f":"'Absorbance Data'!I2713-Calculations!F$1","v":0},{"$f":"'Absorbance Data'!J2713-Calculations!G$1","v":0},{"$f":"'Absorbance Data'!K2713-Calculations!H$1","v":0},{"$f":"'Absorbance Data'!L2713-Calculations!I$1","v":0},{"$f":"'Absorbance Data'!M2713-Calculations!J$1","v":0},{"$f":"'Absorbance Data'!N2713-Calculations!K$1","v":0},{"$f":"'Absorbance Data'!O2713-Calculations!L$1","v":0},{"$f":"'Absorbance Data'!P2713-Calculations!M$1","v":0},{"$f":"'Absorbance Data'!Q2713-Calculations!N$1","v":0},{"$f":"'Absorbance Data'!R2713-Calculations!O$1","v":0},{"$f":"'Absorbance Data'!S2713-Calculations!P$1","v":0},{"$f":"'Absorbance Data'!T2713-Calculations!Q$1","v":0},{"$f":"'Absorbance Data'!U2713-Calculations!R$1","v":0},{"$f":"'Absorbance Data'!V2713-Calculations!S$1","v":0},{"$f":"'Absorbance Data'!W2713-Calculations!T$1","v":0},{"$f":"'Absorbance Data'!X2713-Calculations!U$1","v":0},{"$f":"'Absorbance Data'!Y2713-Calculations!V$1","v":0},{"$f":"'Absorbance Data'!Z2713-Calculations!W$1","v":0}]
[{"$f":"'Absorbance Data'!D2714","v":418.75228881835938},{"$f":"'Absorbance Data'!E2714-Calculations!B$1","v":0},{"$f":"'Absorbance Data'!F2714-Calculations!C$1","v":0},{"$f":"'Absorbance Data'!G2714-Calculations!D$1","v":0},{"$f":"'Absorbance Data'!H2714-Calculations!E$1","v":0},{"$f":"'Absorbance Data'!I2714-Calculations!F$1","v":0},{"$f":"'Absorbance Data'!J2714-Calculations!G$1","v":0},{"$f":"'Absorbance Data'!K2714-Calculations!H$1","v":0},{"$f":"'Absorbance Data'!L2714-Calculations!I$1","v":0},{"$f":"'Absorbance Data'!M2714-Calculations!J$1","v":0},{"$f":"'Absorbance Data'!N2714-Calculations!K$1","v":0},{"$f":"'Absorbance Data'!O2714-Calculations!L$1","v":0},{"$f":"'Absorbance Data'!P2714-Calculations!M$1","v":0},{"$f":"'Absorbance Data'!Q2714-Calculations!N$1","v":0},{"$f":"'Absorbance Data'!R2714-Calculations!O$1","v":0},{"$f":"'Absorbance Data'!S2714-Calculations!P$1","v":0},{"$f":"'Absorbance Data'!T2714-Calculations!Q$1","v":0},{"$f":"'Absorbance Data'!U2714-Calculations!R$1","v":0},{"$f":"'Absorbance Data'!V2714-Calculations!S$1","v":0},{"$f":"'Absorbance Data'!W2714-Calculations!T$1","v":0},{"$f":"'Absorbance Data'!X2714-Calculations!U$1","v":0},{"$f":"'Absorbance Data'!Y2714-Calculations!V$1","v":0},{"$f":"'Absorbance Data'!Z2714-Calculations!W$1","v":0}]
[{"$f":"'Absorbance Data'!D2715","v":419.09307861328125},{"$f":"'Absorbance Data'!E2715-Calculations!B$1","v":0},{"$f":"'Absorbance Data'!F2715-Calculations!C$1","v":0},{"$f":"'Absorbance Data'!G2715-Calculations!D$1","v":0},{"$f":"'Absorbance Data'!H2715-Calculations!E$1","v":0},{"$f":"'Absorbance Data'!I2715-Calculations!F$1","v":0},{"$f":"'Absorbance Data'!J2715-Calculations!G$1","v":0},{"$f":"'Absorbance Data'!K2715-Calculations!H$1","v":0},{"$f":"'Absorbance Data'!L2715-Calculations!I$1","v":0},{"$f":"'Absorbance Data'!M2715-Calculations!J$1","v":0},{"$f":"'Absorbance Data'!N2715-Calculations!K$1","v":0},{"$f":"'Absorbance Data'!O2715-Calculations!L$1","v":0},{"$f":"'Absorbance Data'!P2715-Calculations!M$1","v":0},{"$f":"'Absorbance Data'!Q2715-Calculations!N$1","v":0},{"$f":"'Absorbance Data'!R2715-Calculations!O$1","v":0},{"$f":"'Absorbance Data'!S2715-Calculations!P$1","v":0},{"$f":"'Absorbance Data'!T2715-Calculations!Q$1","v":0},{"$f":"'Absorbance Data'!U2715-Calculations!R$1","v":0},{"$f":"'Absorbance Data'!V2715-Calculations!S$1","v":0},{"$f":"'Absorbance Data'!W2715-Calculations!T$1","v":0},{"$f":"'Absorbance Data'!X2715-Calculations!U$1","v":0},{"$f":"'Absorbance Data'!Y2715-Calculations!V$1","v":0},{"$f":"'Absorbance Data'!Z2715-Calculations!W$1","v":0}]
[{"$f":"'Absorbance Data'!D2716","v":419.43389892578125},{"$f":"'Absorbance Data'!E2716-Calculations!B$1","v":0},{"$f":"'Absorbance Data'!F2716-Calculations!C$1","v":0},{"$f":"'Absorbance Data'!G2716-Calculations!D$1","v":0},{"$f":"'Absorbance Data'!H2716-Calculations!E$1","v":0},{"$f":"'Absorbance Data'!I2716-Calculations!F$1","v":0},{"$f":"'Absorbance Data'!J2716-Calculations!G$1","v":0},{"$f":"'Absorbance Data'!K2716-Calculations!H$1","v":0},{"$f":"'Absorbance Data'!L2716-Calculations!I$1","v":0},{"$f":"'Absorbance Data'!M2716-Calculations!J$1","v":0},{"$f":"'Absorbance Data'!N2716-Calculations!K$1","v":0},{"$f":"'Absorbance Data'!O2716-Calculations!L$1","v":0},{"$f":"'Absorbance Data'!P2716-Calculations!M$1","v":0},{"$f":"'Absorbance Data'!Q2716-Calculations!N$1","v":0},{"$f":"'Absorbance Data'!R2716-Calculations!O$1","v":0},{"$f":"'Absorbance Data'!S2716-Calculations!P$1","v":0},{"$f":"'Absorbance Data'!T2716-Calculations!Q$1","v":0},{"$f":"'Absorbance Data'!U2716-Calculations!R$1","v":0},{"$f":"'Absorbance Data'!V2716-Calculations!S$1","v":0},{"$f":"'Absorbance Data'!W2716-Calculations!T$1","v":0},{"$f":"'Absorbance Data'!X2716-Calculations!U$1","v":0},{"$f":"'Absorbance Data'!Y2716-Calculations!V$1","v":0},{"$f":"'Absorbance Data'!Z2716-Calculations!W$1","v":0}]
[{"$f":"'Absorbance Data'!D2717","v":419.77459716796875},{"$f":"'Absorbance Data'!E2717-Calculations!B$1","v":0},{"$f":"'Absorbance Data'!F2717-Calculations!C$1","v":0},{"$f":"'Absorbance Data'!G2717-Calculations!D$1","v":0},{"$f":"'Absorbance Data'!H2717-Calculations!E$1","v":0},{"$f":"'Absorbance Data'!I2717-Calculations!F$1","v":0},{"$f":"'Absorbance Data'!J2717-Calculations!G$1","v":0},{"$f":"'Absorbance Data'!K2717-Calculations!H$1","v":0},{"$f":"'Absorbance Data'!L2717-Calculations!I$1","v":0},{"$f":"'Absorbance Data'!M2717-Calculations!J$1","v":0},{"$f":"'Absorbance Data'!N2717-Calculations!K$1","v":0},{"$f":"'Absorbance Data'!O2717-Calculations!L$1","v":0},{"$f":"'Absorbance Data'!P2717-Calculations!M$1","v":0},{"$f":"'Absorbance Data'!Q2717-Calculations!N$1","v":0},{"$f":"'Absorbance Data'!R2717-Calculations!O$1","v":0},{"$f":"'Absorbance Data'!S2717-Calculations!P$1","v":0},{"$f":"'Absorbance Data'!T2717-Calculations!Q$1","v":0},{"$f":"'Absorbance Data'!U2717-Calculations!R$1","v":0},{"$f":"'Absorbance Data'!V2717-Calculations!S$1","v":0},{"$f":"'Absorbance Data'!W2717-Calculations!T$1","v":0},{"$f":"'Absorbance Data'!X2717-Calculations!U$1","v":0},{"$f":"'Absorbance Data'!Y2717-Calculations!V$1","v":0},{"$f":"'Absorbance Data'!Z2717-Calculations!W$1","v":0}]
[{"$f":"'Absorbance Data'!D2718","v":420.11532592773438},{"$f":"'Absorbance Data'!E2718-Calculations!B$1","v":0},{"$f":"'Absorbance Data'!F2718-Calculations!C$1","v":0},{"$f":"'Absorbance Data'!G2718-Calculations!D$1","v":0},{"$f":"'Absorbance Data'!H2718-Calculations!E$1","v":0},{"$f":"'Absorbance Data'!I2718-Calculations!F$1","v":0},{"$f":"'Absorbance Data'!J2718-Calculations!G$1","v":0},{"$f":"'Absorbance Data'!K2718-Calculations!H$1","v":0},{"$f":"'Absorbance Data'!L2718-Calculations!I$1","v":0},{"$f":"'Absorbance Data'!M2718-Calculations!J$1","v":0},{"$f":"'Absorbance Data'!N2718-Calculations!K$1","v":0},{"$f":"'Absorbance Data'!O2718-Calculations!L$1","v":0},{"$f":"'Absorbance Data'!P2718-Calculations!M$1","v":0},{"$f":"'Absorbance Data'!Q2718-Calculations!N$1","v":0},{"$f":"'Absorbance Data'!R2718-Calculations!O$1","v":0},{"$f":"'Absorbance Data'!S2718-Calculations!P$1","v":0},{"$f":"'Absorbance Data'!T2718-Calculations!Q$1","v":0},{"$f":"'Absorbance Data'!U2718-Calculations!R$1","v":0},{"$f":"'Absorbance Data'!V2718-Calculations!S$1","v":0},{"$f":"'Absorbance Data'!W2718-Calculations!T$1","v":0},{"$f":"'Absorbance Data'!X2718-Calculations!U$1","v":0},{"$f":"'Absorbance Data'!Y2718-Calculations!V$1","v":0},{"$f":"'Absorbance Data'!Z2718-Calculations!W$1","v":0}]
[{"$f":"'Absorbance Data'!D2719","v":420.45602416992188},{"$f":"'Absorbance Data'!E2719-Calculations!B$1","v":0},{"$f":"'Absorbance Data'!F2719-Calculations!C$1","v":0},{"$f":"'Absorbance Data'!G2719-Calculations!D$1","v":0},{"$f":"'Absorbance Data'!H2719-Calculations!E$1","v":0},{"$f":"'Absorbance Data'!I2719-Calculations!F$1","v":0},{"$f":"'Absorbance Data'!J2719-Calculations!G$1","v":0},{"$f":"'Absorbance Data'!K2719-Calculations!H$1","v":0},{"$f":"'Absorbance Data'!L2719-Calculations!I$1","v":0},{"$f":"'Absorbance Data'!M2719-Calculations!J$1","v":0},{"$f":"'Absorbance Data'!N2719-Calculations!K$1","v":0},{"$f":"'Absorbance Data'!O2719-Calculations!L$1","v":0},{"$f":"'Absorbance Data'!P2719-Calculations!M$1","v":0},{"$f":"'Absorbance Data'!Q2719-Calculations!N$1","v":0},{"$f":"'Absorbance Data'!R2719-Calculations!O$1","v":0},{"$f":"'Absorbance Data'!S2719-Calculations!P$1","v":0},{"$f":"'Absorbance Data'!T2719-Calculations!Q$1","v":0},{"$f":"'Absorbance Data'!U2719-Calculations!R$1","v":0},{"$f":"'Absorbance Data'!V2719-Calculations!S$1","v":0},{"$f":"'Absorbance Data'!W2719-Calculations!T$1","v":0},{"$f":"'Absorbance Data'!X2719-Calculations!U$1","v":0},{"$f":"'Absorbance Data'!Y2719-Calculations!V$1","v":0},{"$f":"'Absorbance Data'!Z2719-Calculations!W$1","v":0}]
[{"$f":"'Absorbance Data'!D2720","v":420.79666137695312},{"$f":"'Absorbance Data'!E2720-Calculations!B$1","v":0},{"$f":"'Absorbance Data'!F2720-Calculations!C$1","v":0},{"$f":"'Absorbance Data'!G2720-Calculations!D$1","v":0},{"$f":"'Absorbance Data'!H2720-Calculations!E$1","v":0},{"$f":"'Absorbance Data'!I2720-Calculations!F$1","v":0},{"$f":"'Absorbance Data'!J2720-Calculations!G$1","v":0},{"$f":"'Absorbance Data'!K2720-Calculations!H$1","v":0},{"$f":"'Absorbance Data'!L2720-Calculations!I$1","v":0},{"$f":"'Absorbance Data'!M2720-Calculations!J$1","v":0},{"$f":"'Absorbance Data'!N2720-Calculations!K$1","v":0},{"$f":"'Absorbance Data'!O2720-Calculations!L$1","v":0},{"$f":"'Absorbance Data'!P2720-Calculations!M$1","v":0},{"$f":"'Absorbance Data'!Q2720-Calculations!N$1","v":0},{"$f":"'Absorbance Data'!R2720-Calculations!O$1","v":0},{"$f":"'Absorbance Data'!S2720-Calculations!P$1","v":0},{"$f":"'Absorbance Data'!T2720-Calculations!Q$1","v":0},{"$f":"'Absorbance Data'!U2720-Calculations!R$1","v":0},{"$f":"'Absorbance Data'!V2720-Calculations!S$1","v":0},{"$f":"'Absorbance Data'!W2720-Calculations!T$1","v":0},{"$f":"'Absorbance Data'!X2720-Calculations!U$1","v":0},{"$f":"'Absorbance Data'!Y2720-Calculations!V$1","v":0},{"$f":"'Absorbance Data'!Z2720-Calculations!W$1","v":0}]
[{"$f":"'Absorbance Data'!D2721","v":421.13729858398438},{"$f":"'Absorbance Data'!E2721-Calculations!B$1","v":0},{"$f":"'Absorbance Data'!F2721-Calculations!C$1","v":0},{"$f":"'Absorbance Data'!G2721-Calculations!D$1","v":0},{"$f":"'Absorbance Data'!H2721-Calculations!E$1","v":0},{"$f":"'Absorbance Data'!I2721-Calculations!F$1","v":0},{"$f":"'Absorbance Data'!J2721-Calculations!G$1","v":0},{"$f":"'Absorbance Data'!K2721-Calculations!H$1","v":0},{"$f":"'Absorbance Data'!L2721-Calculations!I$1","v":0},{"$f":"'Absorbance Data'!M2721-Calculations!J$1","v":0},{"$f":"'Absorbance Data'!N2721-Calculations!K$1","v":0},{"$f":"'Absorbance Data'!O2721-Calculations!L$1","v":0},{"$f":"'Absorbance Data'!P2721-Calculations!M$1","v":0},{"$f":"'Absorbance Data'!Q2721-Calculations!N$1","v":0},{"$f":"'Absorbance Data'!R2721-Calculations!O$1","v":0},{"$f":"'Absorbance Data'!S2721-Calculations!P$1","v":0},{"$f":"'Absorbance Data'!T2721-Calculations!Q$1","v":0},{"$f":"'Absorbance Data'!U2721-Calculations!R$1","v":0},{"$f":"'Absorbance Data'!V2721-Calculations!S$1","v":0},{"$f":"'Absorbance Data'!W2721-Calculations!T$1","v":0},{"$f":"'Absorbance Data'!X2721-Calculations!U$1","v":0},{"$f":"'Absorbance Data'!Y2721-Calculations!V$1","v":0},{"$f":"'Absorbance Data'!Z2721-Calculations!W$1","v":0}]
[{"$f":"'Absorbance Data'!D2722","v":421.47784423828125},{"$f":"'Absorbance Data'!E2722-Calculations!B$1","v":0},{"$f":"'Absorbance Data'!F2722-Calculations!C$1","v":0},{"$f":"'Absorbance Data'!G2722-Calculations!D$1","v":0},{"$f":"'Absorbance Data'!H2722-Calculations!E$1","v":0},{"$f":"'Absorbance Data'!I2722-Calculations!F$1","v":0},{"$f":"'Absorbance Data'!J2722-Calculations!G$1","v":0},{"$f":"'Absorbance Data'!K2722-Calculations!H$1","v":0},{"$f":"'Absorbance Data'!L2722-Calculations!I$1","v":0},{"$f":"'Absorbance Data'!M2722-Calculations!J$1","v":0},{"$f":"'Absorbance Data'!N2722-Calculations!K$1","v":0},{"$f":"'Absorbance Data'!O2722-Calculations!L$1","v":0},{"$f":"'Absorbance Data'!P2722-Calculations!M$1","v":0},{"$f":"'Absorbance Data'!Q2722-Calculations!N$1","v":0},{"$f":"'Absorbance Data'!R2722-Calculations!O$1","v":0},{"$f":"'Absorbance Data'!S2722-Calculations!P$1","v":0},{"$f":"'Absorbance Data'!T2722-Calculations!Q$1","v":0},{"$f":"'Absorbance Data'!U2722-Calculations!R$1","v":0},{"$f":"'Absorbance Data'!V2722-Calculations!S$1","v":0},{"$f":"'Absorbance Data'!W2722-Calculations!T$1","v":0},{"$f":"'Absorbance Data'!X2722-Calculations!U$1","v":0},{"$f":"'Absorbance Data'!Y2722-Calculations!V$1","v":0},{"$f":"'Absorbance Data'!Z2722-Calculations!W$1","v":0}]
[{"$f":"'Absorbance Data'!D2723","v":421.81842041015625},{"$f":"'Absorbance Data'!E2723-Calculations!B$1","v":0},{"$f":"'Absorbance Data'!F2723-Calculations!C$1","v":0},{"$f":"'Absorbance Data'!G2723-Calculations!D$1","v":0},{"$f":"'Absorbance Data'!H2723-Calculations!E$1","v":0},{"$f":"'Absorbance Data'!I2723-Calculations!F$1","v":0},{"$f":"'Absorbance Data'!J2723-Calculations!G$1","v":0},{"$f":"'Absorbance Data'!K2723-Calculations!H$1","v":0},{"$f":"'Absorbance Data'!L2723-Calculations!I$1","v":0},{"$f":"'Absorbance Data'!M2723-Calculations!J$1","v":0},{"$f":"'Absorbance Data'!N2723-Calculations!K$1","v":0},{"$f":"'Absorbance Data'!O2723-Calculations!L$1","v":0},{"$f":"'Absorbance Data'!P2723-Calculations!M$1","v":0},{"$f":"'Absorbance Data'!Q2723-Calculations!N$1","v":0},{"$f":"'Absorbance Data'!R2723-Calculations!O$1","v":0},{"$f":"'Absorbance Data'!S2723-Calculations!P$1","v":0},{"$f":"'Absorbance Data'!T2723-Calculations!Q$1","v":0},{"$f":"'Absorbance Data'!U2723-Calculations!R$1","v":0},{"$f":"'Absorbance Data'!V2723-Calculations!S$1","v":0},{"$f":"'Absorbance Data'!W2723-Calculations!T$1","v":0},{"$f":"'Absorbance Data'!X2723-Calculations!U$1","v":0},{"$f":"'Absorbance Data'!Y2723-Calculations!V$1","v":0},{"$f":"'Absorbance Data'!Z2723-Calculations!W$1","v":0}]
[{"$f":"'Absorbance Data'!D2724","v":422.15890502929688},{"$f":"'Absorbance Data'!E2724-Calculations!B$1","v":0},{"$f":"'Absorbance Data'!F2724-Calculations!C$1","v":0},{"$f":"'Absorbance Data'!G2724-Calculations!D$1","v":0},{"$f":"'Absorbance Data'!H2724-Calculations!E$1","v":0},{"$f":"'Absorbance Data'!I2724-Calculations!F$1","v":0},{"$f":"'Absorbance Data'!J2724-Calculations!G$1","v":0},{"$f":"'Absorbance Data'!K2724-Calculations!H$1","v":0},{"$f":"'Absorbance Data'!L2724-Calculations!I$1","v":0},{"$f":"'Absorbance Data'!M2724-Calculations!J$1","v":0},{"$f":"'Absorbance Data'!N2724-Calculations!K$1","v":0},{"$f":"'Absorbance Data'!O2724-Calculations!L$1","v":0},{"$f":"'Absorbance Data'!P2724-Calculations!M$1","v":0},{"$f":"'Absorbance Data'!Q2724-Calculations!N$1","v":0},{"$f":"'Absorbance Data'!R2724-Calculations!O$1","v":0},{"$f":"'Absorbance Data'!S2724-Calculations!P$1","v":0},{"$f":"'Absorbance Data'!T2724-Calculations!Q$1","v":0},{"$f":"'Absorbance Data'!U2724-Calculations!R$1","v":0},{"$f":"'Absorbance Data'!V2724-Calculations!S$1","v":0},{"$f":"'Absorbance Data'!W2724-Calculations!T$1","v":0},{"$f":"'Absorbance Data'!X2724-Calculations!U$1","v":0},{"$f":"'Absorbance Data'!Y2724-Calculations!V$1","v":0},{"$f":"'Absorbance Data'!Z2724-Calculations!W$1","v":0}]
[{"$f":"'Absorbance Data'!D2725","v":422.4993896484375},{"$f":"'Absorbance Data'!E2725-Calculations!B$1","v":0},{"$f":"'Absorbance Data'!F2725-Calculations!C$1","v":0},{"$f":"'Absorbance Data'!G2725-Calculations!D$1","v":0},{"$f":"'Absorbance Data'!H2725-Calculations!E$1","v":0},{"$f":"'Absorbance Data'!I2725-Calculations!F$1","v":0},{"$f":"'Absorbance Data'!J2725-Calculations!G$1","v":0},{"$f":"'Absorbance Data'!K2725-Calculations!H$1","v":0},{"$f":"'Absorbance Data'!L2725-Calculations!I$1","v":0},{"$f":"'Absorbance Data'!M2725-Calculations!J$1","v":0},{"$f":"'Absorbance Data'!N2725-Calculations!K$1","v":0},{"$f":"'Absorbance Data'!O2725-Calculations!L$1","v":0},{"$f":"'Absorbance Data'!P2725-Calculations!M$1","v":0},{"$f":"'Absorbance Data'!Q2725-Calculations!N$1","v":0},{"$f":"'Absorbance Data'!R2725-Calculations!O$1","v":0},{"$f":"'Absorbance Data'!S2725-Calculations!P$1","v":0},{"$f":"'Absorbance Data'!T2725-Calculations!Q$1","v":0},{"$f":"'Absorbance Data'!U2725-Calculations!R$1","v":0},{"$f":"'Absorbance Data'!V2725-Calculations!S$1","v":0},{"$f":"'Absorbance Data'!W2725-Calculations!T$1","v":0},{"$f":"'Absorbance Data'!X2725-Calculations!U$1","v":0},{"$f":"'Absorbance Data'!Y2725-Calculations!V$1","v":0},{"$f":"'Absorbance Data'!Z2725-Calculations!W$1","v":0}]
[{"$f":"'Absorbance Data'!D2726","v":422.83984375},{"$f":"'Absorbance Data'!E2726-Calculations!B$1","v":0},{"$f":"'Absorbance Data'!F2726-Calculations!C$1","v":0},{"$f":"'Absorbance Data'!G2726-Calculations!D$1","v":0},{"$f":"'Absorbance Data'!H2726-Calculations!E$1","v":0},{"$f":"'Absorbance Data'!I2726-Calculations!F$1","v":0},{"$f":"'Absorbance Data'!J2726-Calculations!G$1","v":0},{"$f":"'Absorbance Data'!K2726-Calculations!H$1","v":0},{"$f":"'Absorbance Data'!L2726-Calculations!I$1","v":0},{"$f":"'Absorbance Data'!M2726-Calculations!J$1","v":0},{"$f":"'Absorbance Data'!N2726-Calculations!K$1","v":0},{"$f":"'Absorbance Data'!O2726-Calculations!L$1","v":0},{"$f":"'Absorbance Data'!P2726-Calculations!M$1","v":0},{"$f":"'Absorbance Data'!Q2726-Calculations!N$1","v":0},{"$f":"'Absorbance Data'!R2726-Calculations!O$1","v":0},{"$f":"'Absorbance Data'!S2726-Calculations!P$1","v":0},{"$f":"'Absorbance Data'!T2726-Calculations!Q$1","v":0},{"$f":"'Absorbance Data'!U2726-Calculations!R$1","v":0},{"$f":"'Absorbance Data'!V2726-Calculations!S$1","v":0},{"$f":"'Absorbance Data'!W2726-Calculations!T$1","v":0},{"$f":"'Absorbance Data'!X2726-Calculations!U$1","v":0},{"$f":"'Absorbance Data'!Y2726-Calculations!V$1","v":0},{"$f":"'Absorbance Data'!Z2726-Calculations!W$1","v":0}]
[{"$f":"'Absorbance Data'!D2727","v":423.18023681640625},{"$f":"'Absorbance Data'!E2727-Calculations!B$1","v":0},{"$f":"'Absorbance Data'!F2727-Calculations!C$1","v":0},{"$f":"'Absorbance Data'!G2727-Calculations!D$1","v":0},{"$f":"'Absorbance Data'!H2727-Calculations!E$1","v":0},{"$f":"'Absorbance Data'!I2727-Calculations!F$1","v":0},{"$f":"'Absorbance Data'!J2727-Calculations!G$1","v":0},{"$f":"'Absorbance Data'!K2727-Calculations!H$1","v":0},{"$f":"'Absorbance Data'!L2727-Calculations!I$1","v":0},{"$f":"'Absorbance Data'!M2727-Calculations!J$1","v":0},{"$f":"'Absorbance Data'!N2727-Calculations!K$1","v":0},{"$f":"'Absorbance Data'!O2727-Calculations!L$1","v":0},{"$f":"'Absorbance Data'!P2727-Calculations!M$1","v":0},{"$f":"'Absorbance Data'!Q2727-Calculations!N$1","v":0},{"$f":"'Absorbance Data'!R2727-Calculations!O$1","v":0},{"$f":"'Absorbance Data'!S2727-Calculations!P$1","v":0},{"$f":"'Absorbance Data'!T2727-Calculations!Q$1","v":0},{"$f":"'Absorbance Data'!U2727-Calculations!R$1","v":0},{"$f":"'Absorbance Data'!V2727-Calculations!S$1","v":0},{"$f":"'Absorbance Data'!W2727-Calculations!T$1","v":0},{"$f":"'Absorbance Data'!X2727-Calculations!U$1","v":0},{"$f":"'Absorbance Data'!Y2727-Calculations!V$1","v":0},{"$f":"'Absorbance Data'!Z2727-Calculations!W$1","v":0}]
[{"$f":"'Absorbance Data'!D2728","v":423.5206298828125},{"$f":"'Absorbance Data'!E2728-Calculations!B$1","v":0},{"$f":"'Absorbance Data'!F2728-Calculations!C$1","v":0},{"$f":"'Absorbance Data'!G2728-Calculations!D$1","v":0},{"$f":"'Absorbance Data'!H2728-Calculations!E$1","v":0},{"$f":"'Absorbance Data'!I2728-Calculations!F$1","v":0},{"$f":"'Absorbance Data'!J2728-Calculations!G$1","v":0},{"$f":"'Absorbance Data'!K2728-Calculations!H$1","v":0},{"$f":"'Absorbance Data'!L2728-Calculations!I$1","v":0},{"$f":"'Absorbance Data'!M2728-Calculations!J$1","v":0},{"$f":"'Absorbance Data'!N2728-Calculations!K$1","v":0},{"$f":"'Absorbance Data'!O2728-Calculations!L$1","v":0},{"$f":"'Absorbance Data'!P2728-Calculations!M$1","v":0},{"$f":"'Absorbance Data'!Q2728-Calculations!N$1","v":0},{"$f":"'Absorbance Data'!R2728-Calculations!O$1","v":0},{"$f":"'Absorbance Data'!S2728-Calculations!P$1","v":0},{"$f":"'Absorbance Data'!T2728-Calculations!Q$1","v":0},{"$f":"'Absorbance Data'!U2728-Calculations!R$1","v":0},{"$f":"'Absorbance Data'!V2728-Calculations!S$1","v":0},{"$f":"'Absorbance Data'!W2728-Calculations!T$1","v":0},{"$f":"'Absorbance Data'!X2728-Calculations!U$1","v":0},{"$f":"'Absorbance Data'!Y2728-Calculations!V$1","v":0},{"$f":"'Absorbance Data'!Z2728-Calculations!W$1","v":0}]
[{"$f":"'Absorbance Data'!D2729","v":423.8609619140625},{"$f":"'Absorbance Data'!E2729-Calculations!B$1","v":0},{"$f":"'Absorbance Data'!F2729-Calculations!C$1","v":0},{"$f":"'Absorbance Data'!G2729-Calculations!D$1","v":0},{"$f":"'Absorbance Data'!H2729-Calculations!E$1","v":0},{"$f":"'Absorbance Data'!I2729-Calculations!F$1","v":0},{"$f":"'Absorbance Data'!J2729-Calculations!G$1","v":0},{"$f":"'Absorbance Data'!K2729-Calculations!H$1","v":0},{"$f":"'Absorbance Data'!L2729-Calculations!I$1","v":0},{"$f":"'Absorbance Data'!M2729-Calculations!J$1","v":0},{"$f":"'Absorbance Data'!N2729-Calculations!K$1","v":0},{"$f":"'Absorbance Data'!O2729-Calculations!L$1","v":0},{"$f":"'Absorbance Data'!P2729-Calculations!M$1","v":0},{"$f":"'Absorbance Data'!Q2729-Calculations!N$1","v":0},{"$f":"'Absorbance Data'!R2729-Calculations!O$1","v":0},{"$f":"'Absorbance Data'!S2729-Calculations!P$1","v":0},{"$f":"'Absorbance Data'!T2729-Calculations!Q$1","v":0},{"$f":"'Absorbance Data'!U2729-Calculations!R$1","v":0},{"$f":"'Absorbance Data'!V2729-Calculations!S$1","v":0},{"$f":"'Absorbance Data'!W2729-Calculations!T$1","v":0},{"$f":"'Absorbance Data'!X2729-Calculations!U$1","v":0},{"$f":"'Absorbance Data'!Y2729-Calculations!V$1","v":0},{"$f":"'Absorbance Data'!Z2729-Calculations!W$1","v":0}]
[{"$f":"'Absorbance Data'!D2730","v":424.2012939453125},{"$f":"'Absorbance Data'!E2730-Calculations!B$1","v":0},{"$f":"'Absorbance Data'!F2730-Calculations!C$1","v":0},{"$f":"'Absorbance Data'!G2730-Calculations!D$1","v":0},{"$f":"'Absorbance Data'!H2730-Calculations!E$1","v":0},{"$f":"'Absorbance Data'!I2730-Calculations!F$1","v":0},{"$f":"'Absorbance Data'!J2730-Calculations!G$1","v":0},{"$f":"'Absorbance Data'!K2730-Calculations!H$1","v":0},{"$f":"'Absorbance Data'!L2730-Calculations!I$1","v":0},{"$f":"'Absorbance Data'!M2730-Calculations!J$1","v":0},{"$f":"'Absorbance Data'!N2730-Calculations!K$1","v":0},{"$f":"'Absorbance Data'!O2730-Calculations!L$1","v":0},{"$f":"'Absorbance Data'!P2730-Calculations!M$1","v":0},{"$f":"'Absorbance Data'!Q2730-Calculations!N$1","v":0},{"$f":"'Absorbance Data'!R2730-Calculations!O$1","v":0},{"$f":"'Absorbance Data'!S2730-Calculations!P$1","v":0},{"$f":"'Absorbance Data'!T2730-Calculations!Q$1","v":0},{"$f":"'Absorbance Data'!U2730-Calculations!R$1","v":0},{"$f":"'Absorbance Data'!V2730-Calculations!S$1","v":0},{"$f":"'Absorbance Data'!W2730-Calculations!T$1","v":0},{"$f":"'Absorbance Data'!X2730-Calculations!U$1","v":0},{"$f":"'Absorbance Data'!Y2730-Calculations!V$1","v":0},{"$f":"'Absorbance Data'!Z2730-Calculations!W$1","v":0}]
[{"$f":"'Absorbance Data'!D2731","v":424.54156494140625},{"$f":"'Absorbance Data'!E2731-Calculations!B$1","v":0},{"$f":"'Absorbance Data'!F2731-Calculations!C$1","v":0},{"$f":"'Absorbance Data'!G2731-Calculations!D$1","v":0},{"$f":"'Absorbance Data'!H2731-Calculations!E$1","v":0},{"$f":"'Absorbance Data'!I2731-Calculations!F$1","v":0},{"$f":"'Absorbance Data'!J2731-Calculations!G$1","v":0},{"$f":"'Absorbance Data'!K2731-Calculations!H$1","v":0},{"$f":"'Absorbance Data'!L2731-Calculations!I$1","v":0},{"$f":"'Absorbance Data'!M2731-Calculations!J$1","v":0},{"$f":"'Absorbance Data'!N2731-Calculations!K$1","v":0},{"$f":"'Absorbance Data'!O2731-Calculations!L$1","v":0},{"$f":"'Absorbance Data'!P2731-Calculations!M$1","v":0},{"$f":"'Absorbance Data'!Q2731-Calculations!N$1","v":0},{"$f":"'Absorbance Data'!R2731-Calculations!O$1","v":0},{"$f":"'Absorbance Data'!S2731-Calculations!P$1","v":0},{"$f":"'Absorbance Data'!T2731-Calculations!Q$1","v":0},{"$f":"'Absorbance Data'!U2731-Calculations!R$1","v":0},{"$f":"'Absorbance Data'!V2731-Calculations!S$1","v":0},{"$f":"'Absorbance Data'!W2731-Calculations!T$1","v":0},{"$f":"'Absorbance Data'!X2731-Calculations!U$1","v":0},{"$f":"'Absorbance Data'!Y2731-Calculations!V$1","v":0},{"$f":"'Absorbance Data'!Z2731-Calculations!W$1","v":0}]
[{"$f":"'Absorbance Data'!D2732","v":424.88180541992188},{"$f":"'Absorbance Data'!E2732-Calculations!B$1","v":0},{"$f":"'Absorbance Data'!F2732-Calculations!C$1","v":0},{"$f":"'Absorbance Data'!G2732-Calculations!D$1","v":0},{"$f":"'Absorbance Data'!H2732-Calculations!E$1","v":0},{"$f":"'Absorbance Data'!I2732-Calculations!F$1","v":0},{"$f":"'Absorbance Data'!J2732-Calculations!G$1","v":0},{"$f":"'Absorbance Data'!K2732-Calculations!H$1","v":0},{"$f":"'Absorbance Data'!L2732-Calculations!I$1","v":0},{"$f":"'Absorbance Data'!M2732-Calculations!J$1","v":0},{"$f":"'Absorbance Data'!N2732-Calculations!K$1","v":0},{"$f":"'Absorbance Data'!O2732-Calculations!L$1","v":0},{"$f":"'Absorbance Data'!P2732-Calculations!M$1","v":0},{"$f":"'Absorbance Data'!Q2732-Calculations!N$1","v":0},{"$f":"'Absorbance Data'!R2732-Calculations!O$1","v":0},{"$f":"'Absorbance Data'!S2732-Calculations!P$1","v":0},{"$f":"'Absorbance Data'!T2732-Calculations!Q$1","v":0},{"$f":"'Absorbance Data'!U2732-Calculations!R$1","v":0},{"$f":"'Absorbance Data'!V2732-Calculations!S$1","v":0},{"$f":"'Absorbance Data'!W2732-Calculations!T$1","v":0},{"$f":"'Absorbance Data'!X2732-Calculations!U$1","v":0},{"$f":"'Absorbance Data'!Y2732-Calculations!V$1","v":0},{"$f":"'Absorbance Data'!Z2732-Calculations!W$1","v":0}]
[{"$f":"'Absorbance Data'!D2733","v":425.2220458984375},{"$f":"'Absorbance Data'!E2733-Calculations!B$1","v":0},{"$f":"'Absorbance Data'!F2733-Calculations!C$1","v":0},{"$f":"'Absorbance Data'!G2733-Calculations!D$1","v":0},{"$f":"'Absorbance Data'!H2733-Calculations!E$1","v":0},{"$f":"'Absorbance Data'!I2733-Calculations!F$1","v":0},{"$f":"'Absorbance Data'!J2733-Calculations!G$1","v":0},{"$f":"'Absorbance Data'!K2733-Calculations!H$1","v":0},{"$f":"'Absorbance Data'!L2733-Calculations!I$1","v":0},{"$f":"'Absorbance Data'!M2733-Calculations!J$1","v":0},{"$f":"'Absorbance Data'!N2733-Calculations!K$1","v":0},{"$f":"'Absorbance Data'!O2733-Calculations!L$1","v":0},{"$f":"'Absorbance Data'!P2733-Calculations!M$1","v":0},{"$f":"'Absorbance Data'!Q2733-Calculations!N$1","v":0},{"$f":"'Absorbance Data'!R2733-Calculations!O$1","v":0},{"$f":"'Absorbance Data'!S2733-Calculations!P$1","v":0},{"$f":"'Absorbance Data'!T2733-Calculations!Q$1","v":0},{"$f":"'Absorbance Data'!U2733-Calculations!R$1","v":0},{"$f":"'Absorbance Data'!V2733-Calculations!S$1","v":0},{"$f":"'Absorbance Data'!W2733-Calculations!T$1","v":0},{"$f":"'Absorbance Data'!X2733-Calculations!U$1","v":0},{"$f":"'Absorbance Data'!Y2733-Calculations!V$1","v":0},{"$f":"'Absorbance Data'!Z2733-Calculations!W$1","v":0}]
[{"$f":"'Absorbance Data'!D2734","v":425.56219482421875},{"$f":"'Absorbance Data'!E2734-Calculations!B$1","v":0},{"$f":"'Absorbance Data'!F2734-Calculations!C$1","v":0},{"$f":"'Absorbance Data'!G2734-Calculations!D$1","v":0},{"$f":"'Absorbance Data'!H2734-Calculations!E$1","v":0},{"$f":"'Absorbance Data'!I2734-Calculations!F$1","v":0},{"$f":"'Absorbance Data'!J2734-Calculations!G$1","v":0},{"$f":"'Absorbance Data'!K2734-Calculations!H$1","v":0},{"$f":"'Absorbance Data'!L2734-Calculations!I$1","v":0},{"$f":"'Absorbance Data'!M2734-Calculations!J$1","v":0},{"$f":"'Absorbance Data'!N2734-Calculations!K$1","v":0},{"$f":"'Absorbance Data'!O2734-Calculations!L$1","v":0},{"$f":"'Absorbance Data'!P2734-Calculations!M$1","v":0},{"$f":"'Absorbance Data'!Q2734-Calculations!N$1","v":0},{"$f":"'Absorbance Data'!R2734-Calculations!O$1","v":0},{"$f":"'Absorbance Data'!S2734-Calculations!P$1","v":0},{"$f":"'Absorbance Data'!T2734-Calculations!Q$1","v":0},{"$f":"'Absorbance Data'!U2734-Calculations!R$1","v":0},{"$f":"'Absorbance Data'!V2734-Calculations!S$1","v":0},{"$f":"'Absorbance Data'!W2734-Calculations!T$1","v":0},{"$f":"'Absorbance Data'!X2734-Calculations!U$1","v":0},{"$f":"'Absorbance Data'!Y2734-Calculations!V$1","v":0},{"$f":"'Absorbance Data'!Z2734-Calculations!W$1","v":0}]
[{"$f":"'Absorbance Data'!D2735","v":425.90237426757812},{"$f":"'Absorbance Data'!E2735-Calculations!B$1","v":0},{"$f":"'Absorbance Data'!F2735-Calculations!C$1","v":0},{"$f":"'Absorbance Data'!G2735-Calculations!D$1","v":0},{"$f":"'Absorbance Data'!H2735-Calculations!E$1","v":0},{"$f":"'Absorbance Data'!I2735-Calculations!F$1","v":0},{"$f":"'Absorbance Data'!J2735-Calculations!G$1","v":0},{"$f":"'Absorbance Data'!K2735-Calculations!H$1","v":0},{"$f":"'Absorbance Data'!L2735-Calculations!I$1","v":0},{"$f":"'Absorbance Data'!M2735-Calculations!J$1","v":0},{"$f":"'Absorbance Data'!N2735-Calculations!K$1","v":0},{"$f":"'Absorbance Data'!O2735-Calculations!L$1","v":0},{"$f":"'Absorbance Data'!P2735-Calculations!M$1","v":0},{"$f":"'Absorbance Data'!Q2735-Calculations!N$1","v":0},{"$f":"'Absorbance Data'!R2735-Calculations!O$1","v":0},{"$f":"'Absorbance Data'!S2735-Calculations!P$1","v":0},{"$f":"'Absorbance Data'!T2735-Calculations!Q$1","v":0},{"$f":"'Absorbance Data'!U2735-Calculations!R$1","v":0},{"$f":"'Absorbance Data'!V2735-Calculations!S$1","v":0},{"$f":"'Absorbance Data'!W2735-Calculations!T$1","v":0},{"$f":"'Absorbance Data'!X2735-Calculations!U$1","v":0},{"$f":"'Absorbance Data'!Y2735-Calculations!V$1","v":0},{"$f":"'Absorbance Data'!Z2735-Calculations!W$1","v":0}]
[{"$f":"'Absorbance Data'!D2736","v":426.242431640625},{"$f":"'Absorbance Data'!E2736-Calculations!B$1","v":0},{"$f":"'Absorbance Data'!F2736-Calculations!C$1","v":0},{"$f":"'Absorbance Data'!G2736-Calculations!D$1","v":0},{"$f":"'Absorbance Data'!H2736-Calculations!E$1","v":0},{"$f":"'Absorbance Data'!I2736-Calculations!F$1","v":0},{"$f":"'Absorbance Data'!J2736-Calculations!G$1","v":0},{"$f":"'Absorbance Data'!K2736-Calculations!H$1","v":0},{"$f":"'Absorbance Data'!L2736-Calculations!I$1","v":0},{"$f":"'Absorbance Data'!M2736-Calculations!J$1","v":0},{"$f":"'Absorbance Data'!N2736-Calculations!K$1","v":0},{"$f":"'Absorbance Data'!O2736-Calculations!L$1","v":0},{"$f":"'Absorbance Data'!P2736-Calculations!M$1","v":0},{"$f":"'Absorbance Data'!Q2736-Calculations!N$1","v":0},{"$f":"'Absorbance Data'!R2736-Calculations!O$1","v":0},{"$f":"'Absorbance Data'!S2736-Calculations!P$1","v":0},{"$f":"'Absorbance Data'!T2736-Calculations!Q$1","v":0},{"$f":"'Absorbance Data'!U2736-Calculations!R$1","v":0},{"$f":"'Absorbance Data'!V2736-Calculations!S$1","v":0},{"$f":"'Absorbance Data'!W2736-Calculations!T$1","v":0},{"$f":"'Absorbance Data'!X2736-Calculations!U$1","v":0},{"$f":"'Absorbance Data'!Y2736-Calculations!V$1","v":0},{"$f":"'Absorbance Data'!Z2736-Calculations!W$1","v":0}]
[{"$f":"'Absorbance Data'!D2737","v":426.58251953125},{"$f":"'Absorbance Data'!E2737-Calculations!B$1","v":0},{"$f":"'Absorbance Data'!F2737-Calculations!C$1","v":0},{"$f":"'Absorbance Data'!G2737-Calculations!D$1","v":0},{"$f":"'Absorbance Data'!H2737-Calculations!E$1","v":0},{"$f":"'Absorbance Data'!I2737-Calculations!F$1","v":0},{"$f":"'Absorbance Data'!J2737-Calculations!G$1","v":0},{"$f":"'Absorbance Data'!K2737-Calculations!H$1","v":0},{"$f":"'Absorbance Data'!L2737-Calculations!I$1","v":0},{"$f":"'Absorbance Data'!M2737-Calculations!J$1","v":0},{"$f":"'Absorbance Data'!N2737-Calculations!K$1","v":0},{"$f":"'Absorbance Data'!O2737-Calculations!L$1","v":0},{"$f":"'Absorbance Data'!P2737-Calculations!M$1","v":0},{"$f":"'Absorbance Data'!Q2737-Calculations!N$1","v":0},{"$f":"'Absorbance Data'!R2737-Calculations!O$1","v":0},{"$f":"'Absorbance Data'!S2737-Calculations!P$1","v":0},{"$f":"'Absorbance Data'!T2737-Calculations!Q$1","v":0},{"$f":"'Absorbance Data'!U2737-Calculations!R$1","v":0},{"$f":"'Absorbance Data'!V2737-Calculations!S$1","v":0},{"$f":"'Absorbance Data'!W2737-Calculations!T$1","v":0},{"$f":"'Absorbance Data'!X2737-Calculations!U$1","v":0},{"$f":"'Absorbance Data'!Y2737-Calculations!V$1","v":0},{"$f":"'Absorbance Data'!Z2737-Calculations!W$1","v":0}]
[{"$f":"'Absorbance Data'!D2738","v":426.92254638671875},{"$f":"'Absorbance Data'!E2738-Calculations!B$1","v":0},{"$f":"'Absorbance Data'!F2738-Calculations!C$1","v":0},{"$f":"'Absorbance Data'!G2738-Calculations!D$1","v":0},{"$f":"'Absorbance Data'!H2738-Calculations!E$1","v":0},{"$f":"'Absorbance Data'!I2738-Calculations!F$1","v":0},{"$f":"'Absorbance Data'!J2738-Calculations!G$1","v":0},{"$f":"'Absorbance Data'!K2738-Calculations!H$1","v":0},{"$f":"'Absorbance Data'!L2738-Calculations!I$1","v":0},{"$f":"'Absorbance Data'!M2738-Calculations!J$1","v":0},{"$f":"'Absorbance Data'!N2738-Calculations!K$1","v":0},{"$f":"'Absorbance Data'!O2738-Calculations!L$1","v":0},{"$f":"'Absorbance Data'!P2738-Calculations!M$1","v":0},{"$f":"'Absorbance Data'!Q2738-Calculations!N$1","v":0},{"$f":"'Absorbance Data'!R2738-Calculations!O$1","v":0},{"$f":"'Absorbance Data'!S2738-Calculations!P$1","v":0},{"$f":"'Absorbance Data'!T2738-Calculations!Q$1","v":0},{"$f":"'Absorbance Data'!U2738-Calculations!R$1","v":0},{"$f":"'Absorbance Data'!V2738-Calculations!S$1","v":0},{"$f":"'Absorbance Data'!W2738-Calculations!T$1","v":0},{"$f":"'Absorbance Data'!X2738-Calculations!U$1","v":0},{"$f":"'Absorbance Data'!Y2738-Calculations!V$1","v":0},{"$f":"'Absorbance Data'!Z2738-Calculations!W$1","v":0}]
[{"$f":"'Absorbance Data'!D2739","v":427.2625732421875},{"$f":"'Absorbance Data'!E2739-Calculations!B$1","v":0},{"$f":"'Absorbance Data'!F2739-Calculations!C$1","v":0},{"$f":"'Absorbance Data'!G2739-Calculations!D$1","v":0},{"$f":"'Absorbance Data'!H2739-Calculations!E$1","v":0},{"$f":"'Absorbance Data'!I2739-Calculations!F$1","v":0},{"$f":"'Absorbance Data'!J2739-Calculations!G$1","v":0},{"$f":"'Absorbance Data'!K2739-Calculations!H$1","v":0},{"$f":"'Absorbance Data'!L2739-Calculations!I$1","v":0},{"$f":"'Absorbance Data'!M2739-Calculations!J$1","v":0},{"$f":"'Absorbance Data'!N2739-Calculations!K$1","v":0},{"$f":"'Absorbance Data'!O2739-Calculations!L$1","v":0},{"$f":"'Absorbance Data'!P2739-Calculations!M$1","v":0},{"$f":"'Absorbance Data'!Q2739-Calculations!N$1","v":0},{"$f":"'Absorbance Data'!R2739-Calculations!O$1","v":0},{"$f":"'Absorbance Data'!S2739-Calculations!P$1","v":0},{"$f":"'Absorbance Data'!T2739-Calculations!Q$1","v":0},{"$f":"'Absorbance Data'!U2739-Calculations!R$1","v":0},{"$f":"'Absorbance Data'!V2739-Calculations!S$1","v":0},{"$f":"'Absorbance Data'!W2739-Calculations!T$1","v":0},{"$f":"'Absorbance Data'!X2739-Calculations!U$1","v":0},{"$f":"'Absorbance Data'!Y2739-Calculations!V$1","v":0},{"$f":"'Absorbance Data'!Z2739-Calculations!W$1","v":0}]
[{"$f":"'Absorbance Data'!D2740","v":427.60250854492188},{"$f":"'Absorbance Data'!E2740-Calculations!B$1","v":0},{"$f":"'Absorbance Data'!F2740-Calculations!C$1","v":0},{"$f":"'Absorbance Data'!G2740-Calculations!D$1","v":0},{"$f":"'Absorbance Data'!H2740-Calculations!E$1","v":0},{"$f":"'Absorbance Data'!I2740-Calculations!F$1","v":0},{"$f":"'Absorbance Data'!J2740-Calculations!G$1","v":0},{"$f":"'Absorbance Data'!K2740-Calculations!H$1","v":0},{"$f":"'Absorbance Data'!L2740-Calculations!I$1","v":0},{"$f":"'Absorbance Data'!M2740-Calculations!J$1","v":0},{"$f":"'Absorbance Data'!N2740-Calculations!K$1","v":0},{"$f":"'Absorbance Data'!O2740-Calculations!L$1","v":0},{"$f":"'Absorbance Data'!P2740-Calculations!M$1","v":0},{"$f":"'Absorbance Data'!Q2740-Calculations!N$1","v":0},{"$f":"'Absorbance Data'!R2740-Calculations!O$1","v":0},{"$f":"'Absorbance Data'!S2740-Calculations!P$1","v":0},{"$f":"'Absorbance Data'!T2740-Calculations!Q$1","v":0},{"$f":"'Absorbance Data'!U2740-Calculations!R$1","v":0},{"$f":"'Absorbance Data'!V2740-Calculations!S$1","v":0},{"$f":"'Absorbance Data'!W2740-Calculations!T$1","v":0},{"$f":"'Absorbance Data'!X2740-Calculations!U$1","v":0},{"$f":"'Absorbance Data'!Y2740-Calculations!V$1","v":0},{"$f":"'Absorbance Data'!Z2740-Calculations!W$1","v":0}]
[{"$f":"'Absorbance Data'!D2741","v":427.9425048828125},{"$f":"'Absorbance Data'!E2741-Calculations!B$1","v":0},{"$f":"'Absorbance Data'!F2741-Calculations!C$1","v":0},{"$f":"'Absorbance Data'!G2741-Calculations!D$1","v":0},{"$f":"'Absorbance Data'!H2741-Calculations!E$1","v":0},{"$f":"'Absorbance Data'!I2741-Calculations!F$1","v":0},{"$f":"'Absorbance Data'!J2741-Calculations!G$1","v":0},{"$f":"'Absorbance Data'!K2741-Calculations!H$1","v":0},{"$f":"'Absorbance Data'!L2741-Calculations!I$1","v":0},{"$f":"'Absorbance Data'!M2741-Calculations!J$1","v":0},{"$f":"'Absorbance Data'!N2741-Calculations!K$1","v":0},{"$f":"'Absorbance Data'!O2741-Calculations!L$1","v":0},{"$f":"'Absorbance Data'!P2741-Calculations!M$1","v":0},{"$f":"'Absorbance Data'!Q2741-Calculations!N$1","v":0},{"$f":"'Absorbance Data'!R2741-Calculations!O$1","v":0},{"$f":"'Absorbance Data'!S2741-Calculations!P$1","v":0},{"$f":"'Absorbance Data'!T2741-Calculations!Q$1","v":0},{"$f":"'Absorbance Data'!U2741-Calculations!R$1","v":0},{"$f":"'Absorbance Data'!V2741-Calculations!S$1","v":0},{"$f":"'Absorbance Data'!W2741-Calculations!T$1","v":0},{"$f":"'Absorbance Data'!X2741-Calculations!U$1","v":0},{"$f":"'Absorbance Data'!Y2741-Calculations!V$1","v":0},{"$f":"'Absorbance Data'!Z2741-Calculations!W$1","v":0}]
[{"$f":"'Absorbance Data'!D2742","v":428.28237915039062},{"$f":"'Absorbance Data'!E2742-Calculations!B$1","v":0},{"$f":"'Absorbance Data'!F2742-Calculations!C$1","v":0},{"$f":"'Absorbance Data'!G2742-Calculations!D$1","v":0},{"$f":"'Absorbance Data'!H2742-Calculations!E$1","v":0},{"$f":"'Absorbance Data'!I2742-Calculations!F$1","v":0},{"$f":"'Absorbance Data'!J2742-Calculations!G$1","v":0},{"$f":"'Absorbance Data'!K2742-Calculations!H$1","v":0},{"$f":"'Absorbance Data'!L2742-Calculations!I$1","v":0},{"$f":"'Absorbance Data'!M2742-Calculations!J$1","v":0},{"$f":"'Absorbance Data'!N2742-Calculations!K$1","v":0},{"$f":"'Absorbance Data'!O2742-Calculations!L$1","v":0},{"$f":"'Absorbance Data'!P2742-Calculations!M$1","v":0},{"$f":"'Absorbance Data'!Q2742-Calculations!N$1","v":0},{"$f":"'Absorbance Data'!R2742-Calculations!O$1","v":0},{"$f":"'Absorbance Data'!S2742-Calculations!P$1","v":0},{"$f":"'Absorbance Data'!T2742-Calculations!Q$1","v":0},{"$f":"'Absorbance Data'!U2742-Calculations!R$1","v":0},{"$f":"'Absorbance Data'!V2742-Calculations!S$1","v":0},{"$f":"'Absorbance Data'!W2742-Calculations!T$1","v":0},{"$f":"'Absorbance Data'!X2742-Calculations!U$1","v":0},{"$f":"'Absorbance Data'!Y2742-Calculations!V$1","v":0},{"$f":"'Absorbance Data'!Z2742-Calculations!W$1","v":0}]
[{"$f":"'Absorbance Data'!D2743","v":428.62225341796875},{"$f":"'Absorbance Data'!E2743-Calculations!B$1","v":0},{"$f":"'Absorbance Data'!F2743-Calculations!C$1","v":0},{"$f":"'Absorbance Data'!G2743-Calculations!D$1","v":0},{"$f":"'Absorbance Data'!H2743-Calculations!E$1","v":0},{"$f":"'Absorbance Data'!I2743-Calculations!F$1","v":0},{"$f":"'Absorbance Data'!J2743-Calculations!G$1","v":0},{"$f":"'Absorbance Data'!K2743-Calculations!H$1","v":0},{"$f":"'Absorbance Data'!L2743-Calculations!I$1","v":0},{"$f":"'Absorbance Data'!M2743-Calculations!J$1","v":0},{"$f":"'Absorbance Data'!N2743-Calculations!K$1","v":0},{"$f":"'Absorbance Data'!O2743-Calculations!L$1","v":0},{"$f":"'Absorbance Data'!P2743-Calculations!M$1","v":0},{"$f":"'Absorbance Data'!Q2743-Calculations!N$1","v":0},{"$f":"'Absorbance Data'!R2743-Calculations!O$1","v":0},{"$f":"'Absorbance Data'!S2743-Calculations!P$1","v":0},{"$f":"'Absorbance Data'!T2743-Calculations!Q$1","v":0},{"$f":"'Absorbance Data'!U2743-Calculations!R$1","v":0},{"$f":"'Absorbance Data'!V2743-Calculations!S$1","v":0},{"$f":"'Absorbance Data'!W2743-Calculations!T$1","v":0},{"$f":"'Absorbance Data'!X2743-Calculations!U$1","v":0},{"$f":"'Absorbance Data'!Y2743-Calculations!V$1","v":0},{"$f":"'Absorbance Data'!Z2743-Calculations!W$1","v":0}]
[{"$f":"'Absorbance Data'!D2744","v":428.9620361328125},{"$f":"'Absorbance Data'!E2744-Calculations!B$1","v":0},{"$f":"'Absorbance Data'!F2744-Calculations!C$1","v":0},{"$f":"'Absorbance Data'!G2744-Calculations!D$1","v":0},{"$f":"'Absorbance Data'!H2744-Calculations!E$1","v":0},{"$f":"'Absorbance Data'!I2744-Calculations!F$1","v":0},{"$f":"'Absorbance Data'!J2744-Calculations!G$1","v":0},{"$f":"'Absorbance Data'!K2744-Calculations!H$1","v":0},{"$f":"'Absorbance Data'!L2744-Calculations!I$1","v":0},{"$f":"'Absorbance Data'!M2744-Calculations!J$1","v":0},{"$f":"'Absorbance Data'!N2744-Calculations!K$1","v":0},{"$f":"'Absorbance Data'!O2744-Calculations!L$1","v":0},{"$f":"'Absorbance Data'!P2744-Calculations!M$1","v":0},{"$f":"'Absorbance Data'!Q2744-Calculations!N$1","v":0},{"$f":"'Absorbance Data'!R2744-Calculations!O$1","v":0},{"$f":"'Absorbance Data'!S2744-Calculations!P$1","v":0},{"$f":"'Absorbance Data'!T2744-Calculations!Q$1","v":0},{"$f":"'Absorbance Data'!U2744-Calculations!R$1","v":0},{"$f":"'Absorbance Data'!V2744-Calculations!S$1","v":0},{"$f":"'Absorbance Data'!W2744-Calculations!T$1","v":0},{"$f":"'Absorbance Data'!X2744-Calculations!U$1","v":0},{"$f":"'Absorbance Data'!Y2744-Calculations!V$1","v":0},{"$f":"'Absorbance Data'!Z2744-Calculations!W$1","v":0}]
[{"$f":"'Absorbance Data'!D2745","v":429.3018798828125},{"$f":"'Absorbance Data'!E2745-Calculations!B$1","v":0},{"$f":"'Absorbance Data'!F2745-Calculations!C$1","v":0},{"$f":"'Absorbance Data'!G2745-Calculations!D$1","v":0},{"$f":"'Absorbance Data'!H2745-Calculations!E$1","v":0},{"$f":"'Absorbance Data'!I2745-Calculations!F$1","v":0},{"$f":"'Absorbance Data'!J2745-Calculations!G$1","v":0},{"$f":"'Absorbance Data'!K2745-Calculations!H$1","v":0},{"$f":"'Absorbance Data'!L2745-Calculations!I$1","v":0},{"$f":"'Absorbance Data'!M2745-Calculations!J$1","v":0},{"$f":"'Absorbance Data'!N2745-Calculations!K$1","v":0},{"$f":"'Absorbance Data'!O2745-Calculations!L$1","v":0},{"$f":"'Absorbance Data'!P2745-Calculations!M$1","v":0},{"$f":"'Absorbance Data'!Q2745-Calculations!N$1","v":0},{"$f":"'Absorbance Data'!R2745-Calculations!O$1","v":0},{"$f":"'Absorbance Data'!S2745-Calculations!P$1","v":0},{"$f":"'Absorbance Data'!T2745-Calculations!Q$1","v":0},{"$f":"'Absorbance Data'!U2745-Calculations!R$1","v":0},{"$f":"'Absorbance Data'!V2745-Calculations!S$1","v":0},{"$f":"'Absorbance Data'!W2745-Calculations!T$1","v":0},{"$f":"'Absorbance Data'!X2745-Calculations!U$1","v":0},{"$f":"'Absorbance Data'!Y2745-Calculations!V$1","v":0},{"$f":"'Absorbance Data'!Z2745-Calculations!W$1","v":0}]
[{"$f":"'Absorbance Data'!D2746","v":429.64163208007812},{"$f":"'Absorbance Data'!E2746-Calculations!B$1","v":0},{"$f":"'Absorbance Data'!F2746-Calculations!C$1","v":0},{"$f":"'Absorbance Data'!G2746-Calculations!D$1","v":0},{"$f":"'Absorbance Data'!H2746-Calculations!E$1","v":0},{"$f":"'Absorbance Data'!I2746-Calculations!F$1","v":0},{"$f":"'Absorbance Data'!J2746-Calculations!G$1","v":0},{"$f":"'Absorbance Data'!K2746-Calculations!H$1","v":0},{"$f":"'Absorbance Data'!L2746-Calculations!I$1","v":0},{"$f":"'Absorbance Data'!M2746-Calculations!J$1","v":0},{"$f":"'Absorbance Data'!N2746-Calculations!K$1","v":0},{"$f":"'Absorbance Data'!O2746-Calculations!L$1","v":0},{"$f":"'Absorbance Data'!P2746-Calculations!M$1","v":0},{"$f":"'Absorbance Data'!Q2746-Calculations!N$1","v":0},{"$f":"'Absorbance Data'!R2746-Calculations!O$1","v":0},{"$f":"'Absorbance Data'!S2746-Calculations!P$1","v":0},{"$f":"'Absorbance Data'!T2746-Calculations!Q$1","v":0},{"$f":"'Absorbance Data'!U2746-Calculations!R$1","v":0},{"$f":"'Absorbance Data'!V2746-Calculations!S$1","v":0},{"$f":"'Absorbance Data'!W2746-Calculations!T$1","v":0},{"$f":"'Absorbance Data'!X2746-Calculations!U$1","v":0},{"$f":"'Absorbance Data'!Y2746-Calculations!V$1","v":0},{"$f":"'Absorbance Data'!Z2746-Calculations!W$1","v":0}]
[{"$f":"'Absorbance Data'!D2747","v":429.98141479492188},{"$f":"'Absorbance Data'!E2747-Calculations!B$1","v":0},{"$f":"'Absorbance Data'!F2747-Calculations!C$1","v":0},{"$f":"'Absorbance Data'!G2747-Calculations!D$1","v":0},{"$f":"'Absorbance Data'!H2747-Calculations!E$1","v":0},{"$f":"'Absorbance Data'!I2747-Calculations!F$1","v":0},{"$f":"'Absorbance Data'!J2747-Calculations!G$1","v":0},{"$f":"'Absorbance Data'!K2747-Calculations!H$1","v":0},{"$f":"'Absorbance Data'!L2747-Calculations!I$1","v":0},{"$f":"'Absorbance Data'!M2747-Calculations!J$1","v":0},{"$f":"'Absorbance Data'!N2747-Calculations!K$1","v":0},{"$f":"'Absorbance Data'!O2747-Calculations!L$1","v":0},{"$f":"'Absorbance Data'!P2747-Calculations!M$1","v":0},{"$f":"'Absorbance Data'!Q2747-Calculations!N$1","v":0},{"$f":"'Absorbance Data'!R2747-Calculations!O$1","v":0},{"$f":"'Absorbance Data'!S2747-Calculations!P$1","v":0},{"$f":"'Absorbance Data'!T2747-Calculations!Q$1","v":0},{"$f":"'Absorbance Data'!U2747-Calculations!R$1","v":0},{"$f":"'Absorbance Data'!V2747-Calculations!S$1","v":0},{"$f":"'Absorbance Data'!W2747-Calculations!T$1","v":0},{"$f":"'Absorbance Data'!X2747-Calculations!U$1","v":0},{"$f":"'Absorbance Data'!Y2747-Calculations!V$1","v":0},{"$f":"'Absorbance Data'!Z2747-Calculations!W$1","v":0}]
[{"$f":"'Absorbance Data'!D2748","v":430.32110595703125},{"$f":"'Absorbance Data'!E2748-Calculations!B$1","v":0},{"$f":"'Absorbance Data'!F2748-Calculations!C$1","v":0},{"$f":"'Absorbance Data'!G2748-Calculations!D$1","v":0},{"$f":"'Absorbance Data'!H2748-Calculations!E$1","v":0},{"$f":"'Absorbance Data'!I2748-Calculations!F$1","v":0},{"$f":"'Absorbance Data'!J2748-Calculations!G$1","v":0},{"$f":"'Absorbance Data'!K2748-Calculations!H$1","v":0},{"$f":"'Absorbance Data'!L2748-Calculations!I$1","v":0},{"$f":"'Absorbance Data'!M2748-Calculations!J$1","v":0},{"$f":"'Absorbance Data'!N2748-Calculations!K$1","v":0},{"$f":"'Absorbance Data'!O2748-Calculations!L$1","v":0},{"$f":"'Absorbance Data'!P2748-Calculations!M$1","v":0},{"$f":"'Absorbance Data'!Q2748-Calculations!N$1","v":0},{"$f":"'Absorbance Data'!R2748-Calculations!O$1","v":0},{"$f":"'Absorbance Data'!S2748-Calculations!P$1","v":0},{"$f":"'Absorbance Data'!T2748-Calculations!Q$1","v":0},{"$f":"'Absorbance Data'!U2748-Calculations!R$1","v":0},{"$f":"'Absorbance Data'!V2748-Calculations!S$1","v":0},{"$f":"'Absorbance Data'!W2748-Calculations!T$1","v":0},{"$f":"'Absorbance Data'!X2748-Calculations!U$1","v":0},{"$f":"'Absorbance Data'!Y2748-Calculations!V$1","v":0},{"$f":"'Absorbance Data'!Z2748-Calculations!W$1","v":0}]
[{"$f":"'Absorbance Data'!D2749","v":430.6607666015625},{"$f":"'Absorbance Data'!E2749-Calculations!B$1","v":0},{"$f":"'Absorbance Data'!F2749-Calculations!C$1","v":0},{"$f":"'Absorbance Data'!G2749-Calculations!D$1","v":0},{"$f":"'Absorbance Data'!H2749-Calculations!E$1","v":0},{"$f":"'Absorbance Data'!I2749-Calculations!F$1","v":0},{"$f":"'Absorbance Data'!J2749-Calculations!G$1","v":0},{"$f":"'Absorbance Data'!K2749-Calculations!H$1","v":0},{"$f":"'Absorbance Data'!L2749-Calculations!I$1","v":0},{"$f":"'Absorbance Data'!M2749-Calculations!J$1","v":0},{"$f":"'Absorbance Data'!N2749-Calculations!K$1","v":0},{"$f":"'Absorbance Data'!O2749-Calculations!L$1","v":0},{"$f":"'Absorbance Data'!P2749-Calculations!M$1","v":0},{"$f":"'Absorbance Data'!Q2749-Calculations!N$1","v":0},{"$f":"'Absorbance Data'!R2749-Calculations!O$1","v":0},{"$f":"'Absorbance Data'!S2749-Calculations!P$1","v":0},{"$f":"'Absorbance Data'!T2749-Calculations!Q$1","v":0},{"$f":"'Absorbance Data'!U2749-Calculations!R$1","v":0},{"$f":"'Absorbance Data'!V2749-Calculations!S$1","v":0},{"$f":"'Absorbance Data'!W2749-Calculations!T$1","v":0},{"$f":"'Absorbance Data'!X2749-Calculations!U$1","v":0},{"$f":"'Absorbance Data'!Y2749-Calculations!V$1","v":0},{"$f":"'Absorbance Data'!Z2749-Calculations!W$1","v":0}]
[{"$f":"'Absorbance Data'!D2750","v":431.0003662109375},{"$f":"'Absorbance Data'!E2750-Calculations!B$1","v":0},{"$f":"'Absorbance Data'!F2750-Calculations!C$1","v":0},{"$f":"'Absorbance Data'!G2750-Calculations!D$1","v":0},{"$f":"'Absorbance Data'!H2750-Calculations!E$1","v":0},{"$f":"'Absorbance Data'!I2750-Calculations!F$1","v":0},{"$f":"'Absorbance Data'!J2750-Calculations!G$1","v":0},{"$f":"'Absorbance Data'!K2750-Calculations!H$1","v":0},{"$f":"'Absorbance Data'!L2750-Calculations!I$1","v":0},{"$f":"'Absorbance Data'!M2750-Calculations!J$1","v":0},{"$f":"'Absorbance Data'!N2750-Calculations!K$1","v":0},{"$f":"'Absorbance Data'!O2750-Calculations!L$1","v":0},{"$f":"'Absorbance Data'!P2750-Calculations!M$1","v":0},{"$f":"'Absorbance Data'!Q2750-Calculations!N$1","v":0},{"$f":"'Absorbance Data'!R2750-Calculations!O$1","v":0},{"$f":"'Absorbance Data'!S2750-Calculations!P$1","v":0},{"$f":"'Absorbance Data'!T2750-Calculations!Q$1","v":0},{"$f":"'Absorbance Data'!U2750-Calculations!R$1","v":0},{"$f":"'Absorbance Data'!V2750-Calculations!S$1","v":0},{"$f":"'Absorbance Data'!W2750-Calculations!T$1","v":0},{"$f":"'Absorbance Data'!X2750-Calculations!U$1","v":0},{"$f":"'Absorbance Data'!Y2750-Calculations!V$1","v":0},{"$f":"'Absorbance Data'!Z2750-Calculations!W$1","v":0}]
[{"$f":"'Absorbance Data'!D2751","v":431.33999633789062},{"$f":"'Absorbance Data'!E2751-Calculations!B$1","v":0},{"$f":"'Absorbance Data'!F2751-Calculations!C$1","v":0},{"$f":"'Absorbance Data'!G2751-Calculations!D$1","v":0},{"$f":"'Absorbance Data'!H2751-Calculations!E$1","v":0},{"$f":"'Absorbance Data'!I2751-Calculations!F$1","v":0},{"$f":"'Absorbance Data'!J2751-Calculations!G$1","v":0},{"$f":"'Absorbance Data'!K2751-Calculations!H$1","v":0},{"$f":"'Absorbance Data'!L2751-Calculations!I$1","v":0},{"$f":"'Absorbance Data'!M2751-Calculations!J$1","v":0},{"$f":"'Absorbance Data'!N2751-Calculations!K$1","v":0},{"$f":"'Absorbance Data'!O2751-Calculations!L$1","v":0},{"$f":"'Absorbance Data'!P2751-Calculations!M$1","v":0},{"$f":"'Absorbance Data'!Q2751-Calculations!N$1","v":0},{"$f":"'Absorbance Data'!R2751-Calculations!O$1","v":0},{"$f":"'Absorbance Data'!S2751-Calculations!P$1","v":0},{"$f":"'Absorbance Data'!T2751-Calculations!Q$1","v":0},{"$f":"'Absorbance Data'!U2751-Calculations!R$1","v":0},{"$f":"'Absorbance Data'!V2751-Calculations!S$1","v":0},{"$f":"'Absorbance Data'!W2751-Calculations!T$1","v":0},{"$f":"'Absorbance Data'!X2751-Calculations!U$1","v":0},{"$f":"'Absorbance Data'!Y2751-Calculations!V$1","v":0},{"$f":"'Absorbance Data'!Z2751-Calculations!W$1","v":0}]
[{"$f":"'Absorbance Data'!D2752","v":431.6795654296875},{"$f":"'Absorbance Data'!E2752-Calculations!B$1","v":0},{"$f":"'Absorbance Data'!F2752-Calculations!C$1","v":0},{"$f":"'Absorbance Data'!G2752-Calculations!D$1","v":0},{"$f":"'Absorbance Data'!H2752-Calculations!E$1","v":0},{"$f":"'Absorbance Data'!I2752-Calculations!F$1","v":0},{"$f":"'Absorbance Data'!J2752-Calculations!G$1","v":0},{"$f":"'Absorbance Data'!K2752-Calculations!H$1","v":0},{"$f":"'Absorbance Data'!L2752-Calculations!I$1","v":0},{"$f":"'Absorbance Data'!M2752-Calculations!J$1","v":0},{"$f":"'Absorbance Data'!N2752-Calculations!K$1","v":0},{"$f":"'Absorbance Data'!O2752-Calculations!L$1","v":0},{"$f":"'Absorbance Data'!P2752-Calculations!M$1","v":0},{"$f":"'Absorbance Data'!Q2752-Calculations!N$1","v":0},{"$f":"'Absorbance Data'!R2752-Calculations!O$1","v":0},{"$f":"'Absorbance Data'!S2752-Calculations!P$1","v":0},{"$f":"'Absorbance Data'!T2752-Calculations!Q$1","v":0},{"$f":"'Absorbance Data'!U2752-Calculations!R$1","v":0},{"$f":"'Absorbance Data'!V2752-Calculations!S$1","v":0},{"$f":"'Absorbance Data'!W2752-Calculations!T$1","v":0},{"$f":"'Absorbance Data'!X2752-Calculations!U$1","v":0},{"$f":"'Absorbance Data'!Y2752-Calculations!V$1","v":0},{"$f":"'Absorbance Data'!Z2752-Calculations!W$1","v":0}]
[{"$f":"'Absorbance Data'!D2753","v":432.01904296875},{"$f":"'Absorbance Data'!E2753-Calculations!B$1","v":0},{"$f":"'Absorbance Data'!F2753-Calculations!C$1","v":0},{"$f":"'Absorbance Data'!G2753-Calculations!D$1","v":0},{"$f":"'Absorbance Data'!H2753-Calculations!E$1","v":0},{"$f":"'Absorbance Data'!I2753-Calculations!F$1","v":0},{"$f":"'Absorbance Data'!J2753-Calculations!G$1","v":0},{"$f":"'Absorbance Data'!K2753-Calculations!H$1","v":0},{"$f":"'Absorbance Data'!L2753-Calculations!I$1","v":0},{"$f":"'Absorbance Data'!M2753-Calculations!J$1","v":0},{"$f":"'Absorbance Data'!N2753-Calculations!K$1","v":0},{"$f":"'Absorbance Data'!O2753-Calculations!L$1","v":0},{"$f":"'Absorbance Data'!P2753-Calculations!M$1","v":0},{"$f":"'Absorbance Data'!Q2753-Calculations!N$1","v":0},{"$f":"'Absorbance Data'!R2753-Calculations!O$1","v":0},{"$f":"'Absorbance Data'!S2753-Calculations!P$1","v":0},{"$f":"'Absorbance Data'!T2753-Calculations!Q$1","v":0},{"$f":"'Absorbance Data'!U2753-Calculations!R$1","v":0},{"$f":"'Absorbance Data'!V2753-Calculations!S$1","v":0},{"$f":"'Absorbance Data'!W2753-Calculations!T$1","v":0},{"$f":"'Absorbance Data'!X2753-Calculations!U$1","v":0},{"$f":"'Absorbance Data'!Y2753-Calculations!V$1","v":0},{"$f":"'Absorbance Data'!Z2753-Calculations!W$1","v":0}]
[{"$f":"'Absorbance Data'!D2754","v":432.35858154296875},{"$f":"'Absorbance Data'!E2754-Calculations!B$1","v":0},{"$f":"'Absorbance Data'!F2754-Calculations!C$1","v":0},{"$f":"'Absorbance Data'!G2754-Calculations!D$1","v":0},{"$f":"'Absorbance Data'!H2754-Calculations!E$1","v":0},{"$f":"'Absorbance Data'!I2754-Calculations!F$1","v":0},{"$f":"'Absorbance Data'!J2754-Calculations!G$1","v":0},{"$f":"'Absorbance Data'!K2754-Calculations!H$1","v":0},{"$f":"'Absorbance Data'!L2754-Calculations!I$1","v":0},{"$f":"'Absorbance Data'!M2754-Calculations!J$1","v":0},{"$f":"'Absorbance Data'!N2754-Calculations!K$1","v":0},{"$f":"'Absorbance Data'!O2754-Calculations!L$1","v":0},{"$f":"'Absorbance Data'!P2754-Calculations!M$1","v":0},{"$f":"'Absorbance Data'!Q2754-Calculations!N$1","v":0},{"$f":"'Absorbance Data'!R2754-Calculations!O$1","v":0},{"$f":"'Absorbance Data'!S2754-Calculations!P$1","v":0},{"$f":"'Absorbance Data'!T2754-Calculations!Q$1","v":0},{"$f":"'Absorbance Data'!U2754-Calculations!R$1","v":0},{"$f":"'Absorbance Data'!V2754-Calculations!S$1","v":0},{"$f":"'Absorbance Data'!W2754-Calculations!T$1","v":0},{"$f":"'Absorbance Data'!X2754-Calculations!U$1","v":0},{"$f":"'Absorbance Data'!Y2754-Calculations!V$1","v":0},{"$f":"'Absorbance Data'!Z2754-Calculations!W$1","v":0}]
[{"$f":"'Absorbance Data'!D2755","v":432.69802856445312},{"$f":"'Absorbance Data'!E2755-Calculations!B$1","v":0},{"$f":"'Absorbance Data'!F2755-Calculations!C$1","v":0},{"$f":"'Absorbance Data'!G2755-Calculations!D$1","v":0},{"$f":"'Absorbance Data'!H2755-Calculations!E$1","v":0},{"$f":"'Absorbance Data'!I2755-Calculations!F$1","v":0},{"$f":"'Absorbance Data'!J2755-Calculations!G$1","v":0},{"$f":"'Absorbance Data'!K2755-Calculations!H$1","v":0},{"$f":"'Absorbance Data'!L2755-Calculations!I$1","v":0},{"$f":"'Absorbance Data'!M2755-Calculations!J$1","v":0},{"$f":"'Absorbance Data'!N2755-Calculations!K$1","v":0},{"$f":"'Absorbance Data'!O2755-Calculations!L$1","v":0},{"$f":"'Absorbance Data'!P2755-Calculations!M$1","v":0},{"$f":"'Absorbance Data'!Q2755-Calculations!N$1","v":0},{"$f":"'Absorbance Data'!R2755-Calculations!O$1","v":0},{"$f":"'Absorbance Data'!S2755-Calculations!P$1","v":0},{"$f":"'Absorbance Data'!T2755-Calculations!Q$1","v":0},{"$f":"'Absorbance Data'!U2755-Calculations!R$1","v":0},{"$f":"'Absorbance Data'!V2755-Calculations!S$1","v":0},{"$f":"'Absorbance Data'!W2755-Calculations!T$1","v":0},{"$f":"'Absorbance Data'!X2755-Calculations!U$1","v":0},{"$f":"'Absorbance Data'!Y2755-Calculations!V$1","v":0},{"$f":"'Absorbance Data'!Z2755-Calculations!W$1","v":0}]
[{"$f":"'Absorbance Data'!D2756","v":433.03744506835938},{"$f":"'Absorbance Data'!E2756-Calculations!B$1","v":0},{"$f":"'Absorbance Data'!F2756-Calculations!C$1","v":0},{"$f":"'Absorbance Data'!G2756-Calculations!D$1","v":0},{"$f":"'Absorbance Data'!H2756-Calculations!E$1","v":0},{"$f":"'Absorbance Data'!I2756-Calculations!F$1","v":0},{"$f":"'Absorbance Data'!J2756-Calculations!G$1","v":0},{"$f":"'Absorbance Data'!K2756-Calculations!H$1","v":0},{"$f":"'Absorbance Data'!L2756-Calculations!I$1","v":0},{"$f":"'Absorbance Data'!M2756-Calculations!J$1","v":0},{"$f":"'Absorbance Data'!N2756-Calculations!K$1","v":0},{"$f":"'Absorbance Data'!O2756-Calculations!L$1","v":0},{"$f":"'Absorbance Data'!P2756-Calculations!M$1","v":0},{"$f":"'Absorbance Data'!Q2756-Calculations!N$1","v":0},{"$f":"'Absorbance Data'!R2756-Calculations!O$1","v":0},{"$f":"'Absorbance Data'!S2756-Calculations!P$1","v":0},{"$f":"'Absorbance Data'!T2756-Calculations!Q$1","v":0},{"$f":"'Absorbance Data'!U2756-Calculations!R$1","v":0},{"$f":"'Absorbance Data'!V2756-Calculations!S$1","v":0},{"$f":"'Absorbance Data'!W2756-Calculations!T$1","v":0},{"$f":"'Absorbance Data'!X2756-Calculations!U$1","v":0},{"$f":"'Absorbance Data'!Y2756-Calculations!V$1","v":0},{"$f":"'Absorbance Data'!Z2756-Calculations!W$1","v":0}]
[{"$f":"'Absorbance Data'!D2757","v":433.37686157226562},{"$f":"'Absorbance Data'!E2757-Calculations!B$1","v":0},{"$f":"'Absorbance Data'!F2757-Calculations!C$1","v":0},{"$f":"'Absorbance Data'!G2757-Calculations!D$1","v":0},{"$f":"'Absorbance Data'!H2757-Calculations!E$1","v":0},{"$f":"'Absorbance Data'!I2757-Calculations!F$1","v":0},{"$f":"'Absorbance Data'!J2757-Calculations!G$1","v":0},{"$f":"'Absorbance Data'!K2757-Calculations!H$1","v":0},{"$f":"'Absorbance Data'!L2757-Calculations!I$1","v":0},{"$f":"'Absorbance Data'!M2757-Calculations!J$1","v":0},{"$f":"'Absorbance Data'!N2757-Calculations!K$1","v":0},{"$f":"'Absorbance Data'!O2757-Calculations!L$1","v":0},{"$f":"'Absorbance Data'!P2757-Calculations!M$1","v":0},{"$f":"'Absorbance Data'!Q2757-Calculations!N$1","v":0},{"$f":"'Absorbance Data'!R2757-Calculations!O$1","v":0},{"$f":"'Absorbance Data'!S2757-Calculations!P$1","v":0},{"$f":"'Absorbance Data'!T2757-Calculations!Q$1","v":0},{"$f":"'Absorbance Data'!U2757-Calculations!R$1","v":0},{"$f":"'Absorbance Data'!V2757-Calculations!S$1","v":0},{"$f":"'Absorbance Data'!W2757-Calculations!T$1","v":0},{"$f":"'Absorbance Data'!X2757-Calculations!U$1","v":0},{"$f":"'Absorbance Data'!Y2757-Calculations!V$1","v":0},{"$f":"'Absorbance Data'!Z2757-Calculations!W$1","v":0}]
[{"$f":"'Absorbance Data'!D2758","v":433.7161865234375},{"$f":"'Absorbance Data'!E2758-Calculations!B$1","v":0},{"$f":"'Absorbance Data'!F2758-Calculations!C$1","v":0},{"$f":"'Absorbance Data'!G2758-Calculations!D$1","v":0},{"$f":"'Absorbance Data'!H2758-Calculations!E$1","v":0},{"$f":"'Absorbance Data'!I2758-Calculations!F$1","v":0},{"$f":"'Absorbance Data'!J2758-Calculations!G$1","v":0},{"$f":"'Absorbance Data'!K2758-Calculations!H$1","v":0},{"$f":"'Absorbance Data'!L2758-Calculations!I$1","v":0},{"$f":"'Absorbance Data'!M2758-Calculations!J$1","v":0},{"$f":"'Absorbance Data'!N2758-Calculations!K$1","v":0},{"$f":"'Absorbance Data'!O2758-Calculations!L$1","v":0},{"$f":"'Absorbance Data'!P2758-Calculations!M$1","v":0},{"$f":"'Absorbance Data'!Q2758-Calculations!N$1","v":0},{"$f":"'Absorbance Data'!R2758-Calculations!O$1","v":0},{"$f":"'Absorbance Data'!S2758-Calculations!P$1","v":0},{"$f":"'Absorbance Data'!T2758-Calculations!Q$1","v":0},{"$f":"'Absorbance Data'!U2758-Calculations!R$1","v":0},{"$f":"'Absorbance Data'!V2758-Calculations!S$1","v":0},{"$f":"'Absorbance Data'!W2758-Calculations!T$1","v":0},{"$f":"'Absorbance Data'!X2758-Calculations!U$1","v":0},{"$f":"'Absorbance Data'!Y2758-Calculations!V$1","v":0},{"$f":"'Absorbance Data'!Z2758-Calculations!W$1","v":0}]
[{"$f":"'Absorbance Data'!D2759","v":434.05551147460938},{"$f":"'Absorbance Data'!E2759-Calculations!B$1","v":0},{"$f":"'Absorbance Data'!F2759-Calculations!C$1","v":0},{"$f":"'Absorbance Data'!G2759-Calculations!D$1","v":0},{"$f":"'Absorbance Data'!H2759-Calculations!E$1","v":0},{"$f":"'Absorbance Data'!I2759-Calculations!F$1","v":0},{"$f":"'Absorbance Data'!J2759-Calculations!G$1","v":0},{"$f":"'Absorbance Data'!K2759-Calculations!H$1","v":0},{"$f":"'Absorbance Data'!L2759-Calculations!I$1","v":0},{"$f":"'Absorbance Data'!M2759-Calculations!J$1","v":0},{"$f":"'Absorbance Data'!N2759-Calculations!K$1","v":0},{"$f":"'Absorbance Data'!O2759-Calculations!L$1","v":0},{"$f":"'Absorbance Data'!P2759-Calculations!M$1","v":0},{"$f":"'Absorbance Data'!Q2759-Calculations!N$1","v":0},{"$f":"'Absorbance Data'!R2759-Calculations!O$1","v":0},{"$f":"'Absorbance Data'!S2759-Calculations!P$1","v":0},{"$f":"'Absorbance Data'!T2759-Calculations!Q$1","v":0},{"$f":"'Absorbance Data'!U2759-Calculations!R$1","v":0},{"$f":"'Absorbance Data'!V2759-Calculations!S$1","v":0},{"$f":"'Absorbance Data'!W2759-Calculations!T$1","v":0},{"$f":"'Absorbance Data'!X2759-Calculations!U$1","v":0},{"$f":"'Absorbance Data'!Y2759-Calculations!V$1","v":0},{"$f":"'Absorbance Data'!Z2759-Calculations!W$1","v":0}]
[{"$f":"'Absorbance Data'!D2760","v":434.39480590820312},{"$f":"'Absorbance Data'!E2760-Calculations!B$1","v":0},{"$f":"'Absorbance Data'!F2760-Calculations!C$1","v":0},{"$f":"'Absorbance Data'!G2760-Calculations!D$1","v":0},{"$f":"'Absorbance Data'!H2760-Calculations!E$1","v":0},{"$f":"'Absorbance Data'!I2760-Calculations!F$1","v":0},{"$f":"'Absorbance Data'!J2760-Calculations!G$1","v":0},{"$f":"'Absorbance Data'!K2760-Calculations!H$1","v":0},{"$f":"'Absorbance Data'!L2760-Calculations!I$1","v":0},{"$f":"'Absorbance Data'!M2760-Calculations!J$1","v":0},{"$f":"'Absorbance Data'!N2760-Calculations!K$1","v":0},{"$f":"'Absorbance Data'!O2760-Calculations!L$1","v":0},{"$f":"'Absorbance Data'!P2760-Calculations!M$1","v":0},{"$f":"'Absorbance Data'!Q2760-Calculations!N$1","v":0},{"$f":"'Absorbance Data'!R2760-Calculations!O$1","v":0},{"$f":"'Absorbance Data'!S2760-Calculations!P$1","v":0},{"$f":"'Absorbance Data'!T2760-Calculations!Q$1","v":0},{"$f":"'Absorbance Data'!U2760-Calculations!R$1","v":0},{"$f":"'Absorbance Data'!V2760-Calculations!S$1","v":0},{"$f":"'Absorbance Data'!W2760-Calculations!T$1","v":0},{"$f":"'Absorbance Data'!X2760-Calculations!U$1","v":0},{"$f":"'Absorbance Data'!Y2760-Calculations!V$1","v":0},{"$f":"'Absorbance Data'!Z2760-Calculations!W$1","v":0}]
[{"$f":"'Absorbance Data'!D2761","v":434.73406982421875},{"$f":"'Absorbance Data'!E2761-Calculations!B$1","v":0},{"$f":"'Absorbance Data'!F2761-Calculations!C$1","v":0},{"$f":"'Absorbance Data'!G2761-Calculations!D$1","v":0},{"$f":"'Absorbance Data'!H2761-Calculations!E$1","v":0},{"$f":"'Absorbance Data'!I2761-Calculations!F$1","v":0},{"$f":"'Absorbance Data'!J2761-Calculations!G$1","v":0},{"$f":"'Absorbance Data'!K2761-Calculations!H$1","v":0},{"$f":"'Absorbance Data'!L2761-Calculations!I$1","v":0},{"$f":"'Absorbance Data'!M2761-Calculations!J$1","v":0},{"$f":"'Absorbance Data'!N2761-Calculations!K$1","v":0},{"$f":"'Absorbance Data'!O2761-Calculations!L$1","v":0},{"$f":"'Absorbance Data'!P2761-Calculations!M$1","v":0},{"$f":"'Absorbance Data'!Q2761-Calculations!N$1","v":0},{"$f":"'Absorbance Data'!R2761-Calculations!O$1","v":0},{"$f":"'Absorbance Data'!S2761-Calculations!P$1","v":0},{"$f":"'Absorbance Data'!T2761-Calculations!Q$1","v":0},{"$f":"'Absorbance Data'!U2761-Calculations!R$1","v":0},{"$f":"'Absorbance Data'!V2761-Calculations!S$1","v":0},{"$f":"'Absorbance Data'!W2761-Calculations!T$1","v":0},{"$f":"'Absorbance Data'!X2761-Calculations!U$1","v":0},{"$f":"'Absorbance Data'!Y2761-Calculations!V$1","v":0},{"$f":"'Absorbance Data'!Z2761-Calculations!W$1","v":0}]
[{"$f":"'Absorbance Data'!D2762","v":435.07330322265625},{"$f":"'Absorbance Data'!E2762-Calculations!B$1","v":0},{"$f":"'Absorbance Data'!F2762-Calculations!C$1","v":0},{"$f":"'Absorbance Data'!G2762-Calculations!D$1","v":0},{"$f":"'Absorbance Data'!H2762-Calculations!E$1","v":0},{"$f":"'Absorbance Data'!I2762-Calculations!F$1","v":0},{"$f":"'Absorbance Data'!J2762-Calculations!G$1","v":0},{"$f":"'Absorbance Data'!K2762-Calculations!H$1","v":0},{"$f":"'Absorbance Data'!L2762-Calculations!I$1","v":0},{"$f":"'Absorbance Data'!M2762-Calculations!J$1","v":0},{"$f":"'Absorbance Data'!N2762-Calculations!K$1","v":0},{"$f":"'Absorbance Data'!O2762-Calculations!L$1","v":0},{"$f":"'Absorbance Data'!P2762-Calculations!M$1","v":0},{"$f":"'Absorbance Data'!Q2762-Calculations!N$1","v":0},{"$f":"'Absorbance Data'!R2762-Calculations!O$1","v":0},{"$f":"'Absorbance Data'!S2762-Calculations!P$1","v":0},{"$f":"'Absorbance Data'!T2762-Calculations!Q$1","v":0},{"$f":"'Absorbance Data'!U2762-Calculations!R$1","v":0},{"$f":"'Absorbance Data'!V2762-Calculations!S$1","v":0},{"$f":"'Absorbance Data'!W2762-Calculations!T$1","v":0},{"$f":"'Absorbance Data'!X2762-Calculations!U$1","v":0},{"$f":"'Absorbance Data'!Y2762-Calculations!V$1","v":0},{"$f":"'Absorbance Data'!Z2762-Calculations!W$1","v":0}]
[{"$f":"'Absorbance Data'!D2763","v":435.4124755859375},{"$f":"'Absorbance Data'!E2763-Calculations!B$1","v":0},{"$f":"'Absorbance Data'!F2763-Calculations!C$1","v":0},{"$f":"'Absorbance Data'!G2763-Calculations!D$1","v":0},{"$f":"'Absorbance Data'!H2763-Calculations!E$1","v":0},{"$f":"'Absorbance Data'!I2763-Calculations!F$1","v":0},{"$f":"'Absorbance Data'!J2763-Calculations!G$1","v":0},{"$f":"'Absorbance Data'!K2763-Calculations!H$1","v":0},{"$f":"'Absorbance Data'!L2763-Calculations!I$1","v":0},{"$f":"'Absorbance Data'!M2763-Calculations!J$1","v":0},{"$f":"'Absorbance Data'!N2763-Calculations!K$1","v":0},{"$f":"'Absorbance Data'!O2763-Calculations!L$1","v":0},{"$f":"'Absorbance Data'!P2763-Calculations!M$1","v":0},{"$f":"'Absorbance Data'!Q2763-Calculations!N$1","v":0},{"$f":"'Absorbance Data'!R2763-Calculations!O$1","v":0},{"$f":"'Absorbance Data'!S2763-Calculations!P$1","v":0},{"$f":"'Absorbance Data'!T2763-Calculations!Q$1","v":0},{"$f":"'Absorbance Data'!U2763-Calculations!R$1","v":0},{"$f":"'Absorbance Data'!V2763-Calculations!S$1","v":0},{"$f":"'Absorbance Data'!W2763-Calculations!T$1","v":0},{"$f":"'Absorbance Data'!X2763-Calculations!U$1","v":0},{"$f":"'Absorbance Data'!Y2763-Calculations!V$1","v":0},{"$f":"'Absorbance Data'!Z2763-Calculations!W$1","v":0}]
[{"$f":"'Absorbance Data'!D2764","v":435.75164794921875},{"$f":"'Absorbance Data'!E2764-Calculations!B$1","v":0},{"$f":"'Absorbance Data'!F2764-Calculations!C$1","v":0},{"$f":"'Absorbance Data'!G2764-Calculations!D$1","v":0},{"$f":"'Absorbance Data'!H2764-Calculations!E$1","v":0},{"$f":"'Absorbance Data'!I2764-Calculations!F$1","v":0},{"$f":"'Absorbance Data'!J2764-Calculations!G$1","v":0},{"$f":"'Absorbance Data'!K2764-Calculations!H$1","v":0},{"$f":"'Absorbance Data'!L2764-Calculations!I$1","v":0},{"$f":"'Absorbance Data'!M2764-Calculations!J$1","v":0},{"$f":"'Absorbance Data'!N2764-Calculations!K$1","v":0},{"$f":"'Absorbance Data'!O2764-Calculations!L$1","v":0},{"$f":"'Absorbance Data'!P2764-Calculations!M$1","v":0},{"$f":"'Absorbance Data'!Q2764-Calculations!N$1","v":0},{"$f":"'Absorbance Data'!R2764-Calculations!O$1","v":0},{"$f":"'Absorbance Data'!S2764-Calculations!P$1","v":0},{"$f":"'Absorbance Data'!T2764-Calculations!Q$1","v":0},{"$f":"'Absorbance Data'!U2764-Calculations!R$1","v":0},{"$f":"'Absorbance Data'!V2764-Calculations!S$1","v":0},{"$f":"'Absorbance Data'!W2764-Calculations!T$1","v":0},{"$f":"'Absorbance Data'!X2764-Calculations!U$1","v":0},{"$f":"'Absorbance Data'!Y2764-Calculations!V$1","v":0},{"$f":"'Absorbance Data'!Z2764-Calculations!W$1","v":0}]
[{"$f":"'Absorbance Data'!D2765","v":436.09072875976562},{"$f":"'Absorbance Data'!E2765-Calculations!B$1","v":0},{"$f":"'Absorbance Data'!F2765-Calculations!C$1","v":0},{"$f":"'Absorbance Data'!G2765-Calculations!D$1","v":0},{"$f":"'Absorbance Data'!H2765-Calculations!E$1","v":0},{"$f":"'Absorbance Data'!I2765-Calculations!F$1","v":0},{"$f":"'Absorbance Data'!J2765-Calculations!G$1","v":0},{"$f":"'Absorbance Data'!K2765-Calculations!H$1","v":0},{"$f":"'Absorbance Data'!L2765-Calculations!I$1","v":0},{"$f":"'Absorbance Data'!M2765-Calculations!J$1","v":0},{"$f":"'Absorbance Data'!N2765-Calculations!K$1","v":0},{"$f":"'Absorbance Data'!O2765-Calculations!L$1","v":0},{"$f":"'Absorbance Data'!P2765-Calculations!M$1","v":0},{"$f":"'Absorbance Data'!Q2765-Calculations!N$1","v":0},{"$f":"'Absorbance Data'!R2765-Calculations!O$1","v":0},{"$f":"'Absorbance Data'!S2765-Calculations!P$1","v":0},{"$f":"'Absorbance Data'!T2765-Calculations!Q$1","v":0},{"$f":"'Absorbance Data'!U2765-Calculations!R$1","v":0},{"$f":"'Absorbance Data'!V2765-Calculations!S$1","v":0},{"$f":"'Absorbance Data'!W2765-Calculations!T$1","v":0},{"$f":"'Absorbance Data'!X2765-Calculations!U$1","v":0},{"$f":"'Absorbance Data'!Y2765-Calculations!V$1","v":0},{"$f":"'Absorbance Data'!Z2765-Calculations!W$1","v":0}]
[{"$f":"'Absorbance Data'!D2766","v":436.42984008789062},{"$f":"'Absorbance Data'!E2766-Calculations!B$1","v":0},{"$f":"'Absorbance Data'!F2766-Calculations!C$1","v":0},{"$f":"'Absorbance Data'!G2766-Calculations!D$1","v":0},{"$f":"'Absorbance Data'!H2766-Calculations!E$1","v":0},{"$f":"'Absorbance Data'!I2766-Calculations!F$1","v":0},{"$f":"'Absorbance Data'!J2766-Calculations!G$1","v":0},{"$f":"'Absorbance Data'!K2766-Calculations!H$1","v":0},{"$f":"'Absorbance Data'!L2766-Calculations!I$1","v":0},{"$f":"'Absorbance Data'!M2766-Calculations!J$1","v":0},{"$f":"'Absorbance Data'!N2766-Calculations!K$1","v":0},{"$f":"'Absorbance Data'!O2766-Calculations!L$1","v":0},{"$f":"'Absorbance Data'!P2766-Calculations!M$1","v":0},{"$f":"'Absorbance Data'!Q2766-Calculations!N$1","v":0},{"$f":"'Absorbance Data'!R2766-Calculations!O$1","v":0},{"$f":"'Absorbance Data'!S2766-Calculations!P$1","v":0},{"$f":"'Absorbance Data'!T2766-Calculations!Q$1","v":0},{"$f":"'Absorbance Data'!U2766-Calculations!R$1","v":0},{"$f":"'Absorbance Data'!V2766-Calculations!S$1","v":0},{"$f":"'Absorbance Data'!W2766-Calculations!T$1","v":0},{"$f":"'Absorbance Data'!X2766-Calculations!U$1","v":0},{"$f":"'Absorbance Data'!Y2766-Calculations!V$1","v":0},{"$f":"'Absorbance Data'!Z2766-Calculations!W$1","v":0}]
[{"$f":"'Absorbance Data'!D2767","v":436.76889038085938},{"$f":"'Absorbance Data'!E2767-Calculations!B$1","v":0},{"$f":"'Absorbance Data'!F2767-Calculations!C$1","v":0},{"$f":"'Absorbance Data'!G2767-Calculations!D$1","v":0},{"$f":"'Absorbance Data'!H2767-Calculations!E$1","v":0},{"$f":"'Absorbance Data'!I2767-Calculations!F$1","v":0},{"$f":"'Absorbance Data'!J2767-Calculations!G$1","v":0},{"$f":"'Absorbance Data'!K2767-Calculations!H$1","v":0},{"$f":"'Absorbance Data'!L2767-Calculations!I$1","v":0},{"$f":"'Absorbance Data'!M2767-Calculations!J$1","v":0},{"$f":"'Absorbance Data'!N2767-Calculations!K$1","v":0},{"$f":"'Absorbance Data'!O2767-Calculations!L$1","v":0},{"$f":"'Absorbance Data'!P2767-Calculations!M$1","v":0},{"$f":"'Absorbance Data'!Q2767-Calculations!N$1","v":0},{"$f":"'Absorbance Data'!R2767-Calculations!O$1","v":0},{"$f":"'Absorbance Data'!S2767-Calculations!P$1","v":0},{"$f":"'Absorbance Data'!T2767-Calculations!Q$1","v":0},{"$f":"'Absorbance Data'!U2767-Calculations!R$1","v":0},{"$f":"'Absorbance Data'!V2767-Calculations!S$1","v":0},{"$f":"'Absorbance Data'!W2767-Calculations!T$1","v":0},{"$f":"'Absorbance Data'!X2767-Calculations!U$1","v":0},{"$f":"'Absorbance Data'!Y2767-Calculations!V$1","v":0},{"$f":"'Absorbance Data'!Z2767-Calculations!W$1","v":0}]
[{"$f":"'Absorbance Data'!D2768","v":437.10794067382812},{"$f":"'Absorbance Data'!E2768-Calculations!B$1","v":0},{"$f":"'Absorbance Data'!F2768-Calculations!C$1","v":0},{"$f":"'Absorbance Data'!G2768-Calculations!D$1","v":0},{"$f":"'Absorbance Data'!H2768-Calculations!E$1","v":0},{"$f":"'Absorbance Data'!I2768-Calculations!F$1","v":0},{"$f":"'Absorbance Data'!J2768-Calculations!G$1","v":0},{"$f":"'Absorbance Data'!K2768-Calculations!H$1","v":0},{"$f":"'Absorbance Data'!L2768-Calculations!I$1","v":0},{"$f":"'Absorbance Data'!M2768-Calculations!J$1","v":0},{"$f":"'Absorbance Data'!N2768-Calculations!K$1","v":0},{"$f":"'Absorbance Data'!O2768-Calculations!L$1","v":0},{"$f":"'Absorbance Data'!P2768-Calculations!M$1","v":0},{"$f":"'Absorbance Data'!Q2768-Calculations!N$1","v":0},{"$f":"'Absorbance Data'!R2768-Calculations!O$1","v":0},{"$f":"'Absorbance Data'!S2768-Calculations!P$1","v":0},{"$f":"'Absorbance Data'!T2768-Calculations!Q$1","v":0},{"$f":"'Absorbance Data'!U2768-Calculations!R$1","v":0},{"$f":"'Absorbance Data'!V2768-Calculations!S$1","v":0},{"$f":"'Absorbance Data'!W2768-Calculations!T$1","v":0},{"$f":"'Absorbance Data'!X2768-Calculations!U$1","v":0},{"$f":"'Absorbance Data'!Y2768-Calculations!V$1","v":0},{"$f":"'Absorbance Data'!Z2768-Calculations!W$1","v":0}]
[{"$f":"'Absorbance Data'!D2769","v":437.4468994140625},{"$f":"'Absorbance Data'!E2769-Calculations!B$1","v":0},{"$f":"'Absorbance Data'!F2769-Calculations!C$1","v":0},{"$f":"'Absorbance Data'!G2769-Calculations!D$1","v":0},{"$f":"'Absorbance Data'!H2769-Calculations!E$1","v":0},{"$f":"'Absorbance Data'!I2769-Calculations!F$1","v":0},{"$f":"'Absorbance Data'!J2769-Calculations!G$1","v":0},{"$f":"'Absorbance Data'!K2769-Calculations!H$1","v":0},{"$f":"'Absorbance Data'!L2769-Calculations!I$1","v":0},{"$f":"'Absorbance Data'!M2769-Calculations!J$1","v":0},{"$f":"'Absorbance Data'!N2769-Calculations!K$1","v":0},{"$f":"'Absorbance Data'!O2769-Calculations!L$1","v":0},{"$f":"'Absorbance Data'!P2769-Calculations!M$1","v":0},{"$f":"'Absorbance Data'!Q2769-Calculations!N$1","v":0},{"$f":"'Absorbance Data'!R2769-Calculations!O$1","v":0},{"$f":"'Absorbance Data'!S2769-Calculations!P$1","v":0},{"$f":"'Absorbance Data'!T2769-Calculations!Q$1","v":0},{"$f":"'Absorbance Data'!U2769-Calculations!R$1","v":0},{"$f":"'Absorbance Data'!V2769-Calculations!S$1","v":0},{"$f":"'Absorbance Data'!W2769-Calculations!T$1","v":0},{"$f":"'Absorbance Data'!X2769-Calculations!U$1","v":0},{"$f":"'Absorbance Data'!Y2769-Calculations!V$1","v":0},{"$f":"'Absorbance Data'!Z2769-Calculations!W$1","v":0}]
[{"$f":"'Absorbance Data'!D2770","v":437.78585815429688},{"$f":"'Absorbance Data'!E2770-Calculations!B$1","v":0},{"$f":"'Absorbance Data'!F2770-Calculations!C$1","v":0},{"$f":"'Absorbance Data'!G2770-Calculations!D$1","v":0},{"$f":"'Absorbance Data'!H2770-Calculations!E$1","v":0},{"$f":"'Absorbance Data'!I2770-Calculations!F$1","v":0},{"$f":"'Absorbance Data'!J2770-Calculations!G$1","v":0},{"$f":"'Absorbance Data'!K2770-Calculations!H$1","v":0},{"$f":"'Absorbance Data'!L2770-Calculations!I$1","v":0},{"$f":"'Absorbance Data'!M2770-Calculations!J$1","v":0},{"$f":"'Absorbance Data'!N2770-Calculations!K$1","v":0},{"$f":"'Absorbance Data'!O2770-Calculations!L$1","v":0},{"$f":"'Absorbance Data'!P2770-Calculations!M$1","v":0},{"$f":"'Absorbance Data'!Q2770-Calculations!N$1","v":0},{"$f":"'Absorbance Data'!R2770-Calculations!O$1","v":0},{"$f":"'Absorbance Data'!S2770-Calculations!P$1","v":0},{"$f":"'Absorbance Data'!T2770-Calculations!Q$1","v":0},{"$f":"'Absorbance Data'!U2770-Calculations!R$1","v":0},{"$f":"'Absorbance Data'!V2770-Calculations!S$1","v":0},{"$f":"'Absorbance Data'!W2770-Calculations!T$1","v":0},{"$f":"'Absorbance Data'!X2770-Calculations!U$1","v":0},{"$f":"'Absorbance Data'!Y2770-Calculations!V$1","v":0},{"$f":"'Absorbance Data'!Z2770-Calculations!W$1","v":0}]
[{"$f":"'Absorbance Data'!D2771","v":438.12472534179688},{"$f":"'Absorbance Data'!E2771-Calculations!B$1","v":0},{"$f":"'Absorbance Data'!F2771-Calculations!C$1","v":0},{"$f":"'Absorbance Data'!G2771-Calculations!D$1","v":0},{"$f":"'Absorbance Data'!H2771-Calculations!E$1","v":0},{"$f":"'Absorbance Data'!I2771-Calculations!F$1","v":0},{"$f":"'Absorbance Data'!J2771-Calculations!G$1","v":0},{"$f":"'Absorbance Data'!K2771-Calculations!H$1","v":0},{"$f":"'Absorbance Data'!L2771-Calculations!I$1","v":0},{"$f":"'Absorbance Data'!M2771-Calculations!J$1","v":0},{"$f":"'Absorbance Data'!N2771-Calculations!K$1","v":0},{"$f":"'Absorbance Data'!O2771-Calculations!L$1","v":0},{"$f":"'Absorbance Data'!P2771-Calculations!M$1","v":0},{"$f":"'Absorbance Data'!Q2771-Calculations!N$1","v":0},{"$f":"'Absorbance Data'!R2771-Calculations!O$1","v":0},{"$f":"'Absorbance Data'!S2771-Calculations!P$1","v":0},{"$f":"'Absorbance Data'!T2771-Calculations!Q$1","v":0},{"$f":"'Absorbance Data'!U2771-Calculations!R$1","v":0},{"$f":"'Absorbance Data'!V2771-Calculations!S$1","v":0},{"$f":"'Absorbance Data'!W2771-Calculations!T$1","v":0},{"$f":"'Absorbance Data'!X2771-Calculations!U$1","v":0},{"$f":"'Absorbance Data'!Y2771-Calculations!V$1","v":0},{"$f":"'Absorbance Data'!Z2771-Calculations!W$1","v":0}]
[{"$f":"'Absorbance Data'!D2772","v":438.463623046875},{"$f":"'Absorbance Data'!E2772-Calculations!B$1","v":0},{"$f":"'Absorbance Data'!F2772-Calculations!C$1","v":0},{"$f":"'Absorbance Data'!G2772-Calculations!D$1","v":0},{"$f":"'Absorbance Data'!H2772-Calculations!E$1","v":0},{"$f":"'Absorbance Data'!I2772-Calculations!F$1","v":0},{"$f":"'Absorbance Data'!J2772-Calculations!G$1","v":0},{"$f":"'Absorbance Data'!K2772-Calculations!H$1","v":0},{"$f":"'Absorbance Data'!L2772-Calculations!I$1","v":0},{"$f":"'Absorbance Data'!M2772-Calculations!J$1","v":0},{"$f":"'Absorbance Data'!N2772-Calculations!K$1","v":0},{"$f":"'Absorbance Data'!O2772-Calculations!L$1","v":0},{"$f":"'Absorbance Data'!P2772-Calculations!M$1","v":0},{"$f":"'Absorbance Data'!Q2772-Calculations!N$1","v":0},{"$f":"'Absorbance Data'!R2772-Calculations!O$1","v":0},{"$f":"'Absorbance Data'!S2772-Calculations!P$1","v":0},{"$f":"'Absorbance Data'!T2772-Calculations!Q$1","v":0},{"$f":"'Absorbance Data'!U2772-Calculations!R$1","v":0},{"$f":"'Absorbance Data'!V2772-Calculations!S$1","v":0},{"$f":"'Absorbance Data'!W2772-Calculations!T$1","v":0},{"$f":"'Absorbance Data'!X2772-Calculations!U$1","v":0},{"$f":"'Absorbance Data'!Y2772-Calculations!V$1","v":0},{"$f":"'Absorbance Data'!Z2772-Calculations!W$1","v":0}]
[{"$f":"'Absorbance Data'!D2773","v":438.802490234375},{"$f":"'Absorbance Data'!E2773-Calculations!B$1","v":0},{"$f":"'Absorbance Data'!F2773-Calculations!C$1","v":0},{"$f":"'Absorbance Data'!G2773-Calculations!D$1","v":0},{"$f":"'Absorbance Data'!H2773-Calculations!E$1","v":0},{"$f":"'Absorbance Data'!I2773-Calculations!F$1","v":0},{"$f":"'Absorbance Data'!J2773-Calculations!G$1","v":0},{"$f":"'Absorbance Data'!K2773-Calculations!H$1","v":0},{"$f":"'Absorbance Data'!L2773-Calculations!I$1","v":0},{"$f":"'Absorbance Data'!M2773-Calculations!J$1","v":0},{"$f":"'Absorbance Data'!N2773-Calculations!K$1","v":0},{"$f":"'Absorbance Data'!O2773-Calculations!L$1","v":0},{"$f":"'Absorbance Data'!P2773-Calculations!M$1","v":0},{"$f":"'Absorbance Data'!Q2773-Calculations!N$1","v":0},{"$f":"'Absorbance Data'!R2773-Calculations!O$1","v":0},{"$f":"'Absorbance Data'!S2773-Calculations!P$1","v":0},{"$f":"'Absorbance Data'!T2773-Calculations!Q$1","v":0},{"$f":"'Absorbance Data'!U2773-Calculations!R$1","v":0},{"$f":"'Absorbance Data'!V2773-Calculations!S$1","v":0},{"$f":"'Absorbance Data'!W2773-Calculations!T$1","v":0},{"$f":"'Absorbance Data'!X2773-Calculations!U$1","v":0},{"$f":"'Absorbance Data'!Y2773-Calculations!V$1","v":0},{"$f":"'Absorbance Data'!Z2773-Calculations!W$1","v":0}]
[{"$f":"'Absorbance Data'!D2774","v":439.14129638671875},{"$f":"'Absorbance Data'!E2774-Calculations!B$1","v":0},{"$f":"'Absorbance Data'!F2774-Calculations!C$1","v":0},{"$f":"'Absorbance Data'!G2774-Calculations!D$1","v":0},{"$f":"'Absorbance Data'!H2774-Calculations!E$1","v":0},{"$f":"'Absorbance Data'!I2774-Calculations!F$1","v":0},{"$f":"'Absorbance Data'!J2774-Calculations!G$1","v":0},{"$f":"'Absorbance Data'!K2774-Calculations!H$1","v":0},{"$f":"'Absorbance Data'!L2774-Calculations!I$1","v":0},{"$f":"'Absorbance Data'!M2774-Calculations!J$1","v":0},{"$f":"'Absorbance Data'!N2774-Calculations!K$1","v":0},{"$f":"'Absorbance Data'!O2774-Calculations!L$1","v":0},{"$f":"'Absorbance Data'!P2774-Calculations!M$1","v":0},{"$f":"'Absorbance Data'!Q2774-Calculations!N$1","v":0},{"$f":"'Absorbance Data'!R2774-Calculations!O$1","v":0},{"$f":"'Absorbance Data'!S2774-Calculations!P$1","v":0},{"$f":"'Absorbance Data'!T2774-Calculations!Q$1","v":0},{"$f":"'Absorbance Data'!U2774-Calculations!R$1","v":0},{"$f":"'Absorbance Data'!V2774-Calculations!S$1","v":0},{"$f":"'Absorbance Data'!W2774-Calculations!T$1","v":0},{"$f":"'Absorbance Data'!X2774-Calculations!U$1","v":0},{"$f":"'Absorbance Data'!Y2774-Calculations!V$1","v":0},{"$f":"'Absorbance Data'!Z2774-Calculations!W$1","v":0}]
[{"$f":"'Absorbance Data'!D2775","v":439.48007202148438},{"$f":"'Absorbance Data'!E2775-Calculations!B$1","v":0},{"$f":"'Absorbance Data'!F2775-Calculations!C$1","v":0},{"$f":"'Absorbance Data'!G2775-Calculations!D$1","v":0},{"$f":"'Absorbance Data'!H2775-Calculations!E$1","v":0},{"$f":"'Absorbance Data'!I2775-Calculations!F$1","v":0},{"$f":"'Absorbance Data'!J2775-Calculations!G$1","v":0},{"$f":"'Absorbance Data'!K2775-Calculations!H$1","v":0},{"$f":"'Absorbance Data'!L2775-Calculations!I$1","v":0},{"$f":"'Absorbance Data'!M2775-Calculations!J$1","v":0},{"$f":"'Absorbance Data'!N2775-Calculations!K$1","v":0},{"$f":"'Absorbance Data'!O2775-Calculations!L$1","v":0},{"$f":"'Absorbance Data'!P2775-Calculations!M$1","v":0},{"$f":"'Absorbance Data'!Q2775-Calculations!N$1","v":0},{"$f":"'Absorbance Data'!R2775-Calculations!O$1","v":0},{"$f":"'Absorbance Data'!S2775-Calculations!P$1","v":0},{"$f":"'Absorbance Data'!T2775-Calculations!Q$1","v":0},{"$f":"'Absorbance Data'!U2775-Calculations!R$1","v":0},{"$f":"'Absorbance Data'!V2775-Calculations!S$1","v":0},{"$f":"'Absorbance Data'!W2775-Calculations!T$1","v":0},{"$f":"'Absorbance Data'!X2775-Calculations!U$1","v":0},{"$f":"'Absorbance Data'!Y2775-Calculations!V$1","v":0},{"$f":"'Absorbance Data'!Z2775-Calculations!W$1","v":0}]
[{"$f":"'Absorbance Data'!D2776","v":439.81881713867188},{"$f":"'Absorbance Data'!E2776-Calculations!B$1","v":0},{"$f":"'Absorbance Data'!F2776-Calculations!C$1","v":0},{"$f":"'Absorbance Data'!G2776-Calculations!D$1","v":0},{"$f":"'Absorbance Data'!H2776-Calculations!E$1","v":0},{"$f":"'Absorbance Data'!I2776-Calculations!F$1","v":0},{"$f":"'Absorbance Data'!J2776-Calculations!G$1","v":0},{"$f":"'Absorbance Data'!K2776-Calculations!H$1","v":0},{"$f":"'Absorbance Data'!L2776-Calculations!I$1","v":0},{"$f":"'Absorbance Data'!M2776-Calculations!J$1","v":0},{"$f":"'Absorbance Data'!N2776-Calculations!K$1","v":0},{"$f":"'Absorbance Data'!O2776-Calculations!L$1","v":0},{"$f":"'Absorbance Data'!P2776-Calculations!M$1","v":0},{"$f":"'Absorbance Data'!Q2776-Calculations!N$1","v":0},{"$f":"'Absorbance Data'!R2776-Calculations!O$1","v":0},{"$f":"'Absorbance Data'!S2776-Calculations!P$1","v":0},{"$f":"'Absorbance Data'!T2776-Calculations!Q$1","v":0},{"$f":"'Absorbance Data'!U2776-Calculations!R$1","v":0},{"$f":"'Absorbance Data'!V2776-Calculations!S$1","v":0},{"$f":"'Absorbance Data'!W2776-Calculations!T$1","v":0},{"$f":"'Absorbance Data'!X2776-Calculations!U$1","v":0},{"$f":"'Absorbance Data'!Y2776-Calculations!V$1","v":0},{"$f":"'Absorbance Data'!Z2776-Calculations!W$1","v":0}]
[{"$f":"'Absorbance Data'!D2777","v":440.15750122070312},{"$f":"'Absorbance Data'!E2777-Calculations!B$1","v":0},{"$f":"'Absorbance Data'!F2777-Calculations!C$1","v":0},{"$f":"'Absorbance Data'!G2777-Calculations!D$1","v":0},{"$f":"'Absorbance Data'!H2777-Calculations!E$1","v":0},{"$f":"'Absorbance Data'!I2777-Calculations!F$1","v":0},{"$f":"'Absorbance Data'!J2777-Calculations!G$1","v":0},{"$f":"'Absorbance Data'!K2777-Calculations!H$1","v":0},{"$f":"'Absorbance Data'!L2777-Calculations!I$1","v":0},{"$f":"'Absorbance Data'!M2777-Calculations!J$1","v":0},{"$f":"'Absorbance Data'!N2777-Calculations!K$1","v":0},{"$f":"'Absorbance Data'!O2777-Calculations!L$1","v":0},{"$f":"'Absorbance Data'!P2777-Calculations!M$1","v":0},{"$f":"'Absorbance Data'!Q2777-Calculations!N$1","v":0},{"$f":"'Absorbance Data'!R2777-Calculations!O$1","v":0},{"$f":"'Absorbance Data'!S2777-Calculations!P$1","v":0},{"$f":"'Absorbance Data'!T2777-Calculations!Q$1","v":0},{"$f":"'Absorbance Data'!U2777-Calculations!R$1","v":0},{"$f":"'Absorbance Data'!V2777-Calculations!S$1","v":0},{"$f":"'Absorbance Data'!W2777-Calculations!T$1","v":0},{"$f":"'Absorbance Data'!X2777-Calculations!U$1","v":0},{"$f":"'Absorbance Data'!Y2777-Calculations!V$1","v":0},{"$f":"'Absorbance Data'!Z2777-Calculations!W$1","v":0}]
[{"$f":"'Absorbance Data'!D2778","v":440.49618530273438},{"$f":"'Absorbance Data'!E2778-Calculations!B$1","v":0},{"$f":"'Absorbance Data'!F2778-Calculations!C$1","v":0},{"$f":"'Absorbance Data'!G2778-Calculations!D$1","v":0},{"$f":"'Absorbance Data'!H2778-Calculations!E$1","v":0},{"$f":"'Absorbance Data'!I2778-Calculations!F$1","v":0},{"$f":"'Absorbance Data'!J2778-Calculations!G$1","v":0},{"$f":"'Absorbance Data'!K2778-Calculations!H$1","v":0},{"$f":"'Absorbance Data'!L2778-Calculations!I$1","v":0},{"$f":"'Absorbance Data'!M2778-Calculations!J$1","v":0},{"$f":"'Absorbance Data'!N2778-Calculations!K$1","v":0},{"$f":"'Absorbance Data'!O2778-Calculations!L$1","v":0},{"$f":"'Absorbance Data'!P2778-Calculations!M$1","v":0},{"$f":"'Absorbance Data'!Q2778-Calculations!N$1","v":0},{"$f":"'Absorbance Data'!R2778-Calculations!O$1","v":0},{"$f":"'Absorbance Data'!S2778-Calculations!P$1","v":0},{"$f":"'Absorbance Data'!T2778-Calculations!Q$1","v":0},{"$f":"'Absorbance Data'!U2778-Calculations!R$1","v":0},{"$f":"'Absorbance Data'!V2778-Calculations!S$1","v":0},{"$f":"'Absorbance Data'!W2778-Calculations!T$1","v":0},{"$f":"'Absorbance Data'!X2778-Calculations!U$1","v":0},{"$f":"'Absorbance Data'!Y2778-Calculations!V$1","v":0},{"$f":"'Absorbance Data'!Z2778-Calculations!W$1","v":0}]
[{"$f":"'Absorbance Data'!D2779","v":440.83480834960938},{"$f":"'Absorbance Data'!E2779-Calculations!B$1","v":0},{"$f":"'Absorbance Data'!F2779-Calculations!C$1","v":0},{"$f":"'Absorbance Data'!G2779-Calculations!D$1","v":0},{"$f":"'Absorbance Data'!H2779-Calculations!E$1","v":0},{"$f":"'Absorbance Data'!I2779-Calculations!F$1","v":0},{"$f":"'Absorbance Data'!J2779-Calculations!G$1","v":0},{"$f":"'Absorbance Data'!K2779-Calculations!H$1","v":0},{"$f":"'Absorbance Data'!L2779-Calculations!I$1","v":0},{"$f":"'Absorbance Data'!M2779-Calculations!J$1","v":0},{"$f":"'Absorbance Data'!N2779-Calculations!K$1","v":0},{"$f":"'Absorbance Data'!O2779-Calculations!L$1","v":0},{"$f":"'Absorbance Data'!P2779-Calculations!M$1","v":0},{"$f":"'Absorbance Data'!Q2779-Calculations!N$1","v":0},{"$f":"'Absorbance Data'!R2779-Calculations!O$1","v":0},{"$f":"'Absorbance Data'!S2779-Calculations!P$1","v":0},{"$f":"'Absorbance Data'!T2779-Calculations!Q$1","v":0},{"$f":"'Absorbance Data'!U2779-Calculations!R$1","v":0},{"$f":"'Absorbance Data'!V2779-Calculations!S$1","v":0},{"$f":"'Absorbance Data'!W2779-Calculations!T$1","v":0},{"$f":"'Absorbance Data'!X2779-Calculations!U$1","v":0},{"$f":"'Absorbance Data'!Y2779-Calculations!V$1","v":0},{"$f":"'Absorbance Data'!Z2779-Calculations!W$1","v":0}]
[{"$f":"'Absorbance Data'!D2780","v":441.17343139648438},{"$f":"'Absorbance Data'!E2780-Calculations!B$1","v":0},{"$f":"'Absorbance Data'!F2780-Calculations!C$1","v":0},{"$f":"'Absorbance Data'!G2780-Calculations!D$1","v":0},{"$f":"'Absorbance Data'!H2780-Calculations!E$1","v":0},{"$f":"'Absorbance Data'!I2780-Calculations!F$1","v":0},{"$f":"'Absorbance Data'!J2780-Calculations!G$1","v":0},{"$f":"'Absorbance Data'!K2780-Calculations!H$1","v":0},{"$f":"'Absorbance Data'!L2780-Calculations!I$1","v":0},{"$f":"'Absorbance Data'!M2780-Calculations!J$1","v":0},{"$f":"'Absorbance Data'!N2780-Calculations!K$1","v":0},{"$f":"'Absorbance Data'!O2780-Calculations!L$1","v":0},{"$f":"'Absorbance Data'!P2780-Calculations!M$1","v":0},{"$f":"'Absorbance Data'!Q2780-Calculations!N$1","v":0},{"$f":"'Absorbance Data'!R2780-Calculations!O$1","v":0},{"$f":"'Absorbance Data'!S2780-Calculations!P$1","v":0},{"$f":"'Absorbance Data'!T2780-Calculations!Q$1","v":0},{"$f":"'Absorbance Data'!U2780-Calculations!R$1","v":0},{"$f":"'Absorbance Data'!V2780-Calculations!S$1","v":0},{"$f":"'Absorbance Data'!W2780-Calculations!T$1","v":0},{"$f":"'Absorbance Data'!X2780-Calculations!U$1","v":0},{"$f":"'Absorbance Data'!Y2780-Calculations!V$1","v":0},{"$f":"'Absorbance Data'!Z2780-Calculations!W$1","v":0}]
[{"$f":"'Absorbance Data'!D2781","v":441.51199340820312},{"$f":"'Absorbance Data'!E2781-Calculations!B$1","v":0},{"$f":"'Absorbance Data'!F2781-Calculations!C$1","v":0},{"$f":"'Absorbance Data'!G2781-Calculations!D$1","v":0},{"$f":"'Absorbance Data'!H2781-Calculations!E$1","v":0},{"$f":"'Absorbance Data'!I2781-Calculations!F$1","v":0},{"$f":"'Absorbance Data'!J2781-Calculations!G$1","v":0},{"$f":"'Absorbance Data'!K2781-Calculations!H$1","v":0},{"$f":"'Absorbance Data'!L2781-Calculations!I$1","v":0},{"$f":"'Absorbance Data'!M2781-Calculations!J$1","v":0},{"$f":"'Absorbance Data'!N2781-Calculations!K$1","v":0},{"$f":"'Absorbance Data'!O2781-Calculations!L$1","v":0},{"$f":"'Absorbance Data'!P2781-Calculations!M$1","v":0},{"$f":"'Absorbance Data'!Q2781-Calculations!N$1","v":0},{"$f":"'Absorbance Data'!R2781-Calculations!O$1","v":0},{"$f":"'Absorbance Data'!S2781-Calculations!P$1","v":0},{"$f":"'Absorbance Data'!T2781-Calculations!Q$1","v":0},{"$f":"'Absorbance Data'!U2781-Calculations!R$1","v":0},{"$f":"'Absorbance Data'!V2781-Calculations!S$1","v":0},{"$f":"'Absorbance Data'!W2781-Calculations!T$1","v":0},{"$f":"'Absorbance Data'!X2781-Calculations!U$1","v":0},{"$f":"'Absorbance Data'!Y2781-Calculations!V$1","v":0},{"$f":"'Absorbance Data'!Z2781-Calculations!W$1","v":0}]
[{"$f":"'Absorbance Data'!D2782","v":441.85052490234375},{"$f":"'Absorbance Data'!E2782-Calculations!B$1","v":0},{"$f":"'Absorbance Data'!F2782-Calculations!C$1","v":0},{"$f":"'Absorbance Data'!G2782-Calculations!D$1","v":0},{"$f":"'Absorbance Data'!H2782-Calculations!E$1","v":0},{"$f":"'Absorbance Data'!I2782-Calculations!F$1","v":0},{"$f":"'Absorbance Data'!J2782-Calculations!G$1","v":0},{"$f":"'Absorbance Data'!K2782-Calculations!H$1","v":0},{"$f":"'Absorbance Data'!L2782-Calculations!I$1","v":0},{"$f":"'Absorbance Data'!M2782-Calculations!J$1","v":0},{"$f":"'Absorbance Data'!N2782-Calculations!K$1","v":0},{"$f":"'Absorbance Data'!O2782-Calculations!L$1","v":0},{"$f":"'Absorbance Data'!P2782-Calculations!M$1","v":0},{"$f":"'Absorbance Data'!Q2782-Calculations!N$1","v":0},{"$f":"'Absorbance Data'!R2782-Calculations!O$1","v":0},{"$f":"'Absorbance Data'!S2782-Calculations!P$1","v":0},{"$f":"'Absorbance Data'!T2782-Calculations!Q$1","v":0},{"$f":"'Absorbance Data'!U2782-Calculations!R$1","v":0},{"$f":"'Absorbance Data'!V2782-Calculations!S$1","v":0},{"$f":"'Absorbance Data'!W2782-Calculations!T$1","v":0},{"$f":"'Absorbance Data'!X2782-Calculations!U$1","v":0},{"$f":"'Absorbance Data'!Y2782-Calculations!V$1","v":0},{"$f":"'Absorbance Data'!Z2782-Calculations!W$1","v":0}]
[{"$f":"'Absorbance Data'!D2783","v":442.18902587890625},{"$f":"'Absorbance Data'!E2783-Calculations!B$1","v":0},{"$f":"'Absorbance Data'!F2783-Calculations!C$1","v":0},{"$f":"'Absorbance Data'!G2783-Calculations!D$1","v":0},{"$f":"'Absorbance Data'!H2783-Calculations!E$1","v":0},{"$f":"'Absorbance Data'!I2783-Calculations!F$1","v":0},{"$f":"'Absorbance Data'!J2783-Calculations!G$1","v":0},{"$f":"'Absorbance Data'!K2783-Calculations!H$1","v":0},{"$f":"'Absorbance Data'!L2783-Calculations!I$1","v":0},{"$f":"'Absorbance Data'!M2783-Calculations!J$1","v":0},{"$f":"'Absorbance Data'!N2783-Calculations!K$1","v":0},{"$f":"'Absorbance Data'!O2783-Calculations!L$1","v":0},{"$f":"'Absorbance Data'!P2783-Calculations!M$1","v":0},{"$f":"'Absorbance Data'!Q2783-Calculations!N$1","v":0},{"$f":"'Absorbance Data'!R2783-Calculations!O$1","v":0},{"$f":"'Absorbance Data'!S2783-Calculations!P$1","v":0},{"$f":"'Absorbance Data'!T2783-Calculations!Q$1","v":0},{"$f":"'Absorbance Data'!U2783-Calculations!R$1","v":0},{"$f":"'Absorbance Data'!V2783-Calculations!S$1","v":0},{"$f":"'Absorbance Data'!W2783-Calculations!T$1","v":0},{"$f":"'Absorbance Data'!X2783-Calculations!U$1","v":0},{"$f":"'Absorbance Data'!Y2783-Calculations!V$1","v":0},{"$f":"'Absorbance Data'!Z2783-Calculations!W$1","v":0}]
[{"$f":"'Absorbance Data'!D2784","v":442.52749633789062},{"$f":"'Absorbance Data'!E2784-Calculations!B$1","v":0},{"$f":"'Absorbance Data'!F2784-Calculations!C$1","v":0},{"$f":"'Absorbance Data'!G2784-Calculations!D$1","v":0},{"$f":"'Absorbance Data'!H2784-Calculations!E$1","v":0},{"$f":"'Absorbance Data'!I2784-Calculations!F$1","v":0},{"$f":"'Absorbance Data'!J2784-Calculations!G$1","v":0},{"$f":"'Absorbance Data'!K2784-Calculations!H$1","v":0},{"$f":"'Absorbance Data'!L2784-Calculations!I$1","v":0},{"$f":"'Absorbance Data'!M2784-Calculations!J$1","v":0},{"$f":"'Absorbance Data'!N2784-Calculations!K$1","v":0},{"$f":"'Absorbance Data'!O2784-Calculations!L$1","v":0},{"$f":"'Absorbance Data'!P2784-Calculations!M$1","v":0},{"$f":"'Absorbance Data'!Q2784-Calculations!N$1","v":0},{"$f":"'Absorbance Data'!R2784-Calculations!O$1","v":0},{"$f":"'Absorbance Data'!S2784-Calculations!P$1","v":0},{"$f":"'Absorbance Data'!T2784-Calculations!Q$1","v":0},{"$f":"'Absorbance Data'!U2784-Calculations!R$1","v":0},{"$f":"'Absorbance Data'!V2784-Calculations!S$1","v":0},{"$f":"'Absorbance Data'!W2784-Calculations!T$1","v":0},{"$f":"'Absorbance Data'!X2784-Calculations!U$1","v":0},{"$f":"'Absorbance Data'!Y2784-Calculations!V$1","v":0},{"$f":"'Absorbance Data'!Z2784-Calculations!W$1","v":0}]
[{"$f":"'Absorbance Data'!D2785","v":442.86590576171875},{"$f":"'Absorbance Data'!E2785-Calculations!B$1","v":0},{"$f":"'Absorbance Data'!F2785-Calculations!C$1","v":0},{"$f":"'Absorbance Data'!G2785-Calculations!D$1","v":0},{"$f":"'Absorbance Data'!H2785-Calculations!E$1","v":0},{"$f":"'Absorbance Data'!I2785-Calculations!F$1","v":0},{"$f":"'Absorbance Data'!J2785-Calculations!G$1","v":0},{"$f":"'Absorbance Data'!K2785-Calculations!H$1","v":0},{"$f":"'Absorbance Data'!L2785-Calculations!I$1","v":0},{"$f":"'Absorbance Data'!M2785-Calculations!J$1","v":0},{"$f":"'Absorbance Data'!N2785-Calculations!K$1","v":0},{"$f":"'Absorbance Data'!O2785-Calculations!L$1","v":0},{"$f":"'Absorbance Data'!P2785-Calculations!M$1","v":0},{"$f":"'Absorbance Data'!Q2785-Calculations!N$1","v":0},{"$f":"'Absorbance Data'!R2785-Calculations!O$1","v":0},{"$f":"'Absorbance Data'!S2785-Calculations!P$1","v":0},{"$f":"'Absorbance Data'!T2785-Calculations!Q$1","v":0},{"$f":"'Absorbance Data'!U2785-Calculations!R$1","v":0},{"$f":"'Absorbance Data'!V2785-Calculations!S$1","v":0},{"$f":"'Absorbance Data'!W2785-Calculations!T$1","v":0},{"$f":"'Absorbance Data'!X2785-Calculations!U$1","v":0},{"$f":"'Absorbance Data'!Y2785-Calculations!V$1","v":0},{"$f":"'Absorbance Data'!Z2785-Calculations!W$1","v":0}]
[{"$f":"'Absorbance Data'!D2786","v":443.204345703125},{"$f":"'Absorbance Data'!E2786-Calculations!B$1","v":0},{"$f":"'Absorbance Data'!F2786-Calculations!C$1","v":0},{"$f":"'Absorbance Data'!G2786-Calculations!D$1","v":0},{"$f":"'Absorbance Data'!H2786-Calculations!E$1","v":0},{"$f":"'Absorbance Data'!I2786-Calculations!F$1","v":0},{"$f":"'Absorbance Data'!J2786-Calculations!G$1","v":0},{"$f":"'Absorbance Data'!K2786-Calculations!H$1","v":0},{"$f":"'Absorbance Data'!L2786-Calculations!I$1","v":0},{"$f":"'Absorbance Data'!M2786-Calculations!J$1","v":0},{"$f":"'Absorbance Data'!N2786-Calculations!K$1","v":0},{"$f":"'Absorbance Data'!O2786-Calculations!L$1","v":0},{"$f":"'Absorbance Data'!P2786-Calculations!M$1","v":0},{"$f":"'Absorbance Data'!Q2786-Calculations!N$1","v":0},{"$f":"'Absorbance Data'!R2786-Calculations!O$1","v":0},{"$f":"'Absorbance Data'!S2786-Calculations!P$1","v":0},{"$f":"'Absorbance Data'!T2786-Calculations!Q$1","v":0},{"$f":"'Absorbance Data'!U2786-Calculations!R$1","v":0},{"$f":"'Absorbance Data'!V2786-Calculations!S$1","v":0},{"$f":"'Absorbance Data'!W2786-Calculations!T$1","v":0},{"$f":"'Absorbance Data'!X2786-Calculations!U$1","v":0},{"$f":"'Absorbance Data'!Y2786-Calculations!V$1","v":0},{"$f":"'Absorbance Data'!Z2786-Calculations!W$1","v":0}]
[{"$f":"'Absorbance Data'!D2787","v":443.54266357421875},{"$f":"'Absorbance Data'!E2787-Calculations!B$1","v":0},{"$f":"'Absorbance Data'!F2787-Calculations!C$1","v":0},{"$f":"'Absorbance Data'!G2787-Calculations!D$1","v":0},{"$f":"'Absorbance Data'!H2787-Calculations!E$1","v":0},{"$f":"'Absorbance Data'!I2787-Calculations!F$1","v":0},{"$f":"'Absorbance Data'!J2787-Calculations!G$1","v":0},{"$f":"'Absorbance Data'!K2787-Calculations!H$1","v":0},{"$f":"'Absorbance Data'!L2787-Calculations!I$1","v":0},{"$f":"'Absorbance Data'!M2787-Calculations!J$1","v":0},{"$f":"'Absorbance Data'!N2787-Calculations!K$1","v":0},{"$f":"'Absorbance Data'!O2787-Calculations!L$1","v":0},{"$f":"'Absorbance Data'!P2787-Calculations!M$1","v":0},{"$f":"'Absorbance Data'!Q2787-Calculations!N$1","v":0},{"$f":"'Absorbance Data'!R2787-Calculations!O$1","v":0},{"$f":"'Absorbance Data'!S2787-Calculations!P$1","v":0},{"$f":"'Absorbance Data'!T2787-Calculations!Q$1","v":0},{"$f":"'Absorbance Data'!U2787-Calculations!R$1","v":0},{"$f":"'Absorbance Data'!V2787-Calculations!S$1","v":0},{"$f":"'Absorbance Data'!W2787-Calculations!T$1","v":0},{"$f":"'Absorbance Data'!X2787-Calculations!U$1","v":0},{"$f":"'Absorbance Data'!Y2787-Calculations!V$1","v":0},{"$f":"'Absorbance Data'!Z2787-Calculations!W$1","v":0}]
[{"$f":"'Absorbance Data'!D2788","v":443.88101196289062},{"$f":"'Absorbance Data'!E2788-Calculations!B$1","v":0},{"$f":"'Absorbance Data'!F2788-Calculations!C$1","v":0},{"$f":"'Absorbance Data'!G2788-Calculations!D$1","v":0},{"$f":"'Absorbance Data'!H2788-Calculations!E$1","v":0},{"$f":"'Absorbance Data'!I2788-Calculations!F$1","v":0},{"$f":"'Absorbance Data'!J2788-Calculations!G$1","v":0},{"$f":"'Absorbance Data'!K2788-Calculations!H$1","v":0},{"$f":"'Absorbance Data'!L2788-Calculations!I$1","v":0},{"$f":"'Absorbance Data'!M2788-Calculations!J$1","v":0},{"$f":"'Absorbance Data'!N2788-Calculations!K$1","v":0},{"$f":"'Absorbance Data'!O2788-Calculations!L$1","v":0},{"$f":"'Absorbance Data'!P2788-Calculations!M$1","v":0},{"$f":"'Absorbance Data'!Q2788-Calculations!N$1","v":0},{"$f":"'Absorbance Data'!R2788-Calculations!O$1","v":0},{"$f":"'Absorbance Data'!S2788-Calculations!P$1","v":0},{"$f":"'Absorbance Data'!T2788-Calculations!Q$1","v":0},{"$f":"'Absorbance Data'!U2788-Calculations!R$1","v":0},{"$f":"'Absorbance Data'!V2788-Calculations!S$1","v":0},{"$f":"'Absorbance Data'!W2788-Calculations!T$1","v":0},{"$f":"'Absorbance Data'!X2788-Calculations!U$1","v":0},{"$f":"'Absorbance Data'!Y2788-Calculations!V$1","v":0},{"$f":"'Absorbance Data'!Z2788-Calculations!W$1","v":0}]
[{"$f":"'Absorbance Data'!D2789","v":444.21929931640625},{"$f":"'Absorbance Data'!E2789-Calculations!B$1","v":0},{"$f":"'Absorbance Data'!F2789-Calculations!C$1","v":0},{"$f":"'Absorbance Data'!G2789-Calculations!D$1","v":0},{"$f":"'Absorbance Data'!H2789-Calculations!E$1","v":0},{"$f":"'Absorbance Data'!I2789-Calculations!F$1","v":0},{"$f":"'Absorbance Data'!J2789-Calculations!G$1","v":0},{"$f":"'Absorbance Data'!K2789-Calculations!H$1","v":0},{"$f":"'Absorbance Data'!L2789-Calculations!I$1","v":0},{"$f":"'Absorbance Data'!M2789-Calculations!J$1","v":0},{"$f":"'Absorbance Data'!N2789-Calculations!K$1","v":0},{"$f":"'Absorbance Data'!O2789-Calculations!L$1","v":0},{"$f":"'Absorbance Data'!P2789-Calculations!M$1","v":0},{"$f":"'Absorbance Data'!Q2789-Calculations!N$1","v":0},{"$f":"'Absorbance Data'!R2789-Calculations!O$1","v":0},{"$f":"'Absorbance Data'!S2789-Calculations!P$1","v":0},{"$f":"'Absorbance Data'!T2789-Calculations!Q$1","v":0},{"$f":"'Absorbance Data'!U2789-Calculations!R$1","v":0},{"$f":"'Absorbance Data'!V2789-Calculations!S$1","v":0},{"$f":"'Absorbance Data'!W2789-Calculations!T$1","v":0},{"$f":"'Absorbance Data'!X2789-Calculations!U$1","v":0},{"$f":"'Absorbance Data'!Y2789-Calculations!V$1","v":0},{"$f":"'Absorbance Data'!Z2789-Calculations!W$1","v":0}]
[{"$f":"'Absorbance Data'!D2790","v":444.55755615234375},{"$f":"'Absorbance Data'!E2790-Calculations!B$1","v":0},{"$f":"'Absorbance Data'!F2790-Calculations!C$1","v":0},{"$f":"'Absorbance Data'!G2790-Calculations!D$1","v":0},{"$f":"'Absorbance Data'!H2790-Calculations!E$1","v":0},{"$f":"'Absorbance Data'!I2790-Calculations!F$1","v":0},{"$f":"'Absorbance Data'!J2790-Calculations!G$1","v":0},{"$f":"'Absorbance Data'!K2790-Calculations!H$1","v":0},{"$f":"'Absorbance Data'!L2790-Calculations!I$1","v":0},{"$f":"'Absorbance Data'!M2790-Calculations!J$1","v":0},{"$f":"'Absorbance Data'!N2790-Calculations!K$1","v":0},{"$f":"'Absorbance Data'!O2790-Calculations!L$1","v":0},{"$f":"'Absorbance Data'!P2790-Calculations!M$1","v":0},{"$f":"'Absorbance Data'!Q2790-Calculations!N$1","v":0},{"$f":"'Absorbance Data'!R2790-Calculations!O$1","v":0},{"$f":"'Absorbance Data'!S2790-Calculations!P$1","v":0},{"$f":"'Absorbance Data'!T2790-Calculations!Q$1","v":0},{"$f":"'Absorbance Data'!U2790-Calculations!R$1","v":0},{"$f":"'Absorbance Data'!V2790-Calculations!S$1","v":0},{"$f":"'Absorbance Data'!W2790-Calculations!T$1","v":0},{"$f":"'Absorbance Data'!X2790-Calculations!U$1","v":0},{"$f":"'Absorbance Data'!Y2790-Calculations!V$1","v":0},{"$f":"'Absorbance Data'!Z2790-Calculations!W$1","v":0}]
[{"$f":"'Absorbance Data'!D2791","v":444.89578247070312},{"$f":"'Absorbance Data'!E2791-Calculations!B$1","v":0},{"$f":"'Absorbance Data'!F2791-Calculations!C$1","v":0},{"$f":"'Absorbance Data'!G2791-Calculations!D$1","v":0},{"$f":"'Absorbance Data'!H2791-Calculations!E$1","v":0},{"$f":"'Absorbance Data'!I2791-Calculations!F$1","v":0},{"$f":"'Absorbance Data'!J2791-Calculations!G$1","v":0},{"$f":"'Absorbance Data'!K2791-Calculations!H$1","v":0},{"$f":"'Absorbance Data'!L2791-Calculations!I$1","v":0},{"$f":"'Absorbance Data'!M2791-Calculations!J$1","v":0},{"$f":"'Absorbance Data'!N2791-Calculations!K$1","v":0},{"$f":"'Absorbance Data'!O2791-Calculations!L$1","v":0},{"$f":"'Absorbance Data'!P2791-Calculations!M$1","v":0},{"$f":"'Absorbance Data'!Q2791-Calculations!N$1","v":0},{"$f":"'Absorbance Data'!R2791-Calculations!O$1","v":0},{"$f":"'Absorbance Data'!S2791-Calculations!P$1","v":0},{"$f":"'Absorbance Data'!T2791-Calculations!Q$1","v":0},{"$f":"'Absorbance Data'!U2791-Calculations!R$1","v":0},{"$f":"'Absorbance Data'!V2791-Calculations!S$1","v":0},{"$f":"'Absorbance Data'!W2791-Calculations!T$1","v":0},{"$f":"'Absorbance Data'!X2791-Calculations!U$1","v":0},{"$f":"'Absorbance Data'!Y2791-Calculations!V$1","v":0},{"$f":"'Absorbance Data'!Z2791-Calculations!W$1","v":0}]
[{"$f":"'Absorbance Data'!D2792","v":445.23397827148438},{"$f":"'Absorbance Data'!E2792-Calculations!B$1","v":0},{"$f":"'Absorbance Data'!F2792-Calculations!C$1","v":0},{"$f":"'Absorbance Data'!G2792-Calculations!D$1","v":0},{"$f":"'Absorbance Data'!H2792-Calculations!E$1","v":0},{"$f":"'Absorbance Data'!I2792-Calculations!F$1","v":0},{"$f":"'Absorbance Data'!J2792-Calculations!G$1","v":0},{"$f":"'Absorbance Data'!K2792-Calculations!H$1","v":0},{"$f":"'Absorbance Data'!L2792-Calculations!I$1","v":0},{"$f":"'Absorbance Data'!M2792-Calculations!J$1","v":0},{"$f":"'Absorbance Data'!N2792-Calculations!K$1","v":0},{"$f":"'Absorbance Data'!O2792-Calculations!L$1","v":0},{"$f":"'Absorbance Data'!P2792-Calculations!M$1","v":0},{"$f":"'Absorbance Data'!Q2792-Calculations!N$1","v":0},{"$f":"'Absorbance Data'!R2792-Calculations!O$1","v":0},{"$f":"'Absorbance Data'!S2792-Calculations!P$1","v":0},{"$f":"'Absorbance Data'!T2792-Calculations!Q$1","v":0},{"$f":"'Absorbance Data'!U2792-Calculations!R$1","v":0},{"$f":"'Absorbance Data'!V2792-Calculations!S$1","v":0},{"$f":"'Absorbance Data'!W2792-Calculations!T$1","v":0},{"$f":"'Absorbance Data'!X2792-Calculations!U$1","v":0},{"$f":"'Absorbance Data'!Y2792-Calculations!V$1","v":0},{"$f":"'Absorbance Data'!Z2792-Calculations!W$1","v":0}]
[{"$f":"'Absorbance Data'!D2793","v":445.57211303710938},{"$f":"'Absorbance Data'!E2793-Calculations!B$1","v":0},{"$f":"'Absorbance Data'!F2793-Calculations!C$1","v":0},{"$f":"'Absorbance Data'!G2793-Calculations!D$1","v":0},{"$f":"'Absorbance Data'!H2793-Calculations!E$1","v":0},{"$f":"'Absorbance Data'!I2793-Calculations!F$1","v":0},{"$f":"'Absorbance Data'!J2793-Calculations!G$1","v":0},{"$f":"'Absorbance Data'!K2793-Calculations!H$1","v":0},{"$f":"'Absorbance Data'!L2793-Calculations!I$1","v":0},{"$f":"'Absorbance Data'!M2793-Calculations!J$1","v":0},{"$f":"'Absorbance Data'!N2793-Calculations!K$1","v":0},{"$f":"'Absorbance Data'!O2793-Calculations!L$1","v":0},{"$f":"'Absorbance Data'!P2793-Calculations!M$1","v":0},{"$f":"'Absorbance Data'!Q2793-Calculations!N$1","v":0},{"$f":"'Absorbance Data'!R2793-Calculations!O$1","v":0},{"$f":"'Absorbance Data'!S2793-Calculations!P$1","v":0},{"$f":"'Absorbance Data'!T2793-Calculations!Q$1","v":0},{"$f":"'Absorbance Data'!U2793-Calculations!R$1","v":0},{"$f":"'Absorbance Data'!V2793-Calculations!S$1","v":0},{"$f":"'Absorbance Data'!W2793-Calculations!T$1","v":0},{"$f":"'Absorbance Data'!X2793-Calculations!U$1","v":0},{"$f":"'Absorbance Data'!Y2793-Calculations!V$1","v":0},{"$f":"'Absorbance Data'!Z2793-Calculations!W$1","v":0}]
[{"$f":"'Absorbance Data'!D2794","v":445.91024780273438},{"$f":"'Absorbance Data'!E2794-Calculations!B$1","v":0},{"$f":"'Absorbance Data'!F2794-Calculations!C$1","v":0},{"$f":"'Absorbance Data'!G2794-Calculations!D$1","v":0},{"$f":"'Absorbance Data'!H2794-Calculations!E$1","v":0},{"$f":"'Absorbance Data'!I2794-Calculations!F$1","v":0},{"$f":"'Absorbance Data'!J2794-Calculations!G$1","v":0},{"$f":"'Absorbance Data'!K2794-Calculations!H$1","v":0},{"$f":"'Absorbance Data'!L2794-Calculations!I$1","v":0},{"$f":"'Absorbance Data'!M2794-Calculations!J$1","v":0},{"$f":"'Absorbance Data'!N2794-Calculations!K$1","v":0},{"$f":"'Absorbance Data'!O2794-Calculations!L$1","v":0},{"$f":"'Absorbance Data'!P2794-Calculations!M$1","v":0},{"$f":"'Absorbance Data'!Q2794-Calculations!N$1","v":0},{"$f":"'Absorbance Data'!R2794-Calculations!O$1","v":0},{"$f":"'Absorbance Data'!S2794-Calculations!P$1","v":0},{"$f":"'Absorbance Data'!T2794-Calculations!Q$1","v":0},{"$f":"'Absorbance Data'!U2794-Calculations!R$1","v":0},{"$f":"'Absorbance Data'!V2794-Calculations!S$1","v":0},{"$f":"'Absorbance Data'!W2794-Calculations!T$1","v":0},{"$f":"'Absorbance Data'!X2794-Calculations!U$1","v":0},{"$f":"'Absorbance Data'!Y2794-Calculations!V$1","v":0},{"$f":"'Absorbance Data'!Z2794-Calculations!W$1","v":0}]
[{"$f":"'Absorbance Data'!D2795","v":446.24832153320312},{"$f":"'Absorbance Data'!E2795-Calculations!B$1","v":0},{"$f":"'Absorbance Data'!F2795-Calculations!C$1","v":0},{"$f":"'Absorbance Data'!G2795-Calculations!D$1","v":0},{"$f":"'Absorbance Data'!H2795-Calculations!E$1","v":0},{"$f":"'Absorbance Data'!I2795-Calculations!F$1","v":0},{"$f":"'Absorbance Data'!J2795-Calculations!G$1","v":0},{"$f":"'Absorbance Data'!K2795-Calculations!H$1","v":0},{"$f":"'Absorbance Data'!L2795-Calculations!I$1","v":0},{"$f":"'Absorbance Data'!M2795-Calculations!J$1","v":0},{"$f":"'Absorbance Data'!N2795-Calculations!K$1","v":0},{"$f":"'Absorbance Data'!O2795-Calculations!L$1","v":0},{"$f":"'Absorbance Data'!P2795-Calculations!M$1","v":0},{"$f":"'Absorbance Data'!Q2795-Calculations!N$1","v":0},{"$f":"'Absorbance Data'!R2795-Calculations!O$1","v":0},{"$f":"'Absorbance Data'!S2795-Calculations!P$1","v":0},{"$f":"'Absorbance Data'!T2795-Calculations!Q$1","v":0},{"$f":"'Absorbance Data'!U2795-Calculations!R$1","v":0},{"$f":"'Absorbance Data'!V2795-Calculations!S$1","v":0},{"$f":"'Absorbance Data'!W2795-Calculations!T$1","v":0},{"$f":"'Absorbance Data'!X2795-Calculations!U$1","v":0},{"$f":"'Absorbance Data'!Y2795-Calculations!V$1","v":0},{"$f":"'Absorbance Data'!Z2795-Calculations!W$1","v":0}]
[{"$f":"'Absorbance Data'!D2796","v":446.58639526367188},{"$f":"'Absorbance Data'!E2796-Calculations!B$1","v":0},{"$f":"'Absorbance Data'!F2796-Calculations!C$1","v":0},{"$f":"'Absorbance Data'!G2796-Calculations!D$1","v":0},{"$f":"'Absorbance Data'!H2796-Calculations!E$1","v":0},{"$f":"'Absorbance Data'!I2796-Calculations!F$1","v":0},{"$f":"'Absorbance Data'!J2796-Calculations!G$1","v":0},{"$f":"'Absorbance Data'!K2796-Calculations!H$1","v":0},{"$f":"'Absorbance Data'!L2796-Calculations!I$1","v":0},{"$f":"'Absorbance Data'!M2796-Calculations!J$1","v":0},{"$f":"'Absorbance Data'!N2796-Calculations!K$1","v":0},{"$f":"'Absorbance Data'!O2796-Calculations!L$1","v":0},{"$f":"'Absorbance Data'!P2796-Calculations!M$1","v":0},{"$f":"'Absorbance Data'!Q2796-Calculations!N$1","v":0},{"$f":"'Absorbance Data'!R2796-Calculations!O$1","v":0},{"$f":"'Absorbance Data'!S2796-Calculations!P$1","v":0},{"$f":"'Absorbance Data'!T2796-Calculations!Q$1","v":0},{"$f":"'Absorbance Data'!U2796-Calculations!R$1","v":0},{"$f":"'Absorbance Data'!V2796-Calculations!S$1","v":0},{"$f":"'Absorbance Data'!W2796-Calculations!T$1","v":0},{"$f":"'Absorbance Data'!X2796-Calculations!U$1","v":0},{"$f":"'Absorbance Data'!Y2796-Calculations!V$1","v":0},{"$f":"'Absorbance Data'!Z2796-Calculations!W$1","v":0}]
[{"$f":"'Absorbance Data'!D2797","v":446.92437744140625},{"$f":"'Absorbance Data'!E2797-Calculations!B$1","v":0},{"$f":"'Absorbance Data'!F2797-Calculations!C$1","v":0},{"$f":"'Absorbance Data'!G2797-Calculations!D$1","v":0},{"$f":"'Absorbance Data'!H2797-Calculations!E$1","v":0},{"$f":"'Absorbance Data'!I2797-Calculations!F$1","v":0},{"$f":"'Absorbance Data'!J2797-Calculations!G$1","v":0},{"$f":"'Absorbance Data'!K2797-Calculations!H$1","v":0},{"$f":"'Absorbance Data'!L2797-Calculations!I$1","v":0},{"$f":"'Absorbance Data'!M2797-Calculations!J$1","v":0},{"$f":"'Absorbance Data'!N2797-Calculations!K$1","v":0},{"$f":"'Absorbance Data'!O2797-Calculations!L$1","v":0},{"$f":"'Absorbance Data'!P2797-Calculations!M$1","v":0},{"$f":"'Absorbance Data'!Q2797-Calculations!N$1","v":0},{"$f":"'Absorbance Data'!R2797-Calculations!O$1","v":0},{"$f":"'Absorbance Data'!S2797-Calculations!P$1","v":0},{"$f":"'Absorbance Data'!T2797-Calculations!Q$1","v":0},{"$f":"'Absorbance Data'!U2797-Calculations!R$1","v":0},{"$f":"'Absorbance Data'!V2797-Calculations!S$1","v":0},{"$f":"'Absorbance Data'!W2797-Calculations!T$1","v":0},{"$f":"'Absorbance Data'!X2797-Calculations!U$1","v":0},{"$f":"'Absorbance Data'!Y2797-Calculations!V$1","v":0},{"$f":"'Absorbance Data'!Z2797-Calculations!W$1","v":0}]
[{"$f":"'Absorbance Data'!D2798","v":447.26239013671875},{"$f":"'Absorbance Data'!E2798-Calculations!B$1","v":0},{"$f":"'Absorbance Data'!F2798-Calculations!C$1","v":0},{"$f":"'Absorbance Data'!G2798-Calculations!D$1","v":0},{"$f":"'Absorbance Data'!H2798-Calculations!E$1","v":0},{"$f":"'Absorbance Data'!I2798-Calculations!F$1","v":0},{"$f":"'Absorbance Data'!J2798-Calculations!G$1","v":0},{"$f":"'Absorbance Data'!K2798-Calculations!H$1","v":0},{"$f":"'Absorbance Data'!L2798-Calculations!I$1","v":0},{"$f":"'Absorbance Data'!M2798-Calculations!J$1","v":0},{"$f":"'Absorbance Data'!N2798-Calculations!K$1","v":0},{"$f":"'Absorbance Data'!O2798-Calculations!L$1","v":0},{"$f":"'Absorbance Data'!P2798-Calculations!M$1","v":0},{"$f":"'Absorbance Data'!Q2798-Calculations!N$1","v":0},{"$f":"'Absorbance Data'!R2798-Calculations!O$1","v":0},{"$f":"'Absorbance Data'!S2798-Calculations!P$1","v":0},{"$f":"'Absorbance Data'!T2798-Calculations!Q$1","v":0},{"$f":"'Absorbance Data'!U2798-Calculations!R$1","v":0},{"$f":"'Absorbance Data'!V2798-Calculations!S$1","v":0},{"$f":"'Absorbance Data'!W2798-Calculations!T$1","v":0},{"$f":"'Absorbance Data'!X2798-Calculations!U$1","v":0},{"$f":"'Absorbance Data'!Y2798-Calculations!V$1","v":0},{"$f":"'Absorbance Data'!Z2798-Calculations!W$1","v":0}]
[{"$f":"'Absorbance Data'!D2799","v":447.60031127929688},{"$f":"'Absorbance Data'!E2799-Calculations!B$1","v":0},{"$f":"'Absorbance Data'!F2799-Calculations!C$1","v":0},{"$f":"'Absorbance Data'!G2799-Calculations!D$1","v":0},{"$f":"'Absorbance Data'!H2799-Calculations!E$1","v":0},{"$f":"'Absorbance Data'!I2799-Calculations!F$1","v":0},{"$f":"'Absorbance Data'!J2799-Calculations!G$1","v":0},{"$f":"'Absorbance Data'!K2799-Calculations!H$1","v":0},{"$f":"'Absorbance Data'!L2799-Calculations!I$1","v":0},{"$f":"'Absorbance Data'!M2799-Calculations!J$1","v":0},{"$f":"'Absorbance Data'!N2799-Calculations!K$1","v":0},{"$f":"'Absorbance Data'!O2799-Calculations!L$1","v":0},{"$f":"'Absorbance Data'!P2799-Calculations!M$1","v":0},{"$f":"'Absorbance Data'!Q2799-Calculations!N$1","v":0},{"$f":"'Absorbance Data'!R2799-Calculations!O$1","v":0},{"$f":"'Absorbance Data'!S2799-Calculations!P$1","v":0},{"$f":"'Absorbance Data'!T2799-Calculations!Q$1","v":0},{"$f":"'Absorbance Data'!U2799-Calculations!R$1","v":0},{"$f":"'Absorbance Data'!V2799-Calculations!S$1","v":0},{"$f":"'Absorbance Data'!W2799-Calculations!T$1","v":0},{"$f":"'Absorbance Data'!X2799-Calculations!U$1","v":0},{"$f":"'Absorbance Data'!Y2799-Calculations!V$1","v":0},{"$f":"'Absorbance Data'!Z2799-Calculations!W$1","v":0}]
[{"$f":"'Absorbance Data'!D2800","v":447.93826293945312},{"$f":"'Absorbance Data'!E2800-Calculations!B$1","v":0},{"$f":"'Absorbance Data'!F2800-Calculations!C$1","v":0},{"$f":"'Absorbance Data'!G2800-Calculations!D$1","v":0},{"$f":"'Absorbance Data'!H2800-Calculations!E$1","v":0},{"$f":"'Absorbance Data'!I2800-Calculations!F$1","v":0},{"$f":"'Absorbance Data'!J2800-Calculations!G$1","v":0},{"$f":"'Absorbance Data'!K2800-Calculations!H$1","v":0},{"$f":"'Absorbance Data'!L2800-Calculations!I$1","v":0},{"$f":"'Absorbance Data'!M2800-Calculations!J$1","v":0},{"$f":"'Absorbance Data'!N2800-Calculations!K$1","v":0},{"$f":"'Absorbance Data'!O2800-Calculations!L$1","v":0},{"$f":"'Absorbance Data'!P2800-Calculations!M$1","v":0},{"$f":"'Absorbance Data'!Q2800-Calculations!N$1","v":0},{"$f":"'Absorbance Data'!R2800-Calculations!O$1","v":0},{"$f":"'Absorbance Data'!S2800-Calculations!P$1","v":0},{"$f":"'Absorbance Data'!T2800-Calculations!Q$1","v":0},{"$f":"'Absorbance Data'!U2800-Calculations!R$1","v":0},{"$f":"'Absorbance Data'!V2800-Calculations!S$1","v":0},{"$f":"'Absorbance Data'!W2800-Calculations!T$1","v":0},{"$f":"'Absorbance Data'!X2800-Calculations!U$1","v":0},{"$f":"'Absorbance Data'!Y2800-Calculations!V$1","v":0},{"$f":"'Absorbance Data'!Z2800-Calculations!W$1","v":0}]
[{"$f":"'Absorbance Data'!D2801","v":448.27615356445312},{"$f":"'Absorbance Data'!E2801-Calculations!B$1","v":0},{"$f":"'Absorbance Data'!F2801-Calculations!C$1","v":0},{"$f":"'Absorbance Data'!G2801-Calculations!D$1","v":0},{"$f":"'Absorbance Data'!H2801-Calculations!E$1","v":0},{"$f":"'Absorbance Data'!I2801-Calculations!F$1","v":0},{"$f":"'Absorbance Data'!J2801-Calculations!G$1","v":0},{"$f":"'Absorbance Data'!K2801-Calculations!H$1","v":0},{"$f":"'Absorbance Data'!L2801-Calculations!I$1","v":0},{"$f":"'Absorbance Data'!M2801-Calculations!J$1","v":0},{"$f":"'Absorbance Data'!N2801-Calculations!K$1","v":0},{"$f":"'Absorbance Data'!O2801-Calculations!L$1","v":0},{"$f":"'Absorbance Data'!P2801-Calculations!M$1","v":0},{"$f":"'Absorbance Data'!Q2801-Calculations!N$1","v":0},{"$f":"'Absorbance Data'!R2801-Calculations!O$1","v":0},{"$f":"'Absorbance Data'!S2801-Calculations!P$1","v":0},{"$f":"'Absorbance Data'!T2801-Calculations!Q$1","v":0},{"$f":"'Absorbance Data'!U2801-Calculations!R$1","v":0},{"$f":"'Absorbance Data'!V2801-Calculations!S$1","v":0},{"$f":"'Absorbance Data'!W2801-Calculations!T$1","v":0},{"$f":"'Absorbance Data'!X2801-Calculations!U$1","v":0},{"$f":"'Absorbance Data'!Y2801-Calculations!V$1","v":0},{"$f":"'Absorbance Data'!Z2801-Calculations!W$1","v":0}]
[{"$f":"'Absorbance Data'!D2802","v":448.61398315429688},{"$f":"'Absorbance Data'!E2802-Calculations!B$1","v":0},{"$f":"'Absorbance Data'!F2802-Calculations!C$1","v":0},{"$f":"'Absorbance Data'!G2802-Calculations!D$1","v":0},{"$f":"'Absorbance Data'!H2802-Calculations!E$1","v":0},{"$f":"'Absorbance Data'!I2802-Calculations!F$1","v":0},{"$f":"'Absorbance Data'!J2802-Calculations!G$1","v":0},{"$f":"'Absorbance Data'!K2802-Calculations!H$1","v":0},{"$f":"'Absorbance Data'!L2802-Calculations!I$1","v":0},{"$f":"'Absorbance Data'!M2802-Calculations!J$1","v":0},{"$f":"'Absorbance Data'!N2802-Calculations!K$1","v":0},{"$f":"'Absorbance Data'!O2802-Calculations!L$1","v":0},{"$f":"'Absorbance Data'!P2802-Calculations!M$1","v":0},{"$f":"'Absorbance Data'!Q2802-Calculations!N$1","v":0},{"$f":"'Absorbance Data'!R2802-Calculations!O$1","v":0},{"$f":"'Absorbance Data'!S2802-Calculations!P$1","v":0},{"$f":"'Absorbance Data'!T2802-Calculations!Q$1","v":0},{"$f":"'Absorbance Data'!U2802-Calculations!R$1","v":0},{"$f":"'Absorbance Data'!V2802-Calculations!S$1","v":0},{"$f":"'Absorbance Data'!W2802-Calculations!T$1","v":0},{"$f":"'Absorbance Data'!X2802-Calculations!U$1","v":0},{"$f":"'Absorbance Data'!Y2802-Calculations!V$1","v":0},{"$f":"'Absorbance Data'!Z2802-Calculations!W$1","v":0}]
[{"$f":"'Absorbance Data'!D2803","v":448.9517822265625},{"$f":"'Absorbance Data'!E2803-Calculations!B$1","v":0},{"$f":"'Absorbance Data'!F2803-Calculations!C$1","v":0},{"$f":"'Absorbance Data'!G2803-Calculations!D$1","v":0},{"$f":"'Absorbance Data'!H2803-Calculations!E$1","v":0},{"$f":"'Absorbance Data'!I2803-Calculations!F$1","v":0},{"$f":"'Absorbance Data'!J2803-Calculations!G$1","v":0},{"$f":"'Absorbance Data'!K2803-Calculations!H$1","v":0},{"$f":"'Absorbance Data'!L2803-Calculations!I$1","v":0},{"$f":"'Absorbance Data'!M2803-Calculations!J$1","v":0},{"$f":"'Absorbance Data'!N2803-Calculations!K$1","v":0},{"$f":"'Absorbance Data'!O2803-Calculations!L$1","v":0},{"$f":"'Absorbance Data'!P2803-Calculations!M$1","v":0},{"$f":"'Absorbance Data'!Q2803-Calculations!N$1","v":0},{"$f":"'Absorbance Data'!R2803-Calculations!O$1","v":0},{"$f":"'Absorbance Data'!S2803-Calculations!P$1","v":0},{"$f":"'Absorbance Data'!T2803-Calculations!Q$1","v":0},{"$f":"'Absorbance Data'!U2803-Calculations!R$1","v":0},{"$f":"'Absorbance Data'!V2803-Calculations!S$1","v":0},{"$f":"'Absorbance Data'!W2803-Calculations!T$1","v":0},{"$f":"'Absorbance Data'!X2803-Calculations!U$1","v":0},{"$f":"'Absorbance Data'!Y2803-Calculations!V$1","v":0},{"$f":"'Absorbance Data'!Z2803-Calculations!W$1","v":0}]
[{"$f":"'Absorbance Data'!D2804","v":449.28958129882812},{"$f":"'Absorbance Data'!E2804-Calculations!B$1","v":0},{"$f":"'Absorbance Data'!F2804-Calculations!C$1","v":0},{"$f":"'Absorbance Data'!G2804-Calculations!D$1","v":0},{"$f":"'Absorbance Data'!H2804-Calculations!E$1","v":0},{"$f":"'Absorbance Data'!I2804-Calculations!F$1","v":0},{"$f":"'Absorbance Data'!J2804-Calculations!G$1","v":0},{"$f":"'Absorbance Data'!K2804-Calculations!H$1","v":0},{"$f":"'Absorbance Data'!L2804-Calculations!I$1","v":0},{"$f":"'Absorbance Data'!M2804-Calculations!J$1","v":0},{"$f":"'Absorbance Data'!N2804-Calculations!K$1","v":0},{"$f":"'Absorbance Data'!O2804-Calculations!L$1","v":0},{"$f":"'Absorbance Data'!P2804-Calculations!M$1","v":0},{"$f":"'Absorbance Data'!Q2804-Calculations!N$1","v":0},{"$f":"'Absorbance Data'!R2804-Calculations!O$1","v":0},{"$f":"'Absorbance Data'!S2804-Calculations!P$1","v":0},{"$f":"'Absorbance Data'!T2804-Calculations!Q$1","v":0},{"$f":"'Absorbance Data'!U2804-Calculations!R$1","v":0},{"$f":"'Absorbance Data'!V2804-Calculations!S$1","v":0},{"$f":"'Absorbance Data'!W2804-Calculations!T$1","v":0},{"$f":"'Absorbance Data'!X2804-Calculations!U$1","v":0},{"$f":"'Absorbance Data'!Y2804-Calculations!V$1","v":0},{"$f":"'Absorbance Data'!Z2804-Calculations!W$1","v":0}]
[{"$f":"'Absorbance Data'!D2805","v":449.62728881835938},{"$f":"'Absorbance Data'!E2805-Calculations!B$1","v":0},{"$f":"'Absorbance Data'!F2805-Calculations!C$1","v":0},{"$f":"'Absorbance Data'!G2805-Calculations!D$1","v":0},{"$f":"'Absorbance Data'!H2805-Calculations!E$1","v":0},{"$f":"'Absorbance Data'!I2805-Calculations!F$1","v":0},{"$f":"'Absorbance Data'!J2805-Calculations!G$1","v":0},{"$f":"'Absorbance Data'!K2805-Calculations!H$1","v":0},{"$f":"'Absorbance Data'!L2805-Calculations!I$1","v":0},{"$f":"'Absorbance Data'!M2805-Calculations!J$1","v":0},{"$f":"'Absorbance Data'!N2805-Calculations!K$1","v":0},{"$f":"'Absorbance Data'!O2805-Calculations!L$1","v":0},{"$f":"'Absorbance Data'!P2805-Calculations!M$1","v":0},{"$f":"'Absorbance Data'!Q2805-Calculations!N$1","v":0},{"$f":"'Absorbance Data'!R2805-Calculations!O$1","v":0},{"$f":"'Absorbance Data'!S2805-Calculations!P$1","v":0},{"$f":"'Absorbance Data'!T2805-Calculations!Q$1","v":0},{"$f":"'Absorbance Data'!U2805-Calculations!R$1","v":0},{"$f":"'Absorbance Data'!V2805-Calculations!S$1","v":0},{"$f":"'Absorbance Data'!W2805-Calculations!T$1","v":0},{"$f":"'Absorbance Data'!X2805-Calculations!U$1","v":0},{"$f":"'Absorbance Data'!Y2805-Calculations!V$1","v":0},{"$f":"'Absorbance Data'!Z2805-Calculations!W$1","v":0}]
[{"$f":"'Absorbance Data'!D2806","v":449.96499633789062},{"$f":"'Absorbance Data'!E2806-Calculations!B$1","v":0},{"$f":"'Absorbance Data'!F2806-Calculations!C$1","v":0},{"$f":"'Absorbance Data'!G2806-Calculations!D$1","v":0},{"$f":"'Absorbance Data'!H2806-Calculations!E$1","v":0},{"$f":"'Absorbance Data'!I2806-Calculations!F$1","v":0},{"$f":"'Absorbance Data'!J2806-Calculations!G$1","v":0},{"$f":"'Absorbance Data'!K2806-Calculations!H$1","v":0},{"$f":"'Absorbance Data'!L2806-Calculations!I$1","v":0},{"$f":"'Absorbance Data'!M2806-Calculations!J$1","v":0},{"$f":"'Absorbance Data'!N2806-Calculations!K$1","v":0},{"$f":"'Absorbance Data'!O2806-Calculations!L$1","v":0},{"$f":"'Absorbance Data'!P2806-Calculations!M$1","v":0},{"$f":"'Absorbance Data'!Q2806-Calculations!N$1","v":0},{"$f":"'Absorbance Data'!R2806-Calculations!O$1","v":0},{"$f":"'Absorbance Data'!S2806-Calculations!P$1","v":0},{"$f":"'Absorbance Data'!T2806-Calculations!Q$1","v":0},{"$f":"'Absorbance Data'!U2806-Calculations!R$1","v":0},{"$f":"'Absorbance Data'!V2806-Calculations!S$1","v":0},{"$f":"'Absorbance Data'!W2806-Calculations!T$1","v":0},{"$f":"'Absorbance Data'!X2806-Calculations!U$1","v":0},{"$f":"'Absorbance Data'!Y2806-Calculations!V$1","v":0},{"$f":"'Absorbance Data'!Z2806-Calculations!W$1","v":0}]
[{"$f":"'Absorbance Data'!D2807","v":450.30267333984375},{"$f":"'Absorbance Data'!E2807-Calculations!B$1","v":0},{"$f":"'Absorbance Data'!F2807-Calculations!C$1","v":0},{"$f":"'Absorbance Data'!G2807-Calculations!D$1","v":0},{"$f":"'Absorbance Data'!H2807-Calculations!E$1","v":0},{"$f":"'Absorbance Data'!I2807-Calculations!F$1","v":0},{"$f":"'Absorbance Data'!J2807-Calculations!G$1","v":0},{"$f":"'Absorbance Data'!K2807-Calculations!H$1","v":0},{"$f":"'Absorbance Data'!L2807-Calculations!I$1","v":0},{"$f":"'Absorbance Data'!M2807-Calculations!J$1","v":0},{"$f":"'Absorbance Data'!N2807-Calculations!K$1","v":0},{"$f":"'Absorbance Data'!O2807-Calculations!L$1","v":0},{"$f":"'Absorbance Data'!P2807-Calculations!M$1","v":0},{"$f":"'Absorbance Data'!Q2807-Calculations!N$1","v":0},{"$f":"'Absorbance Data'!R2807-Calculations!O$1","v":0},{"$f":"'Absorbance Data'!S2807-Calculations!P$1","v":0},{"$f":"'Absorbance Data'!T2807-Calculations!Q$1","v":0},{"$f":"'Absorbance Data'!U2807-Calculations!R$1","v":0},{"$f":"'Absorbance Data'!V2807-Calculations!S$1","v":0},{"$f":"'Absorbance Data'!W2807-Calculations!T$1","v":0},{"$f":"'Absorbance Data'!X2807-Calculations!U$1","v":0},{"$f":"'Absorbance Data'!Y2807-Calculations!V$1","v":0},{"$f":"'Absorbance Data'!Z2807-Calculations!W$1","v":0}]
[{"$f":"'Absorbance Data'!D2808","v":450.64031982421875},{"$f":"'Absorbance Data'!E2808-Calculations!B$1","v":0},{"$f":"'Absorbance Data'!F2808-Calculations!C$1","v":0},{"$f":"'Absorbance Data'!G2808-Calculations!D$1","v":0},{"$f":"'Absorbance Data'!H2808-Calculations!E$1","v":0},{"$f":"'Absorbance Data'!I2808-Calculations!F$1","v":0},{"$f":"'Absorbance Data'!J2808-Calculations!G$1","v":0},{"$f":"'Absorbance Data'!K2808-Calculations!H$1","v":0},{"$f":"'Absorbance Data'!L2808-Calculations!I$1","v":0},{"$f":"'Absorbance Data'!M2808-Calculations!J$1","v":0},{"$f":"'Absorbance Data'!N2808-Calculations!K$1","v":0},{"$f":"'Absorbance Data'!O2808-Calculations!L$1","v":0},{"$f":"'Absorbance Data'!P2808-Calculations!M$1","v":0},{"$f":"'Absorbance Data'!Q2808-Calculations!N$1","v":0},{"$f":"'Absorbance Data'!R2808-Calculations!O$1","v":0},{"$f":"'Absorbance Data'!S2808-Calculations!P$1","v":0},{"$f":"'Absorbance Data'!T2808-Calculations!Q$1","v":0},{"$f":"'Absorbance Data'!U2808-Calculations!R$1","v":0},{"$f":"'Absorbance Data'!V2808-Calculations!S$1","v":0},{"$f":"'Absorbance Data'!W2808-Calculations!T$1","v":0},{"$f":"'Absorbance Data'!X2808-Calculations!U$1","v":0},{"$f":"'Absorbance Data'!Y2808-Calculations!V$1","v":0},{"$f":"'Absorbance Data'!Z2808-Calculations!W$1","v":0}]
[{"$f":"'Absorbance Data'!D2809","v":450.9779052734375},{"$f":"'Absorbance Data'!E2809-Calculations!B$1","v":0},{"$f":"'Absorbance Data'!F2809-Calculations!C$1","v":0},{"$f":"'Absorbance Data'!G2809-Calculations!D$1","v":0},{"$f":"'Absorbance Data'!H2809-Calculations!E$1","v":0},{"$f":"'Absorbance Data'!I2809-Calculations!F$1","v":0},{"$f":"'Absorbance Data'!J2809-Calculations!G$1","v":0},{"$f":"'Absorbance Data'!K2809-Calculations!H$1","v":0},{"$f":"'Absorbance Data'!L2809-Calculations!I$1","v":0},{"$f":"'Absorbance Data'!M2809-Calculations!J$1","v":0},{"$f":"'Absorbance Data'!N2809-Calculations!K$1","v":0},{"$f":"'Absorbance Data'!O2809-Calculations!L$1","v":0},{"$f":"'Absorbance Data'!P2809-Calculations!M$1","v":0},{"$f":"'Absorbance Data'!Q2809-Calculations!N$1","v":0},{"$f":"'Absorbance Data'!R2809-Calculations!O$1","v":0},{"$f":"'Absorbance Data'!S2809-Calculations!P$1","v":0},{"$f":"'Absorbance Data'!T2809-Calculations!Q$1","v":0},{"$f":"'Absorbance Data'!U2809-Calculations!R$1","v":0},{"$f":"'Absorbance Data'!V2809-Calculations!S$1","v":0},{"$f":"'Absorbance Data'!W2809-Calculations!T$1","v":0},{"$f":"'Absorbance Data'!X2809-Calculations!U$1","v":0},{"$f":"'Absorbance Data'!Y2809-Calculations!V$1","v":0},{"$f":"'Absorbance Data'!Z2809-Calculations!W$1","v":0}]
[{"$f":"'Absorbance Data'!D2810","v":451.31549072265625},{"$f":"'Absorbance Data'!E2810-Calculations!B$1","v":0},{"$f":"'Absorbance Data'!F2810-Calculations!C$1","v":0},{"$f":"'Absorbance Data'!G2810-Calculations!D$1","v":0},{"$f":"'Absorbance Data'!H2810-Calculations!E$1","v":0},{"$f":"'Absorbance Data'!I2810-Calculations!F$1","v":0},{"$f":"'Absorbance Data'!J2810-Calculations!G$1","v":0},{"$f":"'Absorbance Data'!K2810-Calculations!H$1","v":0},{"$f":"'Absorbance Data'!L2810-Calculations!I$1","v":0},{"$f":"'Absorbance Data'!M2810-Calculations!J$1","v":0},{"$f":"'Absorbance Data'!N2810-Calculations!K$1","v":0},{"$f":"'Absorbance Data'!O2810-Calculations!L$1","v":0},{"$f":"'Absorbance Data'!P2810-Calculations!M$1","v":0},{"$f":"'Absorbance Data'!Q2810-Calculations!N$1","v":0},{"$f":"'Absorbance Data'!R2810-Calculations!O$1","v":0},{"$f":"'Absorbance Data'!S2810-Calculations!P$1","v":0},{"$f":"'Absorbance Data'!T2810-Calculations!Q$1","v":0},{"$f":"'Absorbance Data'!U2810-Calculations!R$1","v":0},{"$f":"'Absorbance Data'!V2810-Calculations!S$1","v":0},{"$f":"'Absorbance Data'!W2810-Calculations!T$1","v":0},{"$f":"'Absorbance Data'!X2810-Calculations!U$1","v":0},{"$f":"'Absorbance Data'!Y2810-Calculations!V$1","v":0},{"$f":"'Absorbance Data'!Z2810-Calculations!W$1","v":0}]
[{"$f":"'Absorbance Data'!D2811","v":451.65298461914062},{"$f":"'Absorbance Data'!E2811-Calculations!B$1","v":0},{"$f":"'Absorbance Data'!F2811-Calculations!C$1","v":0},{"$f":"'Absorbance Data'!G2811-Calculations!D$1","v":0},{"$f":"'Absorbance Data'!H2811-Calculations!E$1","v":0},{"$f":"'Absorbance Data'!I2811-Calculations!F$1","v":0},{"$f":"'Absorbance Data'!J2811-Calculations!G$1","v":0},{"$f":"'Absorbance Data'!K2811-Calculations!H$1","v":0},{"$f":"'Absorbance Data'!L2811-Calculations!I$1","v":0},{"$f":"'Absorbance Data'!M2811-Calculations!J$1","v":0},{"$f":"'Absorbance Data'!N2811-Calculations!K$1","v":0},{"$f":"'Absorbance Data'!O2811-Calculations!L$1","v":0},{"$f":"'Absorbance Data'!P2811-Calculations!M$1","v":0},{"$f":"'Absorbance Data'!Q2811-Calculations!N$1","v":0},{"$f":"'Absorbance Data'!R2811-Calculations!O$1","v":0},{"$f":"'Absorbance Data'!S2811-Calculations!P$1","v":0},{"$f":"'Absorbance Data'!T2811-Calculations!Q$1","v":0},{"$f":"'Absorbance Data'!U2811-Calculations!R$1","v":0},{"$f":"'Absorbance Data'!V2811-Calculations!S$1","v":0},{"$f":"'Absorbance Data'!W2811-Calculations!T$1","v":0},{"$f":"'Absorbance Data'!X2811-Calculations!U$1","v":0},{"$f":"'Absorbance Data'!Y2811-Calculations!V$1","v":0},{"$f":"'Absorbance Data'!Z2811-Calculations!W$1","v":0}]
[{"$f":"'Absorbance Data'!D2812","v":451.99050903320312},{"$f":"'Absorbance Data'!E2812-Calculations!B$1","v":0},{"$f":"'Absorbance Data'!F2812-Calculations!C$1","v":0},{"$f":"'Absorbance Data'!G2812-Calculations!D$1","v":0},{"$f":"'Absorbance Data'!H2812-Calculations!E$1","v":0},{"$f":"'Absorbance Data'!I2812-Calculations!F$1","v":0},{"$f":"'Absorbance Data'!J2812-Calculations!G$1","v":0},{"$f":"'Absorbance Data'!K2812-Calculations!H$1","v":0},{"$f":"'Absorbance Data'!L2812-Calculations!I$1","v":0},{"$f":"'Absorbance Data'!M2812-Calculations!J$1","v":0},{"$f":"'Absorbance Data'!N2812-Calculations!K$1","v":0},{"$f":"'Absorbance Data'!O2812-Calculations!L$1","v":0},{"$f":"'Absorbance Data'!P2812-Calculations!M$1","v":0},{"$f":"'Absorbance Data'!Q2812-Calculations!N$1","v":0},{"$f":"'Absorbance Data'!R2812-Calculations!O$1","v":0},{"$f":"'Absorbance Data'!S2812-Calculations!P$1","v":0},{"$f":"'Absorbance Data'!T2812-Calculations!Q$1","v":0},{"$f":"'Absorbance Data'!U2812-Calculations!R$1","v":0},{"$f":"'Absorbance Data'!V2812-Calculations!S$1","v":0},{"$f":"'Absorbance Data'!W2812-Calculations!T$1","v":0},{"$f":"'Absorbance Data'!X2812-Calculations!U$1","v":0},{"$f":"'Absorbance Data'!Y2812-Calculations!V$1","v":0},{"$f":"'Absorbance Data'!Z2812-Calculations!W$1","v":0}]
[{"$f":"'Absorbance Data'!D2813","v":452.32797241210938},{"$f":"'Absorbance Data'!E2813-Calculations!B$1","v":0},{"$f":"'Absorbance Data'!F2813-Calculations!C$1","v":0},{"$f":"'Absorbance Data'!G2813-Calculations!D$1","v":0},{"$f":"'Absorbance Data'!H2813-Calculations!E$1","v":0},{"$f":"'Absorbance Data'!I2813-Calculations!F$1","v":0},{"$f":"'Absorbance Data'!J2813-Calculations!G$1","v":0},{"$f":"'Absorbance Data'!K2813-Calculations!H$1","v":0},{"$f":"'Absorbance Data'!L2813-Calculations!I$1","v":0},{"$f":"'Absorbance Data'!M2813-Calculations!J$1","v":0},{"$f":"'Absorbance Data'!N2813-Calculations!K$1","v":0},{"$f":"'Absorbance Data'!O2813-Calculations!L$1","v":0},{"$f":"'Absorbance Data'!P2813-Calculations!M$1","v":0},{"$f":"'Absorbance Data'!Q2813-Calculations!N$1","v":0},{"$f":"'Absorbance Data'!R2813-Calculations!O$1","v":0},{"$f":"'Absorbance Data'!S2813-Calculations!P$1","v":0},{"$f":"'Absorbance Data'!T2813-Calculations!Q$1","v":0},{"$f":"'Absorbance Data'!U2813-Calculations!R$1","v":0},{"$f":"'Absorbance Data'!V2813-Calculations!S$1","v":0},{"$f":"'Absorbance Data'!W2813-Calculations!T$1","v":0},{"$f":"'Absorbance Data'!X2813-Calculations!U$1","v":0},{"$f":"'Absorbance Data'!Y2813-Calculations!V$1","v":0},{"$f":"'Absorbance Data'!Z2813-Calculations!W$1","v":0}]
[{"$f":"'Absorbance Data'!D2814","v":452.66537475585938},{"$f":"'Absorbance Data'!E2814-Calculations!B$1","v":0},{"$f":"'Absorbance Data'!F2814-Calculations!C$1","v":0},{"$f":"'Absorbance Data'!G2814-Calculations!D$1","v":0},{"$f":"'Absorbance Data'!H2814-Calculations!E$1","v":0},{"$f":"'Absorbance Data'!I2814-Calculations!F$1","v":0},{"$f":"'Absorbance Data'!J2814-Calculations!G$1","v":0},{"$f":"'Absorbance Data'!K2814-Calculations!H$1","v":0},{"$f":"'Absorbance Data'!L2814-Calculations!I$1","v":0},{"$f":"'Absorbance Data'!M2814-Calculations!J$1","v":0},{"$f":"'Absorbance Data'!N2814-Calculations!K$1","v":0},{"$f":"'Absorbance Data'!O2814-Calculations!L$1","v":0},{"$f":"'Absorbance Data'!P2814-Calculations!M$1","v":0},{"$f":"'Absorbance Data'!Q2814-Calculations!N$1","v":0},{"$f":"'Absorbance Data'!R2814-Calculations!O$1","v":0},{"$f":"'Absorbance Data'!S2814-Calculations!P$1","v":0},{"$f":"'Absorbance Data'!T2814-Calculations!Q$1","v":0},{"$f":"'Absorbance Data'!U2814-Calculations!R$1","v":0},{"$f":"'Absorbance Data'!V2814-Calculations!S$1","v":0},{"$f":"'Absorbance Data'!W2814-Calculations!T$1","v":0},{"$f":"'Absorbance Data'!X2814-Calculations!U$1","v":0},{"$f":"'Absorbance Data'!Y2814-Calculations!V$1","v":0},{"$f":"'Absorbance Data'!Z2814-Calculations!W$1","v":0}]
[{"$f":"'Absorbance Data'!D2815","v":453.00277709960938},{"$f":"'Absorbance Data'!E2815-Calculations!B$1","v":0},{"$f":"'Absorbance Data'!F2815-Calculations!C$1","v":0},{"$f":"'Absorbance Data'!G2815-Calculations!D$1","v":0},{"$f":"'Absorbance Data'!H2815-Calculations!E$1","v":0},{"$f":"'Absorbance Data'!I2815-Calculations!F$1","v":0},{"$f":"'Absorbance Data'!J2815-Calculations!G$1","v":0},{"$f":"'Absorbance Data'!K2815-Calculations!H$1","v":0},{"$f":"'Absorbance Data'!L2815-Calculations!I$1","v":0},{"$f":"'Absorbance Data'!M2815-Calculations!J$1","v":0},{"$f":"'Absorbance Data'!N2815-Calculations!K$1","v":0},{"$f":"'Absorbance Data'!O2815-Calculations!L$1","v":0},{"$f":"'Absorbance Data'!P2815-Calculations!M$1","v":0},{"$f":"'Absorbance Data'!Q2815-Calculations!N$1","v":0},{"$f":"'Absorbance Data'!R2815-Calculations!O$1","v":0},{"$f":"'Absorbance Data'!S2815-Calculations!P$1","v":0},{"$f":"'Absorbance Data'!T2815-Calculations!Q$1","v":0},{"$f":"'Absorbance Data'!U2815-Calculations!R$1","v":0},{"$f":"'Absorbance Data'!V2815-Calculations!S$1","v":0},{"$f":"'Absorbance Data'!W2815-Calculations!T$1","v":0},{"$f":"'Absorbance Data'!X2815-Calculations!U$1","v":0},{"$f":"'Absorbance Data'!Y2815-Calculations!V$1","v":0},{"$f":"'Absorbance Data'!Z2815-Calculations!W$1","v":0}]
[{"$f":"'Absorbance Data'!D2816","v":453.34014892578125},{"$f":"'Absorbance Data'!E2816-Calculations!B$1","v":0},{"$f":"'Absorbance Data'!F2816-Calculations!C$1","v":0},{"$f":"'Absorbance Data'!G2816-Calculations!D$1","v":0},{"$f":"'Absorbance Data'!H2816-Calculations!E$1","v":0},{"$f":"'Absorbance Data'!I2816-Calculations!F$1","v":0},{"$f":"'Absorbance Data'!J2816-Calculations!G$1","v":0},{"$f":"'Absorbance Data'!K2816-Calculations!H$1","v":0},{"$f":"'Absorbance Data'!L2816-Calculations!I$1","v":0},{"$f":"'Absorbance Data'!M2816-Calculations!J$1","v":0},{"$f":"'Absorbance Data'!N2816-Calculations!K$1","v":0},{"$f":"'Absorbance Data'!O2816-Calculations!L$1","v":0},{"$f":"'Absorbance Data'!P2816-Calculations!M$1","v":0},{"$f":"'Absorbance Data'!Q2816-Calculations!N$1","v":0},{"$f":"'Absorbance Data'!R2816-Calculations!O$1","v":0},{"$f":"'Absorbance Data'!S2816-Calculations!P$1","v":0},{"$f":"'Absorbance Data'!T2816-Calculations!Q$1","v":0},{"$f":"'Absorbance Data'!U2816-Calculations!R$1","v":0},{"$f":"'Absorbance Data'!V2816-Calculations!S$1","v":0},{"$f":"'Absorbance Data'!W2816-Calculations!T$1","v":0},{"$f":"'Absorbance Data'!X2816-Calculations!U$1","v":0},{"$f":"'Absorbance Data'!Y2816-Calculations!V$1","v":0},{"$f":"'Absorbance Data'!Z2816-Calculations!W$1","v":0}]
[{"$f":"'Absorbance Data'!D2817","v":453.67745971679688},{"$f":"'Absorbance Data'!E2817-Calculations!B$1","v":0},{"$f":"'Absorbance Data'!F2817-Calculations!C$1","v":0},{"$f":"'Absorbance Data'!G2817-Calculations!D$1","v":0},{"$f":"'Absorbance Data'!H2817-Calculations!E$1","v":0},{"$f":"'Absorbance Data'!I2817-Calculations!F$1","v":0},{"$f":"'Absorbance Data'!J2817-Calculations!G$1","v":0},{"$f":"'Absorbance Data'!K2817-Calculations!H$1","v":0},{"$f":"'Absorbance Data'!L2817-Calculations!I$1","v":0},{"$f":"'Absorbance Data'!M2817-Calculations!J$1","v":0},{"$f":"'Absorbance Data'!N2817-Calculations!K$1","v":0},{"$f":"'Absorbance Data'!O2817-Calculations!L$1","v":0},{"$f":"'Absorbance Data'!P2817-Calculations!M$1","v":0},{"$f":"'Absorbance Data'!Q2817-Calculations!N$1","v":0},{"$f":"'Absorbance Data'!R2817-Calculations!O$1","v":0},{"$f":"'Absorbance Data'!S2817-Calculations!P$1","v":0},{"$f":"'Absorbance Data'!T2817-Calculations!Q$1","v":0},{"$f":"'Absorbance Data'!U2817-Calculations!R$1","v":0},{"$f":"'Absorbance Data'!V2817-Calculations!S$1","v":0},{"$f":"'Absorbance Data'!W2817-Calculations!T$1","v":0},{"$f":"'Absorbance Data'!X2817-Calculations!U$1","v":0},{"$f":"'Absorbance Data'!Y2817-Calculations!V$1","v":0},{"$f":"'Absorbance Data'!Z2817-Calculations!W$1","v":0}]
[{"$f":"'Absorbance Data'!D2818","v":454.01473999023438},{"$f":"'Absorbance Data'!E2818-Calculations!B$1","v":0},{"$f":"'Absorbance Data'!F2818-Calculations!C$1","v":0},{"$f":"'Absorbance Data'!G2818-Calculations!D$1","v":0},{"$f":"'Absorbance Data'!H2818-Calculations!E$1","v":0},{"$f":"'Absorbance Data'!I2818-Calculations!F$1","v":0},{"$f":"'Absorbance Data'!J2818-Calculations!G$1","v":0},{"$f":"'Absorbance Data'!K2818-Calculations!H$1","v":0},{"$f":"'Absorbance Data'!L2818-Calculations!I$1","v":0},{"$f":"'Absorbance Data'!M2818-Calculations!J$1","v":0},{"$f":"'Absorbance Data'!N2818-Calculations!K$1","v":0},{"$f":"'Absorbance Data'!O2818-Calculations!L$1","v":0},{"$f":"'Absorbance Data'!P2818-Calculations!M$1","v":0},{"$f":"'Absorbance Data'!Q2818-Calculations!N$1","v":0},{"$f":"'Absorbance Data'!R2818-Calculations!O$1","v":0},{"$f":"'Absorbance Data'!S2818-Calculations!P$1","v":0},{"$f":"'Absorbance Data'!T2818-Calculations!Q$1","v":0},{"$f":"'Absorbance Data'!U2818-Calculations!R$1","v":0},{"$f":"'Absorbance Data'!V2818-Calculations!S$1","v":0},{"$f":"'Absorbance Data'!W2818-Calculations!T$1","v":0},{"$f":"'Absorbance Data'!X2818-Calculations!U$1","v":0},{"$f":"'Absorbance Data'!Y2818-Calculations!V$1","v":0},{"$f":"'Absorbance Data'!Z2818-Calculations!W$1","v":0}]
[{"$f":"'Absorbance Data'!D2819","v":454.35198974609375},{"$f":"'Absorbance Data'!E2819-Calculations!B$1","v":0},{"$f":"'Absorbance Data'!F2819-Calculations!C$1","v":0},{"$f":"'Absorbance Data'!G2819-Calculations!D$1","v":0},{"$f":"'Absorbance Data'!H2819-Calculations!E$1","v":0},{"$f":"'Absorbance Data'!I2819-Calculations!F$1","v":0},{"$f":"'Absorbance Data'!J2819-Calculations!G$1","v":0},{"$f":"'Absorbance Data'!K2819-Calculations!H$1","v":0},{"$f":"'Absorbance Data'!L2819-Calculations!I$1","v":0},{"$f":"'Absorbance Data'!M2819-Calculations!J$1","v":0},{"$f":"'Absorbance Data'!N2819-Calculations!K$1","v":0},{"$f":"'Absorbance Data'!O2819-Calculations!L$1","v":0},{"$f":"'Absorbance Data'!P2819-Calculations!M$1","v":0},{"$f":"'Absorbance Data'!Q2819-Calculations!N$1","v":0},{"$f":"'Absorbance Data'!R2819-Calculations!O$1","v":0},{"$f":"'Absorbance Data'!S2819-Calculations!P$1","v":0},{"$f":"'Absorbance Data'!T2819-Calculations!Q$1","v":0},{"$f":"'Absorbance Data'!U2819-Calculations!R$1","v":0},{"$f":"'Absorbance Data'!V2819-Calculations!S$1","v":0},{"$f":"'Absorbance Data'!W2819-Calculations!T$1","v":0},{"$f":"'Absorbance Data'!X2819-Calculations!U$1","v":0},{"$f":"'Absorbance Data'!Y2819-Calculations!V$1","v":0},{"$f":"'Absorbance Data'!Z2819-Calculations!W$1","v":0}]
[{"$f":"'Absorbance Data'!D2820","v":454.68917846679688},{"$f":"'Absorbance Data'!E2820-Calculations!B$1","v":0},{"$f":"'Absorbance Data'!F2820-Calculations!C$1","v":0},{"$f":"'Absorbance Data'!G2820-Calculations!D$1","v":0},{"$f":"'Absorbance Data'!H2820-Calculations!E$1","v":0},{"$f":"'Absorbance Data'!I2820-Calculations!F$1","v":0},{"$f":"'Absorbance Data'!J2820-Calculations!G$1","v":0},{"$f":"'Absorbance Data'!K2820-Calculations!H$1","v":0},{"$f":"'Absorbance Data'!L2820-Calculations!I$1","v":0},{"$f":"'Absorbance Data'!M2820-Calculations!J$1","v":0},{"$f":"'Absorbance Data'!N2820-Calculations!K$1","v":0},{"$f":"'Absorbance Data'!O2820-Calculations!L$1","v":0},{"$f":"'Absorbance Data'!P2820-Calculations!M$1","v":0},{"$f":"'Absorbance Data'!Q2820-Calculations!N$1","v":0},{"$f":"'Absorbance Data'!R2820-Calculations!O$1","v":0},{"$f":"'Absorbance Data'!S2820-Calculations!P$1","v":0},{"$f":"'Absorbance Data'!T2820-Calculations!Q$1","v":0},{"$f":"'Absorbance Data'!U2820-Calculations!R$1","v":0},{"$f":"'Absorbance Data'!V2820-Calculations!S$1","v":0},{"$f":"'Absorbance Data'!W2820-Calculations!T$1","v":0},{"$f":"'Absorbance Data'!X2820-Calculations!U$1","v":0},{"$f":"'Absorbance Data'!Y2820-Calculations!V$1","v":0},{"$f":"'Absorbance Data'!Z2820-Calculations!W$1","v":0}]
[{"$f":"'Absorbance Data'!D2821","v":455.02639770507812},{"$f":"'Absorbance Data'!E2821-Calculations!B$1","v":0},{"$f":"'Absorbance Data'!F2821-Calculations!C$1","v":0},{"$f":"'Absorbance Data'!G2821-Calculations!D$1","v":0},{"$f":"'Absorbance Data'!H2821-Calculations!E$1","v":0},{"$f":"'Absorbance Data'!I2821-Calculations!F$1","v":0},{"$f":"'Absorbance Data'!J2821-Calculations!G$1","v":0},{"$f":"'Absorbance Data'!K2821-Calculations!H$1","v":0},{"$f":"'Absorbance Data'!L2821-Calculations!I$1","v":0},{"$f":"'Absorbance Data'!M2821-Calculations!J$1","v":0},{"$f":"'Absorbance Data'!N2821-Calculations!K$1","v":0},{"$f":"'Absorbance Data'!O2821-Calculations!L$1","v":0},{"$f":"'Absorbance Data'!P2821-Calculations!M$1","v":0},{"$f":"'Absorbance Data'!Q2821-Calculations!N$1","v":0},{"$f":"'Absorbance Data'!R2821-Calculations!O$1","v":0},{"$f":"'Absorbance Data'!S2821-Calculations!P$1","v":0},{"$f":"'Absorbance Data'!T2821-Calculations!Q$1","v":0},{"$f":"'Absorbance Data'!U2821-Calculations!R$1","v":0},{"$f":"'Absorbance Data'!V2821-Calculations!S$1","v":0},{"$f":"'Absorbance Data'!W2821-Calculations!T$1","v":0},{"$f":"'Absorbance Data'!X2821-Calculations!U$1","v":0},{"$f":"'Absorbance Data'!Y2821-Calculations!V$1","v":0},{"$f":"'Absorbance Data'!Z2821-Calculations!W$1","v":0}]
[{"$f":"'Absorbance Data'!D2822","v":455.363525390625},{"$f":"'Absorbance Data'!E2822-Calculations!B$1","v":0},{"$f":"'Absorbance Data'!F2822-Calculations!C$1","v":0},{"$f":"'Absorbance Data'!G2822-Calculations!D$1","v":0},{"$f":"'Absorbance Data'!H2822-Calculations!E$1","v":0},{"$f":"'Absorbance Data'!I2822-Calculations!F$1","v":0},{"$f":"'Absorbance Data'!J2822-Calculations!G$1","v":0},{"$f":"'Absorbance Data'!K2822-Calculations!H$1","v":0},{"$f":"'Absorbance Data'!L2822-Calculations!I$1","v":0},{"$f":"'Absorbance Data'!M2822-Calculations!J$1","v":0},{"$f":"'Absorbance Data'!N2822-Calculations!K$1","v":0},{"$f":"'Absorbance Data'!O2822-Calculations!L$1","v":0},{"$f":"'Absorbance Data'!P2822-Calculations!M$1","v":0},{"$f":"'Absorbance Data'!Q2822-Calculations!N$1","v":0},{"$f":"'Absorbance Data'!R2822-Calculations!O$1","v":0},{"$f":"'Absorbance Data'!S2822-Calculations!P$1","v":0},{"$f":"'Absorbance Data'!T2822-Calculations!Q$1","v":0},{"$f":"'Absorbance Data'!U2822-Calculations!R$1","v":0},{"$f":"'Absorbance Data'!V2822-Calculations!S$1","v":0},{"$f":"'Absorbance Data'!W2822-Calculations!T$1","v":0},{"$f":"'Absorbance Data'!X2822-Calculations!U$1","v":0},{"$f":"'Absorbance Data'!Y2822-Calculations!V$1","v":0},{"$f":"'Absorbance Data'!Z2822-Calculations!W$1","v":0}]
[{"$f":"'Absorbance Data'!D2823","v":455.70065307617188},{"$f":"'Absorbance Data'!E2823-Calculations!B$1","v":0},{"$f":"'Absorbance Data'!F2823-Calculations!C$1","v":0},{"$f":"'Absorbance Data'!G2823-Calculations!D$1","v":0},{"$f":"'Absorbance Data'!H2823-Calculations!E$1","v":0},{"$f":"'Absorbance Data'!I2823-Calculations!F$1","v":0},{"$f":"'Absorbance Data'!J2823-Calculations!G$1","v":0},{"$f":"'Absorbance Data'!K2823-Calculations!H$1","v":0},{"$f":"'Absorbance Data'!L2823-Calculations!I$1","v":0},{"$f":"'Absorbance Data'!M2823-Calculations!J$1","v":0},{"$f":"'Absorbance Data'!N2823-Calculations!K$1","v":0},{"$f":"'Absorbance Data'!O2823-Calculations!L$1","v":0},{"$f":"'Absorbance Data'!P2823-Calculations!M$1","v":0},{"$f":"'Absorbance Data'!Q2823-Calculations!N$1","v":0},{"$f":"'Absorbance Data'!R2823-Calculations!O$1","v":0},{"$f":"'Absorbance Data'!S2823-Calculations!P$1","v":0},{"$f":"'Absorbance Data'!T2823-Calculations!Q$1","v":0},{"$f":"'Absorbance Data'!U2823-Calculations!R$1","v":0},{"$f":"'Absorbance Data'!V2823-Calculations!S$1","v":0},{"$f":"'Absorbance Data'!W2823-Calculations!T$1","v":0},{"$f":"'Absorbance Data'!X2823-Calculations!U$1","v":0},{"$f":"'Absorbance Data'!Y2823-Calculations!V$1","v":0},{"$f":"'Absorbance Data'!Z2823-Calculations!W$1","v":0}]
[{"$f":"'Absorbance Data'!D2824","v":456.03768920898438},{"$f":"'Absorbance Data'!E2824-Calculations!B$1","v":0},{"$f":"'Absorbance Data'!F2824-Calculations!C$1","v":0},{"$f":"'Absorbance Data'!G2824-Calculations!D$1","v":0},{"$f":"'Absorbance Data'!H2824-Calculations!E$1","v":0},{"$f":"'Absorbance Data'!I2824-Calculations!F$1","v":0},{"$f":"'Absorbance Data'!J2824-Calculations!G$1","v":0},{"$f":"'Absorbance Data'!K2824-Calculations!H$1","v":0},{"$f":"'Absorbance Data'!L2824-Calculations!I$1","v":0},{"$f":"'Absorbance Data'!M2824-Calculations!J$1","v":0},{"$f":"'Absorbance Data'!N2824-Calculations!K$1","v":0},{"$f":"'Absorbance Data'!O2824-Calculations!L$1","v":0},{"$f":"'Absorbance Data'!P2824-Calculations!M$1","v":0},{"$f":"'Absorbance Data'!Q2824-Calculations!N$1","v":0},{"$f":"'Absorbance Data'!R2824-Calculations!O$1","v":0},{"$f":"'Absorbance Data'!S2824-Calculations!P$1","v":0},{"$f":"'Absorbance Data'!T2824-Calculations!Q$1","v":0},{"$f":"'Absorbance Data'!U2824-Calculations!R$1","v":0},{"$f":"'Absorbance Data'!V2824-Calculations!S$1","v":0},{"$f":"'Absorbance Data'!W2824-Calculations!T$1","v":0},{"$f":"'Absorbance Data'!X2824-Calculations!U$1","v":0},{"$f":"'Absorbance Data'!Y2824-Calculations!V$1","v":0},{"$f":"'Absorbance Data'!Z2824-Calculations!W$1","v":0}]
[{"$f":"'Absorbance Data'!D2825","v":456.374755859375},{"$f":"'Absorbance Data'!E2825-Calculations!B$1","v":0},{"$f":"'Absorbance Data'!F2825-Calculations!C$1","v":0},{"$f":"'Absorbance Data'!G2825-Calculations!D$1","v":0},{"$f":"'Absorbance Data'!H2825-Calculations!E$1","v":0},{"$f":"'Absorbance Data'!I2825-Calculations!F$1","v":0},{"$f":"'Absorbance Data'!J2825-Calculations!G$1","v":0},{"$f":"'Absorbance Data'!K2825-Calculations!H$1","v":0},{"$f":"'Absorbance Data'!L2825-Calculations!I$1","v":0},{"$f":"'Absorbance Data'!M2825-Calculations!J$1","v":0},{"$f":"'Absorbance Data'!N2825-Calculations!K$1","v":0},{"$f":"'Absorbance Data'!O2825-Calculations!L$1","v":0},{"$f":"'Absorbance Data'!P2825-Calculations!M$1","v":0},{"$f":"'Absorbance Data'!Q2825-Calculations!N$1","v":0},{"$f":"'Absorbance Data'!R2825-Calculations!O$1","v":0},{"$f":"'Absorbance Data'!S2825-Calculations!P$1","v":0},{"$f":"'Absorbance Data'!T2825-Calculations!Q$1","v":0},{"$f":"'Absorbance Data'!U2825-Calculations!R$1","v":0},{"$f":"'Absorbance Data'!V2825-Calculations!S$1","v":0},{"$f":"'Absorbance Data'!W2825-Calculations!T$1","v":0},{"$f":"'Absorbance Data'!X2825-Calculations!U$1","v":0},{"$f":"'Absorbance Data'!Y2825-Calculations!V$1","v":0},{"$f":"'Absorbance Data'!Z2825-Calculations!W$1","v":0}]
[{"$f":"'Absorbance Data'!D2826","v":456.71176147460938},{"$f":"'Absorbance Data'!E2826-Calculations!B$1","v":0},{"$f":"'Absorbance Data'!F2826-Calculations!C$1","v":0},{"$f":"'Absorbance Data'!G2826-Calculations!D$1","v":0},{"$f":"'Absorbance Data'!H2826-Calculations!E$1","v":0},{"$f":"'Absorbance Data'!I2826-Calculations!F$1","v":0},{"$f":"'Absorbance Data'!J2826-Calculations!G$1","v":0},{"$f":"'Absorbance Data'!K2826-Calculations!H$1","v":0},{"$f":"'Absorbance Data'!L2826-Calculations!I$1","v":0},{"$f":"'Absorbance Data'!M2826-Calculations!J$1","v":0},{"$f":"'Absorbance Data'!N2826-Calculations!K$1","v":0},{"$f":"'Absorbance Data'!O2826-Calculations!L$1","v":0},{"$f":"'Absorbance Data'!P2826-Calculations!M$1","v":0},{"$f":"'Absorbance Data'!Q2826-Calculations!N$1","v":0},{"$f":"'Absorbance Data'!R2826-Calculations!O$1","v":0},{"$f":"'Absorbance Data'!S2826-Calculations!P$1","v":0},{"$f":"'Absorbance Data'!T2826-Calculations!Q$1","v":0},{"$f":"'Absorbance Data'!U2826-Calculations!R$1","v":0},{"$f":"'Absorbance Data'!V2826-Calculations!S$1","v":0},{"$f":"'Absorbance Data'!W2826-Calculations!T$1","v":0},{"$f":"'Absorbance Data'!X2826-Calculations!U$1","v":0},{"$f":"'Absorbance Data'!Y2826-Calculations!V$1","v":0},{"$f":"'Absorbance Data'!Z2826-Calculations!W$1","v":0}]
[{"$f":"'Absorbance Data'!D2827","v":457.04873657226562},{"$f":"'Absorbance Data'!E2827-Calculations!B$1","v":0},{"$f":"'Absorbance Data'!F2827-Calculations!C$1","v":0},{"$f":"'Absorbance Data'!G2827-Calculations!D$1","v":0},{"$f":"'Absorbance Data'!H2827-Calculations!E$1","v":0},{"$f":"'Absorbance Data'!I2827-Calculations!F$1","v":0},{"$f":"'Absorbance Data'!J2827-Calculations!G$1","v":0},{"$f":"'Absorbance Data'!K2827-Calculations!H$1","v":0},{"$f":"'Absorbance Data'!L2827-Calculations!I$1","v":0},{"$f":"'Absorbance Data'!M2827-Calculations!J$1","v":0},{"$f":"'Absorbance Data'!N2827-Calculations!K$1","v":0},{"$f":"'Absorbance Data'!O2827-Calculations!L$1","v":0},{"$f":"'Absorbance Data'!P2827-Calculations!M$1","v":0},{"$f":"'Absorbance Data'!Q2827-Calculations!N$1","v":0},{"$f":"'Absorbance Data'!R2827-Calculations!O$1","v":0},{"$f":"'Absorbance Data'!S2827-Calculations!P$1","v":0},{"$f":"'Absorbance Data'!T2827-Calculations!Q$1","v":0},{"$f":"'Absorbance Data'!U2827-Calculations!R$1","v":0},{"$f":"'Absorbance Data'!V2827-Calculations!S$1","v":0},{"$f":"'Absorbance Data'!W2827-Calculations!T$1","v":0},{"$f":"'Absorbance Data'!X2827-Calculations!U$1","v":0},{"$f":"'Absorbance Data'!Y2827-Calculations!V$1","v":0},{"$f":"'Absorbance Data'!Z2827-Calculations!W$1","v":0}]
[{"$f":"'Absorbance Data'!D2828","v":457.38565063476562},{"$f":"'Absorbance Data'!E2828-Calculations!B$1","v":0},{"$f":"'Absorbance Data'!F2828-Calculations!C$1","v":0},{"$f":"'Absorbance Data'!G2828-Calculations!D$1","v":0},{"$f":"'Absorbance Data'!H2828-Calculations!E$1","v":0},{"$f":"'Absorbance Data'!I2828-Calculations!F$1","v":0},{"$f":"'Absorbance Data'!J2828-Calculations!G$1","v":0},{"$f":"'Absorbance Data'!K2828-Calculations!H$1","v":0},{"$f":"'Absorbance Data'!L2828-Calculations!I$1","v":0},{"$f":"'Absorbance Data'!M2828-Calculations!J$1","v":0},{"$f":"'Absorbance Data'!N2828-Calculations!K$1","v":0},{"$f":"'Absorbance Data'!O2828-Calculations!L$1","v":0},{"$f":"'Absorbance Data'!P2828-Calculations!M$1","v":0},{"$f":"'Absorbance Data'!Q2828-Calculations!N$1","v":0},{"$f":"'Absorbance Data'!R2828-Calculations!O$1","v":0},{"$f":"'Absorbance Data'!S2828-Calculations!P$1","v":0},{"$f":"'Absorbance Data'!T2828-Calculations!Q$1","v":0},{"$f":"'Absorbance Data'!U2828-Calculations!R$1","v":0},{"$f":"'Absorbance Data'!V2828-Calculations!S$1","v":0},{"$f":"'Absorbance Data'!W2828-Calculations!T$1","v":0},{"$f":"'Absorbance Data'!X2828-Calculations!U$1","v":0},{"$f":"'Absorbance Data'!Y2828-Calculations!V$1","v":0},{"$f":"'Absorbance Data'!Z2828-Calculations!W$1","v":0}]
[{"$f":"'Absorbance Data'!D2829","v":457.72256469726562},{"$f":"'Absorbance Data'!E2829-Calculations!B$1","v":0},{"$f":"'Absorbance Data'!F2829-Calculations!C$1","v":0},{"$f":"'Absorbance Data'!G2829-Calculations!D$1","v":0},{"$f":"'Absorbance Data'!H2829-Calculations!E$1","v":0},{"$f":"'Absorbance Data'!I2829-Calculations!F$1","v":0},{"$f":"'Absorbance Data'!J2829-Calculations!G$1","v":0},{"$f":"'Absorbance Data'!K2829-Calculations!H$1","v":0},{"$f":"'Absorbance Data'!L2829-Calculations!I$1","v":0},{"$f":"'Absorbance Data'!M2829-Calculations!J$1","v":0},{"$f":"'Absorbance Data'!N2829-Calculations!K$1","v":0},{"$f":"'Absorbance Data'!O2829-Calculations!L$1","v":0},{"$f":"'Absorbance Data'!P2829-Calculations!M$1","v":0},{"$f":"'Absorbance Data'!Q2829-Calculations!N$1","v":0},{"$f":"'Absorbance Data'!R2829-Calculations!O$1","v":0},{"$f":"'Absorbance Data'!S2829-Calculations!P$1","v":0},{"$f":"'Absorbance Data'!T2829-Calculations!Q$1","v":0},{"$f":"'Absorbance Data'!U2829-Calculations!R$1","v":0},{"$f":"'Absorbance Data'!V2829-Calculations!S$1","v":0},{"$f":"'Absorbance Data'!W2829-Calculations!T$1","v":0},{"$f":"'Absorbance Data'!X2829-Calculations!U$1","v":0},{"$f":"'Absorbance Data'!Y2829-Calculations!V$1","v":0},{"$f":"'Absorbance Data'!Z2829-Calculations!W$1","v":0}]
[{"$f":"'Absorbance Data'!D2830","v":458.0594482421875},{"$f":"'Absorbance Data'!E2830-Calculations!B$1","v":0},{"$f":"'Absorbance Data'!F2830-Calculations!C$1","v":0},{"$f":"'Absorbance Data'!G2830-Calculations!D$1","v":0},{"$f":"'Absorbance Data'!H2830-Calculations!E$1","v":0},{"$f":"'Absorbance Data'!I2830-Calculations!F$1","v":0},{"$f":"'Absorbance Data'!J2830-Calculations!G$1","v":0},{"$f":"'Absorbance Data'!K2830-Calculations!H$1","v":0},{"$f":"'Absorbance Data'!L2830-Calculations!I$1","v":0},{"$f":"'Absorbance Data'!M2830-Calculations!J$1","v":0},{"$f":"'Absorbance Data'!N2830-Calculations!K$1","v":0},{"$f":"'Absorbance Data'!O2830-Calculations!L$1","v":0},{"$f":"'Absorbance Data'!P2830-Calculations!M$1","v":0},{"$f":"'Absorbance Data'!Q2830-Calculations!N$1","v":0},{"$f":"'Absorbance Data'!R2830-Calculations!O$1","v":0},{"$f":"'Absorbance Data'!S2830-Calculations!P$1","v":0},{"$f":"'Absorbance Data'!T2830-Calculations!Q$1","v":0},{"$f":"'Absorbance Data'!U2830-Calculations!R$1","v":0},{"$f":"'Absorbance Data'!V2830-Calculations!S$1","v":0},{"$f":"'Absorbance Data'!W2830-Calculations!T$1","v":0},{"$f":"'Absorbance Data'!X2830-Calculations!U$1","v":0},{"$f":"'Absorbance Data'!Y2830-Calculations!V$1","v":0},{"$f":"'Absorbance Data'!Z2830-Calculations!W$1","v":0}]
[{"$f":"'Absorbance Data'!D2831","v":458.39627075195312},{"$f":"'Absorbance Data'!E2831-Calculations!B$1","v":0},{"$f":"'Absorbance Data'!F2831-Calculations!C$1","v":0},{"$f":"'Absorbance Data'!G2831-Calculations!D$1","v":0},{"$f":"'Absorbance Data'!H2831-Calculations!E$1","v":0},{"$f":"'Absorbance Data'!I2831-Calculations!F$1","v":0},{"$f":"'Absorbance Data'!J2831-Calculations!G$1","v":0},{"$f":"'Absorbance Data'!K2831-Calculations!H$1","v":0},{"$f":"'Absorbance Data'!L2831-Calculations!I$1","v":0},{"$f":"'Absorbance Data'!M2831-Calculations!J$1","v":0},{"$f":"'Absorbance Data'!N2831-Calculations!K$1","v":0},{"$f":"'Absorbance Data'!O2831-Calculations!L$1","v":0},{"$f":"'Absorbance Data'!P2831-Calculations!M$1","v":0},{"$f":"'Absorbance Data'!Q2831-Calculations!N$1","v":0},{"$f":"'Absorbance Data'!R2831-Calculations!O$1","v":0},{"$f":"'Absorbance Data'!S2831-Calculations!P$1","v":0},{"$f":"'Absorbance Data'!T2831-Calculations!Q$1","v":0},{"$f":"'Absorbance Data'!U2831-Calculations!R$1","v":0},{"$f":"'Absorbance Data'!V2831-Calculations!S$1","v":0},{"$f":"'Absorbance Data'!W2831-Calculations!T$1","v":0},{"$f":"'Absorbance Data'!X2831-Calculations!U$1","v":0},{"$f":"'Absorbance Data'!Y2831-Calculations!V$1","v":0},{"$f":"'Absorbance Data'!Z2831-Calculations!W$1","v":0}]
[{"$f":"'Absorbance Data'!D2832","v":458.73309326171875},{"$f":"'Absorbance Data'!E2832-Calculations!B$1","v":0},{"$f":"'Absorbance Data'!F2832-Calculations!C$1","v":0},{"$f":"'Absorbance Data'!G2832-Calculations!D$1","v":0},{"$f":"'Absorbance Data'!H2832-Calculations!E$1","v":0},{"$f":"'Absorbance Data'!I2832-Calculations!F$1","v":0},{"$f":"'Absorbance Data'!J2832-Calculations!G$1","v":0},{"$f":"'Absorbance Data'!K2832-Calculations!H$1","v":0},{"$f":"'Absorbance Data'!L2832-Calculations!I$1","v":0},{"$f":"'Absorbance Data'!M2832-Calculations!J$1","v":0},{"$f":"'Absorbance Data'!N2832-Calculations!K$1","v":0},{"$f":"'Absorbance Data'!O2832-Calculations!L$1","v":0},{"$f":"'Absorbance Data'!P2832-Calculations!M$1","v":0},{"$f":"'Absorbance Data'!Q2832-Calculations!N$1","v":0},{"$f":"'Absorbance Data'!R2832-Calculations!O$1","v":0},{"$f":"'Absorbance Data'!S2832-Calculations!P$1","v":0},{"$f":"'Absorbance Data'!T2832-Calculations!Q$1","v":0},{"$f":"'Absorbance Data'!U2832-Calculations!R$1","v":0},{"$f":"'Absorbance Data'!V2832-Calculations!S$1","v":0},{"$f":"'Absorbance Data'!W2832-Calculations!T$1","v":0},{"$f":"'Absorbance Data'!X2832-Calculations!U$1","v":0},{"$f":"'Absorbance Data'!Y2832-Calculations!V$1","v":0},{"$f":"'Absorbance Data'!Z2832-Calculations!W$1","v":0}]
[{"$f":"'Absorbance Data'!D2833","v":459.06985473632812},{"$f":"'Absorbance Data'!E2833-Calculations!B$1","v":0},{"$f":"'Absorbance Data'!F2833-Calculations!C$1","v":0},{"$f":"'Absorbance Data'!G2833-Calculations!D$1","v":0},{"$f":"'Absorbance Data'!H2833-Calculations!E$1","v":0},{"$f":"'Absorbance Data'!I2833-Calculations!F$1","v":0},{"$f":"'Absorbance Data'!J2833-Calculations!G$1","v":0},{"$f":"'Absorbance Data'!K2833-Calculations!H$1","v":0},{"$f":"'Absorbance Data'!L2833-Calculations!I$1","v":0},{"$f":"'Absorbance Data'!M2833-Calculations!J$1","v":0},{"$f":"'Absorbance Data'!N2833-Calculations!K$1","v":0},{"$f":"'Absorbance Data'!O2833-Calculations!L$1","v":0},{"$f":"'Absorbance Data'!P2833-Calculations!M$1","v":0},{"$f":"'Absorbance Data'!Q2833-Calculations!N$1","v":0},{"$f":"'Absorbance Data'!R2833-Calculations!O$1","v":0},{"$f":"'Absorbance Data'!S2833-Calculations!P$1","v":0},{"$f":"'Absorbance Data'!T2833-Calculations!Q$1","v":0},{"$f":"'Absorbance Data'!U2833-Calculations!R$1","v":0},{"$f":"'Absorbance Data'!V2833-Calculations!S$1","v":0},{"$f":"'Absorbance Data'!W2833-Calculations!T$1","v":0},{"$f":"'Absorbance Data'!X2833-Calculations!U$1","v":0},{"$f":"'Absorbance Data'!Y2833-Calculations!V$1","v":0},{"$f":"'Absorbance Data'!Z2833-Calculations!W$1","v":0}]
[{"$f":"'Absorbance Data'!D2834","v":459.40655517578125},{"$f":"'Absorbance Data'!E2834-Calculations!B$1","v":0},{"$f":"'Absorbance Data'!F2834-Calculations!C$1","v":0},{"$f":"'Absorbance Data'!G2834-Calculations!D$1","v":0},{"$f":"'Absorbance Data'!H2834-Calculations!E$1","v":0},{"$f":"'Absorbance Data'!I2834-Calculations!F$1","v":0},{"$f":"'Absorbance Data'!J2834-Calculations!G$1","v":0},{"$f":"'Absorbance Data'!K2834-Calculations!H$1","v":0},{"$f":"'Absorbance Data'!L2834-Calculations!I$1","v":0},{"$f":"'Absorbance Data'!M2834-Calculations!J$1","v":0},{"$f":"'Absorbance Data'!N2834-Calculations!K$1","v":0},{"$f":"'Absorbance Data'!O2834-Calculations!L$1","v":0},{"$f":"'Absorbance Data'!P2834-Calculations!M$1","v":0},{"$f":"'Absorbance Data'!Q2834-Calculations!N$1","v":0},{"$f":"'Absorbance Data'!R2834-Calculations!O$1","v":0},{"$f":"'Absorbance Data'!S2834-Calculations!P$1","v":0},{"$f":"'Absorbance Data'!T2834-Calculations!Q$1","v":0},{"$f":"'Absorbance Data'!U2834-Calculations!R$1","v":0},{"$f":"'Absorbance Data'!V2834-Calculations!S$1","v":0},{"$f":"'Absorbance Data'!W2834-Calculations!T$1","v":0},{"$f":"'Absorbance Data'!X2834-Calculations!U$1","v":0},{"$f":"'Absorbance Data'!Y2834-Calculations!V$1","v":0},{"$f":"'Absorbance Data'!Z2834-Calculations!W$1","v":0}]
[{"$f":"'Absorbance Data'!D2835","v":459.74325561523438},{"$f":"'Absorbance Data'!E2835-Calculations!B$1","v":0},{"$f":"'Absorbance Data'!F2835-Calculations!C$1","v":0},{"$f":"'Absorbance Data'!G2835-Calculations!D$1","v":0},{"$f":"'Absorbance Data'!H2835-Calculations!E$1","v":0},{"$f":"'Absorbance Data'!I2835-Calculations!F$1","v":0},{"$f":"'Absorbance Data'!J2835-Calculations!G$1","v":0},{"$f":"'Absorbance Data'!K2835-Calculations!H$1","v":0},{"$f":"'Absorbance Data'!L2835-Calculations!I$1","v":0},{"$f":"'Absorbance Data'!M2835-Calculations!J$1","v":0},{"$f":"'Absorbance Data'!N2835-Calculations!K$1","v":0},{"$f":"'Absorbance Data'!O2835-Calculations!L$1","v":0},{"$f":"'Absorbance Data'!P2835-Calculations!M$1","v":0},{"$f":"'Absorbance Data'!Q2835-Calculations!N$1","v":0},{"$f":"'Absorbance Data'!R2835-Calculations!O$1","v":0},{"$f":"'Absorbance Data'!S2835-Calculations!P$1","v":0},{"$f":"'Absorbance Data'!T2835-Calculations!Q$1","v":0},{"$f":"'Absorbance Data'!U2835-Calculations!R$1","v":0},{"$f":"'Absorbance Data'!V2835-Calculations!S$1","v":0},{"$f":"'Absorbance Data'!W2835-Calculations!T$1","v":0},{"$f":"'Absorbance Data'!X2835-Calculations!U$1","v":0},{"$f":"'Absorbance Data'!Y2835-Calculations!V$1","v":0},{"$f":"'Absorbance Data'!Z2835-Calculations!W$1","v":0}]
[{"$f":"'Absorbance Data'!D2836","v":460.07992553710938},{"$f":"'Absorbance Data'!E2836-Calculations!B$1","v":0},{"$f":"'Absorbance Data'!F2836-Calculations!C$1","v":0},{"$f":"'Absorbance Data'!G2836-Calculations!D$1","v":0},{"$f":"'Absorbance Data'!H2836-Calculations!E$1","v":0},{"$f":"'Absorbance Data'!I2836-Calculations!F$1","v":0},{"$f":"'Absorbance Data'!J2836-Calculations!G$1","v":0},{"$f":"'Absorbance Data'!K2836-Calculations!H$1","v":0},{"$f":"'Absorbance Data'!L2836-Calculations!I$1","v":0},{"$f":"'Absorbance Data'!M2836-Calculations!J$1","v":0},{"$f":"'Absorbance Data'!N2836-Calculations!K$1","v":0},{"$f":"'Absorbance Data'!O2836-Calculations!L$1","v":0},{"$f":"'Absorbance Data'!P2836-Calculations!M$1","v":0},{"$f":"'Absorbance Data'!Q2836-Calculations!N$1","v":0},{"$f":"'Absorbance Data'!R2836-Calculations!O$1","v":0},{"$f":"'Absorbance Data'!S2836-Calculations!P$1","v":0},{"$f":"'Absorbance Data'!T2836-Calculations!Q$1","v":0},{"$f":"'Absorbance Data'!U2836-Calculations!R$1","v":0},{"$f":"'Absorbance Data'!V2836-Calculations!S$1","v":0},{"$f":"'Absorbance Data'!W2836-Calculations!T$1","v":0},{"$f":"'Absorbance Data'!X2836-Calculations!U$1","v":0},{"$f":"'Absorbance Data'!Y2836-Calculations!V$1","v":0},{"$f":"'Absorbance Data'!Z2836-Calculations!W$1","v":0}]
[{"$f":"'Absorbance Data'!D2837","v":460.41656494140625},{"$f":"'Absorbance Data'!E2837-Calculations!B$1","v":0},{"$f":"'Absorbance Data'!F2837-Calculations!C$1","v":0},{"$f":"'Absorbance Data'!G2837-Calculations!D$1","v":0},{"$f":"'Absorbance Data'!H2837-Calculations!E$1","v":0},{"$f":"'Absorbance Data'!I2837-Calculations!F$1","v":0},{"$f":"'Absorbance Data'!J2837-Calculations!G$1","v":0},{"$f":"'Absorbance Data'!K2837-Calculations!H$1","v":0},{"$f":"'Absorbance Data'!L2837-Calculations!I$1","v":0},{"$f":"'Absorbance Data'!M2837-Calculations!J$1","v":0},{"$f":"'Absorbance Data'!N2837-Calculations!K$1","v":0},{"$f":"'Absorbance Data'!O2837-Calculations!L$1","v":0},{"$f":"'Absorbance Data'!P2837-Calculations!M$1","v":0},{"$f":"'Absorbance Data'!Q2837-Calculations!N$1","v":0},{"$f":"'Absorbance Data'!R2837-Calculations!O$1","v":0},{"$f":"'Absorbance Data'!S2837-Calculations!P$1","v":0},{"$f":"'Absorbance Data'!T2837-Calculations!Q$1","v":0},{"$f":"'Absorbance Data'!U2837-Calculations!R$1","v":0},{"$f":"'Absorbance Data'!V2837-Calculations!S$1","v":0},{"$f":"'Absorbance Data'!W2837-Calculations!T$1","v":0},{"$f":"'Absorbance Data'!X2837-Calculations!U$1","v":0},{"$f":"'Absorbance Data'!Y2837-Calculations!V$1","v":0},{"$f":"'Absorbance Data'!Z2837-Calculations!W$1","v":0}]
[{"$f":"'Absorbance Data'!D2838","v":460.75314331054688},{"$f":"'Absorbance Data'!E2838-Calculations!B$1","v":0},{"$f":"'Absorbance Data'!F2838-Calculations!C$1","v":0},{"$f":"'Absorbance Data'!G2838-Calculations!D$1","v":0},{"$f":"'Absorbance Data'!H2838-Calculations!E$1","v":0},{"$f":"'Absorbance Data'!I2838-Calculations!F$1","v":0},{"$f":"'Absorbance Data'!J2838-Calculations!G$1","v":0},{"$f":"'Absorbance Data'!K2838-Calculations!H$1","v":0},{"$f":"'Absorbance Data'!L2838-Calculations!I$1","v":0},{"$f":"'Absorbance Data'!M2838-Calculations!J$1","v":0},{"$f":"'Absorbance Data'!N2838-Calculations!K$1","v":0},{"$f":"'Absorbance Data'!O2838-Calculations!L$1","v":0},{"$f":"'Absorbance Data'!P2838-Calculations!M$1","v":0},{"$f":"'Absorbance Data'!Q2838-Calculations!N$1","v":0},{"$f":"'Absorbance Data'!R2838-Calculations!O$1","v":0},{"$f":"'Absorbance Data'!S2838-Calculations!P$1","v":0},{"$f":"'Absorbance Data'!T2838-Calculations!Q$1","v":0},{"$f":"'Absorbance Data'!U2838-Calculations!R$1","v":0},{"$f":"'Absorbance Data'!V2838-Calculations!S$1","v":0},{"$f":"'Absorbance Data'!W2838-Calculations!T$1","v":0},{"$f":"'Absorbance Data'!X2838-Calculations!U$1","v":0},{"$f":"'Absorbance Data'!Y2838-Calculations!V$1","v":0},{"$f":"'Absorbance Data'!Z2838-Calculations!W$1","v":0}]
[{"$f":"'Absorbance Data'!D2839","v":461.08966064453125},{"$f":"'Absorbance Data'!E2839-Calculations!B$1","v":0},{"$f":"'Absorbance Data'!F2839-Calculations!C$1","v":0},{"$f":"'Absorbance Data'!G2839-Calculations!D$1","v":0},{"$f":"'Absorbance Data'!H2839-Calculations!E$1","v":0},{"$f":"'Absorbance Data'!I2839-Calculations!F$1","v":0},{"$f":"'Absorbance Data'!J2839-Calculations!G$1","v":0},{"$f":"'Absorbance Data'!K2839-Calculations!H$1","v":0},{"$f":"'Absorbance Data'!L2839-Calculations!I$1","v":0},{"$f":"'Absorbance Data'!M2839-Calculations!J$1","v":0},{"$f":"'Absorbance Data'!N2839-Calculations!K$1","v":0},{"$f":"'Absorbance Data'!O2839-Calculations!L$1","v":0},{"$f":"'Absorbance Data'!P2839-Calculations!M$1","v":0},{"$f":"'Absorbance Data'!Q2839-Calculations!N$1","v":0},{"$f":"'Absorbance Data'!R2839-Calculations!O$1","v":0},{"$f":"'Absorbance Data'!S2839-Calculations!P$1","v":0},{"$f":"'Absorbance Data'!T2839-Calculations!Q$1","v":0},{"$f":"'Absorbance Data'!U2839-Calculations!R$1","v":0},{"$f":"'Absorbance Data'!V2839-Calculations!S$1","v":0},{"$f":"'Absorbance Data'!W2839-Calculations!T$1","v":0},{"$f":"'Absorbance Data'!X2839-Calculations!U$1","v":0},{"$f":"'Absorbance Data'!Y2839-Calculations!V$1","v":0},{"$f":"'Absorbance Data'!Z2839-Calculations!W$1","v":0}]
[{"$f":"'Absorbance Data'!D2840","v":461.42617797851562},{"$f":"'Absorbance Data'!E2840-Calculations!B$1","v":0},{"$f":"'Absorbance Data'!F2840-Calculations!C$1","v":0},{"$f":"'Absorbance Data'!G2840-Calculations!D$1","v":0},{"$f":"'Absorbance Data'!H2840-Calculations!E$1","v":0},{"$f":"'Absorbance Data'!I2840-Calculations!F$1","v":0},{"$f":"'Absorbance Data'!J2840-Calculations!G$1","v":0},{"$f":"'Absorbance Data'!K2840-Calculations!H$1","v":0},{"$f":"'Absorbance Data'!L2840-Calculations!I$1","v":0},{"$f":"'Absorbance Data'!M2840-Calculations!J$1","v":0},{"$f":"'Absorbance Data'!N2840-Calculations!K$1","v":0},{"$f":"'Absorbance Data'!O2840-Calculations!L$1","v":0},{"$f":"'Absorbance Data'!P2840-Calculations!M$1","v":0},{"$f":"'Absorbance Data'!Q2840-Calculations!N$1","v":0},{"$f":"'Absorbance Data'!R2840-Calculations!O$1","v":0},{"$f":"'Absorbance Data'!S2840-Calculations!P$1","v":0},{"$f":"'Absorbance Data'!T2840-Calculations!Q$1","v":0},{"$f":"'Absorbance Data'!U2840-Calculations!R$1","v":0},{"$f":"'Absorbance Data'!V2840-Calculations!S$1","v":0},{"$f":"'Absorbance Data'!W2840-Calculations!T$1","v":0},{"$f":"'Absorbance Data'!X2840-Calculations!U$1","v":0},{"$f":"'Absorbance Data'!Y2840-Calculations!V$1","v":0},{"$f":"'Absorbance Data'!Z2840-Calculations!W$1","v":0}]
[{"$f":"'Absorbance Data'!D2841","v":461.76266479492188},{"$f":"'Absorbance Data'!E2841-Calculations!B$1","v":0},{"$f":"'Absorbance Data'!F2841-Calculations!C$1","v":0},{"$f":"'Absorbance Data'!G2841-Calculations!D$1","v":0},{"$f":"'Absorbance Data'!H2841-Calculations!E$1","v":0},{"$f":"'Absorbance Data'!I2841-Calculations!F$1","v":0},{"$f":"'Absorbance Data'!J2841-Calculations!G$1","v":0},{"$f":"'Absorbance Data'!K2841-Calculations!H$1","v":0},{"$f":"'Absorbance Data'!L2841-Calculations!I$1","v":0},{"$f":"'Absorbance Data'!M2841-Calculations!J$1","v":0},{"$f":"'Absorbance Data'!N2841-Calculations!K$1","v":0},{"$f":"'Absorbance Data'!O2841-Calculations!L$1","v":0},{"$f":"'Absorbance Data'!P2841-Calculations!M$1","v":0},{"$f":"'Absorbance Data'!Q2841-Calculations!N$1","v":0},{"$f":"'Absorbance Data'!R2841-Calculations!O$1","v":0},{"$f":"'Absorbance Data'!S2841-Calculations!P$1","v":0},{"$f":"'Absorbance Data'!T2841-Calculations!Q$1","v":0},{"$f":"'Absorbance Data'!U2841-Calculations!R$1","v":0},{"$f":"'Absorbance Data'!V2841-Calculations!S$1","v":0},{"$f":"'Absorbance Data'!W2841-Calculations!T$1","v":0},{"$f":"'Absorbance Data'!X2841-Calculations!U$1","v":0},{"$f":"'Absorbance Data'!Y2841-Calculations!V$1","v":0},{"$f":"'Absorbance Data'!Z2841-Calculations!W$1","v":0}]
[{"$f":"'Absorbance Data'!D2842","v":462.09912109375},{"$f":"'Absorbance Data'!E2842-Calculations!B$1","v":0},{"$f":"'Absorbance Data'!F2842-Calculations!C$1","v":0},{"$f":"'Absorbance Data'!G2842-Calculations!D$1","v":0},{"$f":"'Absorbance Data'!H2842-Calculations!E$1","v":0},{"$f":"'Absorbance Data'!I2842-Calculations!F$1","v":0},{"$f":"'Absorbance Data'!J2842-Calculations!G$1","v":0},{"$f":"'Absorbance Data'!K2842-Calculations!H$1","v":0},{"$f":"'Absorbance Data'!L2842-Calculations!I$1","v":0},{"$f":"'Absorbance Data'!M2842-Calculations!J$1","v":0},{"$f":"'Absorbance Data'!N2842-Calculations!K$1","v":0},{"$f":"'Absorbance Data'!O2842-Calculations!L$1","v":0},{"$f":"'Absorbance Data'!P2842-Calculations!M$1","v":0},{"$f":"'Absorbance Data'!Q2842-Calculations!N$1","v":0},{"$f":"'Absorbance Data'!R2842-Calculations!O$1","v":0},{"$f":"'Absorbance Data'!S2842-Calculations!P$1","v":0},{"$f":"'Absorbance Data'!T2842-Calculations!Q$1","v":0},{"$f":"'Absorbance Data'!U2842-Calculations!R$1","v":0},{"$f":"'Absorbance Data'!V2842-Calculations!S$1","v":0},{"$f":"'Absorbance Data'!W2842-Calculations!T$1","v":0},{"$f":"'Absorbance Data'!X2842-Calculations!U$1","v":0},{"$f":"'Absorbance Data'!Y2842-Calculations!V$1","v":0},{"$f":"'Absorbance Data'!Z2842-Calculations!W$1","v":0}]
[{"$f":"'Absorbance Data'!D2843","v":462.43551635742188},{"$f":"'Absorbance Data'!E2843-Calculations!B$1","v":0},{"$f":"'Absorbance Data'!F2843-Calculations!C$1","v":0},{"$f":"'Absorbance Data'!G2843-Calculations!D$1","v":0},{"$f":"'Absorbance Data'!H2843-Calculations!E$1","v":0},{"$f":"'Absorbance Data'!I2843-Calculations!F$1","v":0},{"$f":"'Absorbance Data'!J2843-Calculations!G$1","v":0},{"$f":"'Absorbance Data'!K2843-Calculations!H$1","v":0},{"$f":"'Absorbance Data'!L2843-Calculations!I$1","v":0},{"$f":"'Absorbance Data'!M2843-Calculations!J$1","v":0},{"$f":"'Absorbance Data'!N2843-Calculations!K$1","v":0},{"$f":"'Absorbance Data'!O2843-Calculations!L$1","v":0},{"$f":"'Absorbance Data'!P2843-Calculations!M$1","v":0},{"$f":"'Absorbance Data'!Q2843-Calculations!N$1","v":0},{"$f":"'Absorbance Data'!R2843-Calculations!O$1","v":0},{"$f":"'Absorbance Data'!S2843-Calculations!P$1","v":0},{"$f":"'Absorbance Data'!T2843-Calculations!Q$1","v":0},{"$f":"'Absorbance Data'!U2843-Calculations!R$1","v":0},{"$f":"'Absorbance Data'!V2843-Calculations!S$1","v":0},{"$f":"'Absorbance Data'!W2843-Calculations!T$1","v":0},{"$f":"'Absorbance Data'!X2843-Calculations!U$1","v":0},{"$f":"'Absorbance Data'!Y2843-Calculations!V$1","v":0},{"$f":"'Absorbance Data'!Z2843-Calculations!W$1","v":0}]
[{"$f":"'Absorbance Data'!D2844","v":462.77188110351562},{"$f":"'Absorbance Data'!E2844-Calculations!B$1","v":0},{"$f":"'Absorbance Data'!F2844-Calculations!C$1","v":0},{"$f":"'Absorbance Data'!G2844-Calculations!D$1","v":0},{"$f":"'Absorbance Data'!H2844-Calculations!E$1","v":0},{"$f":"'Absorbance Data'!I2844-Calculations!F$1","v":0},{"$f":"'Absorbance Data'!J2844-Calculations!G$1","v":0},{"$f":"'Absorbance Data'!K2844-Calculations!H$1","v":0},{"$f":"'Absorbance Data'!L2844-Calculations!I$1","v":0},{"$f":"'Absorbance Data'!M2844-Calculations!J$1","v":0},{"$f":"'Absorbance Data'!N2844-Calculations!K$1","v":0},{"$f":"'Absorbance Data'!O2844-Calculations!L$1","v":0},{"$f":"'Absorbance Data'!P2844-Calculations!M$1","v":0},{"$f":"'Absorbance Data'!Q2844-Calculations!N$1","v":0},{"$f":"'Absorbance Data'!R2844-Calculations!O$1","v":0},{"$f":"'Absorbance Data'!S2844-Calculations!P$1","v":0},{"$f":"'Absorbance Data'!T2844-Calculations!Q$1","v":0},{"$f":"'Absorbance Data'!U2844-Calculations!R$1","v":0},{"$f":"'Absorbance Data'!V2844-Calculations!S$1","v":0},{"$f":"'Absorbance Data'!W2844-Calculations!T$1","v":0},{"$f":"'Absorbance Data'!X2844-Calculations!U$1","v":0},{"$f":"'Absorbance Data'!Y2844-Calculations!V$1","v":0},{"$f":"'Absorbance Data'!Z2844-Calculations!W$1","v":0}]
[{"$f":"'Absorbance Data'!D2845","v":463.10821533203125},{"$f":"'Absorbance Data'!E2845-Calculations!B$1","v":0},{"$f":"'Absorbance Data'!F2845-Calculations!C$1","v":0},{"$f":"'Absorbance Data'!G2845-Calculations!D$1","v":0},{"$f":"'Absorbance Data'!H2845-Calculations!E$1","v":0},{"$f":"'Absorbance Data'!I2845-Calculations!F$1","v":0},{"$f":"'Absorbance Data'!J2845-Calculations!G$1","v":0},{"$f":"'Absorbance Data'!K2845-Calculations!H$1","v":0},{"$f":"'Absorbance Data'!L2845-Calculations!I$1","v":0},{"$f":"'Absorbance Data'!M2845-Calculations!J$1","v":0},{"$f":"'Absorbance Data'!N2845-Calculations!K$1","v":0},{"$f":"'Absorbance Data'!O2845-Calculations!L$1","v":0},{"$f":"'Absorbance Data'!P2845-Calculations!M$1","v":0},{"$f":"'Absorbance Data'!Q2845-Calculations!N$1","v":0},{"$f":"'Absorbance Data'!R2845-Calculations!O$1","v":0},{"$f":"'Absorbance Data'!S2845-Calculations!P$1","v":0},{"$f":"'Absorbance Data'!T2845-Calculations!Q$1","v":0},{"$f":"'Absorbance Data'!U2845-Calculations!R$1","v":0},{"$f":"'Absorbance Data'!V2845-Calculations!S$1","v":0},{"$f":"'Absorbance Data'!W2845-Calculations!T$1","v":0},{"$f":"'Absorbance Data'!X2845-Calculations!U$1","v":0},{"$f":"'Absorbance Data'!Y2845-Calculations!V$1","v":0},{"$f":"'Absorbance Data'!Z2845-Calculations!W$1","v":0}]
[{"$f":"'Absorbance Data'!D2846","v":463.44451904296875},{"$f":"'Absorbance Data'!E2846-Calculations!B$1","v":0},{"$f":"'Absorbance Data'!F2846-Calculations!C$1","v":0},{"$f":"'Absorbance Data'!G2846-Calculations!D$1","v":0},{"$f":"'Absorbance Data'!H2846-Calculations!E$1","v":0},{"$f":"'Absorbance Data'!I2846-Calculations!F$1","v":0},{"$f":"'Absorbance Data'!J2846-Calculations!G$1","v":0},{"$f":"'Absorbance Data'!K2846-Calculations!H$1","v":0},{"$f":"'Absorbance Data'!L2846-Calculations!I$1","v":0},{"$f":"'Absorbance Data'!M2846-Calculations!J$1","v":0},{"$f":"'Absorbance Data'!N2846-Calculations!K$1","v":0},{"$f":"'Absorbance Data'!O2846-Calculations!L$1","v":0},{"$f":"'Absorbance Data'!P2846-Calculations!M$1","v":0},{"$f":"'Absorbance Data'!Q2846-Calculations!N$1","v":0},{"$f":"'Absorbance Data'!R2846-Calculations!O$1","v":0},{"$f":"'Absorbance Data'!S2846-Calculations!P$1","v":0},{"$f":"'Absorbance Data'!T2846-Calculations!Q$1","v":0},{"$f":"'Absorbance Data'!U2846-Calculations!R$1","v":0},{"$f":"'Absorbance Data'!V2846-Calculations!S$1","v":0},{"$f":"'Absorbance Data'!W2846-Calculations!T$1","v":0},{"$f":"'Absorbance Data'!X2846-Calculations!U$1","v":0},{"$f":"'Absorbance Data'!Y2846-Calculations!V$1","v":0},{"$f":"'Absorbance Data'!Z2846-Calculations!W$1","v":0}]
[{"$f":"'Absorbance Data'!D2847","v":463.78079223632812},{"$f":"'Absorbance Data'!E2847-Calculations!B$1","v":0},{"$f":"'Absorbance Data'!F2847-Calculations!C$1","v":0},{"$f":"'Absorbance Data'!G2847-Calculations!D$1","v":0},{"$f":"'Absorbance Data'!H2847-Calculations!E$1","v":0},{"$f":"'Absorbance Data'!I2847-Calculations!F$1","v":0},{"$f":"'Absorbance Data'!J2847-Calculations!G$1","v":0},{"$f":"'Absorbance Data'!K2847-Calculations!H$1","v":0},{"$f":"'Absorbance Data'!L2847-Calculations!I$1","v":0},{"$f":"'Absorbance Data'!M2847-Calculations!J$1","v":0},{"$f":"'Absorbance Data'!N2847-Calculations!K$1","v":0},{"$f":"'Absorbance Data'!O2847-Calculations!L$1","v":0},{"$f":"'Absorbance Data'!P2847-Calculations!M$1","v":0},{"$f":"'Absorbance Data'!Q2847-Calculations!N$1","v":0},{"$f":"'Absorbance Data'!R2847-Calculations!O$1","v":0},{"$f":"'Absorbance Data'!S2847-Calculations!P$1","v":0},{"$f":"'Absorbance Data'!T2847-Calculations!Q$1","v":0},{"$f":"'Absorbance Data'!U2847-Calculations!R$1","v":0},{"$f":"'Absorbance Data'!V2847-Calculations!S$1","v":0},{"$f":"'Absorbance Data'!W2847-Calculations!T$1","v":0},{"$f":"'Absorbance Data'!X2847-Calculations!U$1","v":0},{"$f":"'Absorbance Data'!Y2847-Calculations!V$1","v":0},{"$f":"'Absorbance Data'!Z2847-Calculations!W$1","v":0}]
[{"$f":"'Absorbance Data'!D2848","v":464.11703491210938},{"$f":"'Absorbance Data'!E2848-Calculations!B$1","v":0},{"$f":"'Absorbance Data'!F2848-Calculations!C$1","v":0},{"$f":"'Absorbance Data'!G2848-Calculations!D$1","v":0},{"$f":"'Absorbance Data'!H2848-Calculations!E$1","v":0},{"$f":"'Absorbance Data'!I2848-Calculations!F$1","v":0},{"$f":"'Absorbance Data'!J2848-Calculations!G$1","v":0},{"$f":"'Absorbance Data'!K2848-Calculations!H$1","v":0},{"$f":"'Absorbance Data'!L2848-Calculations!I$1","v":0},{"$f":"'Absorbance Data'!M2848-Calculations!J$1","v":0},{"$f":"'Absorbance Data'!N2848-Calculations!K$1","v":0},{"$f":"'Absorbance Data'!O2848-Calculations!L$1","v":0},{"$f":"'Absorbance Data'!P2848-Calculations!M$1","v":0},{"$f":"'Absorbance Data'!Q2848-Calculations!N$1","v":0},{"$f":"'Absorbance Data'!R2848-Calculations!O$1","v":0},{"$f":"'Absorbance Data'!S2848-Calculations!P$1","v":0},{"$f":"'Absorbance Data'!T2848-Calculations!Q$1","v":0},{"$f":"'Absorbance Data'!U2848-Calculations!R$1","v":0},{"$f":"'Absorbance Data'!V2848-Calculations!S$1","v":0},{"$f":"'Absorbance Data'!W2848-Calculations!T$1","v":0},{"$f":"'Absorbance Data'!X2848-Calculations!U$1","v":0},{"$f":"'Absorbance Data'!Y2848-Calculations!V$1","v":0},{"$f":"'Absorbance Data'!Z2848-Calculations!W$1","v":0}]
[{"$f":"'Absorbance Data'!D2849","v":464.45321655273438},{"$f":"'Absorbance Data'!E2849-Calculations!B$1","v":0},{"$f":"'Absorbance Data'!F2849-Calculations!C$1","v":0},{"$f":"'Absorbance Data'!G2849-Calculations!D$1","v":0},{"$f":"'Absorbance Data'!H2849-Calculations!E$1","v":0},{"$f":"'Absorbance Data'!I2849-Calculations!F$1","v":0},{"$f":"'Absorbance Data'!J2849-Calculations!G$1","v":0},{"$f":"'Absorbance Data'!K2849-Calculations!H$1","v":0},{"$f":"'Absorbance Data'!L2849-Calculations!I$1","v":0},{"$f":"'Absorbance Data'!M2849-Calculations!J$1","v":0},{"$f":"'Absorbance Data'!N2849-Calculations!K$1","v":0},{"$f":"'Absorbance Data'!O2849-Calculations!L$1","v":0},{"$f":"'Absorbance Data'!P2849-Calculations!M$1","v":0},{"$f":"'Absorbance Data'!Q2849-Calculations!N$1","v":0},{"$f":"'Absorbance Data'!R2849-Calculations!O$1","v":0},{"$f":"'Absorbance Data'!S2849-Calculations!P$1","v":0},{"$f":"'Absorbance Data'!T2849-Calculations!Q$1","v":0},{"$f":"'Absorbance Data'!U2849-Calculations!R$1","v":0},{"$f":"'Absorbance Data'!V2849-Calculations!S$1","v":0},{"$f":"'Absorbance Data'!W2849-Calculations!T$1","v":0},{"$f":"'Absorbance Data'!X2849-Calculations!U$1","v":0},{"$f":"'Absorbance Data'!Y2849-Calculations!V$1","v":0},{"$f":"'Absorbance Data'!Z2849-Calculations!W$1","v":0}]
[{"$f":"'Absorbance Data'!D2850","v":464.78939819335938},{"$f":"'Absorbance Data'!E2850-Calculations!B$1","v":0},{"$f":"'Absorbance Data'!F2850-Calculations!C$1","v":0},{"$f":"'Absorbance Data'!G2850-Calculations!D$1","v":0},{"$f":"'Absorbance Data'!H2850-Calculations!E$1","v":0},{"$f":"'Absorbance Data'!I2850-Calculations!F$1","v":0},{"$f":"'Absorbance Data'!J2850-Calculations!G$1","v":0},{"$f":"'Absorbance Data'!K2850-Calculations!H$1","v":0},{"$f":"'Absorbance Data'!L2850-Calculations!I$1","v":0},{"$f":"'Absorbance Data'!M2850-Calculations!J$1","v":0},{"$f":"'Absorbance Data'!N2850-Calculations!K$1","v":0},{"$f":"'Absorbance Data'!O2850-Calculations!L$1","v":0},{"$f":"'Absorbance Data'!P2850-Calculations!M$1","v":0},{"$f":"'Absorbance Data'!Q2850-Calculations!N$1","v":0},{"$f":"'Absorbance Data'!R2850-Calculations!O$1","v":0},{"$f":"'Absorbance Data'!S2850-Calculations!P$1","v":0},{"$f":"'Absorbance Data'!T2850-Calculations!Q$1","v":0},{"$f":"'Absorbance Data'!U2850-Calculations!R$1","v":0},{"$f":"'Absorbance Data'!V2850-Calculations!S$1","v":0},{"$f":"'Absorbance Data'!W2850-Calculations!T$1","v":0},{"$f":"'Absorbance Data'!X2850-Calculations!U$1","v":0},{"$f":"'Absorbance Data'!Y2850-Calculations!V$1","v":0},{"$f":"'Absorbance Data'!Z2850-Calculations!W$1","v":0}]
[{"$f":"'Absorbance Data'!D2851","v":465.12551879882812},{"$f":"'Absorbance Data'!E2851-Calculations!B$1","v":0},{"$f":"'Absorbance Data'!F2851-Calculations!C$1","v":0},{"$f":"'Absorbance Data'!G2851-Calculations!D$1","v":0},{"$f":"'Absorbance Data'!H2851-Calculations!E$1","v":0},{"$f":"'Absorbance Data'!I2851-Calculations!F$1","v":0},{"$f":"'Absorbance Data'!J2851-Calculations!G$1","v":0},{"$f":"'Absorbance Data'!K2851-Calculations!H$1","v":0},{"$f":"'Absorbance Data'!L2851-Calculations!I$1","v":0},{"$f":"'Absorbance Data'!M2851-Calculations!J$1","v":0},{"$f":"'Absorbance Data'!N2851-Calculations!K$1","v":0},{"$f":"'Absorbance Data'!O2851-Calculations!L$1","v":0},{"$f":"'Absorbance Data'!P2851-Calculations!M$1","v":0},{"$f":"'Absorbance Data'!Q2851-Calculations!N$1","v":0},{"$f":"'Absorbance Data'!R2851-Calculations!O$1","v":0},{"$f":"'Absorbance Data'!S2851-Calculations!P$1","v":0},{"$f":"'Absorbance Data'!T2851-Calculations!Q$1","v":0},{"$f":"'Absorbance Data'!U2851-Calculations!R$1","v":0},{"$f":"'Absorbance Data'!V2851-Calculations!S$1","v":0},{"$f":"'Absorbance Data'!W2851-Calculations!T$1","v":0},{"$f":"'Absorbance Data'!X2851-Calculations!U$1","v":0},{"$f":"'Absorbance Data'!Y2851-Calculations!V$1","v":0},{"$f":"'Absorbance Data'!Z2851-Calculations!W$1","v":0}]
[{"$f":"'Absorbance Data'!D2852","v":465.46160888671875},{"$f":"'Absorbance Data'!E2852-Calculations!B$1","v":0},{"$f":"'Absorbance Data'!F2852-Calculations!C$1","v":0},{"$f":"'Absorbance Data'!G2852-Calculations!D$1","v":0},{"$f":"'Absorbance Data'!H2852-Calculations!E$1","v":0},{"$f":"'Absorbance Data'!I2852-Calculations!F$1","v":0},{"$f":"'Absorbance Data'!J2852-Calculations!G$1","v":0},{"$f":"'Absorbance Data'!K2852-Calculations!H$1","v":0},{"$f":"'Absorbance Data'!L2852-Calculations!I$1","v":0},{"$f":"'Absorbance Data'!M2852-Calculations!J$1","v":0},{"$f":"'Absorbance Data'!N2852-Calculations!K$1","v":0},{"$f":"'Absorbance Data'!O2852-Calculations!L$1","v":0},{"$f":"'Absorbance Data'!P2852-Calculations!M$1","v":0},{"$f":"'Absorbance Data'!Q2852-Calculations!N$1","v":0},{"$f":"'Absorbance Data'!R2852-Calculations!O$1","v":0},{"$f":"'Absorbance Data'!S2852-Calculations!P$1","v":0},{"$f":"'Absorbance Data'!T2852-Calculations!Q$1","v":0},{"$f":"'Absorbance Data'!U2852-Calculations!R$1","v":0},{"$f":"'Absorbance Data'!V2852-Calculations!S$1","v":0},{"$f":"'Absorbance Data'!W2852-Calculations!T$1","v":0},{"$f":"'Absorbance Data'!X2852-Calculations!U$1","v":0},{"$f":"'Absorbance Data'!Y2852-Calculations!V$1","v":0},{"$f":"'Absorbance Data'!Z2852-Calculations!W$1","v":0}]
[{"$f":"'Absorbance Data'!D2853","v":465.79763793945312},{"$f":"'Absorbance Data'!E2853-Calculations!B$1","v":0},{"$f":"'Absorbance Data'!F2853-Calculations!C$1","v":0},{"$f":"'Absorbance Data'!G2853-Calculations!D$1","v":0},{"$f":"'Absorbance Data'!H2853-Calculations!E$1","v":0},{"$f":"'Absorbance Data'!I2853-Calculations!F$1","v":0},{"$f":"'Absorbance Data'!J2853-Calculations!G$1","v":0},{"$f":"'Absorbance Data'!K2853-Calculations!H$1","v":0},{"$f":"'Absorbance Data'!L2853-Calculations!I$1","v":0},{"$f":"'Absorbance Data'!M2853-Calculations!J$1","v":0},{"$f":"'Absorbance Data'!N2853-Calculations!K$1","v":0},{"$f":"'Absorbance Data'!O2853-Calculations!L$1","v":0},{"$f":"'Absorbance Data'!P2853-Calculations!M$1","v":0},{"$f":"'Absorbance Data'!Q2853-Calculations!N$1","v":0},{"$f":"'Absorbance Data'!R2853-Calculations!O$1","v":0},{"$f":"'Absorbance Data'!S2853-Calculations!P$1","v":0},{"$f":"'Absorbance Data'!T2853-Calculations!Q$1","v":0},{"$f":"'Absorbance Data'!U2853-Calculations!R$1","v":0},{"$f":"'Absorbance Data'!V2853-Calculations!S$1","v":0},{"$f":"'Absorbance Data'!W2853-Calculations!T$1","v":0},{"$f":"'Absorbance Data'!X2853-Calculations!U$1","v":0},{"$f":"'Absorbance Data'!Y2853-Calculations!V$1","v":0},{"$f":"'Absorbance Data'!Z2853-Calculations!W$1","v":0}]
[{"$f":"'Absorbance Data'!D2854","v":466.1336669921875},{"$f":"'Absorbance Data'!E2854-Calculations!B$1","v":0},{"$f":"'Absorbance Data'!F2854-Calculations!C$1","v":0},{"$f":"'Absorbance Data'!G2854-Calculations!D$1","v":0},{"$f":"'Absorbance Data'!H2854-Calculations!E$1","v":0},{"$f":"'Absorbance Data'!I2854-Calculations!F$1","v":0},{"$f":"'Absorbance Data'!J2854-Calculations!G$1","v":0},{"$f":"'Absorbance Data'!K2854-Calculations!H$1","v":0},{"$f":"'Absorbance Data'!L2854-Calculations!I$1","v":0},{"$f":"'Absorbance Data'!M2854-Calculations!J$1","v":0},{"$f":"'Absorbance Data'!N2854-Calculations!K$1","v":0},{"$f":"'Absorbance Data'!O2854-Calculations!L$1","v":0},{"$f":"'Absorbance Data'!P2854-Calculations!M$1","v":0},{"$f":"'Absorbance Data'!Q2854-Calculations!N$1","v":0},{"$f":"'Absorbance Data'!R2854-Calculations!O$1","v":0},{"$f":"'Absorbance Data'!S2854-Calculations!P$1","v":0},{"$f":"'Absorbance Data'!T2854-Calculations!Q$1","v":0},{"$f":"'Absorbance Data'!U2854-Calculations!R$1","v":0},{"$f":"'Absorbance Data'!V2854-Calculations!S$1","v":0},{"$f":"'Absorbance Data'!W2854-Calculations!T$1","v":0},{"$f":"'Absorbance Data'!X2854-Calculations!U$1","v":0},{"$f":"'Absorbance Data'!Y2854-Calculations!V$1","v":0},{"$f":"'Absorbance Data'!Z2854-Calculations!W$1","v":0}]
[{"$f":"'Absorbance Data'!D2855","v":466.46966552734375},{"$f":"'Absorbance Data'!E2855-Calculations!B$1","v":0},{"$f":"'Absorbance Data'!F2855-Calculations!C$1","v":0},{"$f":"'Absorbance Data'!G2855-Calculations!D$1","v":0},{"$f":"'Absorbance Data'!H2855-Calculations!E$1","v":0},{"$f":"'Absorbance Data'!I2855-Calculations!F$1","v":0},{"$f":"'Absorbance Data'!J2855-Calculations!G$1","v":0},{"$f":"'Absorbance Data'!K2855-Calculations!H$1","v":0},{"$f":"'Absorbance Data'!L2855-Calculations!I$1","v":0},{"$f":"'Absorbance Data'!M2855-Calculations!J$1","v":0},{"$f":"'Absorbance Data'!N2855-Calculations!K$1","v":0},{"$f":"'Absorbance Data'!O2855-Calculations!L$1","v":0},{"$f":"'Absorbance Data'!P2855-Calculations!M$1","v":0},{"$f":"'Absorbance Data'!Q2855-Calculations!N$1","v":0},{"$f":"'Absorbance Data'!R2855-Calculations!O$1","v":0},{"$f":"'Absorbance Data'!S2855-Calculations!P$1","v":0},{"$f":"'Absorbance Data'!T2855-Calculations!Q$1","v":0},{"$f":"'Absorbance Data'!U2855-Calculations!R$1","v":0},{"$f":"'Absorbance Data'!V2855-Calculations!S$1","v":0},{"$f":"'Absorbance Data'!W2855-Calculations!T$1","v":0},{"$f":"'Absorbance Data'!X2855-Calculations!U$1","v":0},{"$f":"'Absorbance Data'!Y2855-Calculations!V$1","v":0},{"$f":"'Absorbance Data'!Z2855-Calculations!W$1","v":0}]
[{"$f":"'Absorbance Data'!D2856","v":466.80560302734375},{"$f":"'Absorbance Data'!E2856-Calculations!B$1","v":0},{"$f":"'Absorbance Data'!F2856-Calculations!C$1","v":0},{"$f":"'Absorbance Data'!G2856-Calculations!D$1","v":0},{"$f":"'Absorbance Data'!H2856-Calculations!E$1","v":0},{"$f":"'Absorbance Data'!I2856-Calculations!F$1","v":0},{"$f":"'Absorbance Data'!J2856-Calculations!G$1","v":0},{"$f":"'Absorbance Data'!K2856-Calculations!H$1","v":0},{"$f":"'Absorbance Data'!L2856-Calculations!I$1","v":0},{"$f":"'Absorbance Data'!M2856-Calculations!J$1","v":0},{"$f":"'Absorbance Data'!N2856-Calculations!K$1","v":0},{"$f":"'Absorbance Data'!O2856-Calculations!L$1","v":0},{"$f":"'Absorbance Data'!P2856-Calculations!M$1","v":0},{"$f":"'Absorbance Data'!Q2856-Calculations!N$1","v":0},{"$f":"'Absorbance Data'!R2856-Calculations!O$1","v":0},{"$f":"'Absorbance Data'!S2856-Calculations!P$1","v":0},{"$f":"'Absorbance Data'!T2856-Calculations!Q$1","v":0},{"$f":"'Absorbance Data'!U2856-Calculations!R$1","v":0},{"$f":"'Absorbance Data'!V2856-Calculations!S$1","v":0},{"$f":"'Absorbance Data'!W2856-Calculations!T$1","v":0},{"$f":"'Absorbance Data'!X2856-Calculations!U$1","v":0},{"$f":"'Absorbance Data'!Y2856-Calculations!V$1","v":0},{"$f":"'Absorbance Data'!Z2856-Calculations!W$1","v":0}]
[{"$f":"'Absorbance Data'!D2857","v":467.14151000976562},{"$f":"'Absorbance Data'!E2857-Calculations!B$1","v":0},{"$f":"'Absorbance Data'!F2857-Calculations!C$1","v":0},{"$f":"'Absorbance Data'!G2857-Calculations!D$1","v":0},{"$f":"'Absorbance Data'!H2857-Calculations!E$1","v":0},{"$f":"'Absorbance Data'!I2857-Calculations!F$1","v":0},{"$f":"'Absorbance Data'!J2857-Calculations!G$1","v":0},{"$f":"'Absorbance Data'!K2857-Calculations!H$1","v":0},{"$f":"'Absorbance Data'!L2857-Calculations!I$1","v":0},{"$f":"'Absorbance Data'!M2857-Calculations!J$1","v":0},{"$f":"'Absorbance Data'!N2857-Calculations!K$1","v":0},{"$f":"'Absorbance Data'!O2857-Calculations!L$1","v":0},{"$f":"'Absorbance Data'!P2857-Calculations!M$1","v":0},{"$f":"'Absorbance Data'!Q2857-Calculations!N$1","v":0},{"$f":"'Absorbance Data'!R2857-Calculations!O$1","v":0},{"$f":"'Absorbance Data'!S2857-Calculations!P$1","v":0},{"$f":"'Absorbance Data'!T2857-Calculations!Q$1","v":0},{"$f":"'Absorbance Data'!U2857-Calculations!R$1","v":0},{"$f":"'Absorbance Data'!V2857-Calculations!S$1","v":0},{"$f":"'Absorbance Data'!W2857-Calculations!T$1","v":0},{"$f":"'Absorbance Data'!X2857-Calculations!U$1","v":0},{"$f":"'Absorbance Data'!Y2857-Calculations!V$1","v":0},{"$f":"'Absorbance Data'!Z2857-Calculations!W$1","v":0}]
[{"$f":"'Absorbance Data'!D2858","v":467.4774169921875},{"$f":"'Absorbance Data'!E2858-Calculations!B$1","v":0},{"$f":"'Absorbance Data'!F2858-Calculations!C$1","v":0},{"$f":"'Absorbance Data'!G2858-Calculations!D$1","v":0},{"$f":"'Absorbance Data'!H2858-Calculations!E$1","v":0},{"$f":"'Absorbance Data'!I2858-Calculations!F$1","v":0},{"$f":"'Absorbance Data'!J2858-Calculations!G$1","v":0},{"$f":"'Absorbance Data'!K2858-Calculations!H$1","v":0},{"$f":"'Absorbance Data'!L2858-Calculations!I$1","v":0},{"$f":"'Absorbance Data'!M2858-Calculations!J$1","v":0},{"$f":"'Absorbance Data'!N2858-Calculations!K$1","v":0},{"$f":"'Absorbance Data'!O2858-Calculations!L$1","v":0},{"$f":"'Absorbance Data'!P2858-Calculations!M$1","v":0},{"$f":"'Absorbance Data'!Q2858-Calculations!N$1","v":0},{"$f":"'Absorbance Data'!R2858-Calculations!O$1","v":0},{"$f":"'Absorbance Data'!S2858-Calculations!P$1","v":0},{"$f":"'Absorbance Data'!T2858-Calculations!Q$1","v":0},{"$f":"'Absorbance Data'!U2858-Calculations!R$1","v":0},{"$f":"'Absorbance Data'!V2858-Calculations!S$1","v":0},{"$f":"'Absorbance Data'!W2858-Calculations!T$1","v":0},{"$f":"'Absorbance Data'!X2858-Calculations!U$1","v":0},{"$f":"'Absorbance Data'!Y2858-Calculations!V$1","v":0},{"$f":"'Absorbance Data'!Z2858-Calculations!W$1","v":0}]
[{"$f":"'Absorbance Data'!D2859","v":467.813232421875},{"$f":"'Absorbance Data'!E2859-Calculations!B$1","v":0},{"$f":"'Absorbance Data'!F2859-Calculations!C$1","v":0},{"$f":"'Absorbance Data'!G2859-Calculations!D$1","v":0},{"$f":"'Absorbance Data'!H2859-Calculations!E$1","v":0},{"$f":"'Absorbance Data'!I2859-Calculations!F$1","v":0},{"$f":"'Absorbance Data'!J2859-Calculations!G$1","v":0},{"$f":"'Absorbance Data'!K2859-Calculations!H$1","v":0},{"$f":"'Absorbance Data'!L2859-Calculations!I$1","v":0},{"$f":"'Absorbance Data'!M2859-Calculations!J$1","v":0},{"$f":"'Absorbance Data'!N2859-Calculations!K$1","v":0},{"$f":"'Absorbance Data'!O2859-Calculations!L$1","v":0},{"$f":"'Absorbance Data'!P2859-Calculations!M$1","v":0},{"$f":"'Absorbance Data'!Q2859-Calculations!N$1","v":0},{"$f":"'Absorbance Data'!R2859-Calculations!O$1","v":0},{"$f":"'Absorbance Data'!S2859-Calculations!P$1","v":0},{"$f":"'Absorbance Data'!T2859-Calculations!Q$1","v":0},{"$f":"'Absorbance Data'!U2859-Calculations!R$1","v":0},{"$f":"'Absorbance Data'!V2859-Calculations!S$1","v":0},{"$f":"'Absorbance Data'!W2859-Calculations!T$1","v":0},{"$f":"'Absorbance Data'!X2859-Calculations!U$1","v":0},{"$f":"'Absorbance Data'!Y2859-Calculations!V$1","v":0},{"$f":"'Absorbance Data'!Z2859-Calculations!W$1","v":0}]
[{"$f":"'Absorbance Data'!D2860","v":468.1490478515625},{"$f":"'Absorbance Data'!E2860-Calculations!B$1","v":0},{"$f":"'Absorbance Data'!F2860-Calculations!C$1","v":0},{"$f":"'Absorbance Data'!G2860-Calculations!D$1","v":0},{"$f":"'Absorbance Data'!H2860-Calculations!E$1","v":0},{"$f":"'Absorbance Data'!I2860-Calculations!F$1","v":0},{"$f":"'Absorbance Data'!J2860-Calculations!G$1","v":0},{"$f":"'Absorbance Data'!K2860-Calculations!H$1","v":0},{"$f":"'Absorbance Data'!L2860-Calculations!I$1","v":0},{"$f":"'Absorbance Data'!M2860-Calculations!J$1","v":0},{"$f":"'Absorbance Data'!N2860-Calculations!K$1","v":0},{"$f":"'Absorbance Data'!O2860-Calculations!L$1","v":0},{"$f":"'Absorbance Data'!P2860-Calculations!M$1","v":0},{"$f":"'Absorbance Data'!Q2860-Calculations!N$1","v":0},{"$f":"'Absorbance Data'!R2860-Calculations!O$1","v":0},{"$f":"'Absorbance Data'!S2860-Calculations!P$1","v":0},{"$f":"'Absorbance Data'!T2860-Calculations!Q$1","v":0},{"$f":"'Absorbance Data'!U2860-Calculations!R$1","v":0},{"$f":"'Absorbance Data'!V2860-Calculations!S$1","v":0},{"$f":"'Absorbance Data'!W2860-Calculations!T$1","v":0},{"$f":"'Absorbance Data'!X2860-Calculations!U$1","v":0},{"$f":"'Absorbance Data'!Y2860-Calculations!V$1","v":0},{"$f":"'Absorbance Data'!Z2860-Calculations!W$1","v":0}]
[{"$f":"'Absorbance Data'!D2861","v":468.48486328125},{"$f":"'Absorbance Data'!E2861-Calculations!B$1","v":0},{"$f":"'Absorbance Data'!F2861-Calculations!C$1","v":0},{"$f":"'Absorbance Data'!G2861-Calculations!D$1","v":0},{"$f":"'Absorbance Data'!H2861-Calculations!E$1","v":0},{"$f":"'Absorbance Data'!I2861-Calculations!F$1","v":0},{"$f":"'Absorbance Data'!J2861-Calculations!G$1","v":0},{"$f":"'Absorbance Data'!K2861-Calculations!H$1","v":0},{"$f":"'Absorbance Data'!L2861-Calculations!I$1","v":0},{"$f":"'Absorbance Data'!M2861-Calculations!J$1","v":0},{"$f":"'Absorbance Data'!N2861-Calculations!K$1","v":0},{"$f":"'Absorbance Data'!O2861-Calculations!L$1","v":0},{"$f":"'Absorbance Data'!P2861-Calculations!M$1","v":0},{"$f":"'Absorbance Data'!Q2861-Calculations!N$1","v":0},{"$f":"'Absorbance Data'!R2861-Calculations!O$1","v":0},{"$f":"'Absorbance Data'!S2861-Calculations!P$1","v":0},{"$f":"'Absorbance Data'!T2861-Calculations!Q$1","v":0},{"$f":"'Absorbance Data'!U2861-Calculations!R$1","v":0},{"$f":"'Absorbance Data'!V2861-Calculations!S$1","v":0},{"$f":"'Absorbance Data'!W2861-Calculations!T$1","v":0},{"$f":"'Absorbance Data'!X2861-Calculations!U$1","v":0},{"$f":"'Absorbance Data'!Y2861-Calculations!V$1","v":0},{"$f":"'Absorbance Data'!Z2861-Calculations!W$1","v":0}]
[{"$f":"'Absorbance Data'!D2862","v":468.82058715820312},{"$f":"'Absorbance Data'!E2862-Calculations!B$1","v":0},{"$f":"'Absorbance Data'!F2862-Calculations!C$1","v":0},{"$f":"'Absorbance Data'!G2862-Calculations!D$1","v":0},{"$f":"'Absorbance Data'!H2862-Calculations!E$1","v":0},{"$f":"'Absorbance Data'!I2862-Calculations!F$1","v":0},{"$f":"'Absorbance Data'!J2862-Calculations!G$1","v":0},{"$f":"'Absorbance Data'!K2862-Calculations!H$1","v":0},{"$f":"'Absorbance Data'!L2862-Calculations!I$1","v":0},{"$f":"'Absorbance Data'!M2862-Calculations!J$1","v":0},{"$f":"'Absorbance Data'!N2862-Calculations!K$1","v":0},{"$f":"'Absorbance Data'!O2862-Calculations!L$1","v":0},{"$f":"'Absorbance Data'!P2862-Calculations!M$1","v":0},{"$f":"'Absorbance Data'!Q2862-Calculations!N$1","v":0},{"$f":"'Absorbance Data'!R2862-Calculations!O$1","v":0},{"$f":"'Absorbance Data'!S2862-Calculations!P$1","v":0},{"$f":"'Absorbance Data'!T2862-Calculations!Q$1","v":0},{"$f":"'Absorbance Data'!U2862-Calculations!R$1","v":0},{"$f":"'Absorbance Data'!V2862-Calculations!S$1","v":0},{"$f":"'Absorbance Data'!W2862-Calculations!T$1","v":0},{"$f":"'Absorbance Data'!X2862-Calculations!U$1","v":0},{"$f":"'Absorbance Data'!Y2862-Calculations!V$1","v":0},{"$f":"'Absorbance Data'!Z2862-Calculations!W$1","v":0}]
[{"$f":"'Absorbance Data'!D2863","v":469.15631103515625},{"$f":"'Absorbance Data'!E2863-Calculations!B$1","v":0},{"$f":"'Absorbance Data'!F2863-Calculations!C$1","v":0},{"$f":"'Absorbance Data'!G2863-Calculations!D$1","v":0},{"$f":"'Absorbance Data'!H2863-Calculations!E$1","v":0},{"$f":"'Absorbance Data'!I2863-Calculations!F$1","v":0},{"$f":"'Absorbance Data'!J2863-Calculations!G$1","v":0},{"$f":"'Absorbance Data'!K2863-Calculations!H$1","v":0},{"$f":"'Absorbance Data'!L2863-Calculations!I$1","v":0},{"$f":"'Absorbance Data'!M2863-Calculations!J$1","v":0},{"$f":"'Absorbance Data'!N2863-Calculations!K$1","v":0},{"$f":"'Absorbance Data'!O2863-Calculations!L$1","v":0},{"$f":"'Absorbance Data'!P2863-Calculations!M$1","v":0},{"$f":"'Absorbance Data'!Q2863-Calculations!N$1","v":0},{"$f":"'Absorbance Data'!R2863-Calculations!O$1","v":0},{"$f":"'Absorbance Data'!S2863-Calculations!P$1","v":0},{"$f":"'Absorbance Data'!T2863-Calculations!Q$1","v":0},{"$f":"'Absorbance Data'!U2863-Calculations!R$1","v":0},{"$f":"'Absorbance Data'!V2863-Calculations!S$1","v":0},{"$f":"'Absorbance Data'!W2863-Calculations!T$1","v":0},{"$f":"'Absorbance Data'!X2863-Calculations!U$1","v":0},{"$f":"'Absorbance Data'!Y2863-Calculations!V$1","v":0},{"$f":"'Absorbance Data'!Z2863-Calculations!W$1","v":0}]
[{"$f":"'Absorbance Data'!D2864","v":469.49197387695312},{"$f":"'Absorbance Data'!E2864-Calculations!B$1","v":0},{"$f":"'Absorbance Data'!F2864-Calculations!C$1","v":0},{"$f":"'Absorbance Data'!G2864-Calculations!D$1","v":0},{"$f":"'Absorbance Data'!H2864-Calculations!E$1","v":0},{"$f":"'Absorbance Data'!I2864-Calculations!F$1","v":0},{"$f":"'Absorbance Data'!J2864-Calculations!G$1","v":0},{"$f":"'Absorbance Data'!K2864-Calculations!H$1","v":0},{"$f":"'Absorbance Data'!L2864-Calculations!I$1","v":0},{"$f":"'Absorbance Data'!M2864-Calculations!J$1","v":0},{"$f":"'Absorbance Data'!N2864-Calculations!K$1","v":0},{"$f":"'Absorbance Data'!O2864-Calculations!L$1","v":0},{"$f":"'Absorbance Data'!P2864-Calculations!M$1","v":0},{"$f":"'Absorbance Data'!Q2864-Calculations!N$1","v":0},{"$f":"'Absorbance Data'!R2864-Calculations!O$1","v":0},{"$f":"'Absorbance Data'!S2864-Calculations!P$1","v":0},{"$f":"'Absorbance Data'!T2864-Calculations!Q$1","v":0},{"$f":"'Absorbance Data'!U2864-Calculations!R$1","v":0},{"$f":"'Absorbance Data'!V2864-Calculations!S$1","v":0},{"$f":"'Absorbance Data'!W2864-Calculations!T$1","v":0},{"$f":"'Absorbance Data'!X2864-Calculations!U$1","v":0},{"$f":"'Absorbance Data'!Y2864-Calculations!V$1","v":0},{"$f":"'Absorbance Data'!Z2864-Calculations!W$1","v":0}]
[{"$f":"'Absorbance Data'!D2865","v":469.82760620117188},{"$f":"'Absorbance Data'!E2865-Calculations!B$1","v":0},{"$f":"'Absorbance Data'!F2865-Calculations!C$1","v":0},{"$f":"'Absorbance Data'!G2865-Calculations!D$1","v":0},{"$f":"'Absorbance Data'!H2865-Calculations!E$1","v":0},{"$f":"'Absorbance Data'!I2865-Calculations!F$1","v":0},{"$f":"'Absorbance Data'!J2865-Calculations!G$1","v":0},{"$f":"'Absorbance Data'!K2865-Calculations!H$1","v":0},{"$f":"'Absorbance Data'!L2865-Calculations!I$1","v":0},{"$f":"'Absorbance Data'!M2865-Calculations!J$1","v":0},{"$f":"'Absorbance Data'!N2865-Calculations!K$1","v":0},{"$f":"'Absorbance Data'!O2865-Calculations!L$1","v":0},{"$f":"'Absorbance Data'!P2865-Calculations!M$1","v":0},{"$f":"'Absorbance Data'!Q2865-Calculations!N$1","v":0},{"$f":"'Absorbance Data'!R2865-Calculations!O$1","v":0},{"$f":"'Absorbance Data'!S2865-Calculations!P$1","v":0},{"$f":"'Absorbance Data'!T2865-Calculations!Q$1","v":0},{"$f":"'Absorbance Data'!U2865-Calculations!R$1","v":0},{"$f":"'Absorbance Data'!V2865-Calculations!S$1","v":0},{"$f":"'Absorbance Data'!W2865-Calculations!T$1","v":0},{"$f":"'Absorbance Data'!X2865-Calculations!U$1","v":0},{"$f":"'Absorbance Data'!Y2865-Calculations!V$1","v":0},{"$f":"'Absorbance Data'!Z2865-Calculations!W$1","v":0}]
[{"$f":"'Absorbance Data'!D2866","v":470.16317749023438},{"$f":"'Absorbance Data'!E2866-Calculations!B$1","v":0},{"$f":"'Absorbance Data'!F2866-Calculations!C$1","v":0},{"$f":"'Absorbance Data'!G2866-Calculations!D$1","v":0},{"$f":"'Absorbance Data'!H2866-Calculations!E$1","v":0},{"$f":"'Absorbance Data'!I2866-Calculations!F$1","v":0},{"$f":"'Absorbance Data'!J2866-Calculations!G$1","v":0},{"$f":"'Absorbance Data'!K2866-Calculations!H$1","v":0},{"$f":"'Absorbance Data'!L2866-Calculations!I$1","v":0},{"$f":"'Absorbance Data'!M2866-Calculations!J$1","v":0},{"$f":"'Absorbance Data'!N2866-Calculations!K$1","v":0},{"$f":"'Absorbance Data'!O2866-Calculations!L$1","v":0},{"$f":"'Absorbance Data'!P2866-Calculations!M$1","v":0},{"$f":"'Absorbance Data'!Q2866-Calculations!N$1","v":0},{"$f":"'Absorbance Data'!R2866-Calculations!O$1","v":0},{"$f":"'Absorbance Data'!S2866-Calculations!P$1","v":0},{"$f":"'Absorbance Data'!T2866-Calculations!Q$1","v":0},{"$f":"'Absorbance Data'!U2866-Calculations!R$1","v":0},{"$f":"'Absorbance Data'!V2866-Calculations!S$1","v":0},{"$f":"'Absorbance Data'!W2866-Calculations!T$1","v":0},{"$f":"'Absorbance Data'!X2866-Calculations!U$1","v":0},{"$f":"'Absorbance Data'!Y2866-Calculations!V$1","v":0},{"$f":"'Absorbance Data'!Z2866-Calculations!W$1","v":0}]
[{"$f":"'Absorbance Data'!D2867","v":470.49874877929688},{"$f":"'Absorbance Data'!E2867-Calculations!B$1","v":0},{"$f":"'Absorbance Data'!F2867-Calculations!C$1","v":0},{"$f":"'Absorbance Data'!G2867-Calculations!D$1","v":0},{"$f":"'Absorbance Data'!H2867-Calculations!E$1","v":0},{"$f":"'Absorbance Data'!I2867-Calculations!F$1","v":0},{"$f":"'Absorbance Data'!J2867-Calculations!G$1","v":0},{"$f":"'Absorbance Data'!K2867-Calculations!H$1","v":0},{"$f":"'Absorbance Data'!L2867-Calculations!I$1","v":0},{"$f":"'Absorbance Data'!M2867-Calculations!J$1","v":0},{"$f":"'Absorbance Data'!N2867-Calculations!K$1","v":0},{"$f":"'Absorbance Data'!O2867-Calculations!L$1","v":0},{"$f":"'Absorbance Data'!P2867-Calculations!M$1","v":0},{"$f":"'Absorbance Data'!Q2867-Calculations!N$1","v":0},{"$f":"'Absorbance Data'!R2867-Calculations!O$1","v":0},{"$f":"'Absorbance Data'!S2867-Calculations!P$1","v":0},{"$f":"'Absorbance Data'!T2867-Calculations!Q$1","v":0},{"$f":"'Absorbance Data'!U2867-Calculations!R$1","v":0},{"$f":"'Absorbance Data'!V2867-Calculations!S$1","v":0},{"$f":"'Absorbance Data'!W2867-Calculations!T$1","v":0},{"$f":"'Absorbance Data'!X2867-Calculations!U$1","v":0},{"$f":"'Absorbance Data'!Y2867-Calculations!V$1","v":0},{"$f":"'Absorbance Data'!Z2867-Calculations!W$1","v":0}]
[{"$f":"'Absorbance Data'!D2868","v":470.83425903320312},{"$f":"'Absorbance Data'!E2868-Calculations!B$1","v":0},{"$f":"'Absorbance Data'!F2868-Calculations!C$1","v":0},{"$f":"'Absorbance Data'!G2868-Calculations!D$1","v":0},{"$f":"'Absorbance Data'!H2868-Calculations!E$1","v":0},{"$f":"'Absorbance Data'!I2868-Calculations!F$1","v":0},{"$f":"'Absorbance Data'!J2868-Calculations!G$1","v":0},{"$f":"'Absorbance Data'!K2868-Calculations!H$1","v":0},{"$f":"'Absorbance Data'!L2868-Calculations!I$1","v":0},{"$f":"'Absorbance Data'!M2868-Calculations!J$1","v":0},{"$f":"'Absorbance Data'!N2868-Calculations!K$1","v":0},{"$f":"'Absorbance Data'!O2868-Calculations!L$1","v":0},{"$f":"'Absorbance Data'!P2868-Calculations!M$1","v":0},{"$f":"'Absorbance Data'!Q2868-Calculations!N$1","v":0},{"$f":"'Absorbance Data'!R2868-Calculations!O$1","v":0},{"$f":"'Absorbance Data'!S2868-Calculations!P$1","v":0},{"$f":"'Absorbance Data'!T2868-Calculations!Q$1","v":0},{"$f":"'Absorbance Data'!U2868-Calculations!R$1","v":0},{"$f":"'Absorbance Data'!V2868-Calculations!S$1","v":0},{"$f":"'Absorbance Data'!W2868-Calculations!T$1","v":0},{"$f":"'Absorbance Data'!X2868-Calculations!U$1","v":0},{"$f":"'Absorbance Data'!Y2868-Calculations!V$1","v":0},{"$f":"'Absorbance Data'!Z2868-Calculations!W$1","v":0}]
[{"$f":"'Absorbance Data'!D2869","v":471.16976928710938},{"$f":"'Absorbance Data'!E2869-Calculations!B$1","v":0},{"$f":"'Absorbance Data'!F2869-Calculations!C$1","v":0},{"$f":"'Absorbance Data'!G2869-Calculations!D$1","v":0},{"$f":"'Absorbance Data'!H2869-Calculations!E$1","v":0},{"$f":"'Absorbance Data'!I2869-Calculations!F$1","v":0},{"$f":"'Absorbance Data'!J2869-Calculations!G$1","v":0},{"$f":"'Absorbance Data'!K2869-Calculations!H$1","v":0},{"$f":"'Absorbance Data'!L2869-Calculations!I$1","v":0},{"$f":"'Absorbance Data'!M2869-Calculations!J$1","v":0},{"$f":"'Absorbance Data'!N2869-Calculations!K$1","v":0},{"$f":"'Absorbance Data'!O2869-Calculations!L$1","v":0},{"$f":"'Absorbance Data'!P2869-Calculations!M$1","v":0},{"$f":"'Absorbance Data'!Q2869-Calculations!N$1","v":0},{"$f":"'Absorbance Data'!R2869-Calculations!O$1","v":0},{"$f":"'Absorbance Data'!S2869-Calculations!P$1","v":0},{"$f":"'Absorbance Data'!T2869-Calculations!Q$1","v":0},{"$f":"'Absorbance Data'!U2869-Calculations!R$1","v":0},{"$f":"'Absorbance Data'!V2869-Calculations!S$1","v":0},{"$f":"'Absorbance Data'!W2869-Calculations!T$1","v":0},{"$f":"'Absorbance Data'!X2869-Calculations!U$1","v":0},{"$f":"'Absorbance Data'!Y2869-Calculations!V$1","v":0},{"$f":"'Absorbance Data'!Z2869-Calculations!W$1","v":0}]
[{"$f":"'Absorbance Data'!D2870","v":471.50518798828125},{"$f":"'Absorbance Data'!E2870-Calculations!B$1","v":0},{"$f":"'Absorbance Data'!F2870-Calculations!C$1","v":0},{"$f":"'Absorbance Data'!G2870-Calculations!D$1","v":0},{"$f":"'Absorbance Data'!H2870-Calculations!E$1","v":0},{"$f":"'Absorbance Data'!I2870-Calculations!F$1","v":0},{"$f":"'Absorbance Data'!J2870-Calculations!G$1","v":0},{"$f":"'Absorbance Data'!K2870-Calculations!H$1","v":0},{"$f":"'Absorbance Data'!L2870-Calculations!I$1","v":0},{"$f":"'Absorbance Data'!M2870-Calculations!J$1","v":0},{"$f":"'Absorbance Data'!N2870-Calculations!K$1","v":0},{"$f":"'Absorbance Data'!O2870-Calculations!L$1","v":0},{"$f":"'Absorbance Data'!P2870-Calculations!M$1","v":0},{"$f":"'Absorbance Data'!Q2870-Calculations!N$1","v":0},{"$f":"'Absorbance Data'!R2870-Calculations!O$1","v":0},{"$f":"'Absorbance Data'!S2870-Calculations!P$1","v":0},{"$f":"'Absorbance Data'!T2870-Calculations!Q$1","v":0},{"$f":"'Absorbance Data'!U2870-Calculations!R$1","v":0},{"$f":"'Absorbance Data'!V2870-Calculations!S$1","v":0},{"$f":"'Absorbance Data'!W2870-Calculations!T$1","v":0},{"$f":"'Absorbance Data'!X2870-Calculations!U$1","v":0},{"$f":"'Absorbance Data'!Y2870-Calculations!V$1","v":0},{"$f":"'Absorbance Data'!Z2870-Calculations!W$1","v":0}]
[{"$f":"'Absorbance Data'!D2871","v":471.84063720703125},{"$f":"'Absorbance Data'!E2871-Calculations!B$1","v":0},{"$f":"'Absorbance Data'!F2871-Calculations!C$1","v":0},{"$f":"'Absorbance Data'!G2871-Calculations!D$1","v":0},{"$f":"'Absorbance Data'!H2871-Calculations!E$1","v":0},{"$f":"'Absorbance Data'!I2871-Calculations!F$1","v":0},{"$f":"'Absorbance Data'!J2871-Calculations!G$1","v":0},{"$f":"'Absorbance Data'!K2871-Calculations!H$1","v":0},{"$f":"'Absorbance Data'!L2871-Calculations!I$1","v":0},{"$f":"'Absorbance Data'!M2871-Calculations!J$1","v":0},{"$f":"'Absorbance Data'!N2871-Calculations!K$1","v":0},{"$f":"'Absorbance Data'!O2871-Calculations!L$1","v":0},{"$f":"'Absorbance Data'!P2871-Calculations!M$1","v":0},{"$f":"'Absorbance Data'!Q2871-Calculations!N$1","v":0},{"$f":"'Absorbance Data'!R2871-Calculations!O$1","v":0},{"$f":"'Absorbance Data'!S2871-Calculations!P$1","v":0},{"$f":"'Absorbance Data'!T2871-Calculations!Q$1","v":0},{"$f":"'Absorbance Data'!U2871-Calculations!R$1","v":0},{"$f":"'Absorbance Data'!V2871-Calculations!S$1","v":0},{"$f":"'Absorbance Data'!W2871-Calculations!T$1","v":0},{"$f":"'Absorbance Data'!X2871-Calculations!U$1","v":0},{"$f":"'Absorbance Data'!Y2871-Calculations!V$1","v":0},{"$f":"'Absorbance Data'!Z2871-Calculations!W$1","v":0}]
[{"$f":"'Absorbance Data'!D2872","v":472.176025390625},{"$f":"'Absorbance Data'!E2872-Calculations!B$1","v":0},{"$f":"'Absorbance Data'!F2872-Calculations!C$1","v":0},{"$f":"'Absorbance Data'!G2872-Calculations!D$1","v":0},{"$f":"'Absorbance Data'!H2872-Calculations!E$1","v":0},{"$f":"'Absorbance Data'!I2872-Calculations!F$1","v":0},{"$f":"'Absorbance Data'!J2872-Calculations!G$1","v":0},{"$f":"'Absorbance Data'!K2872-Calculations!H$1","v":0},{"$f":"'Absorbance Data'!L2872-Calculations!I$1","v":0},{"$f":"'Absorbance Data'!M2872-Calculations!J$1","v":0},{"$f":"'Absorbance Data'!N2872-Calculations!K$1","v":0},{"$f":"'Absorbance Data'!O2872-Calculations!L$1","v":0},{"$f":"'Absorbance Data'!P2872-Calculations!M$1","v":0},{"$f":"'Absorbance Data'!Q2872-Calculations!N$1","v":0},{"$f":"'Absorbance Data'!R2872-Calculations!O$1","v":0},{"$f":"'Absorbance Data'!S2872-Calculations!P$1","v":0},{"$f":"'Absorbance Data'!T2872-Calculations!Q$1","v":0},{"$f":"'Absorbance Data'!U2872-Calculations!R$1","v":0},{"$f":"'Absorbance Data'!V2872-Calculations!S$1","v":0},{"$f":"'Absorbance Data'!W2872-Calculations!T$1","v":0},{"$f":"'Absorbance Data'!X2872-Calculations!U$1","v":0},{"$f":"'Absorbance Data'!Y2872-Calculations!V$1","v":0},{"$f":"'Absorbance Data'!Z2872-Calculations!W$1","v":0}]
[{"$f":"'Absorbance Data'!D2873","v":472.5113525390625},{"$f":"'Absorbance Data'!E2873-Calculations!B$1","v":0},{"$f":"'Absorbance Data'!F2873-Calculations!C$1","v":0},{"$f":"'Absorbance Data'!G2873-Calculations!D$1","v":0},{"$f":"'Absorbance Data'!H2873-Calculations!E$1","v":0},{"$f":"'Absorbance Data'!I2873-Calculations!F$1","v":0},{"$f":"'Absorbance Data'!J2873-Calculations!G$1","v":0},{"$f":"'Absorbance Data'!K2873-Calculations!H$1","v":0},{"$f":"'Absorbance Data'!L2873-Calculations!I$1","v":0},{"$f":"'Absorbance Data'!M2873-Calculations!J$1","v":0},{"$f":"'Absorbance Data'!N2873-Calculations!K$1","v":0},{"$f":"'Absorbance Data'!O2873-Calculations!L$1","v":0},{"$f":"'Absorbance Data'!P2873-Calculations!M$1","v":0},{"$f":"'Absorbance Data'!Q2873-Calculations!N$1","v":0},{"$f":"'Absorbance Data'!R2873-Calculations!O$1","v":0},{"$f":"'Absorbance Data'!S2873-Calculations!P$1","v":0},{"$f":"'Absorbance Data'!T2873-Calculations!Q$1","v":0},{"$f":"'Absorbance Data'!U2873-Calculations!R$1","v":0},{"$f":"'Absorbance Data'!V2873-Calculations!S$1","v":0},{"$f":"'Absorbance Data'!W2873-Calculations!T$1","v":0},{"$f":"'Absorbance Data'!X2873-Calculations!U$1","v":0},{"$f":"'Absorbance Data'!Y2873-Calculations!V$1","v":0},{"$f":"'Absorbance Data'!Z2873-Calculations!W$1","v":0}]
[{"$f":"'Absorbance Data'!D2874","v":472.8466796875},{"$f":"'Absorbance Data'!E2874-Calculations!B$1","v":0},{"$f":"'Absorbance Data'!F2874-Calculations!C$1","v":0},{"$f":"'Absorbance Data'!G2874-Calculations!D$1","v":0},{"$f":"'Absorbance Data'!H2874-Calculations!E$1","v":0},{"$f":"'Absorbance Data'!I2874-Calculations!F$1","v":0},{"$f":"'Absorbance Data'!J2874-Calculations!G$1","v":0},{"$f":"'Absorbance Data'!K2874-Calculations!H$1","v":0},{"$f":"'Absorbance Data'!L2874-Calculations!I$1","v":0},{"$f":"'Absorbance Data'!M2874-Calculations!J$1","v":0},{"$f":"'Absorbance Data'!N2874-Calculations!K$1","v":0},{"$f":"'Absorbance Data'!O2874-Calculations!L$1","v":0},{"$f":"'Absorbance Data'!P2874-Calculations!M$1","v":0},{"$f":"'Absorbance Data'!Q2874-Calculations!N$1","v":0},{"$f":"'Absorbance Data'!R2874-Calculations!O$1","v":0},{"$f":"'Absorbance Data'!S2874-Calculations!P$1","v":0},{"$f":"'Absorbance Data'!T2874-Calculations!Q$1","v":0},{"$f":"'Absorbance Data'!U2874-Calculations!R$1","v":0},{"$f":"'Absorbance Data'!V2874-Calculations!S$1","v":0},{"$f":"'Absorbance Data'!W2874-Calculations!T$1","v":0},{"$f":"'Absorbance Data'!X2874-Calculations!U$1","v":0},{"$f":"'Absorbance Data'!Y2874-Calculations!V$1","v":0},{"$f":"'Absorbance Data'!Z2874-Calculations!W$1","v":0}]
[{"$f":"'Absorbance Data'!D2875","v":473.18194580078125},{"$f":"'Absorbance Data'!E2875-Calculations!B$1","v":0},{"$f":"'Absorbance Data'!F2875-Calculations!C$1","v":0},{"$f":"'Absorbance Data'!G2875-Calculations!D$1","v":0},{"$f":"'Absorbance Data'!H2875-Calculations!E$1","v":0},{"$f":"'Absorbance Data'!I2875-Calculations!F$1","v":0},{"$f":"'Absorbance Data'!J2875-Calculations!G$1","v":0},{"$f":"'Absorbance Data'!K2875-Calculations!H$1","v":0},{"$f":"'Absorbance Data'!L2875-Calculations!I$1","v":0},{"$f":"'Absorbance Data'!M2875-Calculations!J$1","v":0},{"$f":"'Absorbance Data'!N2875-Calculations!K$1","v":0},{"$f":"'Absorbance Data'!O2875-Calculations!L$1","v":0},{"$f":"'Absorbance Data'!P2875-Calculations!M$1","v":0},{"$f":"'Absorbance Data'!Q2875-Calculations!N$1","v":0},{"$f":"'Absorbance Data'!R2875-Calculations!O$1","v":0},{"$f":"'Absorbance Data'!S2875-Calculations!P$1","v":0},{"$f":"'Absorbance Data'!T2875-Calculations!Q$1","v":0},{"$f":"'Absorbance Data'!U2875-Calculations!R$1","v":0},{"$f":"'Absorbance Data'!V2875-Calculations!S$1","v":0},{"$f":"'Absorbance Data'!W2875-Calculations!T$1","v":0},{"$f":"'Absorbance Data'!X2875-Calculations!U$1","v":0},{"$f":"'Absorbance Data'!Y2875-Calculations!V$1","v":0},{"$f":"'Absorbance Data'!Z2875-Calculations!W$1","v":0}]
[{"$f":"'Absorbance Data'!D2876","v":473.51715087890625},{"$f":"'Absorbance Data'!E2876-Calculations!B$1","v":0},{"$f":"'Absorbance Data'!F2876-Calculations!C$1","v":0},{"$f":"'Absorbance Data'!G2876-Calculations!D$1","v":0},{"$f":"'Absorbance Data'!H2876-Calculations!E$1","v":0},{"$f":"'Absorbance Data'!I2876-Calculations!F$1","v":0},{"$f":"'Absorbance Data'!J2876-Calculations!G$1","v":0},{"$f":"'Absorbance Data'!K2876-Calculations!H$1","v":0},{"$f":"'Absorbance Data'!L2876-Calculations!I$1","v":0},{"$f":"'Absorbance Data'!M2876-Calculations!J$1","v":0},{"$f":"'Absorbance Data'!N2876-Calculations!K$1","v":0},{"$f":"'Absorbance Data'!O2876-Calculations!L$1","v":0},{"$f":"'Absorbance Data'!P2876-Calculations!M$1","v":0},{"$f":"'Absorbance Data'!Q2876-Calculations!N$1","v":0},{"$f":"'Absorbance Data'!R2876-Calculations!O$1","v":0},{"$f":"'Absorbance Data'!S2876-Calculations!P$1","v":0},{"$f":"'Absorbance Data'!T2876-Calculations!Q$1","v":0},{"$f":"'Absorbance Data'!U2876-Calculations!R$1","v":0},{"$f":"'Absorbance Data'!V2876-Calculations!S$1","v":0},{"$f":"'Absorbance Data'!W2876-Calculations!T$1","v":0},{"$f":"'Absorbance Data'!X2876-Calculations!U$1","v":0},{"$f":"'Absorbance Data'!Y2876-Calculations!V$1","v":0},{"$f":"'Absorbance Data'!Z2876-Calculations!W$1","v":0}]
[{"$f":"'Absorbance Data'!D2877","v":473.85238647460938},{"$f":"'Absorbance Data'!E2877-Calculations!B$1","v":0},{"$f":"'Absorbance Data'!F2877-Calculations!C$1","v":0},{"$f":"'Absorbance Data'!G2877-Calculations!D$1","v":0},{"$f":"'Absorbance Data'!H2877-Calculations!E$1","v":0},{"$f":"'Absorbance Data'!I2877-Calculations!F$1","v":0},{"$f":"'Absorbance Data'!J2877-Calculations!G$1","v":0},{"$f":"'Absorbance Data'!K2877-Calculations!H$1","v":0},{"$f":"'Absorbance Data'!L2877-Calculations!I$1","v":0},{"$f":"'Absorbance Data'!M2877-Calculations!J$1","v":0},{"$f":"'Absorbance Data'!N2877-Calculations!K$1","v":0},{"$f":"'Absorbance Data'!O2877-Calculations!L$1","v":0},{"$f":"'Absorbance Data'!P2877-Calculations!M$1","v":0},{"$f":"'Absorbance Data'!Q2877-Calculations!N$1","v":0},{"$f":"'Absorbance Data'!R2877-Calculations!O$1","v":0},{"$f":"'Absorbance Data'!S2877-Calculations!P$1","v":0},{"$f":"'Absorbance Data'!T2877-Calculations!Q$1","v":0},{"$f":"'Absorbance Data'!U2877-Calculations!R$1","v":0},{"$f":"'Absorbance Data'!V2877-Calculations!S$1","v":0},{"$f":"'Absorbance Data'!W2877-Calculations!T$1","v":0},{"$f":"'Absorbance Data'!X2877-Calculations!U$1","v":0},{"$f":"'Absorbance Data'!Y2877-Calculations!V$1","v":0},{"$f":"'Absorbance Data'!Z2877-Calculations!W$1","v":0}]
[{"$f":"'Absorbance Data'!D2878","v":474.18756103515625},{"$f":"'Absorbance Data'!E2878-Calculations!B$1","v":0},{"$f":"'Absorbance Data'!F2878-Calculations!C$1","v":0},{"$f":"'Absorbance Data'!G2878-Calculations!D$1","v":0},{"$f":"'Absorbance Data'!H2878-Calculations!E$1","v":0},{"$f":"'Absorbance Data'!I2878-Calculations!F$1","v":0},{"$f":"'Absorbance Data'!J2878-Calculations!G$1","v":0},{"$f":"'Absorbance Data'!K2878-Calculations!H$1","v":0},{"$f":"'Absorbance Data'!L2878-Calculations!I$1","v":0},{"$f":"'Absorbance Data'!M2878-Calculations!J$1","v":0},{"$f":"'Absorbance Data'!N2878-Calculations!K$1","v":0},{"$f":"'Absorbance Data'!O2878-Calculations!L$1","v":0},{"$f":"'Absorbance Data'!P2878-Calculations!M$1","v":0},{"$f":"'Absorbance Data'!Q2878-Calculations!N$1","v":0},{"$f":"'Absorbance Data'!R2878-Calculations!O$1","v":0},{"$f":"'Absorbance Data'!S2878-Calculations!P$1","v":0},{"$f":"'Absorbance Data'!T2878-Calculations!Q$1","v":0},{"$f":"'Absorbance Data'!U2878-Calculations!R$1","v":0},{"$f":"'Absorbance Data'!V2878-Calculations!S$1","v":0},{"$f":"'Absorbance Data'!W2878-Calculations!T$1","v":0},{"$f":"'Absorbance Data'!X2878-Calculations!U$1","v":0},{"$f":"'Absorbance Data'!Y2878-Calculations!V$1","v":0},{"$f":"'Absorbance Data'!Z2878-Calculations!W$1","v":0}]
[{"$f":"'Absorbance Data'!D2879","v":474.52267456054688},{"$f":"'Absorbance Data'!E2879-Calculations!B$1","v":0},{"$f":"'Absorbance Data'!F2879-Calculations!C$1","v":0},{"$f":"'Absorbance Data'!G2879-Calculations!D$1","v":0},{"$f":"'Absorbance Data'!H2879-Calculations!E$1","v":0},{"$f":"'Absorbance Data'!I2879-Calculations!F$1","v":0},{"$f":"'Absorbance Data'!J2879-Calculations!G$1","v":0},{"$f":"'Absorbance Data'!K2879-Calculations!H$1","v":0},{"$f":"'Absorbance Data'!L2879-Calculations!I$1","v":0},{"$f":"'Absorbance Data'!M2879-Calculations!J$1","v":0},{"$f":"'Absorbance Data'!N2879-Calculations!K$1","v":0},{"$f":"'Absorbance Data'!O2879-Calculations!L$1","v":0},{"$f":"'Absorbance Data'!P2879-Calculations!M$1","v":0},{"$f":"'Absorbance Data'!Q2879-Calculations!N$1","v":0},{"$f":"'Absorbance Data'!R2879-Calculations!O$1","v":0},{"$f":"'Absorbance Data'!S2879-Calculations!P$1","v":0},{"$f":"'Absorbance Data'!T2879-Calculations!Q$1","v":0},{"$f":"'Absorbance Data'!U2879-Calculations!R$1","v":0},{"$f":"'Absorbance Data'!V2879-Calculations!S$1","v":0},{"$f":"'Absorbance Data'!W2879-Calculations!T$1","v":0},{"$f":"'Absorbance Data'!X2879-Calculations!U$1","v":0},{"$f":"'Absorbance Data'!Y2879-Calculations!V$1","v":0},{"$f":"'Absorbance Data'!Z2879-Calculations!W$1","v":0}]
[{"$f":"'Absorbance Data'!D2880","v":474.8577880859375},{"$f":"'Absorbance Data'!E2880-Calculations!B$1","v":0},{"$f":"'Absorbance Data'!F2880-Calculations!C$1","v":0},{"$f":"'Absorbance Data'!G2880-Calculations!D$1","v":0},{"$f":"'Absorbance Data'!H2880-Calculations!E$1","v":0},{"$f":"'Absorbance Data'!I2880-Calculations!F$1","v":0},{"$f":"'Absorbance Data'!J2880-Calculations!G$1","v":0},{"$f":"'Absorbance Data'!K2880-Calculations!H$1","v":0},{"$f":"'Absorbance Data'!L2880-Calculations!I$1","v":0},{"$f":"'Absorbance Data'!M2880-Calculations!J$1","v":0},{"$f":"'Absorbance Data'!N2880-Calculations!K$1","v":0},{"$f":"'Absorbance Data'!O2880-Calculations!L$1","v":0},{"$f":"'Absorbance Data'!P2880-Calculations!M$1","v":0},{"$f":"'Absorbance Data'!Q2880-Calculations!N$1","v":0},{"$f":"'Absorbance Data'!R2880-Calculations!O$1","v":0},{"$f":"'Absorbance Data'!S2880-Calculations!P$1","v":0},{"$f":"'Absorbance Data'!T2880-Calculations!Q$1","v":0},{"$f":"'Absorbance Data'!U2880-Calculations!R$1","v":0},{"$f":"'Absorbance Data'!V2880-Calculations!S$1","v":0},{"$f":"'Absorbance Data'!W2880-Calculations!T$1","v":0},{"$f":"'Absorbance Data'!X2880-Calculations!U$1","v":0},{"$f":"'Absorbance Data'!Y2880-Calculations!V$1","v":0},{"$f":"'Absorbance Data'!Z2880-Calculations!W$1","v":0}]
[{"$f":"'Absorbance Data'!D2881","v":475.19284057617188},{"$f":"'Absorbance Data'!E2881-Calculations!B$1","v":0},{"$f":"'Absorbance Data'!F2881-Calculations!C$1","v":0},{"$f":"'Absorbance Data'!G2881-Calculations!D$1","v":0},{"$f":"'Absorbance Data'!H2881-Calculations!E$1","v":0},{"$f":"'Absorbance Data'!I2881-Calculations!F$1","v":0},{"$f":"'Absorbance Data'!J2881-Calculations!G$1","v":0},{"$f":"'Absorbance Data'!K2881-Calculations!H$1","v":0},{"$f":"'Absorbance Data'!L2881-Calculations!I$1","v":0},{"$f":"'Absorbance Data'!M2881-Calculations!J$1","v":0},{"$f":"'Absorbance Data'!N2881-Calculations!K$1","v":0},{"$f":"'Absorbance Data'!O2881-Calculations!L$1","v":0},{"$f":"'Absorbance Data'!P2881-Calculations!M$1","v":0},{"$f":"'Absorbance Data'!Q2881-Calculations!N$1","v":0},{"$f":"'Absorbance Data'!R2881-Calculations!O$1","v":0},{"$f":"'Absorbance Data'!S2881-Calculations!P$1","v":0},{"$f":"'Absorbance Data'!T2881-Calculations!Q$1","v":0},{"$f":"'Absorbance Data'!U2881-Calculations!R$1","v":0},{"$f":"'Absorbance Data'!V2881-Calculations!S$1","v":0},{"$f":"'Absorbance Data'!W2881-Calculations!T$1","v":0},{"$f":"'Absorbance Data'!X2881-Calculations!U$1","v":0},{"$f":"'Absorbance Data'!Y2881-Calculations!V$1","v":0},{"$f":"'Absorbance Data'!Z2881-Calculations!W$1","v":0}]
[{"$f":"'Absorbance Data'!D2882","v":475.52786254882812},{"$f":"'Absorbance Data'!E2882-Calculations!B$1","v":0},{"$f":"'Absorbance Data'!F2882-Calculations!C$1","v":0},{"$f":"'Absorbance Data'!G2882-Calculations!D$1","v":0},{"$f":"'Absorbance Data'!H2882-Calculations!E$1","v":0},{"$f":"'Absorbance Data'!I2882-Calculations!F$1","v":0},{"$f":"'Absorbance Data'!J2882-Calculations!G$1","v":0},{"$f":"'Absorbance Data'!K2882-Calculations!H$1","v":0},{"$f":"'Absorbance Data'!L2882-Calculations!I$1","v":0},{"$f":"'Absorbance Data'!M2882-Calculations!J$1","v":0},{"$f":"'Absorbance Data'!N2882-Calculations!K$1","v":0},{"$f":"'Absorbance Data'!O2882-Calculations!L$1","v":0},{"$f":"'Absorbance Data'!P2882-Calculations!M$1","v":0},{"$f":"'Absorbance Data'!Q2882-Calculations!N$1","v":0},{"$f":"'Absorbance Data'!R2882-Calculations!O$1","v":0},{"$f":"'Absorbance Data'!S2882-Calculations!P$1","v":0},{"$f":"'Absorbance Data'!T2882-Calculations!Q$1","v":0},{"$f":"'Absorbance Data'!U2882-Calculations!R$1","v":0},{"$f":"'Absorbance Data'!V2882-Calculations!S$1","v":0},{"$f":"'Absorbance Data'!W2882-Calculations!T$1","v":0},{"$f":"'Absorbance Data'!X2882-Calculations!U$1","v":0},{"$f":"'Absorbance Data'!Y2882-Calculations!V$1","v":0},{"$f":"'Absorbance Data'!Z2882-Calculations!W$1","v":0}]
[{"$f":"'Absorbance Data'!D2883","v":475.86285400390625},{"$f":"'Absorbance Data'!E2883-Calculations!B$1","v":0},{"$f":"'Absorbance Data'!F2883-Calculations!C$1","v":0},{"$f":"'Absorbance Data'!G2883-Calculations!D$1","v":0},{"$f":"'Absorbance Data'!H2883-Calculations!E$1","v":0},{"$f":"'Absorbance Data'!I2883-Calculations!F$1","v":0},{"$f":"'Absorbance Data'!J2883-Calculations!G$1","v":0},{"$f":"'Absorbance Data'!K2883-Calculations!H$1","v":0},{"$f":"'Absorbance Data'!L2883-Calculations!I$1","v":0},{"$f":"'Absorbance Data'!M2883-Calculations!J$1","v":0},{"$f":"'Absorbance Data'!N2883-Calculations!K$1","v":0},{"$f":"'Absorbance Data'!O2883-Calculations!L$1","v":0},{"$f":"'Absorbance Data'!P2883-Calculations!M$1","v":0},{"$f":"'Absorbance Data'!Q2883-Calculations!N$1","v":0},{"$f":"'Absorbance Data'!R2883-Calculations!O$1","v":0},{"$f":"'Absorbance Data'!S2883-Calculations!P$1","v":0},{"$f":"'Absorbance Data'!T2883-Calculations!Q$1","v":0},{"$f":"'Absorbance Data'!U2883-Calculations!R$1","v":0},{"$f":"'Absorbance Data'!V2883-Calculations!S$1","v":0},{"$f":"'Absorbance Data'!W2883-Calculations!T$1","v":0},{"$f":"'Absorbance Data'!X2883-Calculations!U$1","v":0},{"$f":"'Absorbance Data'!Y2883-Calculations!V$1","v":0},{"$f":"'Absorbance Data'!Z2883-Calculations!W$1","v":0}]
[{"$f":"'Absorbance Data'!D2884","v":476.19781494140625},{"$f":"'Absorbance Data'!E2884-Calculations!B$1","v":0},{"$f":"'Absorbance Data'!F2884-Calculations!C$1","v":0},{"$f":"'Absorbance Data'!G2884-Calculations!D$1","v":0},{"$f":"'Absorbance Data'!H2884-Calculations!E$1","v":0},{"$f":"'Absorbance Data'!I2884-Calculations!F$1","v":0},{"$f":"'Absorbance Data'!J2884-Calculations!G$1","v":0},{"$f":"'Absorbance Data'!K2884-Calculations!H$1","v":0},{"$f":"'Absorbance Data'!L2884-Calculations!I$1","v":0},{"$f":"'Absorbance Data'!M2884-Calculations!J$1","v":0},{"$f":"'Absorbance Data'!N2884-Calculations!K$1","v":0},{"$f":"'Absorbance Data'!O2884-Calculations!L$1","v":0},{"$f":"'Absorbance Data'!P2884-Calculations!M$1","v":0},{"$f":"'Absorbance Data'!Q2884-Calculations!N$1","v":0},{"$f":"'Absorbance Data'!R2884-Calculations!O$1","v":0},{"$f":"'Absorbance Data'!S2884-Calculations!P$1","v":0},{"$f":"'Absorbance Data'!T2884-Calculations!Q$1","v":0},{"$f":"'Absorbance Data'!U2884-Calculations!R$1","v":0},{"$f":"'Absorbance Data'!V2884-Calculations!S$1","v":0},{"$f":"'Absorbance Data'!W2884-Calculations!T$1","v":0},{"$f":"'Absorbance Data'!X2884-Calculations!U$1","v":0},{"$f":"'Absorbance Data'!Y2884-Calculations!V$1","v":0},{"$f":"'Absorbance Data'!Z2884-Calculations!W$1","v":0}]
[{"$f":"'Absorbance Data'!D2885","v":476.53271484375},{"$f":"'Absorbance Data'!E2885-Calculations!B$1","v":0},{"$f":"'Absorbance Data'!F2885-Calculations!C$1","v":0},{"$f":"'Absorbance Data'!G2885-Calculations!D$1","v":0},{"$f":"'Absorbance Data'!H2885-Calculations!E$1","v":0},{"$f":"'Absorbance Data'!I2885-Calculations!F$1","v":0},{"$f":"'Absorbance Data'!J2885-Calculations!G$1","v":0},{"$f":"'Absorbance Data'!K2885-Calculations!H$1","v":0},{"$f":"'Absorbance Data'!L2885-Calculations!I$1","v":0},{"$f":"'Absorbance Data'!M2885-Calculations!J$1","v":0},{"$f":"'Absorbance Data'!N2885-Calculations!K$1","v":0},{"$f":"'Absorbance Data'!O2885-Calculations!L$1","v":0},{"$f":"'Absorbance Data'!P2885-Calculations!M$1","v":0},{"$f":"'Absorbance Data'!Q2885-Calculations!N$1","v":0},{"$f":"'Absorbance Data'!R2885-Calculations!O$1","v":0},{"$f":"'Absorbance Data'!S2885-Calculations!P$1","v":0},{"$f":"'Absorbance Data'!T2885-Calculations!Q$1","v":0},{"$f":"'Absorbance Data'!U2885-Calculations!R$1","v":0},{"$f":"'Absorbance Data'!V2885-Calculations!S$1","v":0},{"$f":"'Absorbance Data'!W2885-Calculations!T$1","v":0},{"$f":"'Absorbance Data'!X2885-Calculations!U$1","v":0},{"$f":"'Absorbance Data'!Y2885-Calculations!V$1","v":0},{"$f":"'Absorbance Data'!Z2885-Calculations!W$1","v":0}]
[{"$f":"'Absorbance Data'!D2886","v":476.86758422851562},{"$f":"'Absorbance Data'!E2886-Calculations!B$1","v":0},{"$f":"'Absorbance Data'!F2886-Calculations!C$1","v":0},{"$f":"'Absorbance Data'!G2886-Calculations!D$1","v":0},{"$f":"'Absorbance Data'!H2886-Calculations!E$1","v":0},{"$f":"'Absorbance Data'!I2886-Calculations!F$1","v":0},{"$f":"'Absorbance Data'!J2886-Calculations!G$1","v":0},{"$f":"'Absorbance Data'!K2886-Calculations!H$1","v":0},{"$f":"'Absorbance Data'!L2886-Calculations!I$1","v":0},{"$f":"'Absorbance Data'!M2886-Calculations!J$1","v":0},{"$f":"'Absorbance Data'!N2886-Calculations!K$1","v":0},{"$f":"'Absorbance Data'!O2886-Calculations!L$1","v":0},{"$f":"'Absorbance Data'!P2886-Calculations!M$1","v":0},{"$f":"'Absorbance Data'!Q2886-Calculations!N$1","v":0},{"$f":"'Absorbance Data'!R2886-Calculations!O$1","v":0},{"$f":"'Absorbance Data'!S2886-Calculations!P$1","v":0},{"$f":"'Absorbance Data'!T2886-Calculations!Q$1","v":0},{"$f":"'Absorbance Data'!U2886-Calculations!R$1","v":0},{"$f":"'Absorbance Data'!V2886-Calculations!S$1","v":0},{"$f":"'Absorbance Data'!W2886-Calculations!T$1","v":0},{"$f":"'Absorbance Data'!X2886-Calculations!U$1","v":0},{"$f":"'Absorbance Data'!Y2886-Calculations!V$1","v":0},{"$f":"'Absorbance Data'!Z2886-Calculations!W$1","v":0}]
[{"$f":"'Absorbance Data'!D2887","v":477.20242309570312},{"$f":"'Absorbance Data'!E2887-Calculations!B$1","v":0},{"$f":"'Absorbance Data'!F2887-Calculations!C$1","v":0},{"$f":"'Absorbance Data'!G2887-Calculations!D$1","v":0},{"$f":"'Absorbance Data'!H2887-Calculations!E$1","v":0},{"$f":"'Absorbance Data'!I2887-Calculations!F$1","v":0},{"$f":"'Absorbance Data'!J2887-Calculations!G$1","v":0},{"$f":"'Absorbance Data'!K2887-Calculations!H$1","v":0},{"$f":"'Absorbance Data'!L2887-Calculations!I$1","v":0},{"$f":"'Absorbance Data'!M2887-Calculations!J$1","v":0},{"$f":"'Absorbance Data'!N2887-Calculations!K$1","v":0},{"$f":"'Absorbance Data'!O2887-Calculations!L$1","v":0},{"$f":"'Absorbance Data'!P2887-Calculations!M$1","v":0},{"$f":"'Absorbance Data'!Q2887-Calculations!N$1","v":0},{"$f":"'Absorbance Data'!R2887-Calculations!O$1","v":0},{"$f":"'Absorbance Data'!S2887-Calculations!P$1","v":0},{"$f":"'Absorbance Data'!T2887-Calculations!Q$1","v":0},{"$f":"'Absorbance Data'!U2887-Calculations!R$1","v":0},{"$f":"'Absorbance Data'!V2887-Calculations!S$1","v":0},{"$f":"'Absorbance Data'!W2887-Calculations!T$1","v":0},{"$f":"'Absorbance Data'!X2887-Calculations!U$1","v":0},{"$f":"'Absorbance Data'!Y2887-Calculations!V$1","v":0},{"$f":"'Absorbance Data'!Z2887-Calculations!W$1","v":0}]
[{"$f":"'Absorbance Data'!D2888","v":477.53726196289062},{"$f":"'Absorbance Data'!E2888-Calculations!B$1","v":0},{"$f":"'Absorbance Data'!F2888-Calculations!C$1","v":0},{"$f":"'Absorbance Data'!G2888-Calculations!D$1","v":0},{"$f":"'Absorbance Data'!H2888-Calculations!E$1","v":0},{"$f":"'Absorbance Data'!I2888-Calculations!F$1","v":0},{"$f":"'Absorbance Data'!J2888-Calculations!G$1","v":0},{"$f":"'Absorbance Data'!K2888-Calculations!H$1","v":0},{"$f":"'Absorbance Data'!L2888-Calculations!I$1","v":0},{"$f":"'Absorbance Data'!M2888-Calculations!J$1","v":0},{"$f":"'Absorbance Data'!N2888-Calculations!K$1","v":0},{"$f":"'Absorbance Data'!O2888-Calculations!L$1","v":0},{"$f":"'Absorbance Data'!P2888-Calculations!M$1","v":0},{"$f":"'Absorbance Data'!Q2888-Calculations!N$1","v":0},{"$f":"'Absorbance Data'!R2888-Calculations!O$1","v":0},{"$f":"'Absorbance Data'!S2888-Calculations!P$1","v":0},{"$f":"'Absorbance Data'!T2888-Calculations!Q$1","v":0},{"$f":"'Absorbance Data'!U2888-Calculations!R$1","v":0},{"$f":"'Absorbance Data'!V2888-Calculations!S$1","v":0},{"$f":"'Absorbance Data'!W2888-Calculations!T$1","v":0},{"$f":"'Absorbance Data'!X2888-Calculations!U$1","v":0},{"$f":"'Absorbance Data'!Y2888-Calculations!V$1","v":0},{"$f":"'Absorbance Data'!Z2888-Calculations!W$1","v":0}]
[{"$f":"'Absorbance Data'!D2889","v":477.87203979492188},{"$f":"'Absorbance Data'!E2889-Calculations!B$1","v":0},{"$f":"'Absorbance Data'!F2889-Calculations!C$1","v":0},{"$f":"'Absorbance Data'!G2889-Calculations!D$1","v":0},{"$f":"'Absorbance Data'!H2889-Calculations!E$1","v":0},{"$f":"'Absorbance Data'!I2889-Calculations!F$1","v":0},{"$f":"'Absorbance Data'!J2889-Calculations!G$1","v":0},{"$f":"'Absorbance Data'!K2889-Calculations!H$1","v":0},{"$f":"'Absorbance Data'!L2889-Calculations!I$1","v":0},{"$f":"'Absorbance Data'!M2889-Calculations!J$1","v":0},{"$f":"'Absorbance Data'!N2889-Calculations!K$1","v":0},{"$f":"'Absorbance Data'!O2889-Calculations!L$1","v":0},{"$f":"'Absorbance Data'!P2889-Calculations!M$1","v":0},{"$f":"'Absorbance Data'!Q2889-Calculations!N$1","v":0},{"$f":"'Absorbance Data'!R2889-Calculations!O$1","v":0},{"$f":"'Absorbance Data'!S2889-Calculations!P$1","v":0},{"$f":"'Absorbance Data'!T2889-Calculations!Q$1","v":0},{"$f":"'Absorbance Data'!U2889-Calculations!R$1","v":0},{"$f":"'Absorbance Data'!V2889-Calculations!S$1","v":0},{"$f":"'Absorbance Data'!W2889-Calculations!T$1","v":0},{"$f":"'Absorbance Data'!X2889-Calculations!U$1","v":0},{"$f":"'Absorbance Data'!Y2889-Calculations!V$1","v":0},{"$f":"'Absorbance Data'!Z2889-Calculations!W$1","v":0}]
[{"$f":"'Absorbance Data'!D2890","v":478.20675659179688},{"$f":"'Absorbance Data'!E2890-Calculations!B$1","v":0},{"$f":"'Absorbance Data'!F2890-Calculations!C$1","v":0},{"$f":"'Absorbance Data'!G2890-Calculations!D$1","v":0},{"$f":"'Absorbance Data'!H2890-Calculations!E$1","v":0},{"$f":"'Absorbance Data'!I2890-Calculations!F$1","v":0},{"$f":"'Absorbance Data'!J2890-Calculations!G$1","v":0},{"$f":"'Absorbance Data'!K2890-Calculations!H$1","v":0},{"$f":"'Absorbance Data'!L2890-Calculations!I$1","v":0},{"$f":"'Absorbance Data'!M2890-Calculations!J$1","v":0},{"$f":"'Absorbance Data'!N2890-Calculations!K$1","v":0},{"$f":"'Absorbance Data'!O2890-Calculations!L$1","v":0},{"$f":"'Absorbance Data'!P2890-Calculations!M$1","v":0},{"$f":"'Absorbance Data'!Q2890-Calculations!N$1","v":0},{"$f":"'Absorbance Data'!R2890-Calculations!O$1","v":0},{"$f":"'Absorbance Data'!S2890-Calculations!P$1","v":0},{"$f":"'Absorbance Data'!T2890-Calculations!Q$1","v":0},{"$f":"'Absorbance Data'!U2890-Calculations!R$1","v":0},{"$f":"'Absorbance Data'!V2890-Calculations!S$1","v":0},{"$f":"'Absorbance Data'!W2890-Calculations!T$1","v":0},{"$f":"'Absorbance Data'!X2890-Calculations!U$1","v":0},{"$f":"'Absorbance Data'!Y2890-Calculations!V$1","v":0},{"$f":"'Absorbance Data'!Z2890-Calculations!W$1","v":0}]
[{"$f":"'Absorbance Data'!D2891","v":478.54150390625},{"$f":"'Absorbance Data'!E2891-Calculations!B$1","v":0},{"$f":"'Absorbance Data'!F2891-Calculations!C$1","v":0},{"$f":"'Absorbance Data'!G2891-Calculations!D$1","v":0},{"$f":"'Absorbance Data'!H2891-Calculations!E$1","v":0},{"$f":"'Absorbance Data'!I2891-Calculations!F$1","v":0},{"$f":"'Absorbance Data'!J2891-Calculations!G$1","v":0},{"$f":"'Absorbance Data'!K2891-Calculations!H$1","v":0},{"$f":"'Absorbance Data'!L2891-Calculations!I$1","v":0},{"$f":"'Absorbance Data'!M2891-Calculations!J$1","v":0},{"$f":"'Absorbance Data'!N2891-Calculations!K$1","v":0},{"$f":"'Absorbance Data'!O2891-Calculations!L$1","v":0},{"$f":"'Absorbance Data'!P2891-Calculations!M$1","v":0},{"$f":"'Absorbance Data'!Q2891-Calculations!N$1","v":0},{"$f":"'Absorbance Data'!R2891-Calculations!O$1","v":0},{"$f":"'Absorbance Data'!S2891-Calculations!P$1","v":0},{"$f":"'Absorbance Data'!T2891-Calculations!Q$1","v":0},{"$f":"'Absorbance Data'!U2891-Calculations!R$1","v":0},{"$f":"'Absorbance Data'!V2891-Calculations!S$1","v":0},{"$f":"'Absorbance Data'!W2891-Calculations!T$1","v":0},{"$f":"'Absorbance Data'!X2891-Calculations!U$1","v":0},{"$f":"'Absorbance Data'!Y2891-Calculations!V$1","v":0},{"$f":"'Absorbance Data'!Z2891-Calculations!W$1","v":0}]
[{"$f":"'Absorbance Data'!D2892","v":478.87615966796875},{"$f":"'Absorbance Data'!E2892-Calculations!B$1","v":0},{"$f":"'Absorbance Data'!F2892-Calculations!C$1","v":0},{"$f":"'Absorbance Data'!G2892-Calculations!D$1","v":0},{"$f":"'Absorbance Data'!H2892-Calculations!E$1","v":0},{"$f":"'Absorbance Data'!I2892-Calculations!F$1","v":0},{"$f":"'Absorbance Data'!J2892-Calculations!G$1","v":0},{"$f":"'Absorbance Data'!K2892-Calculations!H$1","v":0},{"$f":"'Absorbance Data'!L2892-Calculations!I$1","v":0},{"$f":"'Absorbance Data'!M2892-Calculations!J$1","v":0},{"$f":"'Absorbance Data'!N2892-Calculations!K$1","v":0},{"$f":"'Absorbance Data'!O2892-Calculations!L$1","v":0},{"$f":"'Absorbance Data'!P2892-Calculations!M$1","v":0},{"$f":"'Absorbance Data'!Q2892-Calculations!N$1","v":0},{"$f":"'Absorbance Data'!R2892-Calculations!O$1","v":0},{"$f":"'Absorbance Data'!S2892-Calculations!P$1","v":0},{"$f":"'Absorbance Data'!T2892-Calculations!Q$1","v":0},{"$f":"'Absorbance Data'!U2892-Calculations!R$1","v":0},{"$f":"'Absorbance Data'!V2892-Calculations!S$1","v":0},{"$f":"'Absorbance Data'!W2892-Calculations!T$1","v":0},{"$f":"'Absorbance Data'!X2892-Calculations!U$1","v":0},{"$f":"'Absorbance Data'!Y2892-Calculations!V$1","v":0},{"$f":"'Absorbance Data'!Z2892-Calculations!W$1","v":0}]
[{"$f":"'Absorbance Data'!D2893","v":479.2108154296875},{"$f":"'Absorbance Data'!E2893-Calculations!B$1","v":0},{"$f":"'Absorbance Data'!F2893-Calculations!C$1","v":0},{"$f":"'Absorbance Data'!G2893-Calculations!D$1","v":0},{"$f":"'Absorbance Data'!H2893-Calculations!E$1","v":0},{"$f":"'Absorbance Data'!I2893-Calculations!F$1","v":0},{"$f":"'Absorbance Data'!J2893-Calculations!G$1","v":0},{"$f":"'Absorbance Data'!K2893-Calculations!H$1","v":0},{"$f":"'Absorbance Data'!L2893-Calculations!I$1","v":0},{"$f":"'Absorbance Data'!M2893-Calculations!J$1","v":0},{"$f":"'Absorbance Data'!N2893-Calculations!K$1","v":0},{"$f":"'Absorbance Data'!O2893-Calculations!L$1","v":0},{"$f":"'Absorbance Data'!P2893-Calculations!M$1","v":0},{"$f":"'Absorbance Data'!Q2893-Calculations!N$1","v":0},{"$f":"'Absorbance Data'!R2893-Calculations!O$1","v":0},{"$f":"'Absorbance Data'!S2893-Calculations!P$1","v":0},{"$f":"'Absorbance Data'!T2893-Calculations!Q$1","v":0},{"$f":"'Absorbance Data'!U2893-Calculations!R$1","v":0},{"$f":"'Absorbance Data'!V2893-Calculations!S$1","v":0},{"$f":"'Absorbance Data'!W2893-Calculations!T$1","v":0},{"$f":"'Absorbance Data'!X2893-Calculations!U$1","v":0},{"$f":"'Absorbance Data'!Y2893-Calculations!V$1","v":0},{"$f":"'Absorbance Data'!Z2893-Calculations!W$1","v":0}]
[{"$f":"'Absorbance Data'!D2894","v":479.54537963867188},{"$f":"'Absorbance Data'!E2894-Calculations!B$1","v":0},{"$f":"'Absorbance Data'!F2894-Calculations!C$1","v":0},{"$f":"'Absorbance Data'!G2894-Calculations!D$1","v":0},{"$f":"'Absorbance Data'!H2894-Calculations!E$1","v":0},{"$f":"'Absorbance Data'!I2894-Calculations!F$1","v":0},{"$f":"'Absorbance Data'!J2894-Calculations!G$1","v":0},{"$f":"'Absorbance Data'!K2894-Calculations!H$1","v":0},{"$f":"'Absorbance Data'!L2894-Calculations!I$1","v":0},{"$f":"'Absorbance Data'!M2894-Calculations!J$1","v":0},{"$f":"'Absorbance Data'!N2894-Calculations!K$1","v":0},{"$f":"'Absorbance Data'!O2894-Calculations!L$1","v":0},{"$f":"'Absorbance Data'!P2894-Calculations!M$1","v":0},{"$f":"'Absorbance Data'!Q2894-Calculations!N$1","v":0},{"$f":"'Absorbance Data'!R2894-Calculations!O$1","v":0},{"$f":"'Absorbance Data'!S2894-Calculations!P$1","v":0},{"$f":"'Absorbance Data'!T2894-Calculations!Q$1","v":0},{"$f":"'Absorbance Data'!U2894-Calculations!R$1","v":0},{"$f":"'Absorbance Data'!V2894-Calculations!S$1","v":0},{"$f":"'Absorbance Data'!W2894-Calculations!T$1","v":0},{"$f":"'Absorbance Data'!X2894-Calculations!U$1","v":0},{"$f":"'Absorbance Data'!Y2894-Calculations!V$1","v":0},{"$f":"'Absorbance Data'!Z2894-Calculations!W$1","v":0}]
[{"$f":"'Absorbance Data'!D2895","v":479.87997436523438},{"$f":"'Absorbance Data'!E2895-Calculations!B$1","v":0},{"$f":"'Absorbance Data'!F2895-Calculations!C$1","v":0},{"$f":"'Absorbance Data'!G2895-Calculations!D$1","v":0},{"$f":"'Absorbance Data'!H2895-Calculations!E$1","v":0},{"$f":"'Absorbance Data'!I2895-Calculations!F$1","v":0},{"$f":"'Absorbance Data'!J2895-Calculations!G$1","v":0},{"$f":"'Absorbance Data'!K2895-Calculations!H$1","v":0},{"$f":"'Absorbance Data'!L2895-Calculations!I$1","v":0},{"$f":"'Absorbance Data'!M2895-Calculations!J$1","v":0},{"$f":"'Absorbance Data'!N2895-Calculations!K$1","v":0},{"$f":"'Absorbance Data'!O2895-Calculations!L$1","v":0},{"$f":"'Absorbance Data'!P2895-Calculations!M$1","v":0},{"$f":"'Absorbance Data'!Q2895-Calculations!N$1","v":0},{"$f":"'Absorbance Data'!R2895-Calculations!O$1","v":0},{"$f":"'Absorbance Data'!S2895-Calculations!P$1","v":0},{"$f":"'Absorbance Data'!T2895-Calculations!Q$1","v":0},{"$f":"'Absorbance Data'!U2895-Calculations!R$1","v":0},{"$f":"'Absorbance Data'!V2895-Calculations!S$1","v":0},{"$f":"'Absorbance Data'!W2895-Calculations!T$1","v":0},{"$f":"'Absorbance Data'!X2895-Calculations!U$1","v":0},{"$f":"'Absorbance Data'!Y2895-Calculations!V$1","v":0},{"$f":"'Absorbance Data'!Z2895-Calculations!W$1","v":0}]
[{"$f":"'Absorbance Data'!D2896","v":480.2144775390625},{"$f":"'Absorbance Data'!E2896-Calculations!B$1","v":0},{"$f":"'Absorbance Data'!F2896-Calculations!C$1","v":0},{"$f":"'Absorbance Data'!G2896-Calculations!D$1","v":0},{"$f":"'Absorbance Data'!H2896-Calculations!E$1","v":0},{"$f":"'Absorbance Data'!I2896-Calculations!F$1","v":0},{"$f":"'Absorbance Data'!J2896-Calculations!G$1","v":0},{"$f":"'Absorbance Data'!K2896-Calculations!H$1","v":0},{"$f":"'Absorbance Data'!L2896-Calculations!I$1","v":0},{"$f":"'Absorbance Data'!M2896-Calculations!J$1","v":0},{"$f":"'Absorbance Data'!N2896-Calculations!K$1","v":0},{"$f":"'Absorbance Data'!O2896-Calculations!L$1","v":0},{"$f":"'Absorbance Data'!P2896-Calculations!M$1","v":0},{"$f":"'Absorbance Data'!Q2896-Calculations!N$1","v":0},{"$f":"'Absorbance Data'!R2896-Calculations!O$1","v":0},{"$f":"'Absorbance Data'!S2896-Calculations!P$1","v":0},{"$f":"'Absorbance Data'!T2896-Calculations!Q$1","v":0},{"$f":"'Absorbance Data'!U2896-Calculations!R$1","v":0},{"$f":"'Absorbance Data'!V2896-Calculations!S$1","v":0},{"$f":"'Absorbance Data'!W2896-Calculations!T$1","v":0},{"$f":"'Absorbance Data'!X2896-Calculations!U$1","v":0},{"$f":"'Absorbance Data'!Y2896-Calculations!V$1","v":0},{"$f":"'Absorbance Data'!Z2896-Calculations!W$1","v":0}]
[{"$f":"'Absorbance Data'!D2897","v":480.54898071289062},{"$f":"'Absorbance Data'!E2897-Calculations!B$1","v":0},{"$f":"'Absorbance Data'!F2897-Calculations!C$1","v":0},{"$f":"'Absorbance Data'!G2897-Calculations!D$1","v":0},{"$f":"'Absorbance Data'!H2897-Calculations!E$1","v":0},{"$f":"'Absorbance Data'!I2897-Calculations!F$1","v":0},{"$f":"'Absorbance Data'!J2897-Calculations!G$1","v":0},{"$f":"'Absorbance Data'!K2897-Calculations!H$1","v":0},{"$f":"'Absorbance Data'!L2897-Calculations!I$1","v":0},{"$f":"'Absorbance Data'!M2897-Calculations!J$1","v":0},{"$f":"'Absorbance Data'!N2897-Calculations!K$1","v":0},{"$f":"'Absorbance Data'!O2897-Calculations!L$1","v":0},{"$f":"'Absorbance Data'!P2897-Calculations!M$1","v":0},{"$f":"'Absorbance Data'!Q2897-Calculations!N$1","v":0},{"$f":"'Absorbance Data'!R2897-Calculations!O$1","v":0},{"$f":"'Absorbance Data'!S2897-Calculations!P$1","v":0},{"$f":"'Absorbance Data'!T2897-Calculations!Q$1","v":0},{"$f":"'Absorbance Data'!U2897-Calculations!R$1","v":0},{"$f":"'Absorbance Data'!V2897-Calculations!S$1","v":0},{"$f":"'Absorbance Data'!W2897-Calculations!T$1","v":0},{"$f":"'Absorbance Data'!X2897-Calculations!U$1","v":0},{"$f":"'Absorbance Data'!Y2897-Calculations!V$1","v":0},{"$f":"'Absorbance Data'!Z2897-Calculations!W$1","v":0}]
[{"$f":"'Absorbance Data'!D2898","v":480.8834228515625},{"$f":"'Absorbance Data'!E2898-Calculations!B$1","v":0},{"$f":"'Absorbance Data'!F2898-Calculations!C$1","v":0},{"$f":"'Absorbance Data'!G2898-Calculations!D$1","v":0},{"$f":"'Absorbance Data'!H2898-Calculations!E$1","v":0},{"$f":"'Absorbance Data'!I2898-Calculations!F$1","v":0},{"$f":"'Absorbance Data'!J2898-Calculations!G$1","v":0},{"$f":"'Absorbance Data'!K2898-Calculations!H$1","v":0},{"$f":"'Absorbance Data'!L2898-Calculations!I$1","v":0},{"$f":"'Absorbance Data'!M2898-Calculations!J$1","v":0},{"$f":"'Absorbance Data'!N2898-Calculations!K$1","v":0},{"$f":"'Absorbance Data'!O2898-Calculations!L$1","v":0},{"$f":"'Absorbance Data'!P2898-Calculations!M$1","v":0},{"$f":"'Absorbance Data'!Q2898-Calculations!N$1","v":0},{"$f":"'Absorbance Data'!R2898-Calculations!O$1","v":0},{"$f":"'Absorbance Data'!S2898-Calculations!P$1","v":0},{"$f":"'Absorbance Data'!T2898-Calculations!Q$1","v":0},{"$f":"'Absorbance Data'!U2898-Calculations!R$1","v":0},{"$f":"'Absorbance Data'!V2898-Calculations!S$1","v":0},{"$f":"'Absorbance Data'!W2898-Calculations!T$1","v":0},{"$f":"'Absorbance Data'!X2898-Calculations!U$1","v":0},{"$f":"'Absorbance Data'!Y2898-Calculations!V$1","v":0},{"$f":"'Absorbance Data'!Z2898-Calculations!W$1","v":0}]
[{"$f":"'Absorbance Data'!D2899","v":481.21783447265625},{"$f":"'Absorbance Data'!E2899-Calculations!B$1","v":0},{"$f":"'Absorbance Data'!F2899-Calculations!C$1","v":0},{"$f":"'Absorbance Data'!G2899-Calculations!D$1","v":0},{"$f":"'Absorbance Data'!H2899-Calculations!E$1","v":0},{"$f":"'Absorbance Data'!I2899-Calculations!F$1","v":0},{"$f":"'Absorbance Data'!J2899-Calculations!G$1","v":0},{"$f":"'Absorbance Data'!K2899-Calculations!H$1","v":0},{"$f":"'Absorbance Data'!L2899-Calculations!I$1","v":0},{"$f":"'Absorbance Data'!M2899-Calculations!J$1","v":0},{"$f":"'Absorbance Data'!N2899-Calculations!K$1","v":0},{"$f":"'Absorbance Data'!O2899-Calculations!L$1","v":0},{"$f":"'Absorbance Data'!P2899-Calculations!M$1","v":0},{"$f":"'Absorbance Data'!Q2899-Calculations!N$1","v":0},{"$f":"'Absorbance Data'!R2899-Calculations!O$1","v":0},{"$f":"'Absorbance Data'!S2899-Calculations!P$1","v":0},{"$f":"'Absorbance Data'!T2899-Calculations!Q$1","v":0},{"$f":"'Absorbance Data'!U2899-Calculations!R$1","v":0},{"$f":"'Absorbance Data'!V2899-Calculations!S$1","v":0},{"$f":"'Absorbance Data'!W2899-Calculations!T$1","v":0},{"$f":"'Absorbance Data'!X2899-Calculations!U$1","v":0},{"$f":"'Absorbance Data'!Y2899-Calculations!V$1","v":0},{"$f":"'Absorbance Data'!Z2899-Calculations!W$1","v":0}]
[{"$f":"'Absorbance Data'!D2900","v":481.55218505859375},{"$f":"'Absorbance Data'!E2900-Calculations!B$1","v":0},{"$f":"'Absorbance Data'!F2900-Calculations!C$1","v":0},{"$f":"'Absorbance Data'!G2900-Calculations!D$1","v":0},{"$f":"'Absorbance Data'!H2900-Calculations!E$1","v":0},{"$f":"'Absorbance Data'!I2900-Calculations!F$1","v":0},{"$f":"'Absorbance Data'!J2900-Calculations!G$1","v":0},{"$f":"'Absorbance Data'!K2900-Calculations!H$1","v":0},{"$f":"'Absorbance Data'!L2900-Calculations!I$1","v":0},{"$f":"'Absorbance Data'!M2900-Calculations!J$1","v":0},{"$f":"'Absorbance Data'!N2900-Calculations!K$1","v":0},{"$f":"'Absorbance Data'!O2900-Calculations!L$1","v":0},{"$f":"'Absorbance Data'!P2900-Calculations!M$1","v":0},{"$f":"'Absorbance Data'!Q2900-Calculations!N$1","v":0},{"$f":"'Absorbance Data'!R2900-Calculations!O$1","v":0},{"$f":"'Absorbance Data'!S2900-Calculations!P$1","v":0},{"$f":"'Absorbance Data'!T2900-Calculations!Q$1","v":0},{"$f":"'Absorbance Data'!U2900-Calculations!R$1","v":0},{"$f":"'Absorbance Data'!V2900-Calculations!S$1","v":0},{"$f":"'Absorbance Data'!W2900-Calculations!T$1","v":0},{"$f":"'Absorbance Data'!X2900-Calculations!U$1","v":0},{"$f":"'Absorbance Data'!Y2900-Calculations!V$1","v":0},{"$f":"'Absorbance Data'!Z2900-Calculations!W$1","v":0}]
[{"$f":"'Absorbance Data'!D2901","v":481.88656616210938},{"$f":"'Absorbance Data'!E2901-Calculations!B$1","v":0},{"$f":"'Absorbance Data'!F2901-Calculations!C$1","v":0},{"$f":"'Absorbance Data'!G2901-Calculations!D$1","v":0},{"$f":"'Absorbance Data'!H2901-Calculations!E$1","v":0},{"$f":"'Absorbance Data'!I2901-Calculations!F$1","v":0},{"$f":"'Absorbance Data'!J2901-Calculations!G$1","v":0},{"$f":"'Absorbance Data'!K2901-Calculations!H$1","v":0},{"$f":"'Absorbance Data'!L2901-Calculations!I$1","v":0},{"$f":"'Absorbance Data'!M2901-Calculations!J$1","v":0},{"$f":"'Absorbance Data'!N2901-Calculations!K$1","v":0},{"$f":"'Absorbance Data'!O2901-Calculations!L$1","v":0},{"$f":"'Absorbance Data'!P2901-Calculations!M$1","v":0},{"$f":"'Absorbance Data'!Q2901-Calculations!N$1","v":0},{"$f":"'Absorbance Data'!R2901-Calculations!O$1","v":0},{"$f":"'Absorbance Data'!S2901-Calculations!P$1","v":0},{"$f":"'Absorbance Data'!T2901-Calculations!Q$1","v":0},{"$f":"'Absorbance Data'!U2901-Calculations!R$1","v":0},{"$f":"'Absorbance Data'!V2901-Calculations!S$1","v":0},{"$f":"'Absorbance Data'!W2901-Calculations!T$1","v":0},{"$f":"'Absorbance Data'!X2901-Calculations!U$1","v":0},{"$f":"'Absorbance Data'!Y2901-Calculations!V$1","v":0},{"$f":"'Absorbance Data'!Z2901-Calculations!W$1","v":0}]
[{"$f":"'Absorbance Data'!D2902","v":482.22085571289062},{"$f":"'Absorbance Data'!E2902-Calculations!B$1","v":0},{"$f":"'Absorbance Data'!F2902-Calculations!C$1","v":0},{"$f":"'Absorbance Data'!G2902-Calculations!D$1","v":0},{"$f":"'Absorbance Data'!H2902-Calculations!E$1","v":0},{"$f":"'Absorbance Data'!I2902-Calculations!F$1","v":0},{"$f":"'Absorbance Data'!J2902-Calculations!G$1","v":0},{"$f":"'Absorbance Data'!K2902-Calculations!H$1","v":0},{"$f":"'Absorbance Data'!L2902-Calculations!I$1","v":0},{"$f":"'Absorbance Data'!M2902-Calculations!J$1","v":0},{"$f":"'Absorbance Data'!N2902-Calculations!K$1","v":0},{"$f":"'Absorbance Data'!O2902-Calculations!L$1","v":0},{"$f":"'Absorbance Data'!P2902-Calculations!M$1","v":0},{"$f":"'Absorbance Data'!Q2902-Calculations!N$1","v":0},{"$f":"'Absorbance Data'!R2902-Calculations!O$1","v":0},{"$f":"'Absorbance Data'!S2902-Calculations!P$1","v":0},{"$f":"'Absorbance Data'!T2902-Calculations!Q$1","v":0},{"$f":"'Absorbance Data'!U2902-Calculations!R$1","v":0},{"$f":"'Absorbance Data'!V2902-Calculations!S$1","v":0},{"$f":"'Absorbance Data'!W2902-Calculations!T$1","v":0},{"$f":"'Absorbance Data'!X2902-Calculations!U$1","v":0},{"$f":"'Absorbance Data'!Y2902-Calculations!V$1","v":0},{"$f":"'Absorbance Data'!Z2902-Calculations!W$1","v":0}]
[{"$f":"'Absorbance Data'!D2903","v":482.55514526367188},{"$f":"'Absorbance Data'!E2903-Calculations!B$1","v":0},{"$f":"'Absorbance Data'!F2903-Calculations!C$1","v":0},{"$f":"'Absorbance Data'!G2903-Calculations!D$1","v":0},{"$f":"'Absorbance Data'!H2903-Calculations!E$1","v":0},{"$f":"'Absorbance Data'!I2903-Calculations!F$1","v":0},{"$f":"'Absorbance Data'!J2903-Calculations!G$1","v":0},{"$f":"'Absorbance Data'!K2903-Calculations!H$1","v":0},{"$f":"'Absorbance Data'!L2903-Calculations!I$1","v":0},{"$f":"'Absorbance Data'!M2903-Calculations!J$1","v":0},{"$f":"'Absorbance Data'!N2903-Calculations!K$1","v":0},{"$f":"'Absorbance Data'!O2903-Calculations!L$1","v":0},{"$f":"'Absorbance Data'!P2903-Calculations!M$1","v":0},{"$f":"'Absorbance Data'!Q2903-Calculations!N$1","v":0},{"$f":"'Absorbance Data'!R2903-Calculations!O$1","v":0},{"$f":"'Absorbance Data'!S2903-Calculations!P$1","v":0},{"$f":"'Absorbance Data'!T2903-Calculations!Q$1","v":0},{"$f":"'Absorbance Data'!U2903-Calculations!R$1","v":0},{"$f":"'Absorbance Data'!V2903-Calculations!S$1","v":0},{"$f":"'Absorbance Data'!W2903-Calculations!T$1","v":0},{"$f":"'Absorbance Data'!X2903-Calculations!U$1","v":0},{"$f":"'Absorbance Data'!Y2903-Calculations!V$1","v":0},{"$f":"'Absorbance Data'!Z2903-Calculations!W$1","v":0}]
[{"$f":"'Absorbance Data'!D2904","v":482.88937377929688},{"$f":"'Absorbance Data'!E2904-Calculations!B$1","v":0},{"$f":"'Absorbance Data'!F2904-Calculations!C$1","v":0},{"$f":"'Absorbance Data'!G2904-Calculations!D$1","v":0},{"$f":"'Absorbance Data'!H2904-Calculations!E$1","v":0},{"$f":"'Absorbance Data'!I2904-Calculations!F$1","v":0},{"$f":"'Absorbance Data'!J2904-Calculations!G$1","v":0},{"$f":"'Absorbance Data'!K2904-Calculations!H$1","v":0},{"$f":"'Absorbance Data'!L2904-Calculations!I$1","v":0},{"$f":"'Absorbance Data'!M2904-Calculations!J$1","v":0},{"$f":"'Absorbance Data'!N2904-Calculations!K$1","v":0},{"$f":"'Absorbance Data'!O2904-Calculations!L$1","v":0},{"$f":"'Absorbance Data'!P2904-Calculations!M$1","v":0},{"$f":"'Absorbance Data'!Q2904-Calculations!N$1","v":0},{"$f":"'Absorbance Data'!R2904-Calculations!O$1","v":0},{"$f":"'Absorbance Data'!S2904-Calculations!P$1","v":0},{"$f":"'Absorbance Data'!T2904-Calculations!Q$1","v":0},{"$f":"'Absorbance Data'!U2904-Calculations!R$1","v":0},{"$f":"'Absorbance Data'!V2904-Calculations!S$1","v":0},{"$f":"'Absorbance Data'!W2904-Calculations!T$1","v":0},{"$f":"'Absorbance Data'!X2904-Calculations!U$1","v":0},{"$f":"'Absorbance Data'!Y2904-Calculations!V$1","v":0},{"$f":"'Absorbance Data'!Z2904-Calculations!W$1","v":0}]
[{"$f":"'Absorbance Data'!D2905","v":483.22357177734375},{"$f":"'Absorbance Data'!E2905-Calculations!B$1","v":0},{"$f":"'Absorbance Data'!F2905-Calculations!C$1","v":0},{"$f":"'Absorbance Data'!G2905-Calculations!D$1","v":0},{"$f":"'Absorbance Data'!H2905-Calculations!E$1","v":0},{"$f":"'Absorbance Data'!I2905-Calculations!F$1","v":0},{"$f":"'Absorbance Data'!J2905-Calculations!G$1","v":0},{"$f":"'Absorbance Data'!K2905-Calculations!H$1","v":0},{"$f":"'Absorbance Data'!L2905-Calculations!I$1","v":0},{"$f":"'Absorbance Data'!M2905-Calculations!J$1","v":0},{"$f":"'Absorbance Data'!N2905-Calculations!K$1","v":0},{"$f":"'Absorbance Data'!O2905-Calculations!L$1","v":0},{"$f":"'Absorbance Data'!P2905-Calculations!M$1","v":0},{"$f":"'Absorbance Data'!Q2905-Calculations!N$1","v":0},{"$f":"'Absorbance Data'!R2905-Calculations!O$1","v":0},{"$f":"'Absorbance Data'!S2905-Calculations!P$1","v":0},{"$f":"'Absorbance Data'!T2905-Calculations!Q$1","v":0},{"$f":"'Absorbance Data'!U2905-Calculations!R$1","v":0},{"$f":"'Absorbance Data'!V2905-Calculations!S$1","v":0},{"$f":"'Absorbance Data'!W2905-Calculations!T$1","v":0},{"$f":"'Absorbance Data'!X2905-Calculations!U$1","v":0},{"$f":"'Absorbance Data'!Y2905-Calculations!V$1","v":0},{"$f":"'Absorbance Data'!Z2905-Calculations!W$1","v":0}]
[{"$f":"'Absorbance Data'!D2906","v":483.5577392578125},{"$f":"'Absorbance Data'!E2906-Calculations!B$1","v":0},{"$f":"'Absorbance Data'!F2906-Calculations!C$1","v":0},{"$f":"'Absorbance Data'!G2906-Calculations!D$1","v":0},{"$f":"'Absorbance Data'!H2906-Calculations!E$1","v":0},{"$f":"'Absorbance Data'!I2906-Calculations!F$1","v":0},{"$f":"'Absorbance Data'!J2906-Calculations!G$1","v":0},{"$f":"'Absorbance Data'!K2906-Calculations!H$1","v":0},{"$f":"'Absorbance Data'!L2906-Calculations!I$1","v":0},{"$f":"'Absorbance Data'!M2906-Calculations!J$1","v":0},{"$f":"'Absorbance Data'!N2906-Calculations!K$1","v":0},{"$f":"'Absorbance Data'!O2906-Calculations!L$1","v":0},{"$f":"'Absorbance Data'!P2906-Calculations!M$1","v":0},{"$f":"'Absorbance Data'!Q2906-Calculations!N$1","v":0},{"$f":"'Absorbance Data'!R2906-Calculations!O$1","v":0},{"$f":"'Absorbance Data'!S2906-Calculations!P$1","v":0},{"$f":"'Absorbance Data'!T2906-Calculations!Q$1","v":0},{"$f":"'Absorbance Data'!U2906-Calculations!R$1","v":0},{"$f":"'Absorbance Data'!V2906-Calculations!S$1","v":0},{"$f":"'Absorbance Data'!W2906-Calculations!T$1","v":0},{"$f":"'Absorbance Data'!X2906-Calculations!U$1","v":0},{"$f":"'Absorbance Data'!Y2906-Calculations!V$1","v":0},{"$f":"'Absorbance Data'!Z2906-Calculations!W$1","v":0}]
[{"$f":"'Absorbance Data'!D2907","v":483.891845703125},{"$f":"'Absorbance Data'!E2907-Calculations!B$1","v":0},{"$f":"'Absorbance Data'!F2907-Calculations!C$1","v":0},{"$f":"'Absorbance Data'!G2907-Calculations!D$1","v":0},{"$f":"'Absorbance Data'!H2907-Calculations!E$1","v":0},{"$f":"'Absorbance Data'!I2907-Calculations!F$1","v":0},{"$f":"'Absorbance Data'!J2907-Calculations!G$1","v":0},{"$f":"'Absorbance Data'!K2907-Calculations!H$1","v":0},{"$f":"'Absorbance Data'!L2907-Calculations!I$1","v":0},{"$f":"'Absorbance Data'!M2907-Calculations!J$1","v":0},{"$f":"'Absorbance Data'!N2907-Calculations!K$1","v":0},{"$f":"'Absorbance Data'!O2907-Calculations!L$1","v":0},{"$f":"'Absorbance Data'!P2907-Calculations!M$1","v":0},{"$f":"'Absorbance Data'!Q2907-Calculations!N$1","v":0},{"$f":"'Absorbance Data'!R2907-Calculations!O$1","v":0},{"$f":"'Absorbance Data'!S2907-Calculations!P$1","v":0},{"$f":"'Absorbance Data'!T2907-Calculations!Q$1","v":0},{"$f":"'Absorbance Data'!U2907-Calculations!R$1","v":0},{"$f":"'Absorbance Data'!V2907-Calculations!S$1","v":0},{"$f":"'Absorbance Data'!W2907-Calculations!T$1","v":0},{"$f":"'Absorbance Data'!X2907-Calculations!U$1","v":0},{"$f":"'Absorbance Data'!Y2907-Calculations!V$1","v":0},{"$f":"'Absorbance Data'!Z2907-Calculations!W$1","v":0}]
[{"$f":"'Absorbance Data'!D2908","v":484.2259521484375},{"$f":"'Absorbance Data'!E2908-Calculations!B$1","v":0},{"$f":"'Absorbance Data'!F2908-Calculations!C$1","v":0},{"$f":"'Absorbance Data'!G2908-Calculations!D$1","v":0},{"$f":"'Absorbance Data'!H2908-Calculations!E$1","v":0},{"$f":"'Absorbance Data'!I2908-Calculations!F$1","v":0},{"$f":"'Absorbance Data'!J2908-Calculations!G$1","v":0},{"$f":"'Absorbance Data'!K2908-Calculations!H$1","v":0},{"$f":"'Absorbance Data'!L2908-Calculations!I$1","v":0},{"$f":"'Absorbance Data'!M2908-Calculations!J$1","v":0},{"$f":"'Absorbance Data'!N2908-Calculations!K$1","v":0},{"$f":"'Absorbance Data'!O2908-Calculations!L$1","v":0},{"$f":"'Absorbance Data'!P2908-Calculations!M$1","v":0},{"$f":"'Absorbance Data'!Q2908-Calculations!N$1","v":0},{"$f":"'Absorbance Data'!R2908-Calculations!O$1","v":0},{"$f":"'Absorbance Data'!S2908-Calculations!P$1","v":0},{"$f":"'Absorbance Data'!T2908-Calculations!Q$1","v":0},{"$f":"'Absorbance Data'!U2908-Calculations!R$1","v":0},{"$f":"'Absorbance Data'!V2908-Calculations!S$1","v":0},{"$f":"'Absorbance Data'!W2908-Calculations!T$1","v":0},{"$f":"'Absorbance Data'!X2908-Calculations!U$1","v":0},{"$f":"'Absorbance Data'!Y2908-Calculations!V$1","v":0},{"$f":"'Absorbance Data'!Z2908-Calculations!W$1","v":0}]
[{"$f":"'Absorbance Data'!D2909","v":484.55999755859375},{"$f":"'Absorbance Data'!E2909-Calculations!B$1","v":0},{"$f":"'Absorbance Data'!F2909-Calculations!C$1","v":0},{"$f":"'Absorbance Data'!G2909-Calculations!D$1","v":0},{"$f":"'Absorbance Data'!H2909-Calculations!E$1","v":0},{"$f":"'Absorbance Data'!I2909-Calculations!F$1","v":0},{"$f":"'Absorbance Data'!J2909-Calculations!G$1","v":0},{"$f":"'Absorbance Data'!K2909-Calculations!H$1","v":0},{"$f":"'Absorbance Data'!L2909-Calculations!I$1","v":0},{"$f":"'Absorbance Data'!M2909-Calculations!J$1","v":0},{"$f":"'Absorbance Data'!N2909-Calculations!K$1","v":0},{"$f":"'Absorbance Data'!O2909-Calculations!L$1","v":0},{"$f":"'Absorbance Data'!P2909-Calculations!M$1","v":0},{"$f":"'Absorbance Data'!Q2909-Calculations!N$1","v":0},{"$f":"'Absorbance Data'!R2909-Calculations!O$1","v":0},{"$f":"'Absorbance Data'!S2909-Calculations!P$1","v":0},{"$f":"'Absorbance Data'!T2909-Calculations!Q$1","v":0},{"$f":"'Absorbance Data'!U2909-Calculations!R$1","v":0},{"$f":"'Absorbance Data'!V2909-Calculations!S$1","v":0},{"$f":"'Absorbance Data'!W2909-Calculations!T$1","v":0},{"$f":"'Absorbance Data'!X2909-Calculations!U$1","v":0},{"$f":"'Absorbance Data'!Y2909-Calculations!V$1","v":0},{"$f":"'Absorbance Data'!Z2909-Calculations!W$1","v":0}]
[{"$f":"'Absorbance Data'!D2910","v":484.89401245117188},{"$f":"'Absorbance Data'!E2910-Calculations!B$1","v":0},{"$f":"'Absorbance Data'!F2910-Calculations!C$1","v":0},{"$f":"'Absorbance Data'!G2910-Calculations!D$1","v":0},{"$f":"'Absorbance Data'!H2910-Calculations!E$1","v":0},{"$f":"'Absorbance Data'!I2910-Calculations!F$1","v":0},{"$f":"'Absorbance Data'!J2910-Calculations!G$1","v":0},{"$f":"'Absorbance Data'!K2910-Calculations!H$1","v":0},{"$f":"'Absorbance Data'!L2910-Calculations!I$1","v":0},{"$f":"'Absorbance Data'!M2910-Calculations!J$1","v":0},{"$f":"'Absorbance Data'!N2910-Calculations!K$1","v":0},{"$f":"'Absorbance Data'!O2910-Calculations!L$1","v":0},{"$f":"'Absorbance Data'!P2910-Calculations!M$1","v":0},{"$f":"'Absorbance Data'!Q2910-Calculations!N$1","v":0},{"$f":"'Absorbance Data'!R2910-Calculations!O$1","v":0},{"$f":"'Absorbance Data'!S2910-Calculations!P$1","v":0},{"$f":"'Absorbance Data'!T2910-Calculations!Q$1","v":0},{"$f":"'Absorbance Data'!U2910-Calculations!R$1","v":0},{"$f":"'Absorbance Data'!V2910-Calculations!S$1","v":0},{"$f":"'Absorbance Data'!W2910-Calculations!T$1","v":0},{"$f":"'Absorbance Data'!X2910-Calculations!U$1","v":0},{"$f":"'Absorbance Data'!Y2910-Calculations!V$1","v":0},{"$f":"'Absorbance Data'!Z2910-Calculations!W$1","v":0}]
[{"$f":"'Absorbance Data'!D2911","v":485.22802734375},{"$f":"'Absorbance Data'!E2911-Calculations!B$1","v":0},{"$f":"'Absorbance Data'!F2911-Calculations!C$1","v":0},{"$f":"'Absorbance Data'!G2911-Calculations!D$1","v":0},{"$f":"'Absorbance Data'!H2911-Calculations!E$1","v":0},{"$f":"'Absorbance Data'!I2911-Calculations!F$1","v":0},{"$f":"'Absorbance Data'!J2911-Calculations!G$1","v":0},{"$f":"'Absorbance Data'!K2911-Calculations!H$1","v":0},{"$f":"'Absorbance Data'!L2911-Calculations!I$1","v":0},{"$f":"'Absorbance Data'!M2911-Calculations!J$1","v":0},{"$f":"'Absorbance Data'!N2911-Calculations!K$1","v":0},{"$f":"'Absorbance Data'!O2911-Calculations!L$1","v":0},{"$f":"'Absorbance Data'!P2911-Calculations!M$1","v":0},{"$f":"'Absorbance Data'!Q2911-Calculations!N$1","v":0},{"$f":"'Absorbance Data'!R2911-Calculations!O$1","v":0},{"$f":"'Absorbance Data'!S2911-Calculations!P$1","v":0},{"$f":"'Absorbance Data'!T2911-Calculations!Q$1","v":0},{"$f":"'Absorbance Data'!U2911-Calculations!R$1","v":0},{"$f":"'Absorbance Data'!V2911-Calculations!S$1","v":0},{"$f":"'Absorbance Data'!W2911-Calculations!T$1","v":0},{"$f":"'Absorbance Data'!X2911-Calculations!U$1","v":0},{"$f":"'Absorbance Data'!Y2911-Calculations!V$1","v":0},{"$f":"'Absorbance Data'!Z2911-Calculations!W$1","v":0}]
[{"$f":"'Absorbance Data'!D2912","v":485.56195068359375},{"$f":"'Absorbance Data'!E2912-Calculations!B$1","v":0},{"$f":"'Absorbance Data'!F2912-Calculations!C$1","v":0},{"$f":"'Absorbance Data'!G2912-Calculations!D$1","v":0},{"$f":"'Absorbance Data'!H2912-Calculations!E$1","v":0},{"$f":"'Absorbance Data'!I2912-Calculations!F$1","v":0},{"$f":"'Absorbance Data'!J2912-Calculations!G$1","v":0},{"$f":"'Absorbance Data'!K2912-Calculations!H$1","v":0},{"$f":"'Absorbance Data'!L2912-Calculations!I$1","v":0},{"$f":"'Absorbance Data'!M2912-Calculations!J$1","v":0},{"$f":"'Absorbance Data'!N2912-Calculations!K$1","v":0},{"$f":"'Absorbance Data'!O2912-Calculations!L$1","v":0},{"$f":"'Absorbance Data'!P2912-Calculations!M$1","v":0},{"$f":"'Absorbance Data'!Q2912-Calculations!N$1","v":0},{"$f":"'Absorbance Data'!R2912-Calculations!O$1","v":0},{"$f":"'Absorbance Data'!S2912-Calculations!P$1","v":0},{"$f":"'Absorbance Data'!T2912-Calculations!Q$1","v":0},{"$f":"'Absorbance Data'!U2912-Calculations!R$1","v":0},{"$f":"'Absorbance Data'!V2912-Calculations!S$1","v":0},{"$f":"'Absorbance Data'!W2912-Calculations!T$1","v":0},{"$f":"'Absorbance Data'!X2912-Calculations!U$1","v":0},{"$f":"'Absorbance Data'!Y2912-Calculations!V$1","v":0},{"$f":"'Absorbance Data'!Z2912-Calculations!W$1","v":0}]
[{"$f":"'Absorbance Data'!D2913","v":485.8958740234375},{"$f":"'Absorbance Data'!E2913-Calculations!B$1","v":0},{"$f":"'Absorbance Data'!F2913-Calculations!C$1","v":0},{"$f":"'Absorbance Data'!G2913-Calculations!D$1","v":0},{"$f":"'Absorbance Data'!H2913-Calculations!E$1","v":0},{"$f":"'Absorbance Data'!I2913-Calculations!F$1","v":0},{"$f":"'Absorbance Data'!J2913-Calculations!G$1","v":0},{"$f":"'Absorbance Data'!K2913-Calculations!H$1","v":0},{"$f":"'Absorbance Data'!L2913-Calculations!I$1","v":0},{"$f":"'Absorbance Data'!M2913-Calculations!J$1","v":0},{"$f":"'Absorbance Data'!N2913-Calculations!K$1","v":0},{"$f":"'Absorbance Data'!O2913-Calculations!L$1","v":0},{"$f":"'Absorbance Data'!P2913-Calculations!M$1","v":0},{"$f":"'Absorbance Data'!Q2913-Calculations!N$1","v":0},{"$f":"'Absorbance Data'!R2913-Calculations!O$1","v":0},{"$f":"'Absorbance Data'!S2913-Calculations!P$1","v":0},{"$f":"'Absorbance Data'!T2913-Calculations!Q$1","v":0},{"$f":"'Absorbance Data'!U2913-Calculations!R$1","v":0},{"$f":"'Absorbance Data'!V2913-Calculations!S$1","v":0},{"$f":"'Absorbance Data'!W2913-Calculations!T$1","v":0},{"$f":"'Absorbance Data'!X2913-Calculations!U$1","v":0},{"$f":"'Absorbance Data'!Y2913-Calculations!V$1","v":0},{"$f":"'Absorbance Data'!Z2913-Calculations!W$1","v":0}]
[{"$f":"'Absorbance Data'!D2914","v":486.22976684570312},{"$f":"'Absorbance Data'!E2914-Calculations!B$1","v":0},{"$f":"'Absorbance Data'!F2914-Calculations!C$1","v":0},{"$f":"'Absorbance Data'!G2914-Calculations!D$1","v":0},{"$f":"'Absorbance Data'!H2914-Calculations!E$1","v":0},{"$f":"'Absorbance Data'!I2914-Calculations!F$1","v":0},{"$f":"'Absorbance Data'!J2914-Calculations!G$1","v":0},{"$f":"'Absorbance Data'!K2914-Calculations!H$1","v":0},{"$f":"'Absorbance Data'!L2914-Calculations!I$1","v":0},{"$f":"'Absorbance Data'!M2914-Calculations!J$1","v":0},{"$f":"'Absorbance Data'!N2914-Calculations!K$1","v":0},{"$f":"'Absorbance Data'!O2914-Calculations!L$1","v":0},{"$f":"'Absorbance Data'!P2914-Calculations!M$1","v":0},{"$f":"'Absorbance Data'!Q2914-Calculations!N$1","v":0},{"$f":"'Absorbance Data'!R2914-Calculations!O$1","v":0},{"$f":"'Absorbance Data'!S2914-Calculations!P$1","v":0},{"$f":"'Absorbance Data'!T2914-Calculations!Q$1","v":0},{"$f":"'Absorbance Data'!U2914-Calculations!R$1","v":0},{"$f":"'Absorbance Data'!V2914-Calculations!S$1","v":0},{"$f":"'Absorbance Data'!W2914-Calculations!T$1","v":0},{"$f":"'Absorbance Data'!X2914-Calculations!U$1","v":0},{"$f":"'Absorbance Data'!Y2914-Calculations!V$1","v":0},{"$f":"'Absorbance Data'!Z2914-Calculations!W$1","v":0}]
[{"$f":"'Absorbance Data'!D2915","v":486.56356811523438},{"$f":"'Absorbance Data'!E2915-Calculations!B$1","v":0},{"$f":"'Absorbance Data'!F2915-Calculations!C$1","v":0},{"$f":"'Absorbance Data'!G2915-Calculations!D$1","v":0},{"$f":"'Absorbance Data'!H2915-Calculations!E$1","v":0},{"$f":"'Absorbance Data'!I2915-Calculations!F$1","v":0},{"$f":"'Absorbance Data'!J2915-Calculations!G$1","v":0},{"$f":"'Absorbance Data'!K2915-Calculations!H$1","v":0},{"$f":"'Absorbance Data'!L2915-Calculations!I$1","v":0},{"$f":"'Absorbance Data'!M2915-Calculations!J$1","v":0},{"$f":"'Absorbance Data'!N2915-Calculations!K$1","v":0},{"$f":"'Absorbance Data'!O2915-Calculations!L$1","v":0},{"$f":"'Absorbance Data'!P2915-Calculations!M$1","v":0},{"$f":"'Absorbance Data'!Q2915-Calculations!N$1","v":0},{"$f":"'Absorbance Data'!R2915-Calculations!O$1","v":0},{"$f":"'Absorbance Data'!S2915-Calculations!P$1","v":0},{"$f":"'Absorbance Data'!T2915-Calculations!Q$1","v":0},{"$f":"'Absorbance Data'!U2915-Calculations!R$1","v":0},{"$f":"'Absorbance Data'!V2915-Calculations!S$1","v":0},{"$f":"'Absorbance Data'!W2915-Calculations!T$1","v":0},{"$f":"'Absorbance Data'!X2915-Calculations!U$1","v":0},{"$f":"'Absorbance Data'!Y2915-Calculations!V$1","v":0},{"$f":"'Absorbance Data'!Z2915-Calculations!W$1","v":0}]
[{"$f":"'Absorbance Data'!D2916","v":486.89739990234375},{"$f":"'Absorbance Data'!E2916-Calculations!B$1","v":0},{"$f":"'Absorbance Data'!F2916-Calculations!C$1","v":0},{"$f":"'Absorbance Data'!G2916-Calculations!D$1","v":0},{"$f":"'Absorbance Data'!H2916-Calculations!E$1","v":0},{"$f":"'Absorbance Data'!I2916-Calculations!F$1","v":0},{"$f":"'Absorbance Data'!J2916-Calculations!G$1","v":0},{"$f":"'Absorbance Data'!K2916-Calculations!H$1","v":0},{"$f":"'Absorbance Data'!L2916-Calculations!I$1","v":0},{"$f":"'Absorbance Data'!M2916-Calculations!J$1","v":0},{"$f":"'Absorbance Data'!N2916-Calculations!K$1","v":0},{"$f":"'Absorbance Data'!O2916-Calculations!L$1","v":0},{"$f":"'Absorbance Data'!P2916-Calculations!M$1","v":0},{"$f":"'Absorbance Data'!Q2916-Calculations!N$1","v":0},{"$f":"'Absorbance Data'!R2916-Calculations!O$1","v":0},{"$f":"'Absorbance Data'!S2916-Calculations!P$1","v":0},{"$f":"'Absorbance Data'!T2916-Calculations!Q$1","v":0},{"$f":"'Absorbance Data'!U2916-Calculations!R$1","v":0},{"$f":"'Absorbance Data'!V2916-Calculations!S$1","v":0},{"$f":"'Absorbance Data'!W2916-Calculations!T$1","v":0},{"$f":"'Absorbance Data'!X2916-Calculations!U$1","v":0},{"$f":"'Absorbance Data'!Y2916-Calculations!V$1","v":0},{"$f":"'Absorbance Data'!Z2916-Calculations!W$1","v":0}]
[{"$f":"'Absorbance Data'!D2917","v":487.23117065429688},{"$f":"'Absorbance Data'!E2917-Calculations!B$1","v":0},{"$f":"'Absorbance Data'!F2917-Calculations!C$1","v":0},{"$f":"'Absorbance Data'!G2917-Calculations!D$1","v":0},{"$f":"'Absorbance Data'!H2917-Calculations!E$1","v":0},{"$f":"'Absorbance Data'!I2917-Calculations!F$1","v":0},{"$f":"'Absorbance Data'!J2917-Calculations!G$1","v":0},{"$f":"'Absorbance Data'!K2917-Calculations!H$1","v":0},{"$f":"'Absorbance Data'!L2917-Calculations!I$1","v":0},{"$f":"'Absorbance Data'!M2917-Calculations!J$1","v":0},{"$f":"'Absorbance Data'!N2917-Calculations!K$1","v":0},{"$f":"'Absorbance Data'!O2917-Calculations!L$1","v":0},{"$f":"'Absorbance Data'!P2917-Calculations!M$1","v":0},{"$f":"'Absorbance Data'!Q2917-Calculations!N$1","v":0},{"$f":"'Absorbance Data'!R2917-Calculations!O$1","v":0},{"$f":"'Absorbance Data'!S2917-Calculations!P$1","v":0},{"$f":"'Absorbance Data'!T2917-Calculations!Q$1","v":0},{"$f":"'Absorbance Data'!U2917-Calculations!R$1","v":0},{"$f":"'Absorbance Data'!V2917-Calculations!S$1","v":0},{"$f":"'Absorbance Data'!W2917-Calculations!T$1","v":0},{"$f":"'Absorbance Data'!X2917-Calculations!U$1","v":0},{"$f":"'Absorbance Data'!Y2917-Calculations!V$1","v":0},{"$f":"'Absorbance Data'!Z2917-Calculations!W$1","v":0}]
[{"$f":"'Absorbance Data'!D2918","v":487.56488037109375},{"$f":"'Absorbance Data'!E2918-Calculations!B$1","v":0},{"$f":"'Absorbance Data'!F2918-Calculations!C$1","v":0},{"$f":"'Absorbance Data'!G2918-Calculations!D$1","v":0},{"$f":"'Absorbance Data'!H2918-Calculations!E$1","v":0},{"$f":"'Absorbance Data'!I2918-Calculations!F$1","v":0},{"$f":"'Absorbance Data'!J2918-Calculations!G$1","v":0},{"$f":"'Absorbance Data'!K2918-Calculations!H$1","v":0},{"$f":"'Absorbance Data'!L2918-Calculations!I$1","v":0},{"$f":"'Absorbance Data'!M2918-Calculations!J$1","v":0},{"$f":"'Absorbance Data'!N2918-Calculations!K$1","v":0},{"$f":"'Absorbance Data'!O2918-Calculations!L$1","v":0},{"$f":"'Absorbance Data'!P2918-Calculations!M$1","v":0},{"$f":"'Absorbance Data'!Q2918-Calculations!N$1","v":0},{"$f":"'Absorbance Data'!R2918-Calculations!O$1","v":0},{"$f":"'Absorbance Data'!S2918-Calculations!P$1","v":0},{"$f":"'Absorbance Data'!T2918-Calculations!Q$1","v":0},{"$f":"'Absorbance Data'!U2918-Calculations!R$1","v":0},{"$f":"'Absorbance Data'!V2918-Calculations!S$1","v":0},{"$f":"'Absorbance Data'!W2918-Calculations!T$1","v":0},{"$f":"'Absorbance Data'!X2918-Calculations!U$1","v":0},{"$f":"'Absorbance Data'!Y2918-Calculations!V$1","v":0},{"$f":"'Absorbance Data'!Z2918-Calculations!W$1","v":0}]
[{"$f":"'Absorbance Data'!D2919","v":487.89859008789062},{"$f":"'Absorbance Data'!E2919-Calculations!B$1","v":0},{"$f":"'Absorbance Data'!F2919-Calculations!C$1","v":0},{"$f":"'Absorbance Data'!G2919-Calculations!D$1","v":0},{"$f":"'Absorbance Data'!H2919-Calculations!E$1","v":0},{"$f":"'Absorbance Data'!I2919-Calculations!F$1","v":0},{"$f":"'Absorbance Data'!J2919-Calculations!G$1","v":0},{"$f":"'Absorbance Data'!K2919-Calculations!H$1","v":0},{"$f":"'Absorbance Data'!L2919-Calculations!I$1","v":0},{"$f":"'Absorbance Data'!M2919-Calculations!J$1","v":0},{"$f":"'Absorbance Data'!N2919-Calculations!K$1","v":0},{"$f":"'Absorbance Data'!O2919-Calculations!L$1","v":0},{"$f":"'Absorbance Data'!P2919-Calculations!M$1","v":0},{"$f":"'Absorbance Data'!Q2919-Calculations!N$1","v":0},{"$f":"'Absorbance Data'!R2919-Calculations!O$1","v":0},{"$f":"'Absorbance Data'!S2919-Calculations!P$1","v":0},{"$f":"'Absorbance Data'!T2919-Calculations!Q$1","v":0},{"$f":"'Absorbance Data'!U2919-Calculations!R$1","v":0},{"$f":"'Absorbance Data'!V2919-Calculations!S$1","v":0},{"$f":"'Absorbance Data'!W2919-Calculations!T$1","v":0},{"$f":"'Absorbance Data'!X2919-Calculations!U$1","v":0},{"$f":"'Absorbance Data'!Y2919-Calculations!V$1","v":0},{"$f":"'Absorbance Data'!Z2919-Calculations!W$1","v":0}]
[{"$f":"'Absorbance Data'!D2920","v":488.23223876953125},{"$f":"'Absorbance Data'!E2920-Calculations!B$1","v":0},{"$f":"'Absorbance Data'!F2920-Calculations!C$1","v":0},{"$f":"'Absorbance Data'!G2920-Calculations!D$1","v":0},{"$f":"'Absorbance Data'!H2920-Calculations!E$1","v":0},{"$f":"'Absorbance Data'!I2920-Calculations!F$1","v":0},{"$f":"'Absorbance Data'!J2920-Calculations!G$1","v":0},{"$f":"'Absorbance Data'!K2920-Calculations!H$1","v":0},{"$f":"'Absorbance Data'!L2920-Calculations!I$1","v":0},{"$f":"'Absorbance Data'!M2920-Calculations!J$1","v":0},{"$f":"'Absorbance Data'!N2920-Calculations!K$1","v":0},{"$f":"'Absorbance Data'!O2920-Calculations!L$1","v":0},{"$f":"'Absorbance Data'!P2920-Calculations!M$1","v":0},{"$f":"'Absorbance Data'!Q2920-Calculations!N$1","v":0},{"$f":"'Absorbance Data'!R2920-Calculations!O$1","v":0},{"$f":"'Absorbance Data'!S2920-Calculations!P$1","v":0},{"$f":"'Absorbance Data'!T2920-Calculations!Q$1","v":0},{"$f":"'Absorbance Data'!U2920-Calculations!R$1","v":0},{"$f":"'Absorbance Data'!V2920-Calculations!S$1","v":0},{"$f":"'Absorbance Data'!W2920-Calculations!T$1","v":0},{"$f":"'Absorbance Data'!X2920-Calculations!U$1","v":0},{"$f":"'Absorbance Data'!Y2920-Calculations!V$1","v":0},{"$f":"'Absorbance Data'!Z2920-Calculations!W$1","v":0}]
[{"$f":"'Absorbance Data'!D2921","v":488.56588745117188},{"$f":"'Absorbance Data'!E2921-Calculations!B$1","v":0},{"$f":"'Absorbance Data'!F2921-Calculations!C$1","v":0},{"$f":"'Absorbance Data'!G2921-Calculations!D$1","v":0},{"$f":"'Absorbance Data'!H2921-Calculations!E$1","v":0},{"$f":"'Absorbance Data'!I2921-Calculations!F$1","v":0},{"$f":"'Absorbance Data'!J2921-Calculations!G$1","v":0},{"$f":"'Absorbance Data'!K2921-Calculations!H$1","v":0},{"$f":"'Absorbance Data'!L2921-Calculations!I$1","v":0},{"$f":"'Absorbance Data'!M2921-Calculations!J$1","v":0},{"$f":"'Absorbance Data'!N2921-Calculations!K$1","v":0},{"$f":"'Absorbance Data'!O2921-Calculations!L$1","v":0},{"$f":"'Absorbance Data'!P2921-Calculations!M$1","v":0},{"$f":"'Absorbance Data'!Q2921-Calculations!N$1","v":0},{"$f":"'Absorbance Data'!R2921-Calculations!O$1","v":0},{"$f":"'Absorbance Data'!S2921-Calculations!P$1","v":0},{"$f":"'Absorbance Data'!T2921-Calculations!Q$1","v":0},{"$f":"'Absorbance Data'!U2921-Calculations!R$1","v":0},{"$f":"'Absorbance Data'!V2921-Calculations!S$1","v":0},{"$f":"'Absorbance Data'!W2921-Calculations!T$1","v":0},{"$f":"'Absorbance Data'!X2921-Calculations!U$1","v":0},{"$f":"'Absorbance Data'!Y2921-Calculations!V$1","v":0},{"$f":"'Absorbance Data'!Z2921-Calculations!W$1","v":0}]
[{"$f":"'Absorbance Data'!D2922","v":488.89947509765625},{"$f":"'Absorbance Data'!E2922-Calculations!B$1","v":0},{"$f":"'Absorbance Data'!F2922-Calculations!C$1","v":0},{"$f":"'Absorbance Data'!G2922-Calculations!D$1","v":0},{"$f":"'Absorbance Data'!H2922-Calculations!E$1","v":0},{"$f":"'Absorbance Data'!I2922-Calculations!F$1","v":0},{"$f":"'Absorbance Data'!J2922-Calculations!G$1","v":0},{"$f":"'Absorbance Data'!K2922-Calculations!H$1","v":0},{"$f":"'Absorbance Data'!L2922-Calculations!I$1","v":0},{"$f":"'Absorbance Data'!M2922-Calculations!J$1","v":0},{"$f":"'Absorbance Data'!N2922-Calculations!K$1","v":0},{"$f":"'Absorbance Data'!O2922-Calculations!L$1","v":0},{"$f":"'Absorbance Data'!P2922-Calculations!M$1","v":0},{"$f":"'Absorbance Data'!Q2922-Calculations!N$1","v":0},{"$f":"'Absorbance Data'!R2922-Calculations!O$1","v":0},{"$f":"'Absorbance Data'!S2922-Calculations!P$1","v":0},{"$f":"'Absorbance Data'!T2922-Calculations!Q$1","v":0},{"$f":"'Absorbance Data'!U2922-Calculations!R$1","v":0},{"$f":"'Absorbance Data'!V2922-Calculations!S$1","v":0},{"$f":"'Absorbance Data'!W2922-Calculations!T$1","v":0},{"$f":"'Absorbance Data'!X2922-Calculations!U$1","v":0},{"$f":"'Absorbance Data'!Y2922-Calculations!V$1","v":0},{"$f":"'Absorbance Data'!Z2922-Calculations!W$1","v":0}]
[{"$f":"'Absorbance Data'!D2923","v":489.2330322265625},{"$f":"'Absorbance Data'!E2923-Calculations!B$1","v":0},{"$f":"'Absorbance Data'!F2923-Calculations!C$1","v":0},{"$f":"'Absorbance Data'!G2923-Calculations!D$1","v":0},{"$f":"'Absorbance Data'!H2923-Calculations!E$1","v":0},{"$f":"'Absorbance Data'!I2923-Calculations!F$1","v":0},{"$f":"'Absorbance Data'!J2923-Calculations!G$1","v":0},{"$f":"'Absorbance Data'!K2923-Calculations!H$1","v":0},{"$f":"'Absorbance Data'!L2923-Calculations!I$1","v":0},{"$f":"'Absorbance Data'!M2923-Calculations!J$1","v":0},{"$f":"'Absorbance Data'!N2923-Calculations!K$1","v":0},{"$f":"'Absorbance Data'!O2923-Calculations!L$1","v":0},{"$f":"'Absorbance Data'!P2923-Calculations!M$1","v":0},{"$f":"'Absorbance Data'!Q2923-Calculations!N$1","v":0},{"$f":"'Absorbance Data'!R2923-Calculations!O$1","v":0},{"$f":"'Absorbance Data'!S2923-Calculations!P$1","v":0},{"$f":"'Absorbance Data'!T2923-Calculations!Q$1","v":0},{"$f":"'Absorbance Data'!U2923-Calculations!R$1","v":0},{"$f":"'Absorbance Data'!V2923-Calculations!S$1","v":0},{"$f":"'Absorbance Data'!W2923-Calculations!T$1","v":0},{"$f":"'Absorbance Data'!X2923-Calculations!U$1","v":0},{"$f":"'Absorbance Data'!Y2923-Calculations!V$1","v":0},{"$f":"'Absorbance Data'!Z2923-Calculations!W$1","v":0}]
[{"$f":"'Absorbance Data'!D2924","v":489.56655883789062},{"$f":"'Absorbance Data'!E2924-Calculations!B$1","v":0},{"$f":"'Absorbance Data'!F2924-Calculations!C$1","v":0},{"$f":"'Absorbance Data'!G2924-Calculations!D$1","v":0},{"$f":"'Absorbance Data'!H2924-Calculations!E$1","v":0},{"$f":"'Absorbance Data'!I2924-Calculations!F$1","v":0},{"$f":"'Absorbance Data'!J2924-Calculations!G$1","v":0},{"$f":"'Absorbance Data'!K2924-Calculations!H$1","v":0},{"$f":"'Absorbance Data'!L2924-Calculations!I$1","v":0},{"$f":"'Absorbance Data'!M2924-Calculations!J$1","v":0},{"$f":"'Absorbance Data'!N2924-Calculations!K$1","v":0},{"$f":"'Absorbance Data'!O2924-Calculations!L$1","v":0},{"$f":"'Absorbance Data'!P2924-Calculations!M$1","v":0},{"$f":"'Absorbance Data'!Q2924-Calculations!N$1","v":0},{"$f":"'Absorbance Data'!R2924-Calculations!O$1","v":0},{"$f":"'Absorbance Data'!S2924-Calculations!P$1","v":0},{"$f":"'Absorbance Data'!T2924-Calculations!Q$1","v":0},{"$f":"'Absorbance Data'!U2924-Calculations!R$1","v":0},{"$f":"'Absorbance Data'!V2924-Calculations!S$1","v":0},{"$f":"'Absorbance Data'!W2924-Calculations!T$1","v":0},{"$f":"'Absorbance Data'!X2924-Calculations!U$1","v":0},{"$f":"'Absorbance Data'!Y2924-Calculations!V$1","v":0},{"$f":"'Absorbance Data'!Z2924-Calculations!W$1","v":0}]
[{"$f":"'Absorbance Data'!D2925","v":489.89999389648438},{"$f":"'Absorbance Data'!E2925-Calculations!B$1","v":0},{"$f":"'Absorbance Data'!F2925-Calculations!C$1","v":0},{"$f":"'Absorbance Data'!G2925-Calculations!D$1","v":0},{"$f":"'Absorbance Data'!H2925-Calculations!E$1","v":0},{"$f":"'Absorbance Data'!I2925-Calculations!F$1","v":0},{"$f":"'Absorbance Data'!J2925-Calculations!G$1","v":0},{"$f":"'Absorbance Data'!K2925-Calculations!H$1","v":0},{"$f":"'Absorbance Data'!L2925-Calculations!I$1","v":0},{"$f":"'Absorbance Data'!M2925-Calculations!J$1","v":0},{"$f":"'Absorbance Data'!N2925-Calculations!K$1","v":0},{"$f":"'Absorbance Data'!O2925-Calculations!L$1","v":0},{"$f":"'Absorbance Data'!P2925-Calculations!M$1","v":0},{"$f":"'Absorbance Data'!Q2925-Calculations!N$1","v":0},{"$f":"'Absorbance Data'!R2925-Calculations!O$1","v":0},{"$f":"'Absorbance Data'!S2925-Calculations!P$1","v":0},{"$f":"'Absorbance Data'!T2925-Calculations!Q$1","v":0},{"$f":"'Absorbance Data'!U2925-Calculations!R$1","v":0},{"$f":"'Absorbance Data'!V2925-Calculations!S$1","v":0},{"$f":"'Absorbance Data'!W2925-Calculations!T$1","v":0},{"$f":"'Absorbance Data'!X2925-Calculations!U$1","v":0},{"$f":"'Absorbance Data'!Y2925-Calculations!V$1","v":0},{"$f":"'Absorbance Data'!Z2925-Calculations!W$1","v":0}]
[{"$f":"'Absorbance Data'!D2926","v":490.23345947265625},{"$f":"'Absorbance Data'!E2926-Calculations!B$1","v":0},{"$f":"'Absorbance Data'!F2926-Calculations!C$1","v":0},{"$f":"'Absorbance Data'!G2926-Calculations!D$1","v":0},{"$f":"'Absorbance Data'!H2926-Calculations!E$1","v":0},{"$f":"'Absorbance Data'!I2926-Calculations!F$1","v":0},{"$f":"'Absorbance Data'!J2926-Calculations!G$1","v":0},{"$f":"'Absorbance Data'!K2926-Calculations!H$1","v":0},{"$f":"'Absorbance Data'!L2926-Calculations!I$1","v":0},{"$f":"'Absorbance Data'!M2926-Calculations!J$1","v":0},{"$f":"'Absorbance Data'!N2926-Calculations!K$1","v":0},{"$f":"'Absorbance Data'!O2926-Calculations!L$1","v":0},{"$f":"'Absorbance Data'!P2926-Calculations!M$1","v":0},{"$f":"'Absorbance Data'!Q2926-Calculations!N$1","v":0},{"$f":"'Absorbance Data'!R2926-Calculations!O$1","v":0},{"$f":"'Absorbance Data'!S2926-Calculations!P$1","v":0},{"$f":"'Absorbance Data'!T2926-Calculations!Q$1","v":0},{"$f":"'Absorbance Data'!U2926-Calculations!R$1","v":0},{"$f":"'Absorbance Data'!V2926-Calculations!S$1","v":0},{"$f":"'Absorbance Data'!W2926-Calculations!T$1","v":0},{"$f":"'Absorbance Data'!X2926-Calculations!U$1","v":0},{"$f":"'Absorbance Data'!Y2926-Calculations!V$1","v":0},{"$f":"'Absorbance Data'!Z2926-Calculations!W$1","v":0}]
[{"$f":"'Absorbance Data'!D2927","v":490.56686401367188},{"$f":"'Absorbance Data'!E2927-Calculations!B$1","v":0},{"$f":"'Absorbance Data'!F2927-Calculations!C$1","v":0},{"$f":"'Absorbance Data'!G2927-Calculations!D$1","v":0},{"$f":"'Absorbance Data'!H2927-Calculations!E$1","v":0},{"$f":"'Absorbance Data'!I2927-Calculations!F$1","v":0},{"$f":"'Absorbance Data'!J2927-Calculations!G$1","v":0},{"$f":"'Absorbance Data'!K2927-Calculations!H$1","v":0},{"$f":"'Absorbance Data'!L2927-Calculations!I$1","v":0},{"$f":"'Absorbance Data'!M2927-Calculations!J$1","v":0},{"$f":"'Absorbance Data'!N2927-Calculations!K$1","v":0},{"$f":"'Absorbance Data'!O2927-Calculations!L$1","v":0},{"$f":"'Absorbance Data'!P2927-Calculations!M$1","v":0},{"$f":"'Absorbance Data'!Q2927-Calculations!N$1","v":0},{"$f":"'Absorbance Data'!R2927-Calculations!O$1","v":0},{"$f":"'Absorbance Data'!S2927-Calculations!P$1","v":0},{"$f":"'Absorbance Data'!T2927-Calculations!Q$1","v":0},{"$f":"'Absorbance Data'!U2927-Calculations!R$1","v":0},{"$f":"'Absorbance Data'!V2927-Calculations!S$1","v":0},{"$f":"'Absorbance Data'!W2927-Calculations!T$1","v":0},{"$f":"'Absorbance Data'!X2927-Calculations!U$1","v":0},{"$f":"'Absorbance Data'!Y2927-Calculations!V$1","v":0},{"$f":"'Absorbance Data'!Z2927-Calculations!W$1","v":0}]
[{"$f":"'Absorbance Data'!D2928","v":490.90020751953125},{"$f":"'Absorbance Data'!E2928-Calculations!B$1","v":0},{"$f":"'Absorbance Data'!F2928-Calculations!C$1","v":0},{"$f":"'Absorbance Data'!G2928-Calculations!D$1","v":0},{"$f":"'Absorbance Data'!H2928-Calculations!E$1","v":0},{"$f":"'Absorbance Data'!I2928-Calculations!F$1","v":0},{"$f":"'Absorbance Data'!J2928-Calculations!G$1","v":0},{"$f":"'Absorbance Data'!K2928-Calculations!H$1","v":0},{"$f":"'Absorbance Data'!L2928-Calculations!I$1","v":0},{"$f":"'Absorbance Data'!M2928-Calculations!J$1","v":0},{"$f":"'Absorbance Data'!N2928-Calculations!K$1","v":0},{"$f":"'Absorbance Data'!O2928-Calculations!L$1","v":0},{"$f":"'Absorbance Data'!P2928-Calculations!M$1","v":0},{"$f":"'Absorbance Data'!Q2928-Calculations!N$1","v":0},{"$f":"'Absorbance Data'!R2928-Calculations!O$1","v":0},{"$f":"'Absorbance Data'!S2928-Calculations!P$1","v":0},{"$f":"'Absorbance Data'!T2928-Calculations!Q$1","v":0},{"$f":"'Absorbance Data'!U2928-Calculations!R$1","v":0},{"$f":"'Absorbance Data'!V2928-Calculations!S$1","v":0},{"$f":"'Absorbance Data'!W2928-Calculations!T$1","v":0},{"$f":"'Absorbance Data'!X2928-Calculations!U$1","v":0},{"$f":"'Absorbance Data'!Y2928-Calculations!V$1","v":0},{"$f":"'Absorbance Data'!Z2928-Calculations!W$1","v":0}]
[{"$f":"'Absorbance Data'!D2929","v":491.23358154296875},{"$f":"'Absorbance Data'!E2929-Calculations!B$1","v":0},{"$f":"'Absorbance Data'!F2929-Calculations!C$1","v":0},{"$f":"'Absorbance Data'!G2929-Calculations!D$1","v":0},{"$f":"'Absorbance Data'!H2929-Calculations!E$1","v":0},{"$f":"'Absorbance Data'!I2929-Calculations!F$1","v":0},{"$f":"'Absorbance Data'!J2929-Calculations!G$1","v":0},{"$f":"'Absorbance Data'!K2929-Calculations!H$1","v":0},{"$f":"'Absorbance Data'!L2929-Calculations!I$1","v":0},{"$f":"'Absorbance Data'!M2929-Calculations!J$1","v":0},{"$f":"'Absorbance Data'!N2929-Calculations!K$1","v":0},{"$f":"'Absorbance Data'!O2929-Calculations!L$1","v":0},{"$f":"'Absorbance Data'!P2929-Calculations!M$1","v":0},{"$f":"'Absorbance Data'!Q2929-Calculations!N$1","v":0},{"$f":"'Absorbance Data'!R2929-Calculations!O$1","v":0},{"$f":"'Absorbance Data'!S2929-Calculations!P$1","v":0},{"$f":"'Absorbance Data'!T2929-Calculations!Q$1","v":0},{"$f":"'Absorbance Data'!U2929-Calculations!R$1","v":0},{"$f":"'Absorbance Data'!V2929-Calculations!S$1","v":0},{"$f":"'Absorbance Data'!W2929-Calculations!T$1","v":0},{"$f":"'Absorbance Data'!X2929-Calculations!U$1","v":0},{"$f":"'Absorbance Data'!Y2929-Calculations!V$1","v":0},{"$f":"'Absorbance Data'!Z2929-Calculations!W$1","v":0}]
[{"$f":"'Absorbance Data'!D2930","v":491.56686401367188},{"$f":"'Absorbance Data'!E2930-Calculations!B$1","v":0},{"$f":"'Absorbance Data'!F2930-Calculations!C$1","v":0},{"$f":"'Absorbance Data'!G2930-Calculations!D$1","v":0},{"$f":"'Absorbance Data'!H2930-Calculations!E$1","v":0},{"$f":"'Absorbance Data'!I2930-Calculations!F$1","v":0},{"$f":"'Absorbance Data'!J2930-Calculations!G$1","v":0},{"$f":"'Absorbance Data'!K2930-Calculations!H$1","v":0},{"$f":"'Absorbance Data'!L2930-Calculations!I$1","v":0},{"$f":"'Absorbance Data'!M2930-Calculations!J$1","v":0},{"$f":"'Absorbance Data'!N2930-Calculations!K$1","v":0},{"$f":"'Absorbance Data'!O2930-Calculations!L$1","v":0},{"$f":"'Absorbance Data'!P2930-Calculations!M$1","v":0},{"$f":"'Absorbance Data'!Q2930-Calculations!N$1","v":0},{"$f":"'Absorbance Data'!R2930-Calculations!O$1","v":0},{"$f":"'Absorbance Data'!S2930-Calculations!P$1","v":0},{"$f":"'Absorbance Data'!T2930-Calculations!Q$1","v":0},{"$f":"'Absorbance Data'!U2930-Calculations!R$1","v":0},{"$f":"'Absorbance Data'!V2930-Calculations!S$1","v":0},{"$f":"'Absorbance Data'!W2930-Calculations!T$1","v":0},{"$f":"'Absorbance Data'!X2930-Calculations!U$1","v":0},{"$f":"'Absorbance Data'!Y2930-Calculations!V$1","v":0},{"$f":"'Absorbance Data'!Z2930-Calculations!W$1","v":0}]
[{"$f":"'Absorbance Data'!D2931","v":491.90011596679688},{"$f":"'Absorbance Data'!E2931-Calculations!B$1","v":0},{"$f":"'Absorbance Data'!F2931-Calculations!C$1","v":0},{"$f":"'Absorbance Data'!G2931-Calculations!D$1","v":0},{"$f":"'Absorbance Data'!H2931-Calculations!E$1","v":0},{"$f":"'Absorbance Data'!I2931-Calculations!F$1","v":0},{"$f":"'Absorbance Data'!J2931-Calculations!G$1","v":0},{"$f":"'Absorbance Data'!K2931-Calculations!H$1","v":0},{"$f":"'Absorbance Data'!L2931-Calculations!I$1","v":0},{"$f":"'Absorbance Data'!M2931-Calculations!J$1","v":0},{"$f":"'Absorbance Data'!N2931-Calculations!K$1","v":0},{"$f":"'Absorbance Data'!O2931-Calculations!L$1","v":0},{"$f":"'Absorbance Data'!P2931-Calculations!M$1","v":0},{"$f":"'Absorbance Data'!Q2931-Calculations!N$1","v":0},{"$f":"'Absorbance Data'!R2931-Calculations!O$1","v":0},{"$f":"'Absorbance Data'!S2931-Calculations!P$1","v":0},{"$f":"'Absorbance Data'!T2931-Calculations!Q$1","v":0},{"$f":"'Absorbance Data'!U2931-Calculations!R$1","v":0},{"$f":"'Absorbance Data'!V2931-Calculations!S$1","v":0},{"$f":"'Absorbance Data'!W2931-Calculations!T$1","v":0},{"$f":"'Absorbance Data'!X2931-Calculations!U$1","v":0},{"$f":"'Absorbance Data'!Y2931-Calculations!V$1","v":0},{"$f":"'Absorbance Data'!Z2931-Calculations!W$1","v":0}]
[{"$f":"'Absorbance Data'!D2932","v":492.23333740234375},{"$f":"'Absorbance Data'!E2932-Calculations!B$1","v":0},{"$f":"'Absorbance Data'!F2932-Calculations!C$1","v":0},{"$f":"'Absorbance Data'!G2932-Calculations!D$1","v":0},{"$f":"'Absorbance Data'!H2932-Calculations!E$1","v":0},{"$f":"'Absorbance Data'!I2932-Calculations!F$1","v":0},{"$f":"'Absorbance Data'!J2932-Calculations!G$1","v":0},{"$f":"'Absorbance Data'!K2932-Calculations!H$1","v":0},{"$f":"'Absorbance Data'!L2932-Calculations!I$1","v":0},{"$f":"'Absorbance Data'!M2932-Calculations!J$1","v":0},{"$f":"'Absorbance Data'!N2932-Calculations!K$1","v":0},{"$f":"'Absorbance Data'!O2932-Calculations!L$1","v":0},{"$f":"'Absorbance Data'!P2932-Calculations!M$1","v":0},{"$f":"'Absorbance Data'!Q2932-Calculations!N$1","v":0},{"$f":"'Absorbance Data'!R2932-Calculations!O$1","v":0},{"$f":"'Absorbance Data'!S2932-Calculations!P$1","v":0},{"$f":"'Absorbance Data'!T2932-Calculations!Q$1","v":0},{"$f":"'Absorbance Data'!U2932-Calculations!R$1","v":0},{"$f":"'Absorbance Data'!V2932-Calculations!S$1","v":0},{"$f":"'Absorbance Data'!W2932-Calculations!T$1","v":0},{"$f":"'Absorbance Data'!X2932-Calculations!U$1","v":0},{"$f":"'Absorbance Data'!Y2932-Calculations!V$1","v":0},{"$f":"'Absorbance Data'!Z2932-Calculations!W$1","v":0}]
[{"$f":"'Absorbance Data'!D2933","v":492.5665283203125},{"$f":"'Absorbance Data'!E2933-Calculations!B$1","v":0},{"$f":"'Absorbance Data'!F2933-Calculations!C$1","v":0},{"$f":"'Absorbance Data'!G2933-Calculations!D$1","v":0},{"$f":"'Absorbance Data'!H2933-Calculations!E$1","v":0},{"$f":"'Absorbance Data'!I2933-Calculations!F$1","v":0},{"$f":"'Absorbance Data'!J2933-Calculations!G$1","v":0},{"$f":"'Absorbance Data'!K2933-Calculations!H$1","v":0},{"$f":"'Absorbance Data'!L2933-Calculations!I$1","v":0},{"$f":"'Absorbance Data'!M2933-Calculations!J$1","v":0},{"$f":"'Absorbance Data'!N2933-Calculations!K$1","v":0},{"$f":"'Absorbance Data'!O2933-Calculations!L$1","v":0},{"$f":"'Absorbance Data'!P2933-Calculations!M$1","v":0},{"$f":"'Absorbance Data'!Q2933-Calculations!N$1","v":0},{"$f":"'Absorbance Data'!R2933-Calculations!O$1","v":0},{"$f":"'Absorbance Data'!S2933-Calculations!P$1","v":0},{"$f":"'Absorbance Data'!T2933-Calculations!Q$1","v":0},{"$f":"'Absorbance Data'!U2933-Calculations!R$1","v":0},{"$f":"'Absorbance Data'!V2933-Calculations!S$1","v":0},{"$f":"'Absorbance Data'!W2933-Calculations!T$1","v":0},{"$f":"'Absorbance Data'!X2933-Calculations!U$1","v":0},{"$f":"'Absorbance Data'!Y2933-Calculations!V$1","v":0},{"$f":"'Absorbance Data'!Z2933-Calculations!W$1","v":0}]
[{"$f":"'Absorbance Data'!D2934","v":492.89968872070312},{"$f":"'Absorbance Data'!E2934-Calculations!B$1","v":0},{"$f":"'Absorbance Data'!F2934-Calculations!C$1","v":0},{"$f":"'Absorbance Data'!G2934-Calculations!D$1","v":0},{"$f":"'Absorbance Data'!H2934-Calculations!E$1","v":0},{"$f":"'Absorbance Data'!I2934-Calculations!F$1","v":0},{"$f":"'Absorbance Data'!J2934-Calculations!G$1","v":0},{"$f":"'Absorbance Data'!K2934-Calculations!H$1","v":0},{"$f":"'Absorbance Data'!L2934-Calculations!I$1","v":0},{"$f":"'Absorbance Data'!M2934-Calculations!J$1","v":0},{"$f":"'Absorbance Data'!N2934-Calculations!K$1","v":0},{"$f":"'Absorbance Data'!O2934-Calculations!L$1","v":0},{"$f":"'Absorbance Data'!P2934-Calculations!M$1","v":0},{"$f":"'Absorbance Data'!Q2934-Calculations!N$1","v":0},{"$f":"'Absorbance Data'!R2934-Calculations!O$1","v":0},{"$f":"'Absorbance Data'!S2934-Calculations!P$1","v":0},{"$f":"'Absorbance Data'!T2934-Calculations!Q$1","v":0},{"$f":"'Absorbance Data'!U2934-Calculations!R$1","v":0},{"$f":"'Absorbance Data'!V2934-Calculations!S$1","v":0},{"$f":"'Absorbance Data'!W2934-Calculations!T$1","v":0},{"$f":"'Absorbance Data'!X2934-Calculations!U$1","v":0},{"$f":"'Absorbance Data'!Y2934-Calculations!V$1","v":0},{"$f":"'Absorbance Data'!Z2934-Calculations!W$1","v":0}]
[{"$f":"'Absorbance Data'!D2935","v":493.2327880859375},{"$f":"'Absorbance Data'!E2935-Calculations!B$1","v":0},{"$f":"'Absorbance Data'!F2935-Calculations!C$1","v":0},{"$f":"'Absorbance Data'!G2935-Calculations!D$1","v":0},{"$f":"'Absorbance Data'!H2935-Calculations!E$1","v":0},{"$f":"'Absorbance Data'!I2935-Calculations!F$1","v":0},{"$f":"'Absorbance Data'!J2935-Calculations!G$1","v":0},{"$f":"'Absorbance Data'!K2935-Calculations!H$1","v":0},{"$f":"'Absorbance Data'!L2935-Calculations!I$1","v":0},{"$f":"'Absorbance Data'!M2935-Calculations!J$1","v":0},{"$f":"'Absorbance Data'!N2935-Calculations!K$1","v":0},{"$f":"'Absorbance Data'!O2935-Calculations!L$1","v":0},{"$f":"'Absorbance Data'!P2935-Calculations!M$1","v":0},{"$f":"'Absorbance Data'!Q2935-Calculations!N$1","v":0},{"$f":"'Absorbance Data'!R2935-Calculations!O$1","v":0},{"$f":"'Absorbance Data'!S2935-Calculations!P$1","v":0},{"$f":"'Absorbance Data'!T2935-Calculations!Q$1","v":0},{"$f":"'Absorbance Data'!U2935-Calculations!R$1","v":0},{"$f":"'Absorbance Data'!V2935-Calculations!S$1","v":0},{"$f":"'Absorbance Data'!W2935-Calculations!T$1","v":0},{"$f":"'Absorbance Data'!X2935-Calculations!U$1","v":0},{"$f":"'Absorbance Data'!Y2935-Calculations!V$1","v":0},{"$f":"'Absorbance Data'!Z2935-Calculations!W$1","v":0}]
[{"$f":"'Absorbance Data'!D2936","v":493.56588745117188},{"$f":"'Absorbance Data'!E2936-Calculations!B$1","v":0},{"$f":"'Absorbance Data'!F2936-Calculations!C$1","v":0},{"$f":"'Absorbance Data'!G2936-Calculations!D$1","v":0},{"$f":"'Absorbance Data'!H2936-Calculations!E$1","v":0},{"$f":"'Absorbance Data'!I2936-Calculations!F$1","v":0},{"$f":"'Absorbance Data'!J2936-Calculations!G$1","v":0},{"$f":"'Absorbance Data'!K2936-Calculations!H$1","v":0},{"$f":"'Absorbance Data'!L2936-Calculations!I$1","v":0},{"$f":"'Absorbance Data'!M2936-Calculations!J$1","v":0},{"$f":"'Absorbance Data'!N2936-Calculations!K$1","v":0},{"$f":"'Absorbance Data'!O2936-Calculations!L$1","v":0},{"$f":"'Absorbance Data'!P2936-Calculations!M$1","v":0},{"$f":"'Absorbance Data'!Q2936-Calculations!N$1","v":0},{"$f":"'Absorbance Data'!R2936-Calculations!O$1","v":0},{"$f":"'Absorbance Data'!S2936-Calculations!P$1","v":0},{"$f":"'Absorbance Data'!T2936-Calculations!Q$1","v":0},{"$f":"'Absorbance Data'!U2936-Calculations!R$1","v":0},{"$f":"'Absorbance Data'!V2936-Calculations!S$1","v":0},{"$f":"'Absorbance Data'!W2936-Calculations!T$1","v":0},{"$f":"'Absorbance Data'!X2936-Calculations!U$1","v":0},{"$f":"'Absorbance Data'!Y2936-Calculations!V$1","v":0},{"$f":"'Absorbance Data'!Z2936-Calculations!W$1","v":0}]
[{"$f":"'Absorbance Data'!D2937","v":493.89889526367188},{"$f":"'Absorbance Data'!E2937-Calculations!B$1","v":0},{"$f":"'Absorbance Data'!F2937-Calculations!C$1","v":0},{"$f":"'Absorbance Data'!G2937-Calculations!D$1","v":0},{"$f":"'Absorbance Data'!H2937-Calculations!E$1","v":0},{"$f":"'Absorbance Data'!I2937-Calculations!F$1","v":0},{"$f":"'Absorbance Data'!J2937-Calculations!G$1","v":0},{"$f":"'Absorbance Data'!K2937-Calculations!H$1","v":0},{"$f":"'Absorbance Data'!L2937-Calculations!I$1","v":0},{"$f":"'Absorbance Data'!M2937-Calculations!J$1","v":0},{"$f":"'Absorbance Data'!N2937-Calculations!K$1","v":0},{"$f":"'Absorbance Data'!O2937-Calculations!L$1","v":0},{"$f":"'Absorbance Data'!P2937-Calculations!M$1","v":0},{"$f":"'Absorbance Data'!Q2937-Calculations!N$1","v":0},{"$f":"'Absorbance Data'!R2937-Calculations!O$1","v":0},{"$f":"'Absorbance Data'!S2937-Calculations!P$1","v":0},{"$f":"'Absorbance Data'!T2937-Calculations!Q$1","v":0},{"$f":"'Absorbance Data'!U2937-Calculations!R$1","v":0},{"$f":"'Absorbance Data'!V2937-Calculations!S$1","v":0},{"$f":"'Absorbance Data'!W2937-Calculations!T$1","v":0},{"$f":"'Absorbance Data'!X2937-Calculations!U$1","v":0},{"$f":"'Absorbance Data'!Y2937-Calculations!V$1","v":0},{"$f":"'Absorbance Data'!Z2937-Calculations!W$1","v":0}]
[{"$f":"'Absorbance Data'!D2938","v":494.23190307617188},{"$f":"'Absorbance Data'!E2938-Calculations!B$1","v":0},{"$f":"'Absorbance Data'!F2938-Calculations!C$1","v":0},{"$f":"'Absorbance Data'!G2938-Calculations!D$1","v":0},{"$f":"'Absorbance Data'!H2938-Calculations!E$1","v":0},{"$f":"'Absorbance Data'!I2938-Calculations!F$1","v":0},{"$f":"'Absorbance Data'!J2938-Calculations!G$1","v":0},{"$f":"'Absorbance Data'!K2938-Calculations!H$1","v":0},{"$f":"'Absorbance Data'!L2938-Calculations!I$1","v":0},{"$f":"'Absorbance Data'!M2938-Calculations!J$1","v":0},{"$f":"'Absorbance Data'!N2938-Calculations!K$1","v":0},{"$f":"'Absorbance Data'!O2938-Calculations!L$1","v":0},{"$f":"'Absorbance Data'!P2938-Calculations!M$1","v":0},{"$f":"'Absorbance Data'!Q2938-Calculations!N$1","v":0},{"$f":"'Absorbance Data'!R2938-Calculations!O$1","v":0},{"$f":"'Absorbance Data'!S2938-Calculations!P$1","v":0},{"$f":"'Absorbance Data'!T2938-Calculations!Q$1","v":0},{"$f":"'Absorbance Data'!U2938-Calculations!R$1","v":0},{"$f":"'Absorbance Data'!V2938-Calculations!S$1","v":0},{"$f":"'Absorbance Data'!W2938-Calculations!T$1","v":0},{"$f":"'Absorbance Data'!X2938-Calculations!U$1","v":0},{"$f":"'Absorbance Data'!Y2938-Calculations!V$1","v":0},{"$f":"'Absorbance Data'!Z2938-Calculations!W$1","v":0}]
[{"$f":"'Absorbance Data'!D2939","v":494.56488037109375},{"$f":"'Absorbance Data'!E2939-Calculations!B$1","v":0},{"$f":"'Absorbance Data'!F2939-Calculations!C$1","v":0},{"$f":"'Absorbance Data'!G2939-Calculations!D$1","v":0},{"$f":"'Absorbance Data'!H2939-Calculations!E$1","v":0},{"$f":"'Absorbance Data'!I2939-Calculations!F$1","v":0},{"$f":"'Absorbance Data'!J2939-Calculations!G$1","v":0},{"$f":"'Absorbance Data'!K2939-Calculations!H$1","v":0},{"$f":"'Absorbance Data'!L2939-Calculations!I$1","v":0},{"$f":"'Absorbance Data'!M2939-Calculations!J$1","v":0},{"$f":"'Absorbance Data'!N2939-Calculations!K$1","v":0},{"$f":"'Absorbance Data'!O2939-Calculations!L$1","v":0},{"$f":"'Absorbance Data'!P2939-Calculations!M$1","v":0},{"$f":"'Absorbance Data'!Q2939-Calculations!N$1","v":0},{"$f":"'Absorbance Data'!R2939-Calculations!O$1","v":0},{"$f":"'Absorbance Data'!S2939-Calculations!P$1","v":0},{"$f":"'Absorbance Data'!T2939-Calculations!Q$1","v":0},{"$f":"'Absorbance Data'!U2939-Calculations!R$1","v":0},{"$f":"'Absorbance Data'!V2939-Calculations!S$1","v":0},{"$f":"'Absorbance Data'!W2939-Calculations!T$1","v":0},{"$f":"'Absorbance Data'!X2939-Calculations!U$1","v":0},{"$f":"'Absorbance Data'!Y2939-Calculations!V$1","v":0},{"$f":"'Absorbance Data'!Z2939-Calculations!W$1","v":0}]
[{"$f":"'Absorbance Data'!D2940","v":494.89779663085938},{"$f":"'Absorbance Data'!E2940-Calculations!B$1","v":0},{"$f":"'Absorbance Data'!F2940-Calculations!C$1","v":0},{"$f":"'Absorbance Data'!G2940-Calculations!D$1","v":0},{"$f":"'Absorbance Data'!H2940-Calculations!E$1","v":0},{"$f":"'Absorbance Data'!I2940-Calculations!F$1","v":0},{"$f":"'Absorbance Data'!J2940-Calculations!G$1","v":0},{"$f":"'Absorbance Data'!K2940-Calculations!H$1","v":0},{"$f":"'Absorbance Data'!L2940-Calculations!I$1","v":0},{"$f":"'Absorbance Data'!M2940-Calculations!J$1","v":0},{"$f":"'Absorbance Data'!N2940-Calculations!K$1","v":0},{"$f":"'Absorbance Data'!O2940-Calculations!L$1","v":0},{"$f":"'Absorbance Data'!P2940-Calculations!M$1","v":0},{"$f":"'Absorbance Data'!Q2940-Calculations!N$1","v":0},{"$f":"'Absorbance Data'!R2940-Calculations!O$1","v":0},{"$f":"'Absorbance Data'!S2940-Calculations!P$1","v":0},{"$f":"'Absorbance Data'!T2940-Calculations!Q$1","v":0},{"$f":"'Absorbance Data'!U2940-Calculations!R$1","v":0},{"$f":"'Absorbance Data'!V2940-Calculations!S$1","v":0},{"$f":"'Absorbance Data'!W2940-Calculations!T$1","v":0},{"$f":"'Absorbance Data'!X2940-Calculations!U$1","v":0},{"$f":"'Absorbance Data'!Y2940-Calculations!V$1","v":0},{"$f":"'Absorbance Data'!Z2940-Calculations!W$1","v":0}]
[{"$f":"'Absorbance Data'!D2941","v":495.23068237304688},{"$f":"'Absorbance Data'!E2941-Calculations!B$1","v":0},{"$f":"'Absorbance Data'!F2941-Calculations!C$1","v":0},{"$f":"'Absorbance Data'!G2941-Calculations!D$1","v":0},{"$f":"'Absorbance Data'!H2941-Calculations!E$1","v":0},{"$f":"'Absorbance Data'!I2941-Calculations!F$1","v":0},{"$f":"'Absorbance Data'!J2941-Calculations!G$1","v":0},{"$f":"'Absorbance Data'!K2941-Calculations!H$1","v":0},{"$f":"'Absorbance Data'!L2941-Calculations!I$1","v":0},{"$f":"'Absorbance Data'!M2941-Calculations!J$1","v":0},{"$f":"'Absorbance Data'!N2941-Calculations!K$1","v":0},{"$f":"'Absorbance Data'!O2941-Calculations!L$1","v":0},{"$f":"'Absorbance Data'!P2941-Calculations!M$1","v":0},{"$f":"'Absorbance Data'!Q2941-Calculations!N$1","v":0},{"$f":"'Absorbance Data'!R2941-Calculations!O$1","v":0},{"$f":"'Absorbance Data'!S2941-Calculations!P$1","v":0},{"$f":"'Absorbance Data'!T2941-Calculations!Q$1","v":0},{"$f":"'Absorbance Data'!U2941-Calculations!R$1","v":0},{"$f":"'Absorbance Data'!V2941-Calculations!S$1","v":0},{"$f":"'Absorbance Data'!W2941-Calculations!T$1","v":0},{"$f":"'Absorbance Data'!X2941-Calculations!U$1","v":0},{"$f":"'Absorbance Data'!Y2941-Calculations!V$1","v":0},{"$f":"'Absorbance Data'!Z2941-Calculations!W$1","v":0}]
[{"$f":"'Absorbance Data'!D2942","v":495.56356811523438},{"$f":"'Absorbance Data'!E2942-Calculations!B$1","v":0},{"$f":"'Absorbance Data'!F2942-Calculations!C$1","v":0},{"$f":"'Absorbance Data'!G2942-Calculations!D$1","v":0},{"$f":"'Absorbance Data'!H2942-Calculations!E$1","v":0},{"$f":"'Absorbance Data'!I2942-Calculations!F$1","v":0},{"$f":"'Absorbance Data'!J2942-Calculations!G$1","v":0},{"$f":"'Absorbance Data'!K2942-Calculations!H$1","v":0},{"$f":"'Absorbance Data'!L2942-Calculations!I$1","v":0},{"$f":"'Absorbance Data'!M2942-Calculations!J$1","v":0},{"$f":"'Absorbance Data'!N2942-Calculations!K$1","v":0},{"$f":"'Absorbance Data'!O2942-Calculations!L$1","v":0},{"$f":"'Absorbance Data'!P2942-Calculations!M$1","v":0},{"$f":"'Absorbance Data'!Q2942-Calculations!N$1","v":0},{"$f":"'Absorbance Data'!R2942-Calculations!O$1","v":0},{"$f":"'Absorbance Data'!S2942-Calculations!P$1","v":0},{"$f":"'Absorbance Data'!T2942-Calculations!Q$1","v":0},{"$f":"'Absorbance Data'!U2942-Calculations!R$1","v":0},{"$f":"'Absorbance Data'!V2942-Calculations!S$1","v":0},{"$f":"'Absorbance Data'!W2942-Calculations!T$1","v":0},{"$f":"'Absorbance Data'!X2942-Calculations!U$1","v":0},{"$f":"'Absorbance Data'!Y2942-Calculations!V$1","v":0},{"$f":"'Absorbance Data'!Z2942-Calculations!W$1","v":0}]
[{"$f":"'Absorbance Data'!D2943","v":495.89639282226562},{"$f":"'Absorbance Data'!E2943-Calculations!B$1","v":0},{"$f":"'Absorbance Data'!F2943-Calculations!C$1","v":0},{"$f":"'Absorbance Data'!G2943-Calculations!D$1","v":0},{"$f":"'Absorbance Data'!H2943-Calculations!E$1","v":0},{"$f":"'Absorbance Data'!I2943-Calculations!F$1","v":0},{"$f":"'Absorbance Data'!J2943-Calculations!G$1","v":0},{"$f":"'Absorbance Data'!K2943-Calculations!H$1","v":0},{"$f":"'Absorbance Data'!L2943-Calculations!I$1","v":0},{"$f":"'Absorbance Data'!M2943-Calculations!J$1","v":0},{"$f":"'Absorbance Data'!N2943-Calculations!K$1","v":0},{"$f":"'Absorbance Data'!O2943-Calculations!L$1","v":0},{"$f":"'Absorbance Data'!P2943-Calculations!M$1","v":0},{"$f":"'Absorbance Data'!Q2943-Calculations!N$1","v":0},{"$f":"'Absorbance Data'!R2943-Calculations!O$1","v":0},{"$f":"'Absorbance Data'!S2943-Calculations!P$1","v":0},{"$f":"'Absorbance Data'!T2943-Calculations!Q$1","v":0},{"$f":"'Absorbance Data'!U2943-Calculations!R$1","v":0},{"$f":"'Absorbance Data'!V2943-Calculations!S$1","v":0},{"$f":"'Absorbance Data'!W2943-Calculations!T$1","v":0},{"$f":"'Absorbance Data'!X2943-Calculations!U$1","v":0},{"$f":"'Absorbance Data'!Y2943-Calculations!V$1","v":0},{"$f":"'Absorbance Data'!Z2943-Calculations!W$1","v":0}]
[{"$f":"'Absorbance Data'!D2944","v":496.22915649414062},{"$f":"'Absorbance Data'!E2944-Calculations!B$1","v":0},{"$f":"'Absorbance Data'!F2944-Calculations!C$1","v":0},{"$f":"'Absorbance Data'!G2944-Calculations!D$1","v":0},{"$f":"'Absorbance Data'!H2944-Calculations!E$1","v":0},{"$f":"'Absorbance Data'!I2944-Calculations!F$1","v":0},{"$f":"'Absorbance Data'!J2944-Calculations!G$1","v":0},{"$f":"'Absorbance Data'!K2944-Calculations!H$1","v":0},{"$f":"'Absorbance Data'!L2944-Calculations!I$1","v":0},{"$f":"'Absorbance Data'!M2944-Calculations!J$1","v":0},{"$f":"'Absorbance Data'!N2944-Calculations!K$1","v":0},{"$f":"'Absorbance Data'!O2944-Calculations!L$1","v":0},{"$f":"'Absorbance Data'!P2944-Calculations!M$1","v":0},{"$f":"'Absorbance Data'!Q2944-Calculations!N$1","v":0},{"$f":"'Absorbance Data'!R2944-Calculations!O$1","v":0},{"$f":"'Absorbance Data'!S2944-Calculations!P$1","v":0},{"$f":"'Absorbance Data'!T2944-Calculations!Q$1","v":0},{"$f":"'Absorbance Data'!U2944-Calculations!R$1","v":0},{"$f":"'Absorbance Data'!V2944-Calculations!S$1","v":0},{"$f":"'Absorbance Data'!W2944-Calculations!T$1","v":0},{"$f":"'Absorbance Data'!X2944-Calculations!U$1","v":0},{"$f":"'Absorbance Data'!Y2944-Calculations!V$1","v":0},{"$f":"'Absorbance Data'!Z2944-Calculations!W$1","v":0}]
[{"$f":"'Absorbance Data'!D2945","v":496.56192016601562},{"$f":"'Absorbance Data'!E2945-Calculations!B$1","v":0},{"$f":"'Absorbance Data'!F2945-Calculations!C$1","v":0},{"$f":"'Absorbance Data'!G2945-Calculations!D$1","v":0},{"$f":"'Absorbance Data'!H2945-Calculations!E$1","v":0},{"$f":"'Absorbance Data'!I2945-Calculations!F$1","v":0},{"$f":"'Absorbance Data'!J2945-Calculations!G$1","v":0},{"$f":"'Absorbance Data'!K2945-Calculations!H$1","v":0},{"$f":"'Absorbance Data'!L2945-Calculations!I$1","v":0},{"$f":"'Absorbance Data'!M2945-Calculations!J$1","v":0},{"$f":"'Absorbance Data'!N2945-Calculations!K$1","v":0},{"$f":"'Absorbance Data'!O2945-Calculations!L$1","v":0},{"$f":"'Absorbance Data'!P2945-Calculations!M$1","v":0},{"$f":"'Absorbance Data'!Q2945-Calculations!N$1","v":0},{"$f":"'Absorbance Data'!R2945-Calculations!O$1","v":0},{"$f":"'Absorbance Data'!S2945-Calculations!P$1","v":0},{"$f":"'Absorbance Data'!T2945-Calculations!Q$1","v":0},{"$f":"'Absorbance Data'!U2945-Calculations!R$1","v":0},{"$f":"'Absorbance Data'!V2945-Calculations!S$1","v":0},{"$f":"'Absorbance Data'!W2945-Calculations!T$1","v":0},{"$f":"'Absorbance Data'!X2945-Calculations!U$1","v":0},{"$f":"'Absorbance Data'!Y2945-Calculations!V$1","v":0},{"$f":"'Absorbance Data'!Z2945-Calculations!W$1","v":0}]
[{"$f":"'Absorbance Data'!D2946","v":496.89462280273438},{"$f":"'Absorbance Data'!E2946-Calculations!B$1","v":0},{"$f":"'Absorbance Data'!F2946-Calculations!C$1","v":0},{"$f":"'Absorbance Data'!G2946-Calculations!D$1","v":0},{"$f":"'Absorbance Data'!H2946-Calculations!E$1","v":0},{"$f":"'Absorbance Data'!I2946-Calculations!F$1","v":0},{"$f":"'Absorbance Data'!J2946-Calculations!G$1","v":0},{"$f":"'Absorbance Data'!K2946-Calculations!H$1","v":0},{"$f":"'Absorbance Data'!L2946-Calculations!I$1","v":0},{"$f":"'Absorbance Data'!M2946-Calculations!J$1","v":0},{"$f":"'Absorbance Data'!N2946-Calculations!K$1","v":0},{"$f":"'Absorbance Data'!O2946-Calculations!L$1","v":0},{"$f":"'Absorbance Data'!P2946-Calculations!M$1","v":0},{"$f":"'Absorbance Data'!Q2946-Calculations!N$1","v":0},{"$f":"'Absorbance Data'!R2946-Calculations!O$1","v":0},{"$f":"'Absorbance Data'!S2946-Calculations!P$1","v":0},{"$f":"'Absorbance Data'!T2946-Calculations!Q$1","v":0},{"$f":"'Absorbance Data'!U2946-Calculations!R$1","v":0},{"$f":"'Absorbance Data'!V2946-Calculations!S$1","v":0},{"$f":"'Absorbance Data'!W2946-Calculations!T$1","v":0},{"$f":"'Absorbance Data'!X2946-Calculations!U$1","v":0},{"$f":"'Absorbance Data'!Y2946-Calculations!V$1","v":0},{"$f":"'Absorbance Data'!Z2946-Calculations!W$1","v":0}]
[{"$f":"'Absorbance Data'!D2947","v":497.22732543945312},{"$f":"'Absorbance Data'!E2947-Calculations!B$1","v":0},{"$f":"'Absorbance Data'!F2947-Calculations!C$1","v":0},{"$f":"'Absorbance Data'!G2947-Calculations!D$1","v":0},{"$f":"'Absorbance Data'!H2947-Calculations!E$1","v":0},{"$f":"'Absorbance Data'!I2947-Calculations!F$1","v":0},{"$f":"'Absorbance Data'!J2947-Calculations!G$1","v":0},{"$f":"'Absorbance Data'!K2947-Calculations!H$1","v":0},{"$f":"'Absorbance Data'!L2947-Calculations!I$1","v":0},{"$f":"'Absorbance Data'!M2947-Calculations!J$1","v":0},{"$f":"'Absorbance Data'!N2947-Calculations!K$1","v":0},{"$f":"'Absorbance Data'!O2947-Calculations!L$1","v":0},{"$f":"'Absorbance Data'!P2947-Calculations!M$1","v":0},{"$f":"'Absorbance Data'!Q2947-Calculations!N$1","v":0},{"$f":"'Absorbance Data'!R2947-Calculations!O$1","v":0},{"$f":"'Absorbance Data'!S2947-Calculations!P$1","v":0},{"$f":"'Absorbance Data'!T2947-Calculations!Q$1","v":0},{"$f":"'Absorbance Data'!U2947-Calculations!R$1","v":0},{"$f":"'Absorbance Data'!V2947-Calculations!S$1","v":0},{"$f":"'Absorbance Data'!W2947-Calculations!T$1","v":0},{"$f":"'Absorbance Data'!X2947-Calculations!U$1","v":0},{"$f":"'Absorbance Data'!Y2947-Calculations!V$1","v":0},{"$f":"'Absorbance Data'!Z2947-Calculations!W$1","v":0}]
[{"$f":"'Absorbance Data'!D2948","v":497.5599365234375},{"$f":"'Absorbance Data'!E2948-Calculations!B$1","v":0},{"$f":"'Absorbance Data'!F2948-Calculations!C$1","v":0},{"$f":"'Absorbance Data'!G2948-Calculations!D$1","v":0},{"$f":"'Absorbance Data'!H2948-Calculations!E$1","v":0},{"$f":"'Absorbance Data'!I2948-Calculations!F$1","v":0},{"$f":"'Absorbance Data'!J2948-Calculations!G$1","v":0},{"$f":"'Absorbance Data'!K2948-Calculations!H$1","v":0},{"$f":"'Absorbance Data'!L2948-Calculations!I$1","v":0},{"$f":"'Absorbance Data'!M2948-Calculations!J$1","v":0},{"$f":"'Absorbance Data'!N2948-Calculations!K$1","v":0},{"$f":"'Absorbance Data'!O2948-Calculations!L$1","v":0},{"$f":"'Absorbance Data'!P2948-Calculations!M$1","v":0},{"$f":"'Absorbance Data'!Q2948-Calculations!N$1","v":0},{"$f":"'Absorbance Data'!R2948-Calculations!O$1","v":0},{"$f":"'Absorbance Data'!S2948-Calculations!P$1","v":0},{"$f":"'Absorbance Data'!T2948-Calculations!Q$1","v":0},{"$f":"'Absorbance Data'!U2948-Calculations!R$1","v":0},{"$f":"'Absorbance Data'!V2948-Calculations!S$1","v":0},{"$f":"'Absorbance Data'!W2948-Calculations!T$1","v":0},{"$f":"'Absorbance Data'!X2948-Calculations!U$1","v":0},{"$f":"'Absorbance Data'!Y2948-Calculations!V$1","v":0},{"$f":"'Absorbance Data'!Z2948-Calculations!W$1","v":0}]
[{"$f":"'Absorbance Data'!D2949","v":497.89254760742188},{"$f":"'Absorbance Data'!E2949-Calculations!B$1","v":0},{"$f":"'Absorbance Data'!F2949-Calculations!C$1","v":0},{"$f":"'Absorbance Data'!G2949-Calculations!D$1","v":0},{"$f":"'Absorbance Data'!H2949-Calculations!E$1","v":0},{"$f":"'Absorbance Data'!I2949-Calculations!F$1","v":0},{"$f":"'Absorbance Data'!J2949-Calculations!G$1","v":0},{"$f":"'Absorbance Data'!K2949-Calculations!H$1","v":0},{"$f":"'Absorbance Data'!L2949-Calculations!I$1","v":0},{"$f":"'Absorbance Data'!M2949-Calculations!J$1","v":0},{"$f":"'Absorbance Data'!N2949-Calculations!K$1","v":0},{"$f":"'Absorbance Data'!O2949-Calculations!L$1","v":0},{"$f":"'Absorbance Data'!P2949-Calculations!M$1","v":0},{"$f":"'Absorbance Data'!Q2949-Calculations!N$1","v":0},{"$f":"'Absorbance Data'!R2949-Calculations!O$1","v":0},{"$f":"'Absorbance Data'!S2949-Calculations!P$1","v":0},{"$f":"'Absorbance Data'!T2949-Calculations!Q$1","v":0},{"$f":"'Absorbance Data'!U2949-Calculations!R$1","v":0},{"$f":"'Absorbance Data'!V2949-Calculations!S$1","v":0},{"$f":"'Absorbance Data'!W2949-Calculations!T$1","v":0},{"$f":"'Absorbance Data'!X2949-Calculations!U$1","v":0},{"$f":"'Absorbance Data'!Y2949-Calculations!V$1","v":0},{"$f":"'Absorbance Data'!Z2949-Calculations!W$1","v":0}]
[{"$f":"'Absorbance Data'!D2950","v":498.22512817382812},{"$f":"'Absorbance Data'!E2950-Calculations!B$1","v":0},{"$f":"'Absorbance Data'!F2950-Calculations!C$1","v":0},{"$f":"'Absorbance Data'!G2950-Calculations!D$1","v":0},{"$f":"'Absorbance Data'!H2950-Calculations!E$1","v":0},{"$f":"'Absorbance Data'!I2950-Calculations!F$1","v":0},{"$f":"'Absorbance Data'!J2950-Calculations!G$1","v":0},{"$f":"'Absorbance Data'!K2950-Calculations!H$1","v":0},{"$f":"'Absorbance Data'!L2950-Calculations!I$1","v":0},{"$f":"'Absorbance Data'!M2950-Calculations!J$1","v":0},{"$f":"'Absorbance Data'!N2950-Calculations!K$1","v":0},{"$f":"'Absorbance Data'!O2950-Calculations!L$1","v":0},{"$f":"'Absorbance Data'!P2950-Calculations!M$1","v":0},{"$f":"'Absorbance Data'!Q2950-Calculations!N$1","v":0},{"$f":"'Absorbance Data'!R2950-Calculations!O$1","v":0},{"$f":"'Absorbance Data'!S2950-Calculations!P$1","v":0},{"$f":"'Absorbance Data'!T2950-Calculations!Q$1","v":0},{"$f":"'Absorbance Data'!U2950-Calculations!R$1","v":0},{"$f":"'Absorbance Data'!V2950-Calculations!S$1","v":0},{"$f":"'Absorbance Data'!W2950-Calculations!T$1","v":0},{"$f":"'Absorbance Data'!X2950-Calculations!U$1","v":0},{"$f":"'Absorbance Data'!Y2950-Calculations!V$1","v":0},{"$f":"'Absorbance Data'!Z2950-Calculations!W$1","v":0}]
[{"$f":"'Absorbance Data'!D2951","v":498.55767822265625},{"$f":"'Absorbance Data'!E2951-Calculations!B$1","v":0},{"$f":"'Absorbance Data'!F2951-Calculations!C$1","v":0},{"$f":"'Absorbance Data'!G2951-Calculations!D$1","v":0},{"$f":"'Absorbance Data'!H2951-Calculations!E$1","v":0},{"$f":"'Absorbance Data'!I2951-Calculations!F$1","v":0},{"$f":"'Absorbance Data'!J2951-Calculations!G$1","v":0},{"$f":"'Absorbance Data'!K2951-Calculations!H$1","v":0},{"$f":"'Absorbance Data'!L2951-Calculations!I$1","v":0},{"$f":"'Absorbance Data'!M2951-Calculations!J$1","v":0},{"$f":"'Absorbance Data'!N2951-Calculations!K$1","v":0},{"$f":"'Absorbance Data'!O2951-Calculations!L$1","v":0},{"$f":"'Absorbance Data'!P2951-Calculations!M$1","v":0},{"$f":"'Absorbance Data'!Q2951-Calculations!N$1","v":0},{"$f":"'Absorbance Data'!R2951-Calculations!O$1","v":0},{"$f":"'Absorbance Data'!S2951-Calculations!P$1","v":0},{"$f":"'Absorbance Data'!T2951-Calculations!Q$1","v":0},{"$f":"'Absorbance Data'!U2951-Calculations!R$1","v":0},{"$f":"'Absorbance Data'!V2951-Calculations!S$1","v":0},{"$f":"'Absorbance Data'!W2951-Calculations!T$1","v":0},{"$f":"'Absorbance Data'!X2951-Calculations!U$1","v":0},{"$f":"'Absorbance Data'!Y2951-Calculations!V$1","v":0},{"$f":"'Absorbance Data'!Z2951-Calculations!W$1","v":0}]
[{"$f":"'Absorbance Data'!D2952","v":498.89016723632812},{"$f":"'Absorbance Data'!E2952-Calculations!B$1","v":0},{"$f":"'Absorbance Data'!F2952-Calculations!C$1","v":0},{"$f":"'Absorbance Data'!G2952-Calculations!D$1","v":0},{"$f":"'Absorbance Data'!H2952-Calculations!E$1","v":0},{"$f":"'Absorbance Data'!I2952-Calculations!F$1","v":0},{"$f":"'Absorbance Data'!J2952-Calculations!G$1","v":0},{"$f":"'Absorbance Data'!K2952-Calculations!H$1","v":0},{"$f":"'Absorbance Data'!L2952-Calculations!I$1","v":0},{"$f":"'Absorbance Data'!M2952-Calculations!J$1","v":0},{"$f":"'Absorbance Data'!N2952-Calculations!K$1","v":0},{"$f":"'Absorbance Data'!O2952-Calculations!L$1","v":0},{"$f":"'Absorbance Data'!P2952-Calculations!M$1","v":0},{"$f":"'Absorbance Data'!Q2952-Calculations!N$1","v":0},{"$f":"'Absorbance Data'!R2952-Calculations!O$1","v":0},{"$f":"'Absorbance Data'!S2952-Calculations!P$1","v":0},{"$f":"'Absorbance Data'!T2952-Calculations!Q$1","v":0},{"$f":"'Absorbance Data'!U2952-Calculations!R$1","v":0},{"$f":"'Absorbance Data'!V2952-Calculations!S$1","v":0},{"$f":"'Absorbance Data'!W2952-Calculations!T$1","v":0},{"$f":"'Absorbance Data'!X2952-Calculations!U$1","v":0},{"$f":"'Absorbance Data'!Y2952-Calculations!V$1","v":0},{"$f":"'Absorbance Data'!Z2952-Calculations!W$1","v":0}]
[{"$f":"'Absorbance Data'!D2953","v":499.22262573242188},{"$f":"'Absorbance Data'!E2953-Calculations!B$1","v":0},{"$f":"'Absorbance Data'!F2953-Calculations!C$1","v":0},{"$f":"'Absorbance Data'!G2953-Calculations!D$1","v":0},{"$f":"'Absorbance Data'!H2953-Calculations!E$1","v":0},{"$f":"'Absorbance Data'!I2953-Calculations!F$1","v":0},{"$f":"'Absorbance Data'!J2953-Calculations!G$1","v":0},{"$f":"'Absorbance Data'!K2953-Calculations!H$1","v":0},{"$f":"'Absorbance Data'!L2953-Calculations!I$1","v":0},{"$f":"'Absorbance Data'!M2953-Calculations!J$1","v":0},{"$f":"'Absorbance Data'!N2953-Calculations!K$1","v":0},{"$f":"'Absorbance Data'!O2953-Calculations!L$1","v":0},{"$f":"'Absorbance Data'!P2953-Calculations!M$1","v":0},{"$f":"'Absorbance Data'!Q2953-Calculations!N$1","v":0},{"$f":"'Absorbance Data'!R2953-Calculations!O$1","v":0},{"$f":"'Absorbance Data'!S2953-Calculations!P$1","v":0},{"$f":"'Absorbance Data'!T2953-Calculations!Q$1","v":0},{"$f":"'Absorbance Data'!U2953-Calculations!R$1","v":0},{"$f":"'Absorbance Data'!V2953-Calculations!S$1","v":0},{"$f":"'Absorbance Data'!W2953-Calculations!T$1","v":0},{"$f":"'Absorbance Data'!X2953-Calculations!U$1","v":0},{"$f":"'Absorbance Data'!Y2953-Calculations!V$1","v":0},{"$f":"'Absorbance Data'!Z2953-Calculations!W$1","v":0}]
[{"$f":"'Absorbance Data'!D2954","v":499.5550537109375},{"$f":"'Absorbance Data'!E2954-Calculations!B$1","v":0},{"$f":"'Absorbance Data'!F2954-Calculations!C$1","v":0},{"$f":"'Absorbance Data'!G2954-Calculations!D$1","v":0},{"$f":"'Absorbance Data'!H2954-Calculations!E$1","v":0},{"$f":"'Absorbance Data'!I2954-Calculations!F$1","v":0},{"$f":"'Absorbance Data'!J2954-Calculations!G$1","v":0},{"$f":"'Absorbance Data'!K2954-Calculations!H$1","v":0},{"$f":"'Absorbance Data'!L2954-Calculations!I$1","v":0},{"$f":"'Absorbance Data'!M2954-Calculations!J$1","v":0},{"$f":"'Absorbance Data'!N2954-Calculations!K$1","v":0},{"$f":"'Absorbance Data'!O2954-Calculations!L$1","v":0},{"$f":"'Absorbance Data'!P2954-Calculations!M$1","v":0},{"$f":"'Absorbance Data'!Q2954-Calculations!N$1","v":0},{"$f":"'Absorbance Data'!R2954-Calculations!O$1","v":0},{"$f":"'Absorbance Data'!S2954-Calculations!P$1","v":0},{"$f":"'Absorbance Data'!T2954-Calculations!Q$1","v":0},{"$f":"'Absorbance Data'!U2954-Calculations!R$1","v":0},{"$f":"'Absorbance Data'!V2954-Calculations!S$1","v":0},{"$f":"'Absorbance Data'!W2954-Calculations!T$1","v":0},{"$f":"'Absorbance Data'!X2954-Calculations!U$1","v":0},{"$f":"'Absorbance Data'!Y2954-Calculations!V$1","v":0},{"$f":"'Absorbance Data'!Z2954-Calculations!W$1","v":0}]
[{"$f":"'Absorbance Data'!D2955","v":499.88742065429688},{"$f":"'Absorbance Data'!E2955-Calculations!B$1","v":0},{"$f":"'Absorbance Data'!F2955-Calculations!C$1","v":0},{"$f":"'Absorbance Data'!G2955-Calculations!D$1","v":0},{"$f":"'Absorbance Data'!H2955-Calculations!E$1","v":0},{"$f":"'Absorbance Data'!I2955-Calculations!F$1","v":0},{"$f":"'Absorbance Data'!J2955-Calculations!G$1","v":0},{"$f":"'Absorbance Data'!K2955-Calculations!H$1","v":0},{"$f":"'Absorbance Data'!L2955-Calculations!I$1","v":0},{"$f":"'Absorbance Data'!M2955-Calculations!J$1","v":0},{"$f":"'Absorbance Data'!N2955-Calculations!K$1","v":0},{"$f":"'Absorbance Data'!O2955-Calculations!L$1","v":0},{"$f":"'Absorbance Data'!P2955-Calculations!M$1","v":0},{"$f":"'Absorbance Data'!Q2955-Calculations!N$1","v":0},{"$f":"'Absorbance Data'!R2955-Calculations!O$1","v":0},{"$f":"'Absorbance Data'!S2955-Calculations!P$1","v":0},{"$f":"'Absorbance Data'!T2955-Calculations!Q$1","v":0},{"$f":"'Absorbance Data'!U2955-Calculations!R$1","v":0},{"$f":"'Absorbance Data'!V2955-Calculations!S$1","v":0},{"$f":"'Absorbance Data'!W2955-Calculations!T$1","v":0},{"$f":"'Absorbance Data'!X2955-Calculations!U$1","v":0},{"$f":"'Absorbance Data'!Y2955-Calculations!V$1","v":0},{"$f":"'Absorbance Data'!Z2955-Calculations!W$1","v":0}]
[{"$f":"'Absorbance Data'!D2956","v":500.21978759765625},{"$f":"'Absorbance Data'!E2956-Calculations!B$1","v":0},{"$f":"'Absorbance Data'!F2956-Calculations!C$1","v":0},{"$f":"'Absorbance Data'!G2956-Calculations!D$1","v":0},{"$f":"'Absorbance Data'!H2956-Calculations!E$1","v":0},{"$f":"'Absorbance Data'!I2956-Calculations!F$1","v":0},{"$f":"'Absorbance Data'!J2956-Calculations!G$1","v":0},{"$f":"'Absorbance Data'!K2956-Calculations!H$1","v":0},{"$f":"'Absorbance Data'!L2956-Calculations!I$1","v":0},{"$f":"'Absorbance Data'!M2956-Calculations!J$1","v":0},{"$f":"'Absorbance Data'!N2956-Calculations!K$1","v":0},{"$f":"'Absorbance Data'!O2956-Calculations!L$1","v":0},{"$f":"'Absorbance Data'!P2956-Calculations!M$1","v":0},{"$f":"'Absorbance Data'!Q2956-Calculations!N$1","v":0},{"$f":"'Absorbance Data'!R2956-Calculations!O$1","v":0},{"$f":"'Absorbance Data'!S2956-Calculations!P$1","v":0},{"$f":"'Absorbance Data'!T2956-Calculations!Q$1","v":0},{"$f":"'Absorbance Data'!U2956-Calculations!R$1","v":0},{"$f":"'Absorbance Data'!V2956-Calculations!S$1","v":0},{"$f":"'Absorbance Data'!W2956-Calculations!T$1","v":0},{"$f":"'Absorbance Data'!X2956-Calculations!U$1","v":0},{"$f":"'Absorbance Data'!Y2956-Calculations!V$1","v":0},{"$f":"'Absorbance Data'!Z2956-Calculations!W$1","v":0}]
[{"$f":"'Absorbance Data'!D2957","v":500.55206298828125},{"$f":"'Absorbance Data'!E2957-Calculations!B$1","v":0},{"$f":"'Absorbance Data'!F2957-Calculations!C$1","v":0},{"$f":"'Absorbance Data'!G2957-Calculations!D$1","v":0},{"$f":"'Absorbance Data'!H2957-Calculations!E$1","v":0},{"$f":"'Absorbance Data'!I2957-Calculations!F$1","v":0},{"$f":"'Absorbance Data'!J2957-Calculations!G$1","v":0},{"$f":"'Absorbance Data'!K2957-Calculations!H$1","v":0},{"$f":"'Absorbance Data'!L2957-Calculations!I$1","v":0},{"$f":"'Absorbance Data'!M2957-Calculations!J$1","v":0},{"$f":"'Absorbance Data'!N2957-Calculations!K$1","v":0},{"$f":"'Absorbance Data'!O2957-Calculations!L$1","v":0},{"$f":"'Absorbance Data'!P2957-Calculations!M$1","v":0},{"$f":"'Absorbance Data'!Q2957-Calculations!N$1","v":0},{"$f":"'Absorbance Data'!R2957-Calculations!O$1","v":0},{"$f":"'Absorbance Data'!S2957-Calculations!P$1","v":0},{"$f":"'Absorbance Data'!T2957-Calculations!Q$1","v":0},{"$f":"'Absorbance Data'!U2957-Calculations!R$1","v":0},{"$f":"'Absorbance Data'!V2957-Calculations!S$1","v":0},{"$f":"'Absorbance Data'!W2957-Calculations!T$1","v":0},{"$f":"'Absorbance Data'!X2957-Calculations!U$1","v":0},{"$f":"'Absorbance Data'!Y2957-Calculations!V$1","v":0},{"$f":"'Absorbance Data'!Z2957-Calculations!W$1","v":0}]
[{"$f":"'Absorbance Data'!D2958","v":500.88433837890625},{"$f":"'Absorbance Data'!E2958-Calculations!B$1","v":0},{"$f":"'Absorbance Data'!F2958-Calculations!C$1","v":0},{"$f":"'Absorbance Data'!G2958-Calculations!D$1","v":0},{"$f":"'Absorbance Data'!H2958-Calculations!E$1","v":0},{"$f":"'Absorbance Data'!I2958-Calculations!F$1","v":0},{"$f":"'Absorbance Data'!J2958-Calculations!G$1","v":0},{"$f":"'Absorbance Data'!K2958-Calculations!H$1","v":0},{"$f":"'Absorbance Data'!L2958-Calculations!I$1","v":0},{"$f":"'Absorbance Data'!M2958-Calculations!J$1","v":0},{"$f":"'Absorbance Data'!N2958-Calculations!K$1","v":0},{"$f":"'Absorbance Data'!O2958-Calculations!L$1","v":0},{"$f":"'Absorbance Data'!P2958-Calculations!M$1","v":0},{"$f":"'Absorbance Data'!Q2958-Calculations!N$1","v":0},{"$f":"'Absorbance Data'!R2958-Calculations!O$1","v":0},{"$f":"'Absorbance Data'!S2958-Calculations!P$1","v":0},{"$f":"'Absorbance Data'!T2958-Calculations!Q$1","v":0},{"$f":"'Absorbance Data'!U2958-Calculations!R$1","v":0},{"$f":"'Absorbance Data'!V2958-Calculations!S$1","v":0},{"$f":"'Absorbance Data'!W2958-Calculations!T$1","v":0},{"$f":"'Absorbance Data'!X2958-Calculations!U$1","v":0},{"$f":"'Absorbance Data'!Y2958-Calculations!V$1","v":0},{"$f":"'Absorbance Data'!Z2958-Calculations!W$1","v":0}]
[{"$f":"'Absorbance Data'!D2959","v":501.21664428710938},{"$f":"'Absorbance Data'!E2959-Calculations!B$1","v":0},{"$f":"'Absorbance Data'!F2959-Calculations!C$1","v":0},{"$f":"'Absorbance Data'!G2959-Calculations!D$1","v":0},{"$f":"'Absorbance Data'!H2959-Calculations!E$1","v":0},{"$f":"'Absorbance Data'!I2959-Calculations!F$1","v":0},{"$f":"'Absorbance Data'!J2959-Calculations!G$1","v":0},{"$f":"'Absorbance Data'!K2959-Calculations!H$1","v":0},{"$f":"'Absorbance Data'!L2959-Calculations!I$1","v":0},{"$f":"'Absorbance Data'!M2959-Calculations!J$1","v":0},{"$f":"'Absorbance Data'!N2959-Calculations!K$1","v":0},{"$f":"'Absorbance Data'!O2959-Calculations!L$1","v":0},{"$f":"'Absorbance Data'!P2959-Calculations!M$1","v":0},{"$f":"'Absorbance Data'!Q2959-Calculations!N$1","v":0},{"$f":"'Absorbance Data'!R2959-Calculations!O$1","v":0},{"$f":"'Absorbance Data'!S2959-Calculations!P$1","v":0},{"$f":"'Absorbance Data'!T2959-Calculations!Q$1","v":0},{"$f":"'Absorbance Data'!U2959-Calculations!R$1","v":0},{"$f":"'Absorbance Data'!V2959-Calculations!S$1","v":0},{"$f":"'Absorbance Data'!W2959-Calculations!T$1","v":0},{"$f":"'Absorbance Data'!X2959-Calculations!U$1","v":0},{"$f":"'Absorbance Data'!Y2959-Calculations!V$1","v":0},{"$f":"'Absorbance Data'!Z2959-Calculations!W$1","v":0}]
[{"$f":"'Absorbance Data'!D2960","v":501.54879760742188},{"$f":"'Absorbance Data'!E2960-Calculations!B$1","v":0},{"$f":"'Absorbance Data'!F2960-Calculations!C$1","v":0},{"$f":"'Absorbance Data'!G2960-Calculations!D$1","v":0},{"$f":"'Absorbance Data'!H2960-Calculations!E$1","v":0},{"$f":"'Absorbance Data'!I2960-Calculations!F$1","v":0},{"$f":"'Absorbance Data'!J2960-Calculations!G$1","v":0},{"$f":"'Absorbance Data'!K2960-Calculations!H$1","v":0},{"$f":"'Absorbance Data'!L2960-Calculations!I$1","v":0},{"$f":"'Absorbance Data'!M2960-Calculations!J$1","v":0},{"$f":"'Absorbance Data'!N2960-Calculations!K$1","v":0},{"$f":"'Absorbance Data'!O2960-Calculations!L$1","v":0},{"$f":"'Absorbance Data'!P2960-Calculations!M$1","v":0},{"$f":"'Absorbance Data'!Q2960-Calculations!N$1","v":0},{"$f":"'Absorbance Data'!R2960-Calculations!O$1","v":0},{"$f":"'Absorbance Data'!S2960-Calculations!P$1","v":0},{"$f":"'Absorbance Data'!T2960-Calculations!Q$1","v":0},{"$f":"'Absorbance Data'!U2960-Calculations!R$1","v":0},{"$f":"'Absorbance Data'!V2960-Calculations!S$1","v":0},{"$f":"'Absorbance Data'!W2960-Calculations!T$1","v":0},{"$f":"'Absorbance Data'!X2960-Calculations!U$1","v":0},{"$f":"'Absorbance Data'!Y2960-Calculations!V$1","v":0},{"$f":"'Absorbance Data'!Z2960-Calculations!W$1","v":0}]
[{"$f":"'Absorbance Data'!D2961","v":501.88095092773438},{"$f":"'Absorbance Data'!E2961-Calculations!B$1","v":0},{"$f":"'Absorbance Data'!F2961-Calculations!C$1","v":0},{"$f":"'Absorbance Data'!G2961-Calculations!D$1","v":0},{"$f":"'Absorbance Data'!H2961-Calculations!E$1","v":0},{"$f":"'Absorbance Data'!I2961-Calculations!F$1","v":0},{"$f":"'Absorbance Data'!J2961-Calculations!G$1","v":0},{"$f":"'Absorbance Data'!K2961-Calculations!H$1","v":0},{"$f":"'Absorbance Data'!L2961-Calculations!I$1","v":0},{"$f":"'Absorbance Data'!M2961-Calculations!J$1","v":0},{"$f":"'Absorbance Data'!N2961-Calculations!K$1","v":0},{"$f":"'Absorbance Data'!O2961-Calculations!L$1","v":0},{"$f":"'Absorbance Data'!P2961-Calculations!M$1","v":0},{"$f":"'Absorbance Data'!Q2961-Calculations!N$1","v":0},{"$f":"'Absorbance Data'!R2961-Calculations!O$1","v":0},{"$f":"'Absorbance Data'!S2961-Calculations!P$1","v":0},{"$f":"'Absorbance Data'!T2961-Calculations!Q$1","v":0},{"$f":"'Absorbance Data'!U2961-Calculations!R$1","v":0},{"$f":"'Absorbance Data'!V2961-Calculations!S$1","v":0},{"$f":"'Absorbance Data'!W2961-Calculations!T$1","v":0},{"$f":"'Absorbance Data'!X2961-Calculations!U$1","v":0},{"$f":"'Absorbance Data'!Y2961-Calculations!V$1","v":0},{"$f":"'Absorbance Data'!Z2961-Calculations!W$1","v":0}]
[{"$f":"'Absorbance Data'!D2962","v":502.21310424804688},{"$f":"'Absorbance Data'!E2962-Calculations!B$1","v":0},{"$f":"'Absorbance Data'!F2962-Calculations!C$1","v":0},{"$f":"'Absorbance Data'!G2962-Calculations!D$1","v":0},{"$f":"'Absorbance Data'!H2962-Calculations!E$1","v":0},{"$f":"'Absorbance Data'!I2962-Calculations!F$1","v":0},{"$f":"'Absorbance Data'!J2962-Calculations!G$1","v":0},{"$f":"'Absorbance Data'!K2962-Calculations!H$1","v":0},{"$f":"'Absorbance Data'!L2962-Calculations!I$1","v":0},{"$f":"'Absorbance Data'!M2962-Calculations!J$1","v":0},{"$f":"'Absorbance Data'!N2962-Calculations!K$1","v":0},{"$f":"'Absorbance Data'!O2962-Calculations!L$1","v":0},{"$f":"'Absorbance Data'!P2962-Calculations!M$1","v":0},{"$f":"'Absorbance Data'!Q2962-Calculations!N$1","v":0},{"$f":"'Absorbance Data'!R2962-Calculations!O$1","v":0},{"$f":"'Absorbance Data'!S2962-Calculations!P$1","v":0},{"$f":"'Absorbance Data'!T2962-Calculations!Q$1","v":0},{"$f":"'Absorbance Data'!U2962-Calculations!R$1","v":0},{"$f":"'Absorbance Data'!V2962-Calculations!S$1","v":0},{"$f":"'Absorbance Data'!W2962-Calculations!T$1","v":0},{"$f":"'Absorbance Data'!X2962-Calculations!U$1","v":0},{"$f":"'Absorbance Data'!Y2962-Calculations!V$1","v":0},{"$f":"'Absorbance Data'!Z2962-Calculations!W$1","v":0}]
[{"$f":"'Absorbance Data'!D2963","v":502.54522705078125},{"$f":"'Absorbance Data'!E2963-Calculations!B$1","v":0},{"$f":"'Absorbance Data'!F2963-Calculations!C$1","v":0},{"$f":"'Absorbance Data'!G2963-Calculations!D$1","v":0},{"$f":"'Absorbance Data'!H2963-Calculations!E$1","v":0},{"$f":"'Absorbance Data'!I2963-Calculations!F$1","v":0},{"$f":"'Absorbance Data'!J2963-Calculations!G$1","v":0},{"$f":"'Absorbance Data'!K2963-Calculations!H$1","v":0},{"$f":"'Absorbance Data'!L2963-Calculations!I$1","v":0},{"$f":"'Absorbance Data'!M2963-Calculations!J$1","v":0},{"$f":"'Absorbance Data'!N2963-Calculations!K$1","v":0},{"$f":"'Absorbance Data'!O2963-Calculations!L$1","v":0},{"$f":"'Absorbance Data'!P2963-Calculations!M$1","v":0},{"$f":"'Absorbance Data'!Q2963-Calculations!N$1","v":0},{"$f":"'Absorbance Data'!R2963-Calculations!O$1","v":0},{"$f":"'Absorbance Data'!S2963-Calculations!P$1","v":0},{"$f":"'Absorbance Data'!T2963-Calculations!Q$1","v":0},{"$f":"'Absorbance Data'!U2963-Calculations!R$1","v":0},{"$f":"'Absorbance Data'!V2963-Calculations!S$1","v":0},{"$f":"'Absorbance Data'!W2963-Calculations!T$1","v":0},{"$f":"'Absorbance Data'!X2963-Calculations!U$1","v":0},{"$f":"'Absorbance Data'!Y2963-Calculations!V$1","v":0},{"$f":"'Absorbance Data'!Z2963-Calculations!W$1","v":0}]
[{"$f":"'Absorbance Data'!D2964","v":502.87722778320312},{"$f":"'Absorbance Data'!E2964-Calculations!B$1","v":0},{"$f":"'Absorbance Data'!F2964-Calculations!C$1","v":0},{"$f":"'Absorbance Data'!G2964-Calculations!D$1","v":0},{"$f":"'Absorbance Data'!H2964-Calculations!E$1","v":0},{"$f":"'Absorbance Data'!I2964-Calculations!F$1","v":0},{"$f":"'Absorbance Data'!J2964-Calculations!G$1","v":0},{"$f":"'Absorbance Data'!K2964-Calculations!H$1","v":0},{"$f":"'Absorbance Data'!L2964-Calculations!I$1","v":0},{"$f":"'Absorbance Data'!M2964-Calculations!J$1","v":0},{"$f":"'Absorbance Data'!N2964-Calculations!K$1","v":0},{"$f":"'Absorbance Data'!O2964-Calculations!L$1","v":0},{"$f":"'Absorbance Data'!P2964-Calculations!M$1","v":0},{"$f":"'Absorbance Data'!Q2964-Calculations!N$1","v":0},{"$f":"'Absorbance Data'!R2964-Calculations!O$1","v":0},{"$f":"'Absorbance Data'!S2964-Calculations!P$1","v":0},{"$f":"'Absorbance Data'!T2964-Calculations!Q$1","v":0},{"$f":"'Absorbance Data'!U2964-Calculations!R$1","v":0},{"$f":"'Absorbance Data'!V2964-Calculations!S$1","v":0},{"$f":"'Absorbance Data'!W2964-Calculations!T$1","v":0},{"$f":"'Absorbance Data'!X2964-Calculations!U$1","v":0},{"$f":"'Absorbance Data'!Y2964-Calculations!V$1","v":0},{"$f":"'Absorbance Data'!Z2964-Calculations!W$1","v":0}]
[{"$f":"'Absorbance Data'!D2965","v":503.209228515625},{"$f":"'Absorbance Data'!E2965-Calculations!B$1","v":0},{"$f":"'Absorbance Data'!F2965-Calculations!C$1","v":0},{"$f":"'Absorbance Data'!G2965-Calculations!D$1","v":0},{"$f":"'Absorbance Data'!H2965-Calculations!E$1","v":0},{"$f":"'Absorbance Data'!I2965-Calculations!F$1","v":0},{"$f":"'Absorbance Data'!J2965-Calculations!G$1","v":0},{"$f":"'Absorbance Data'!K2965-Calculations!H$1","v":0},{"$f":"'Absorbance Data'!L2965-Calculations!I$1","v":0},{"$f":"'Absorbance Data'!M2965-Calculations!J$1","v":0},{"$f":"'Absorbance Data'!N2965-Calculations!K$1","v":0},{"$f":"'Absorbance Data'!O2965-Calculations!L$1","v":0},{"$f":"'Absorbance Data'!P2965-Calculations!M$1","v":0},{"$f":"'Absorbance Data'!Q2965-Calculations!N$1","v":0},{"$f":"'Absorbance Data'!R2965-Calculations!O$1","v":0},{"$f":"'Absorbance Data'!S2965-Calculations!P$1","v":0},{"$f":"'Absorbance Data'!T2965-Calculations!Q$1","v":0},{"$f":"'Absorbance Data'!U2965-Calculations!R$1","v":0},{"$f":"'Absorbance Data'!V2965-Calculations!S$1","v":0},{"$f":"'Absorbance Data'!W2965-Calculations!T$1","v":0},{"$f":"'Absorbance Data'!X2965-Calculations!U$1","v":0},{"$f":"'Absorbance Data'!Y2965-Calculations!V$1","v":0},{"$f":"'Absorbance Data'!Z2965-Calculations!W$1","v":0}]
[{"$f":"'Absorbance Data'!D2966","v":503.54122924804688},{"$f":"'Absorbance Data'!E2966-Calculations!B$1","v":0},{"$f":"'Absorbance Data'!F2966-Calculations!C$1","v":0},{"$f":"'Absorbance Data'!G2966-Calculations!D$1","v":0},{"$f":"'Absorbance Data'!H2966-Calculations!E$1","v":0},{"$f":"'Absorbance Data'!I2966-Calculations!F$1","v":0},{"$f":"'Absorbance Data'!J2966-Calculations!G$1","v":0},{"$f":"'Absorbance Data'!K2966-Calculations!H$1","v":0},{"$f":"'Absorbance Data'!L2966-Calculations!I$1","v":0},{"$f":"'Absorbance Data'!M2966-Calculations!J$1","v":0},{"$f":"'Absorbance Data'!N2966-Calculations!K$1","v":0},{"$f":"'Absorbance Data'!O2966-Calculations!L$1","v":0},{"$f":"'Absorbance Data'!P2966-Calculations!M$1","v":0},{"$f":"'Absorbance Data'!Q2966-Calculations!N$1","v":0},{"$f":"'Absorbance Data'!R2966-Calculations!O$1","v":0},{"$f":"'Absorbance Data'!S2966-Calculations!P$1","v":0},{"$f":"'Absorbance Data'!T2966-Calculations!Q$1","v":0},{"$f":"'Absorbance Data'!U2966-Calculations!R$1","v":0},{"$f":"'Absorbance Data'!V2966-Calculations!S$1","v":0},{"$f":"'Absorbance Data'!W2966-Calculations!T$1","v":0},{"$f":"'Absorbance Data'!X2966-Calculations!U$1","v":0},{"$f":"'Absorbance Data'!Y2966-Calculations!V$1","v":0},{"$f":"'Absorbance Data'!Z2966-Calculations!W$1","v":0}]
[{"$f":"'Absorbance Data'!D2967","v":503.87319946289062},{"$f":"'Absorbance Data'!E2967-Calculations!B$1","v":0},{"$f":"'Absorbance Data'!F2967-Calculations!C$1","v":0},{"$f":"'Absorbance Data'!G2967-Calculations!D$1","v":0},{"$f":"'Absorbance Data'!H2967-Calculations!E$1","v":0},{"$f":"'Absorbance Data'!I2967-Calculations!F$1","v":0},{"$f":"'Absorbance Data'!J2967-Calculations!G$1","v":0},{"$f":"'Absorbance Data'!K2967-Calculations!H$1","v":0},{"$f":"'Absorbance Data'!L2967-Calculations!I$1","v":0},{"$f":"'Absorbance Data'!M2967-Calculations!J$1","v":0},{"$f":"'Absorbance Data'!N2967-Calculations!K$1","v":0},{"$f":"'Absorbance Data'!O2967-Calculations!L$1","v":0},{"$f":"'Absorbance Data'!P2967-Calculations!M$1","v":0},{"$f":"'Absorbance Data'!Q2967-Calculations!N$1","v":0},{"$f":"'Absorbance Data'!R2967-Calculations!O$1","v":0},{"$f":"'Absorbance Data'!S2967-Calculations!P$1","v":0},{"$f":"'Absorbance Data'!T2967-Calculations!Q$1","v":0},{"$f":"'Absorbance Data'!U2967-Calculations!R$1","v":0},{"$f":"'Absorbance Data'!V2967-Calculations!S$1","v":0},{"$f":"'Absorbance Data'!W2967-Calculations!T$1","v":0},{"$f":"'Absorbance Data'!X2967-Calculations!U$1","v":0},{"$f":"'Absorbance Data'!Y2967-Calculations!V$1","v":0},{"$f":"'Absorbance Data'!Z2967-Calculations!W$1","v":0}]
[{"$f":"'Absorbance Data'!D2968","v":504.205078125},{"$f":"'Absorbance Data'!E2968-Calculations!B$1","v":0},{"$f":"'Absorbance Data'!F2968-Calculations!C$1","v":0},{"$f":"'Absorbance Data'!G2968-Calculations!D$1","v":0},{"$f":"'Absorbance Data'!H2968-Calculations!E$1","v":0},{"$f":"'Absorbance Data'!I2968-Calculations!F$1","v":0},{"$f":"'Absorbance Data'!J2968-Calculations!G$1","v":0},{"$f":"'Absorbance Data'!K2968-Calculations!H$1","v":0},{"$f":"'Absorbance Data'!L2968-Calculations!I$1","v":0},{"$f":"'Absorbance Data'!M2968-Calculations!J$1","v":0},{"$f":"'Absorbance Data'!N2968-Calculations!K$1","v":0},{"$f":"'Absorbance Data'!O2968-Calculations!L$1","v":0},{"$f":"'Absorbance Data'!P2968-Calculations!M$1","v":0},{"$f":"'Absorbance Data'!Q2968-Calculations!N$1","v":0},{"$f":"'Absorbance Data'!R2968-Calculations!O$1","v":0},{"$f":"'Absorbance Data'!S2968-Calculations!P$1","v":0},{"$f":"'Absorbance Data'!T2968-Calculations!Q$1","v":0},{"$f":"'Absorbance Data'!U2968-Calculations!R$1","v":0},{"$f":"'Absorbance Data'!V2968-Calculations!S$1","v":0},{"$f":"'Absorbance Data'!W2968-Calculations!T$1","v":0},{"$f":"'Absorbance Data'!X2968-Calculations!U$1","v":0},{"$f":"'Absorbance Data'!Y2968-Calculations!V$1","v":0},{"$f":"'Absorbance Data'!Z2968-Calculations!W$1","v":0}]
[{"$f":"'Absorbance Data'!D2969","v":504.53692626953125},{"$f":"'Absorbance Data'!E2969-Calculations!B$1","v":0},{"$f":"'Absorbance Data'!F2969-Calculations!C$1","v":0},{"$f":"'Absorbance Data'!G2969-Calculations!D$1","v":0},{"$f":"'Absorbance Data'!H2969-Calculations!E$1","v":0},{"$f":"'Absorbance Data'!I2969-Calculations!F$1","v":0},{"$f":"'Absorbance Data'!J2969-Calculations!G$1","v":0},{"$f":"'Absorbance Data'!K2969-Calculations!H$1","v":0},{"$f":"'Absorbance Data'!L2969-Calculations!I$1","v":0},{"$f":"'Absorbance Data'!M2969-Calculations!J$1","v":0},{"$f":"'Absorbance Data'!N2969-Calculations!K$1","v":0},{"$f":"'Absorbance Data'!O2969-Calculations!L$1","v":0},{"$f":"'Absorbance Data'!P2969-Calculations!M$1","v":0},{"$f":"'Absorbance Data'!Q2969-Calculations!N$1","v":0},{"$f":"'Absorbance Data'!R2969-Calculations!O$1","v":0},{"$f":"'Absorbance Data'!S2969-Calculations!P$1","v":0},{"$f":"'Absorbance Data'!T2969-Calculations!Q$1","v":0},{"$f":"'Absorbance Data'!U2969-Calculations!R$1","v":0},{"$f":"'Absorbance Data'!V2969-Calculations!S$1","v":0},{"$f":"'Absorbance Data'!W2969-Calculations!T$1","v":0},{"$f":"'Absorbance Data'!X2969-Calculations!U$1","v":0},{"$f":"'Absorbance Data'!Y2969-Calculations!V$1","v":0},{"$f":"'Absorbance Data'!Z2969-Calculations!W$1","v":0}]
[{"$f":"'Absorbance Data'!D2970","v":504.8687744140625},{"$f":"'Absorbance Data'!E2970-Calculations!B$1","v":0},{"$f":"'Absorbance Data'!F2970-Calculations!C$1","v":0},{"$f":"'Absorbance Data'!G2970-Calculations!D$1","v":0},{"$f":"'Absorbance Data'!H2970-Calculations!E$1","v":0},{"$f":"'Absorbance Data'!I2970-Calculations!F$1","v":0},{"$f":"'Absorbance Data'!J2970-Calculations!G$1","v":0},{"$f":"'Absorbance Data'!K2970-Calculations!H$1","v":0},{"$f":"'Absorbance Data'!L2970-Calculations!I$1","v":0},{"$f":"'Absorbance Data'!M2970-Calculations!J$1","v":0},{"$f":"'Absorbance Data'!N2970-Calculations!K$1","v":0},{"$f":"'Absorbance Data'!O2970-Calculations!L$1","v":0},{"$f":"'Absorbance Data'!P2970-Calculations!M$1","v":0},{"$f":"'Absorbance Data'!Q2970-Calculations!N$1","v":0},{"$f":"'Absorbance Data'!R2970-Calculations!O$1","v":0},{"$f":"'Absorbance Data'!S2970-Calculations!P$1","v":0},{"$f":"'Absorbance Data'!T2970-Calculations!Q$1","v":0},{"$f":"'Absorbance Data'!U2970-Calculations!R$1","v":0},{"$f":"'Absorbance Data'!V2970-Calculations!S$1","v":0},{"$f":"'Absorbance Data'!W2970-Calculations!T$1","v":0},{"$f":"'Absorbance Data'!X2970-Calculations!U$1","v":0},{"$f":"'Absorbance Data'!Y2970-Calculations!V$1","v":0},{"$f":"'Absorbance Data'!Z2970-Calculations!W$1","v":0}]
[{"$f":"'Absorbance Data'!D2971","v":505.20062255859375},{"$f":"'Absorbance Data'!E2971-Calculations!B$1","v":0},{"$f":"'Absorbance Data'!F2971-Calculations!C$1","v":0},{"$f":"'Absorbance Data'!G2971-Calculations!D$1","v":0},{"$f":"'Absorbance Data'!H2971-Calculations!E$1","v":0},{"$f":"'Absorbance Data'!I2971-Calculations!F$1","v":0},{"$f":"'Absorbance Data'!J2971-Calculations!G$1","v":0},{"$f":"'Absorbance Data'!K2971-Calculations!H$1","v":0},{"$f":"'Absorbance Data'!L2971-Calculations!I$1","v":0},{"$f":"'Absorbance Data'!M2971-Calculations!J$1","v":0},{"$f":"'Absorbance Data'!N2971-Calculations!K$1","v":0},{"$f":"'Absorbance Data'!O2971-Calculations!L$1","v":0},{"$f":"'Absorbance Data'!P2971-Calculations!M$1","v":0},{"$f":"'Absorbance Data'!Q2971-Calculations!N$1","v":0},{"$f":"'Absorbance Data'!R2971-Calculations!O$1","v":0},{"$f":"'Absorbance Data'!S2971-Calculations!P$1","v":0},{"$f":"'Absorbance Data'!T2971-Calculations!Q$1","v":0},{"$f":"'Absorbance Data'!U2971-Calculations!R$1","v":0},{"$f":"'Absorbance Data'!V2971-Calculations!S$1","v":0},{"$f":"'Absorbance Data'!W2971-Calculations!T$1","v":0},{"$f":"'Absorbance Data'!X2971-Calculations!U$1","v":0},{"$f":"'Absorbance Data'!Y2971-Calculations!V$1","v":0},{"$f":"'Absorbance Data'!Z2971-Calculations!W$1","v":0}]
[{"$f":"'Absorbance Data'!D2972","v":505.53231811523438},{"$f":"'Absorbance Data'!E2972-Calculations!B$1","v":0},{"$f":"'Absorbance Data'!F2972-Calculations!C$1","v":0},{"$f":"'Absorbance Data'!G2972-Calculations!D$1","v":0},{"$f":"'Absorbance Data'!H2972-Calculations!E$1","v":0},{"$f":"'Absorbance Data'!I2972-Calculations!F$1","v":0},{"$f":"'Absorbance Data'!J2972-Calculations!G$1","v":0},{"$f":"'Absorbance Data'!K2972-Calculations!H$1","v":0},{"$f":"'Absorbance Data'!L2972-Calculations!I$1","v":0},{"$f":"'Absorbance Data'!M2972-Calculations!J$1","v":0},{"$f":"'Absorbance Data'!N2972-Calculations!K$1","v":0},{"$f":"'Absorbance Data'!O2972-Calculations!L$1","v":0},{"$f":"'Absorbance Data'!P2972-Calculations!M$1","v":0},{"$f":"'Absorbance Data'!Q2972-Calculations!N$1","v":0},{"$f":"'Absorbance Data'!R2972-Calculations!O$1","v":0},{"$f":"'Absorbance Data'!S2972-Calculations!P$1","v":0},{"$f":"'Absorbance Data'!T2972-Calculations!Q$1","v":0},{"$f":"'Absorbance Data'!U2972-Calculations!R$1","v":0},{"$f":"'Absorbance Data'!V2972-Calculations!S$1","v":0},{"$f":"'Absorbance Data'!W2972-Calculations!T$1","v":0},{"$f":"'Absorbance Data'!X2972-Calculations!U$1","v":0},{"$f":"'Absorbance Data'!Y2972-Calculations!V$1","v":0},{"$f":"'Absorbance Data'!Z2972-Calculations!W$1","v":0}]
[{"$f":"'Absorbance Data'!D2973","v":505.86404418945312},{"$f":"'Absorbance Data'!E2973-Calculations!B$1","v":0},{"$f":"'Absorbance Data'!F2973-Calculations!C$1","v":0},{"$f":"'Absorbance Data'!G2973-Calculations!D$1","v":0},{"$f":"'Absorbance Data'!H2973-Calculations!E$1","v":0},{"$f":"'Absorbance Data'!I2973-Calculations!F$1","v":0},{"$f":"'Absorbance Data'!J2973-Calculations!G$1","v":0},{"$f":"'Absorbance Data'!K2973-Calculations!H$1","v":0},{"$f":"'Absorbance Data'!L2973-Calculations!I$1","v":0},{"$f":"'Absorbance Data'!M2973-Calculations!J$1","v":0},{"$f":"'Absorbance Data'!N2973-Calculations!K$1","v":0},{"$f":"'Absorbance Data'!O2973-Calculations!L$1","v":0},{"$f":"'Absorbance Data'!P2973-Calculations!M$1","v":0},{"$f":"'Absorbance Data'!Q2973-Calculations!N$1","v":0},{"$f":"'Absorbance Data'!R2973-Calculations!O$1","v":0},{"$f":"'Absorbance Data'!S2973-Calculations!P$1","v":0},{"$f":"'Absorbance Data'!T2973-Calculations!Q$1","v":0},{"$f":"'Absorbance Data'!U2973-Calculations!R$1","v":0},{"$f":"'Absorbance Data'!V2973-Calculations!S$1","v":0},{"$f":"'Absorbance Data'!W2973-Calculations!T$1","v":0},{"$f":"'Absorbance Data'!X2973-Calculations!U$1","v":0},{"$f":"'Absorbance Data'!Y2973-Calculations!V$1","v":0},{"$f":"'Absorbance Data'!Z2973-Calculations!W$1","v":0}]
[{"$f":"'Absorbance Data'!D2974","v":506.19573974609375},{"$f":"'Absorbance Data'!E2974-Calculations!B$1","v":0},{"$f":"'Absorbance Data'!F2974-Calculations!C$1","v":0},{"$f":"'Absorbance Data'!G2974-Calculations!D$1","v":0},{"$f":"'Absorbance Data'!H2974-Calculations!E$1","v":0},{"$f":"'Absorbance Data'!I2974-Calculations!F$1","v":0},{"$f":"'Absorbance Data'!J2974-Calculations!G$1","v":0},{"$f":"'Absorbance Data'!K2974-Calculations!H$1","v":0},{"$f":"'Absorbance Data'!L2974-Calculations!I$1","v":0},{"$f":"'Absorbance Data'!M2974-Calculations!J$1","v":0},{"$f":"'Absorbance Data'!N2974-Calculations!K$1","v":0},{"$f":"'Absorbance Data'!O2974-Calculations!L$1","v":0},{"$f":"'Absorbance Data'!P2974-Calculations!M$1","v":0},{"$f":"'Absorbance Data'!Q2974-Calculations!N$1","v":0},{"$f":"'Absorbance Data'!R2974-Calculations!O$1","v":0},{"$f":"'Absorbance Data'!S2974-Calculations!P$1","v":0},{"$f":"'Absorbance Data'!T2974-Calculations!Q$1","v":0},{"$f":"'Absorbance Data'!U2974-Calculations!R$1","v":0},{"$f":"'Absorbance Data'!V2974-Calculations!S$1","v":0},{"$f":"'Absorbance Data'!W2974-Calculations!T$1","v":0},{"$f":"'Absorbance Data'!X2974-Calculations!U$1","v":0},{"$f":"'Absorbance Data'!Y2974-Calculations!V$1","v":0},{"$f":"'Absorbance Data'!Z2974-Calculations!W$1","v":0}]
[{"$f":"'Absorbance Data'!D2975","v":506.52743530273438},{"$f":"'Absorbance Data'!E2975-Calculations!B$1","v":0},{"$f":"'Absorbance Data'!F2975-Calculations!C$1","v":0},{"$f":"'Absorbance Data'!G2975-Calculations!D$1","v":0},{"$f":"'Absorbance Data'!H2975-Calculations!E$1","v":0},{"$f":"'Absorbance Data'!I2975-Calculations!F$1","v":0},{"$f":"'Absorbance Data'!J2975-Calculations!G$1","v":0},{"$f":"'Absorbance Data'!K2975-Calculations!H$1","v":0},{"$f":"'Absorbance Data'!L2975-Calculations!I$1","v":0},{"$f":"'Absorbance Data'!M2975-Calculations!J$1","v":0},{"$f":"'Absorbance Data'!N2975-Calculations!K$1","v":0},{"$f":"'Absorbance Data'!O2975-Calculations!L$1","v":0},{"$f":"'Absorbance Data'!P2975-Calculations!M$1","v":0},{"$f":"'Absorbance Data'!Q2975-Calculations!N$1","v":0},{"$f":"'Absorbance Data'!R2975-Calculations!O$1","v":0},{"$f":"'Absorbance Data'!S2975-Calculations!P$1","v":0},{"$f":"'Absorbance Data'!T2975-Calculations!Q$1","v":0},{"$f":"'Absorbance Data'!U2975-Calculations!R$1","v":0},{"$f":"'Absorbance Data'!V2975-Calculations!S$1","v":0},{"$f":"'Absorbance Data'!W2975-Calculations!T$1","v":0},{"$f":"'Absorbance Data'!X2975-Calculations!U$1","v":0},{"$f":"'Absorbance Data'!Y2975-Calculations!V$1","v":0},{"$f":"'Absorbance Data'!Z2975-Calculations!W$1","v":0}]
[{"$f":"'Absorbance Data'!D2976","v":506.8590087890625},{"$f":"'Absorbance Data'!E2976-Calculations!B$1","v":0},{"$f":"'Absorbance Data'!F2976-Calculations!C$1","v":0},{"$f":"'Absorbance Data'!G2976-Calculations!D$1","v":0},{"$f":"'Absorbance Data'!H2976-Calculations!E$1","v":0},{"$f":"'Absorbance Data'!I2976-Calculations!F$1","v":0},{"$f":"'Absorbance Data'!J2976-Calculations!G$1","v":0},{"$f":"'Absorbance Data'!K2976-Calculations!H$1","v":0},{"$f":"'Absorbance Data'!L2976-Calculations!I$1","v":0},{"$f":"'Absorbance Data'!M2976-Calculations!J$1","v":0},{"$f":"'Absorbance Data'!N2976-Calculations!K$1","v":0},{"$f":"'Absorbance Data'!O2976-Calculations!L$1","v":0},{"$f":"'Absorbance Data'!P2976-Calculations!M$1","v":0},{"$f":"'Absorbance Data'!Q2976-Calculations!N$1","v":0},{"$f":"'Absorbance Data'!R2976-Calculations!O$1","v":0},{"$f":"'Absorbance Data'!S2976-Calculations!P$1","v":0},{"$f":"'Absorbance Data'!T2976-Calculations!Q$1","v":0},{"$f":"'Absorbance Data'!U2976-Calculations!R$1","v":0},{"$f":"'Absorbance Data'!V2976-Calculations!S$1","v":0},{"$f":"'Absorbance Data'!W2976-Calculations!T$1","v":0},{"$f":"'Absorbance Data'!X2976-Calculations!U$1","v":0},{"$f":"'Absorbance Data'!Y2976-Calculations!V$1","v":0},{"$f":"'Absorbance Data'!Z2976-Calculations!W$1","v":0}]
[{"$f":"'Absorbance Data'!D2977","v":507.1905517578125},{"$f":"'Absorbance Data'!E2977-Calculations!B$1","v":0},{"$f":"'Absorbance Data'!F2977-Calculations!C$1","v":0},{"$f":"'Absorbance Data'!G2977-Calculations!D$1","v":0},{"$f":"'Absorbance Data'!H2977-Calculations!E$1","v":0},{"$f":"'Absorbance Data'!I2977-Calculations!F$1","v":0},{"$f":"'Absorbance Data'!J2977-Calculations!G$1","v":0},{"$f":"'Absorbance Data'!K2977-Calculations!H$1","v":0},{"$f":"'Absorbance Data'!L2977-Calculations!I$1","v":0},{"$f":"'Absorbance Data'!M2977-Calculations!J$1","v":0},{"$f":"'Absorbance Data'!N2977-Calculations!K$1","v":0},{"$f":"'Absorbance Data'!O2977-Calculations!L$1","v":0},{"$f":"'Absorbance Data'!P2977-Calculations!M$1","v":0},{"$f":"'Absorbance Data'!Q2977-Calculations!N$1","v":0},{"$f":"'Absorbance Data'!R2977-Calculations!O$1","v":0},{"$f":"'Absorbance Data'!S2977-Calculations!P$1","v":0},{"$f":"'Absorbance Data'!T2977-Calculations!Q$1","v":0},{"$f":"'Absorbance Data'!U2977-Calculations!R$1","v":0},{"$f":"'Absorbance Data'!V2977-Calculations!S$1","v":0},{"$f":"'Absorbance Data'!W2977-Calculations!T$1","v":0},{"$f":"'Absorbance Data'!X2977-Calculations!U$1","v":0},{"$f":"'Absorbance Data'!Y2977-Calculations!V$1","v":0},{"$f":"'Absorbance Data'!Z2977-Calculations!W$1","v":0}]
[{"$f":"'Absorbance Data'!D2978","v":507.52212524414062},{"$f":"'Absorbance Data'!E2978-Calculations!B$1","v":0},{"$f":"'Absorbance Data'!F2978-Calculations!C$1","v":0},{"$f":"'Absorbance Data'!G2978-Calculations!D$1","v":0},{"$f":"'Absorbance Data'!H2978-Calculations!E$1","v":0},{"$f":"'Absorbance Data'!I2978-Calculations!F$1","v":0},{"$f":"'Absorbance Data'!J2978-Calculations!G$1","v":0},{"$f":"'Absorbance Data'!K2978-Calculations!H$1","v":0},{"$f":"'Absorbance Data'!L2978-Calculations!I$1","v":0},{"$f":"'Absorbance Data'!M2978-Calculations!J$1","v":0},{"$f":"'Absorbance Data'!N2978-Calculations!K$1","v":0},{"$f":"'Absorbance Data'!O2978-Calculations!L$1","v":0},{"$f":"'Absorbance Data'!P2978-Calculations!M$1","v":0},{"$f":"'Absorbance Data'!Q2978-Calculations!N$1","v":0},{"$f":"'Absorbance Data'!R2978-Calculations!O$1","v":0},{"$f":"'Absorbance Data'!S2978-Calculations!P$1","v":0},{"$f":"'Absorbance Data'!T2978-Calculations!Q$1","v":0},{"$f":"'Absorbance Data'!U2978-Calculations!R$1","v":0},{"$f":"'Absorbance Data'!V2978-Calculations!S$1","v":0},{"$f":"'Absorbance Data'!W2978-Calculations!T$1","v":0},{"$f":"'Absorbance Data'!X2978-Calculations!U$1","v":0},{"$f":"'Absorbance Data'!Y2978-Calculations!V$1","v":0},{"$f":"'Absorbance Data'!Z2978-Calculations!W$1","v":0}]
[{"$f":"'Absorbance Data'!D2979","v":507.8536376953125},{"$f":"'Absorbance Data'!E2979-Calculations!B$1","v":0},{"$f":"'Absorbance Data'!F2979-Calculations!C$1","v":0},{"$f":"'Absorbance Data'!G2979-Calculations!D$1","v":0},{"$f":"'Absorbance Data'!H2979-Calculations!E$1","v":0},{"$f":"'Absorbance Data'!I2979-Calculations!F$1","v":0},{"$f":"'Absorbance Data'!J2979-Calculations!G$1","v":0},{"$f":"'Absorbance Data'!K2979-Calculations!H$1","v":0},{"$f":"'Absorbance Data'!L2979-Calculations!I$1","v":0},{"$f":"'Absorbance Data'!M2979-Calculations!J$1","v":0},{"$f":"'Absorbance Data'!N2979-Calculations!K$1","v":0},{"$f":"'Absorbance Data'!O2979-Calculations!L$1","v":0},{"$f":"'Absorbance Data'!P2979-Calculations!M$1","v":0},{"$f":"'Absorbance Data'!Q2979-Calculations!N$1","v":0},{"$f":"'Absorbance Data'!R2979-Calculations!O$1","v":0},{"$f":"'Absorbance Data'!S2979-Calculations!P$1","v":0},{"$f":"'Absorbance Data'!T2979-Calculations!Q$1","v":0},{"$f":"'Absorbance Data'!U2979-Calculations!R$1","v":0},{"$f":"'Absorbance Data'!V2979-Calculations!S$1","v":0},{"$f":"'Absorbance Data'!W2979-Calculations!T$1","v":0},{"$f":"'Absorbance Data'!X2979-Calculations!U$1","v":0},{"$f":"'Absorbance Data'!Y2979-Calculations!V$1","v":0},{"$f":"'Absorbance Data'!Z2979-Calculations!W$1","v":0}]
[{"$f":"'Absorbance Data'!D2980","v":508.18505859375},{"$f":"'Absorbance Data'!E2980-Calculations!B$1","v":0},{"$f":"'Absorbance Data'!F2980-Calculations!C$1","v":0},{"$f":"'Absorbance Data'!G2980-Calculations!D$1","v":0},{"$f":"'Absorbance Data'!H2980-Calculations!E$1","v":0},{"$f":"'Absorbance Data'!I2980-Calculations!F$1","v":0},{"$f":"'Absorbance Data'!J2980-Calculations!G$1","v":0},{"$f":"'Absorbance Data'!K2980-Calculations!H$1","v":0},{"$f":"'Absorbance Data'!L2980-Calculations!I$1","v":0},{"$f":"'Absorbance Data'!M2980-Calculations!J$1","v":0},{"$f":"'Absorbance Data'!N2980-Calculations!K$1","v":0},{"$f":"'Absorbance Data'!O2980-Calculations!L$1","v":0},{"$f":"'Absorbance Data'!P2980-Calculations!M$1","v":0},{"$f":"'Absorbance Data'!Q2980-Calculations!N$1","v":0},{"$f":"'Absorbance Data'!R2980-Calculations!O$1","v":0},{"$f":"'Absorbance Data'!S2980-Calculations!P$1","v":0},{"$f":"'Absorbance Data'!T2980-Calculations!Q$1","v":0},{"$f":"'Absorbance Data'!U2980-Calculations!R$1","v":0},{"$f":"'Absorbance Data'!V2980-Calculations!S$1","v":0},{"$f":"'Absorbance Data'!W2980-Calculations!T$1","v":0},{"$f":"'Absorbance Data'!X2980-Calculations!U$1","v":0},{"$f":"'Absorbance Data'!Y2980-Calculations!V$1","v":0},{"$f":"'Absorbance Data'!Z2980-Calculations!W$1","v":0}]
[{"$f":"'Absorbance Data'!D2981","v":508.51654052734375},{"$f":"'Absorbance Data'!E2981-Calculations!B$1","v":0},{"$f":"'Absorbance Data'!F2981-Calculations!C$1","v":0},{"$f":"'Absorbance Data'!G2981-Calculations!D$1","v":0},{"$f":"'Absorbance Data'!H2981-Calculations!E$1","v":0},{"$f":"'Absorbance Data'!I2981-Calculations!F$1","v":0},{"$f":"'Absorbance Data'!J2981-Calculations!G$1","v":0},{"$f":"'Absorbance Data'!K2981-Calculations!H$1","v":0},{"$f":"'Absorbance Data'!L2981-Calculations!I$1","v":0},{"$f":"'Absorbance Data'!M2981-Calculations!J$1","v":0},{"$f":"'Absorbance Data'!N2981-Calculations!K$1","v":0},{"$f":"'Absorbance Data'!O2981-Calculations!L$1","v":0},{"$f":"'Absorbance Data'!P2981-Calculations!M$1","v":0},{"$f":"'Absorbance Data'!Q2981-Calculations!N$1","v":0},{"$f":"'Absorbance Data'!R2981-Calculations!O$1","v":0},{"$f":"'Absorbance Data'!S2981-Calculations!P$1","v":0},{"$f":"'Absorbance Data'!T2981-Calculations!Q$1","v":0},{"$f":"'Absorbance Data'!U2981-Calculations!R$1","v":0},{"$f":"'Absorbance Data'!V2981-Calculations!S$1","v":0},{"$f":"'Absorbance Data'!W2981-Calculations!T$1","v":0},{"$f":"'Absorbance Data'!X2981-Calculations!U$1","v":0},{"$f":"'Absorbance Data'!Y2981-Calculations!V$1","v":0},{"$f":"'Absorbance Data'!Z2981-Calculations!W$1","v":0}]
[{"$f":"'Absorbance Data'!D2982","v":508.84786987304688},{"$f":"'Absorbance Data'!E2982-Calculations!B$1","v":0},{"$f":"'Absorbance Data'!F2982-Calculations!C$1","v":0},{"$f":"'Absorbance Data'!G2982-Calculations!D$1","v":0},{"$f":"'Absorbance Data'!H2982-Calculations!E$1","v":0},{"$f":"'Absorbance Data'!I2982-Calculations!F$1","v":0},{"$f":"'Absorbance Data'!J2982-Calculations!G$1","v":0},{"$f":"'Absorbance Data'!K2982-Calculations!H$1","v":0},{"$f":"'Absorbance Data'!L2982-Calculations!I$1","v":0},{"$f":"'Absorbance Data'!M2982-Calculations!J$1","v":0},{"$f":"'Absorbance Data'!N2982-Calculations!K$1","v":0},{"$f":"'Absorbance Data'!O2982-Calculations!L$1","v":0},{"$f":"'Absorbance Data'!P2982-Calculations!M$1","v":0},{"$f":"'Absorbance Data'!Q2982-Calculations!N$1","v":0},{"$f":"'Absorbance Data'!R2982-Calculations!O$1","v":0},{"$f":"'Absorbance Data'!S2982-Calculations!P$1","v":0},{"$f":"'Absorbance Data'!T2982-Calculations!Q$1","v":0},{"$f":"'Absorbance Data'!U2982-Calculations!R$1","v":0},{"$f":"'Absorbance Data'!V2982-Calculations!S$1","v":0},{"$f":"'Absorbance Data'!W2982-Calculations!T$1","v":0},{"$f":"'Absorbance Data'!X2982-Calculations!U$1","v":0},{"$f":"'Absorbance Data'!Y2982-Calculations!V$1","v":0},{"$f":"'Absorbance Data'!Z2982-Calculations!W$1","v":0}]
[{"$f":"'Absorbance Data'!D2983","v":509.17929077148438},{"$f":"'Absorbance Data'!E2983-Calculations!B$1","v":0},{"$f":"'Absorbance Data'!F2983-Calculations!C$1","v":0},{"$f":"'Absorbance Data'!G2983-Calculations!D$1","v":0},{"$f":"'Absorbance Data'!H2983-Calculations!E$1","v":0},{"$f":"'Absorbance Data'!I2983-Calculations!F$1","v":0},{"$f":"'Absorbance Data'!J2983-Calculations!G$1","v":0},{"$f":"'Absorbance Data'!K2983-Calculations!H$1","v":0},{"$f":"'Absorbance Data'!L2983-Calculations!I$1","v":0},{"$f":"'Absorbance Data'!M2983-Calculations!J$1","v":0},{"$f":"'Absorbance Data'!N2983-Calculations!K$1","v":0},{"$f":"'Absorbance Data'!O2983-Calculations!L$1","v":0},{"$f":"'Absorbance Data'!P2983-Calculations!M$1","v":0},{"$f":"'Absorbance Data'!Q2983-Calculations!N$1","v":0},{"$f":"'Absorbance Data'!R2983-Calculations!O$1","v":0},{"$f":"'Absorbance Data'!S2983-Calculations!P$1","v":0},{"$f":"'Absorbance Data'!T2983-Calculations!Q$1","v":0},{"$f":"'Absorbance Data'!U2983-Calculations!R$1","v":0},{"$f":"'Absorbance Data'!V2983-Calculations!S$1","v":0},{"$f":"'Absorbance Data'!W2983-Calculations!T$1","v":0},{"$f":"'Absorbance Data'!X2983-Calculations!U$1","v":0},{"$f":"'Absorbance Data'!Y2983-Calculations!V$1","v":0},{"$f":"'Absorbance Data'!Z2983-Calculations!W$1","v":0}]
[{"$f":"'Absorbance Data'!D2984","v":509.5106201171875},{"$f":"'Absorbance Data'!E2984-Calculations!B$1","v":0},{"$f":"'Absorbance Data'!F2984-Calculations!C$1","v":0},{"$f":"'Absorbance Data'!G2984-Calculations!D$1","v":0},{"$f":"'Absorbance Data'!H2984-Calculations!E$1","v":0},{"$f":"'Absorbance Data'!I2984-Calculations!F$1","v":0},{"$f":"'Absorbance Data'!J2984-Calculations!G$1","v":0},{"$f":"'Absorbance Data'!K2984-Calculations!H$1","v":0},{"$f":"'Absorbance Data'!L2984-Calculations!I$1","v":0},{"$f":"'Absorbance Data'!M2984-Calculations!J$1","v":0},{"$f":"'Absorbance Data'!N2984-Calculations!K$1","v":0},{"$f":"'Absorbance Data'!O2984-Calculations!L$1","v":0},{"$f":"'Absorbance Data'!P2984-Calculations!M$1","v":0},{"$f":"'Absorbance Data'!Q2984-Calculations!N$1","v":0},{"$f":"'Absorbance Data'!R2984-Calculations!O$1","v":0},{"$f":"'Absorbance Data'!S2984-Calculations!P$1","v":0},{"$f":"'Absorbance Data'!T2984-Calculations!Q$1","v":0},{"$f":"'Absorbance Data'!U2984-Calculations!R$1","v":0},{"$f":"'Absorbance Data'!V2984-Calculations!S$1","v":0},{"$f":"'Absorbance Data'!W2984-Calculations!T$1","v":0},{"$f":"'Absorbance Data'!X2984-Calculations!U$1","v":0},{"$f":"'Absorbance Data'!Y2984-Calculations!V$1","v":0},{"$f":"'Absorbance Data'!Z2984-Calculations!W$1","v":0}]
[{"$f":"'Absorbance Data'!D2985","v":509.84188842773438},{"$f":"'Absorbance Data'!E2985-Calculations!B$1","v":0},{"$f":"'Absorbance Data'!F2985-Calculations!C$1","v":0},{"$f":"'Absorbance Data'!G2985-Calculations!D$1","v":0},{"$f":"'Absorbance Data'!H2985-Calculations!E$1","v":0},{"$f":"'Absorbance Data'!I2985-Calculations!F$1","v":0},{"$f":"'Absorbance Data'!J2985-Calculations!G$1","v":0},{"$f":"'Absorbance Data'!K2985-Calculations!H$1","v":0},{"$f":"'Absorbance Data'!L2985-Calculations!I$1","v":0},{"$f":"'Absorbance Data'!M2985-Calculations!J$1","v":0},{"$f":"'Absorbance Data'!N2985-Calculations!K$1","v":0},{"$f":"'Absorbance Data'!O2985-Calculations!L$1","v":0},{"$f":"'Absorbance Data'!P2985-Calculations!M$1","v":0},{"$f":"'Absorbance Data'!Q2985-Calculations!N$1","v":0},{"$f":"'Absorbance Data'!R2985-Calculations!O$1","v":0},{"$f":"'Absorbance Data'!S2985-Calculations!P$1","v":0},{"$f":"'Absorbance Data'!T2985-Calculations!Q$1","v":0},{"$f":"'Absorbance Data'!U2985-Calculations!R$1","v":0},{"$f":"'Absorbance Data'!V2985-Calculations!S$1","v":0},{"$f":"'Absorbance Data'!W2985-Calculations!T$1","v":0},{"$f":"'Absorbance Data'!X2985-Calculations!U$1","v":0},{"$f":"'Absorbance Data'!Y2985-Calculations!V$1","v":0},{"$f":"'Absorbance Data'!Z2985-Calculations!W$1","v":0}]
[{"$f":"'Absorbance Data'!D2986","v":510.173095703125},{"$f":"'Absorbance Data'!E2986-Calculations!B$1","v":0},{"$f":"'Absorbance Data'!F2986-Calculations!C$1","v":0},{"$f":"'Absorbance Data'!G2986-Calculations!D$1","v":0},{"$f":"'Absorbance Data'!H2986-Calculations!E$1","v":0},{"$f":"'Absorbance Data'!I2986-Calculations!F$1","v":0},{"$f":"'Absorbance Data'!J2986-Calculations!G$1","v":0},{"$f":"'Absorbance Data'!K2986-Calculations!H$1","v":0},{"$f":"'Absorbance Data'!L2986-Calculations!I$1","v":0},{"$f":"'Absorbance Data'!M2986-Calculations!J$1","v":0},{"$f":"'Absorbance Data'!N2986-Calculations!K$1","v":0},{"$f":"'Absorbance Data'!O2986-Calculations!L$1","v":0},{"$f":"'Absorbance Data'!P2986-Calculations!M$1","v":0},{"$f":"'Absorbance Data'!Q2986-Calculations!N$1","v":0},{"$f":"'Absorbance Data'!R2986-Calculations!O$1","v":0},{"$f":"'Absorbance Data'!S2986-Calculations!P$1","v":0},{"$f":"'Absorbance Data'!T2986-Calculations!Q$1","v":0},{"$f":"'Absorbance Data'!U2986-Calculations!R$1","v":0},{"$f":"'Absorbance Data'!V2986-Calculations!S$1","v":0},{"$f":"'Absorbance Data'!W2986-Calculations!T$1","v":0},{"$f":"'Absorbance Data'!X2986-Calculations!U$1","v":0},{"$f":"'Absorbance Data'!Y2986-Calculations!V$1","v":0},{"$f":"'Absorbance Data'!Z2986-Calculations!W$1","v":0}]
[{"$f":"'Absorbance Data'!D2987","v":510.50430297851562},{"$f":"'Absorbance Data'!E2987-Calculations!B$1","v":0},{"$f":"'Absorbance Data'!F2987-Calculations!C$1","v":0},{"$f":"'Absorbance Data'!G2987-Calculations!D$1","v":0},{"$f":"'Absorbance Data'!H2987-Calculations!E$1","v":0},{"$f":"'Absorbance Data'!I2987-Calculations!F$1","v":0},{"$f":"'Absorbance Data'!J2987-Calculations!G$1","v":0},{"$f":"'Absorbance Data'!K2987-Calculations!H$1","v":0},{"$f":"'Absorbance Data'!L2987-Calculations!I$1","v":0},{"$f":"'Absorbance Data'!M2987-Calculations!J$1","v":0},{"$f":"'Absorbance Data'!N2987-Calculations!K$1","v":0},{"$f":"'Absorbance Data'!O2987-Calculations!L$1","v":0},{"$f":"'Absorbance Data'!P2987-Calculations!M$1","v":0},{"$f":"'Absorbance Data'!Q2987-Calculations!N$1","v":0},{"$f":"'Absorbance Data'!R2987-Calculations!O$1","v":0},{"$f":"'Absorbance Data'!S2987-Calculations!P$1","v":0},{"$f":"'Absorbance Data'!T2987-Calculations!Q$1","v":0},{"$f":"'Absorbance Data'!U2987-Calculations!R$1","v":0},{"$f":"'Absorbance Data'!V2987-Calculations!S$1","v":0},{"$f":"'Absorbance Data'!W2987-Calculations!T$1","v":0},{"$f":"'Absorbance Data'!X2987-Calculations!U$1","v":0},{"$f":"'Absorbance Data'!Y2987-Calculations!V$1","v":0},{"$f":"'Absorbance Data'!Z2987-Calculations!W$1","v":0}]
[{"$f":"'Absorbance Data'!D2988","v":510.83551025390625},{"$f":"'Absorbance Data'!E2988-Calculations!B$1","v":0},{"$f":"'Absorbance Data'!F2988-Calculations!C$1","v":0},{"$f":"'Absorbance Data'!G2988-Calculations!D$1","v":0},{"$f":"'Absorbance Data'!H2988-Calculations!E$1","v":0},{"$f":"'Absorbance Data'!I2988-Calculations!F$1","v":0},{"$f":"'Absorbance Data'!J2988-Calculations!G$1","v":0},{"$f":"'Absorbance Data'!K2988-Calculations!H$1","v":0},{"$f":"'Absorbance Data'!L2988-Calculations!I$1","v":0},{"$f":"'Absorbance Data'!M2988-Calculations!J$1","v":0},{"$f":"'Absorbance Data'!N2988-Calculations!K$1","v":0},{"$f":"'Absorbance Data'!O2988-Calculations!L$1","v":0},{"$f":"'Absorbance Data'!P2988-Calculations!M$1","v":0},{"$f":"'Absorbance Data'!Q2988-Calculations!N$1","v":0},{"$f":"'Absorbance Data'!R2988-Calculations!O$1","v":0},{"$f":"'Absorbance Data'!S2988-Calculations!P$1","v":0},{"$f":"'Absorbance Data'!T2988-Calculations!Q$1","v":0},{"$f":"'Absorbance Data'!U2988-Calculations!R$1","v":0},{"$f":"'Absorbance Data'!V2988-Calculations!S$1","v":0},{"$f":"'Absorbance Data'!W2988-Calculations!T$1","v":0},{"$f":"'Absorbance Data'!X2988-Calculations!U$1","v":0},{"$f":"'Absorbance Data'!Y2988-Calculations!V$1","v":0},{"$f":"'Absorbance Data'!Z2988-Calculations!W$1","v":0}]
[{"$f":"'Absorbance Data'!D2989","v":511.16659545898438},{"$f":"'Absorbance Data'!E2989-Calculations!B$1","v":0},{"$f":"'Absorbance Data'!F2989-Calculations!C$1","v":0},{"$f":"'Absorbance Data'!G2989-Calculations!D$1","v":0},{"$f":"'Absorbance Data'!H2989-Calculations!E$1","v":0},{"$f":"'Absorbance Data'!I2989-Calculations!F$1","v":0},{"$f":"'Absorbance Data'!J2989-Calculations!G$1","v":0},{"$f":"'Absorbance Data'!K2989-Calculations!H$1","v":0},{"$f":"'Absorbance Data'!L2989-Calculations!I$1","v":0},{"$f":"'Absorbance Data'!M2989-Calculations!J$1","v":0},{"$f":"'Absorbance Data'!N2989-Calculations!K$1","v":0},{"$f":"'Absorbance Data'!O2989-Calculations!L$1","v":0},{"$f":"'Absorbance Data'!P2989-Calculations!M$1","v":0},{"$f":"'Absorbance Data'!Q2989-Calculations!N$1","v":0},{"$f":"'Absorbance Data'!R2989-Calculations!O$1","v":0},{"$f":"'Absorbance Data'!S2989-Calculations!P$1","v":0},{"$f":"'Absorbance Data'!T2989-Calculations!Q$1","v":0},{"$f":"'Absorbance Data'!U2989-Calculations!R$1","v":0},{"$f":"'Absorbance Data'!V2989-Calculations!S$1","v":0},{"$f":"'Absorbance Data'!W2989-Calculations!T$1","v":0},{"$f":"'Absorbance Data'!X2989-Calculations!U$1","v":0},{"$f":"'Absorbance Data'!Y2989-Calculations!V$1","v":0},{"$f":"'Absorbance Data'!Z2989-Calculations!W$1","v":0}]
[{"$f":"'Absorbance Data'!D2990","v":511.4976806640625},{"$f":"'Absorbance Data'!E2990-Calculations!B$1","v":0},{"$f":"'Absorbance Data'!F2990-Calculations!C$1","v":0},{"$f":"'Absorbance Data'!G2990-Calculations!D$1","v":0},{"$f":"'Absorbance Data'!H2990-Calculations!E$1","v":0},{"$f":"'Absorbance Data'!I2990-Calculations!F$1","v":0},{"$f":"'Absorbance Data'!J2990-Calculations!G$1","v":0},{"$f":"'Absorbance Data'!K2990-Calculations!H$1","v":0},{"$f":"'Absorbance Data'!L2990-Calculations!I$1","v":0},{"$f":"'Absorbance Data'!M2990-Calculations!J$1","v":0},{"$f":"'Absorbance Data'!N2990-Calculations!K$1","v":0},{"$f":"'Absorbance Data'!O2990-Calculations!L$1","v":0},{"$f":"'Absorbance Data'!P2990-Calculations!M$1","v":0},{"$f":"'Absorbance Data'!Q2990-Calculations!N$1","v":0},{"$f":"'Absorbance Data'!R2990-Calculations!O$1","v":0},{"$f":"'Absorbance Data'!S2990-Calculations!P$1","v":0},{"$f":"'Absorbance Data'!T2990-Calculations!Q$1","v":0},{"$f":"'Absorbance Data'!U2990-Calculations!R$1","v":0},{"$f":"'Absorbance Data'!V2990-Calculations!S$1","v":0},{"$f":"'Absorbance Data'!W2990-Calculations!T$1","v":0},{"$f":"'Absorbance Data'!X2990-Calculations!U$1","v":0},{"$f":"'Absorbance Data'!Y2990-Calculations!V$1","v":0},{"$f":"'Absorbance Data'!Z2990-Calculations!W$1","v":0}]
[{"$f":"'Absorbance Data'!D2991","v":511.82876586914062},{"$f":"'Absorbance Data'!E2991-Calculations!B$1","v":0},{"$f":"'Absorbance Data'!F2991-Calculations!C$1","v":0},{"$f":"'Absorbance Data'!G2991-Calculations!D$1","v":0},{"$f":"'Absorbance Data'!H2991-Calculations!E$1","v":0},{"$f":"'Absorbance Data'!I2991-Calculations!F$1","v":0},{"$f":"'Absorbance Data'!J2991-Calculations!G$1","v":0},{"$f":"'Absorbance Data'!K2991-Calculations!H$1","v":0},{"$f":"'Absorbance Data'!L2991-Calculations!I$1","v":0},{"$f":"'Absorbance Data'!M2991-Calculations!J$1","v":0},{"$f":"'Absorbance Data'!N2991-Calculations!K$1","v":0},{"$f":"'Absorbance Data'!O2991-Calculations!L$1","v":0},{"$f":"'Absorbance Data'!P2991-Calculations!M$1","v":0},{"$f":"'Absorbance Data'!Q2991-Calculations!N$1","v":0},{"$f":"'Absorbance Data'!R2991-Calculations!O$1","v":0},{"$f":"'Absorbance Data'!S2991-Calculations!P$1","v":0},{"$f":"'Absorbance Data'!T2991-Calculations!Q$1","v":0},{"$f":"'Absorbance Data'!U2991-Calculations!R$1","v":0},{"$f":"'Absorbance Data'!V2991-Calculations!S$1","v":0},{"$f":"'Absorbance Data'!W2991-Calculations!T$1","v":0},{"$f":"'Absorbance Data'!X2991-Calculations!U$1","v":0},{"$f":"'Absorbance Data'!Y2991-Calculations!V$1","v":0},{"$f":"'Absorbance Data'!Z2991-Calculations!W$1","v":0}]
[{"$f":"'Absorbance Data'!D2992","v":512.1597900390625},{"$f":"'Absorbance Data'!E2992-Calculations!B$1","v":0},{"$f":"'Absorbance Data'!F2992-Calculations!C$1","v":0},{"$f":"'Absorbance Data'!G2992-Calculations!D$1","v":0},{"$f":"'Absorbance Data'!H2992-Calculations!E$1","v":0},{"$f":"'Absorbance Data'!I2992-Calculations!F$1","v":0},{"$f":"'Absorbance Data'!J2992-Calculations!G$1","v":0},{"$f":"'Absorbance Data'!K2992-Calculations!H$1","v":0},{"$f":"'Absorbance Data'!L2992-Calculations!I$1","v":0},{"$f":"'Absorbance Data'!M2992-Calculations!J$1","v":0},{"$f":"'Absorbance Data'!N2992-Calculations!K$1","v":0},{"$f":"'Absorbance Data'!O2992-Calculations!L$1","v":0},{"$f":"'Absorbance Data'!P2992-Calculations!M$1","v":0},{"$f":"'Absorbance Data'!Q2992-Calculations!N$1","v":0},{"$f":"'Absorbance Data'!R2992-Calculations!O$1","v":0},{"$f":"'Absorbance Data'!S2992-Calculations!P$1","v":0},{"$f":"'Absorbance Data'!T2992-Calculations!Q$1","v":0},{"$f":"'Absorbance Data'!U2992-Calculations!R$1","v":0},{"$f":"'Absorbance Data'!V2992-Calculations!S$1","v":0},{"$f":"'Absorbance Data'!W2992-Calculations!T$1","v":0},{"$f":"'Absorbance Data'!X2992-Calculations!U$1","v":0},{"$f":"'Absorbance Data'!Y2992-Calculations!V$1","v":0},{"$f":"'Absorbance Data'!Z2992-Calculations!W$1","v":0}]
[{"$f":"'Absorbance Data'!D2993","v":512.49078369140625},{"$f":"'Absorbance Data'!E2993-Calculations!B$1","v":0},{"$f":"'Absorbance Data'!F2993-Calculations!C$1","v":0},{"$f":"'Absorbance Data'!G2993-Calculations!D$1","v":0},{"$f":"'Absorbance Data'!H2993-Calculations!E$1","v":0},{"$f":"'Absorbance Data'!I2993-Calculations!F$1","v":0},{"$f":"'Absorbance Data'!J2993-Calculations!G$1","v":0},{"$f":"'Absorbance Data'!K2993-Calculations!H$1","v":0},{"$f":"'Absorbance Data'!L2993-Calculations!I$1","v":0},{"$f":"'Absorbance Data'!M2993-Calculations!J$1","v":0},{"$f":"'Absorbance Data'!N2993-Calculations!K$1","v":0},{"$f":"'Absorbance Data'!O2993-Calculations!L$1","v":0},{"$f":"'Absorbance Data'!P2993-Calculations!M$1","v":0},{"$f":"'Absorbance Data'!Q2993-Calculations!N$1","v":0},{"$f":"'Absorbance Data'!R2993-Calculations!O$1","v":0},{"$f":"'Absorbance Data'!S2993-Calculations!P$1","v":0},{"$f":"'Absorbance Data'!T2993-Calculations!Q$1","v":0},{"$f":"'Absorbance Data'!U2993-Calculations!R$1","v":0},{"$f":"'Absorbance Data'!V2993-Calculations!S$1","v":0},{"$f":"'Absorbance Data'!W2993-Calculations!T$1","v":0},{"$f":"'Absorbance Data'!X2993-Calculations!U$1","v":0},{"$f":"'Absorbance Data'!Y2993-Calculations!V$1","v":0},{"$f":"'Absorbance Data'!Z2993-Calculations!W$1","v":0}]
[{"$f":"'Absorbance Data'!D2994","v":512.82171630859375},{"$f":"'Absorbance Data'!E2994-Calculations!B$1","v":0},{"$f":"'Absorbance Data'!F2994-Calculations!C$1","v":0},{"$f":"'Absorbance Data'!G2994-Calculations!D$1","v":0},{"$f":"'Absorbance Data'!H2994-Calculations!E$1","v":0},{"$f":"'Absorbance Data'!I2994-Calculations!F$1","v":0},{"$f":"'Absorbance Data'!J2994-Calculations!G$1","v":0},{"$f":"'Absorbance Data'!K2994-Calculations!H$1","v":0},{"$f":"'Absorbance Data'!L2994-Calculations!I$1","v":0},{"$f":"'Absorbance Data'!M2994-Calculations!J$1","v":0},{"$f":"'Absorbance Data'!N2994-Calculations!K$1","v":0},{"$f":"'Absorbance Data'!O2994-Calculations!L$1","v":0},{"$f":"'Absorbance Data'!P2994-Calculations!M$1","v":0},{"$f":"'Absorbance Data'!Q2994-Calculations!N$1","v":0},{"$f":"'Absorbance Data'!R2994-Calculations!O$1","v":0},{"$f":"'Absorbance Data'!S2994-Calculations!P$1","v":0},{"$f":"'Absorbance Data'!T2994-Calculations!Q$1","v":0},{"$f":"'Absorbance Data'!U2994-Calculations!R$1","v":0},{"$f":"'Absorbance Data'!V2994-Calculations!S$1","v":0},{"$f":"'Absorbance Data'!W2994-Calculations!T$1","v":0},{"$f":"'Absorbance Data'!X2994-Calculations!U$1","v":0},{"$f":"'Absorbance Data'!Y2994-Calculations!V$1","v":0},{"$f":"'Absorbance Data'!Z2994-Calculations!W$1","v":0}]
[{"$f":"'Absorbance Data'!D2995","v":513.152587890625},{"$f":"'Absorbance Data'!E2995-Calculations!B$1","v":0},{"$f":"'Absorbance Data'!F2995-Calculations!C$1","v":0},{"$f":"'Absorbance Data'!G2995-Calculations!D$1","v":0},{"$f":"'Absorbance Data'!H2995-Calculations!E$1","v":0},{"$f":"'Absorbance Data'!I2995-Calculations!F$1","v":0},{"$f":"'Absorbance Data'!J2995-Calculations!G$1","v":0},{"$f":"'Absorbance Data'!K2995-Calculations!H$1","v":0},{"$f":"'Absorbance Data'!L2995-Calculations!I$1","v":0},{"$f":"'Absorbance Data'!M2995-Calculations!J$1","v":0},{"$f":"'Absorbance Data'!N2995-Calculations!K$1","v":0},{"$f":"'Absorbance Data'!O2995-Calculations!L$1","v":0},{"$f":"'Absorbance Data'!P2995-Calculations!M$1","v":0},{"$f":"'Absorbance Data'!Q2995-Calculations!N$1","v":0},{"$f":"'Absorbance Data'!R2995-Calculations!O$1","v":0},{"$f":"'Absorbance Data'!S2995-Calculations!P$1","v":0},{"$f":"'Absorbance Data'!T2995-Calculations!Q$1","v":0},{"$f":"'Absorbance Data'!U2995-Calculations!R$1","v":0},{"$f":"'Absorbance Data'!V2995-Calculations!S$1","v":0},{"$f":"'Absorbance Data'!W2995-Calculations!T$1","v":0},{"$f":"'Absorbance Data'!X2995-Calculations!U$1","v":0},{"$f":"'Absorbance Data'!Y2995-Calculations!V$1","v":0},{"$f":"'Absorbance Data'!Z2995-Calculations!W$1","v":0}]
[{"$f":"'Absorbance Data'!D2996","v":513.4835205078125},{"$f":"'Absorbance Data'!E2996-Calculations!B$1","v":0},{"$f":"'Absorbance Data'!F2996-Calculations!C$1","v":0},{"$f":"'Absorbance Data'!G2996-Calculations!D$1","v":0},{"$f":"'Absorbance Data'!H2996-Calculations!E$1","v":0},{"$f":"'Absorbance Data'!I2996-Calculations!F$1","v":0},{"$f":"'Absorbance Data'!J2996-Calculations!G$1","v":0},{"$f":"'Absorbance Data'!K2996-Calculations!H$1","v":0},{"$f":"'Absorbance Data'!L2996-Calculations!I$1","v":0},{"$f":"'Absorbance Data'!M2996-Calculations!J$1","v":0},{"$f":"'Absorbance Data'!N2996-Calculations!K$1","v":0},{"$f":"'Absorbance Data'!O2996-Calculations!L$1","v":0},{"$f":"'Absorbance Data'!P2996-Calculations!M$1","v":0},{"$f":"'Absorbance Data'!Q2996-Calculations!N$1","v":0},{"$f":"'Absorbance Data'!R2996-Calculations!O$1","v":0},{"$f":"'Absorbance Data'!S2996-Calculations!P$1","v":0},{"$f":"'Absorbance Data'!T2996-Calculations!Q$1","v":0},{"$f":"'Absorbance Data'!U2996-Calculations!R$1","v":0},{"$f":"'Absorbance Data'!V2996-Calculations!S$1","v":0},{"$f":"'Absorbance Data'!W2996-Calculations!T$1","v":0},{"$f":"'Absorbance Data'!X2996-Calculations!U$1","v":0},{"$f":"'Absorbance Data'!Y2996-Calculations!V$1","v":0},{"$f":"'Absorbance Data'!Z2996-Calculations!W$1","v":0}]
[{"$f":"'Absorbance Data'!D2997","v":513.81427001953125},{"$f":"'Absorbance Data'!E2997-Calculations!B$1","v":0},{"$f":"'Absorbance Data'!F2997-Calculations!C$1","v":0},{"$f":"'Absorbance Data'!G2997-Calculations!D$1","v":0},{"$f":"'Absorbance Data'!H2997-Calculations!E$1","v":0},{"$f":"'Absorbance Data'!I2997-Calculations!F$1","v":0},{"$f":"'Absorbance Data'!J2997-Calculations!G$1","v":0},{"$f":"'Absorbance Data'!K2997-Calculations!H$1","v":0},{"$f":"'Absorbance Data'!L2997-Calculations!I$1","v":0},{"$f":"'Absorbance Data'!M2997-Calculations!J$1","v":0},{"$f":"'Absorbance Data'!N2997-Calculations!K$1","v":0},{"$f":"'Absorbance Data'!O2997-Calculations!L$1","v":0},{"$f":"'Absorbance Data'!P2997-Calculations!M$1","v":0},{"$f":"'Absorbance Data'!Q2997-Calculations!N$1","v":0},{"$f":"'Absorbance Data'!R2997-Calculations!O$1","v":0},{"$f":"'Absorbance Data'!S2997-Calculations!P$1","v":0},{"$f":"'Absorbance Data'!T2997-Calculations!Q$1","v":0},{"$f":"'Absorbance Data'!U2997-Calculations!R$1","v":0},{"$f":"'Absorbance Data'!V2997-Calculations!S$1","v":0},{"$f":"'Absorbance Data'!W2997-Calculations!T$1","v":0},{"$f":"'Absorbance Data'!X2997-Calculations!U$1","v":0},{"$f":"'Absorbance Data'!Y2997-Calculations!V$1","v":0},{"$f":"'Absorbance Data'!Z2997-Calculations!W$1","v":0}]
[{"$f":"'Absorbance Data'!D2998","v":514.14508056640625},{"$f":"'Absorbance Data'!E2998-Calculations!B$1","v":0},{"$f":"'Absorbance Data'!F2998-Calculations!C$1","v":0},{"$f":"'Absorbance Data'!G2998-Calculations!D$1","v":0},{"$f":"'Absorbance Data'!H2998-Calculations!E$1","v":0},{"$f":"'Absorbance Data'!I2998-Calculations!F$1","v":0},{"$f":"'Absorbance Data'!J2998-Calculations!G$1","v":0},{"$f":"'Absorbance Data'!K2998-Calculations!H$1","v":0},{"$f":"'Absorbance Data'!L2998-Calculations!I$1","v":0},{"$f":"'Absorbance Data'!M2998-Calculations!J$1","v":0},{"$f":"'Absorbance Data'!N2998-Calculations!K$1","v":0},{"$f":"'Absorbance Data'!O2998-Calculations!L$1","v":0},{"$f":"'Absorbance Data'!P2998-Calculations!M$1","v":0},{"$f":"'Absorbance Data'!Q2998-Calculations!N$1","v":0},{"$f":"'Absorbance Data'!R2998-Calculations!O$1","v":0},{"$f":"'Absorbance Data'!S2998-Calculations!P$1","v":0},{"$f":"'Absorbance Data'!T2998-Calculations!Q$1","v":0},{"$f":"'Absorbance Data'!U2998-Calculations!R$1","v":0},{"$f":"'Absorbance Data'!V2998-Calculations!S$1","v":0},{"$f":"'Absorbance Data'!W2998-Calculations!T$1","v":0},{"$f":"'Absorbance Data'!X2998-Calculations!U$1","v":0},{"$f":"'Absorbance Data'!Y2998-Calculations!V$1","v":0},{"$f":"'Absorbance Data'!Z2998-Calculations!W$1","v":0}]
[{"$f":"'Absorbance Data'!D2999","v":514.47589111328125},{"$f":"'Absorbance Data'!E2999-Calculations!B$1","v":0},{"$f":"'Absorbance Data'!F2999-Calculations!C$1","v":0},{"$f":"'Absorbance Data'!G2999-Calculations!D$1","v":0},{"$f":"'Absorbance Data'!H2999-Calculations!E$1","v":0},{"$f":"'Absorbance Data'!I2999-Calculations!F$1","v":0},{"$f":"'Absorbance Data'!J2999-Calculations!G$1","v":0},{"$f":"'Absorbance Data'!K2999-Calculations!H$1","v":0},{"$f":"'Absorbance Data'!L2999-Calculations!I$1","v":0},{"$f":"'Absorbance Data'!M2999-Calculations!J$1","v":0},{"$f":"'Absorbance Data'!N2999-Calculations!K$1","v":0},{"$f":"'Absorbance Data'!O2999-Calculations!L$1","v":0},{"$f":"'Absorbance Data'!P2999-Calculations!M$1","v":0},{"$f":"'Absorbance Data'!Q2999-Calculations!N$1","v":0},{"$f":"'Absorbance Data'!R2999-Calculations!O$1","v":0},{"$f":"'Absorbance Data'!S2999-Calculations!P$1","v":0},{"$f":"'Absorbance Data'!T2999-Calculations!Q$1","v":0},{"$f":"'Absorbance Data'!U2999-Calculations!R$1","v":0},{"$f":"'Absorbance Data'!V2999-Calculations!S$1","v":0},{"$f":"'Absorbance Data'!W2999-Calculations!T$1","v":0},{"$f":"'Absorbance Data'!X2999-Calculations!U$1","v":0},{"$f":"'Absorbance Data'!Y2999-Calculations!V$1","v":0},{"$f":"'Absorbance Data'!Z2999-Calculations!W$1","v":0}]
[{"$f":"'Absorbance Data'!D3000","v":514.80657958984375},{"$f":"'Absorbance Data'!E3000-Calculations!B$1","v":0},{"$f":"'Absorbance Data'!F3000-Calculations!C$1","v":0},{"$f":"'Absorbance Data'!G3000-Calculations!D$1","v":0},{"$f":"'Absorbance Data'!H3000-Calculations!E$1","v":0},{"$f":"'Absorbance Data'!I3000-Calculations!F$1","v":0},{"$f":"'Absorbance Data'!J3000-Calculations!G$1","v":0},{"$f":"'Absorbance Data'!K3000-Calculations!H$1","v":0},{"$f":"'Absorbance Data'!L3000-Calculations!I$1","v":0},{"$f":"'Absorbance Data'!M3000-Calculations!J$1","v":0},{"$f":"'Absorbance Data'!N3000-Calculations!K$1","v":0},{"$f":"'Absorbance Data'!O3000-Calculations!L$1","v":0},{"$f":"'Absorbance Data'!P3000-Calculations!M$1","v":0},{"$f":"'Absorbance Data'!Q3000-Calculations!N$1","v":0},{"$f":"'Absorbance Data'!R3000-Calculations!O$1","v":0},{"$f":"'Absorbance Data'!S3000-Calculations!P$1","v":0},{"$f":"'Absorbance Data'!T3000-Calculations!Q$1","v":0},{"$f":"'Absorbance Data'!U3000-Calculations!R$1","v":0},{"$f":"'Absorbance Data'!V3000-Calculations!S$1","v":0},{"$f":"'Absorbance Data'!W3000-Calculations!T$1","v":0},{"$f":"'Absorbance Data'!X3000-Calculations!U$1","v":0},{"$f":"'Absorbance Data'!Y3000-Calculations!V$1","v":0},{"$f":"'Absorbance Data'!Z3000-Calculations!W$1","v":0}]
[{"$f":"'Absorbance Data'!D3001","v":515.1373291015625},{"$f":"'Absorbance Data'!E3001-Calculations!B$1","v":0},{"$f":"'Absorbance Data'!F3001-Calculations!C$1","v":0},{"$f":"'Absorbance Data'!G3001-Calculations!D$1","v":0},{"$f":"'Absorbance Data'!H3001-Calculations!E$1","v":0},{"$f":"'Absorbance Data'!I3001-Calculations!F$1","v":0},{"$f":"'Absorbance Data'!J3001-Calculations!G$1","v":0},{"$f":"'Absorbance Data'!K3001-Calculations!H$1","v":0},{"$f":"'Absorbance Data'!L3001-Calculations!I$1","v":0},{"$f":"'Absorbance Data'!M3001-Calculations!J$1","v":0},{"$f":"'Absorbance Data'!N3001-Calculations!K$1","v":0},{"$f":"'Absorbance Data'!O3001-Calculations!L$1","v":0},{"$f":"'Absorbance Data'!P3001-Calculations!M$1","v":0},{"$f":"'Absorbance Data'!Q3001-Calculations!N$1","v":0},{"$f":"'Absorbance Data'!R3001-Calculations!O$1","v":0},{"$f":"'Absorbance Data'!S3001-Calculations!P$1","v":0},{"$f":"'Absorbance Data'!T3001-Calculations!Q$1","v":0},{"$f":"'Absorbance Data'!U3001-Calculations!R$1","v":0},{"$f":"'Absorbance Data'!V3001-Calculations!S$1","v":0},{"$f":"'Absorbance Data'!W3001-Calculations!T$1","v":0},{"$f":"'Absorbance Data'!X3001-Calculations!U$1","v":0},{"$f":"'Absorbance Data'!Y3001-Calculations!V$1","v":0},{"$f":"'Absorbance Data'!Z3001-Calculations!W$1","v":0}]
[{"$f":"'Absorbance Data'!D3002","v":515.4678955078125},{"$f":"'Absorbance Data'!E3002-Calculations!B$1","v":0},{"$f":"'Absorbance Data'!F3002-Calculations!C$1","v":0},{"$f":"'Absorbance Data'!G3002-Calculations!D$1","v":0},{"$f":"'Absorbance Data'!H3002-Calculations!E$1","v":0},{"$f":"'Absorbance Data'!I3002-Calculations!F$1","v":0},{"$f":"'Absorbance Data'!J3002-Calculations!G$1","v":0},{"$f":"'Absorbance Data'!K3002-Calculations!H$1","v":0},{"$f":"'Absorbance Data'!L3002-Calculations!I$1","v":0},{"$f":"'Absorbance Data'!M3002-Calculations!J$1","v":0},{"$f":"'Absorbance Data'!N3002-Calculations!K$1","v":0},{"$f":"'Absorbance Data'!O3002-Calculations!L$1","v":0},{"$f":"'Absorbance Data'!P3002-Calculations!M$1","v":0},{"$f":"'Absorbance Data'!Q3002-Calculations!N$1","v":0},{"$f":"'Absorbance Data'!R3002-Calculations!O$1","v":0},{"$f":"'Absorbance Data'!S3002-Calculations!P$1","v":0},{"$f":"'Absorbance Data'!T3002-Calculations!Q$1","v":0},{"$f":"'Absorbance Data'!U3002-Calculations!R$1","v":0},{"$f":"'Absorbance Data'!V3002-Calculations!S$1","v":0},{"$f":"'Absorbance Data'!W3002-Calculations!T$1","v":0},{"$f":"'Absorbance Data'!X3002-Calculations!U$1","v":0},{"$f":"'Absorbance Data'!Y3002-Calculations!V$1","v":0},{"$f":"'Absorbance Data'!Z3002-Calculations!W$1","v":0}]
[{"$f":"'Absorbance Data'!D3003","v":515.798583984375},{"$f":"'Absorbance Data'!E3003-Calculations!B$1","v":0},{"$f":"'Absorbance Data'!F3003-Calculations!C$1","v":0},{"$f":"'Absorbance Data'!G3003-Calculations!D$1","v":0},{"$f":"'Absorbance Data'!H3003-Calculations!E$1","v":0},{"$f":"'Absorbance Data'!I3003-Calculations!F$1","v":0},{"$f":"'Absorbance Data'!J3003-Calculations!G$1","v":0},{"$f":"'Absorbance Data'!K3003-Calculations!H$1","v":0},{"$f":"'Absorbance Data'!L3003-Calculations!I$1","v":0},{"$f":"'Absorbance Data'!M3003-Calculations!J$1","v":0},{"$f":"'Absorbance Data'!N3003-Calculations!K$1","v":0},{"$f":"'Absorbance Data'!O3003-Calculations!L$1","v":0},{"$f":"'Absorbance Data'!P3003-Calculations!M$1","v":0},{"$f":"'Absorbance Data'!Q3003-Calculations!N$1","v":0},{"$f":"'Absorbance Data'!R3003-Calculations!O$1","v":0},{"$f":"'Absorbance Data'!S3003-Calculations!P$1","v":0},{"$f":"'Absorbance Data'!T3003-Calculations!Q$1","v":0},{"$f":"'Absorbance Data'!U3003-Calculations!R$1","v":0},{"$f":"'Absorbance Data'!V3003-Calculations!S$1","v":0},{"$f":"'Absorbance Data'!W3003-Calculations!T$1","v":0},{"$f":"'Absorbance Data'!X3003-Calculations!U$1","v":0},{"$f":"'Absorbance Data'!Y3003-Calculations!V$1","v":0},{"$f":"'Absorbance Data'!Z3003-Calculations!W$1","v":0}]
[{"$f":"'Absorbance Data'!D3004","v":516.129150390625},{"$f":"'Absorbance Data'!E3004-Calculations!B$1","v":0},{"$f":"'Absorbance Data'!F3004-Calculations!C$1","v":0},{"$f":"'Absorbance Data'!G3004-Calculations!D$1","v":0},{"$f":"'Absorbance Data'!H3004-Calculations!E$1","v":0},{"$f":"'Absorbance Data'!I3004-Calculations!F$1","v":0},{"$f":"'Absorbance Data'!J3004-Calculations!G$1","v":0},{"$f":"'Absorbance Data'!K3004-Calculations!H$1","v":0},{"$f":"'Absorbance Data'!L3004-Calculations!I$1","v":0},{"$f":"'Absorbance Data'!M3004-Calculations!J$1","v":0},{"$f":"'Absorbance Data'!N3004-Calculations!K$1","v":0},{"$f":"'Absorbance Data'!O3004-Calculations!L$1","v":0},{"$f":"'Absorbance Data'!P3004-Calculations!M$1","v":0},{"$f":"'Absorbance Data'!Q3004-Calculations!N$1","v":0},{"$f":"'Absorbance Data'!R3004-Calculations!O$1","v":0},{"$f":"'Absorbance Data'!S3004-Calculations!P$1","v":0},{"$f":"'Absorbance Data'!T3004-Calculations!Q$1","v":0},{"$f":"'Absorbance Data'!U3004-Calculations!R$1","v":0},{"$f":"'Absorbance Data'!V3004-Calculations!S$1","v":0},{"$f":"'Absorbance Data'!W3004-Calculations!T$1","v":0},{"$f":"'Absorbance Data'!X3004-Calculations!U$1","v":0},{"$f":"'Absorbance Data'!Y3004-Calculations!V$1","v":0},{"$f":"'Absorbance Data'!Z3004-Calculations!W$1","v":0}]
[{"$f":"'Absorbance Data'!D3005","v":516.45965576171875},{"$f":"'Absorbance Data'!E3005-Calculations!B$1","v":0},{"$f":"'Absorbance Data'!F3005-Calculations!C$1","v":0},{"$f":"'Absorbance Data'!G3005-Calculations!D$1","v":0},{"$f":"'Absorbance Data'!H3005-Calculations!E$1","v":0},{"$f":"'Absorbance Data'!I3005-Calculations!F$1","v":0},{"$f":"'Absorbance Data'!J3005-Calculations!G$1","v":0},{"$f":"'Absorbance Data'!K3005-Calculations!H$1","v":0},{"$f":"'Absorbance Data'!L3005-Calculations!I$1","v":0},{"$f":"'Absorbance Data'!M3005-Calculations!J$1","v":0},{"$f":"'Absorbance Data'!N3005-Calculations!K$1","v":0},{"$f":"'Absorbance Data'!O3005-Calculations!L$1","v":0},{"$f":"'Absorbance Data'!P3005-Calculations!M$1","v":0},{"$f":"'Absorbance Data'!Q3005-Calculations!N$1","v":0},{"$f":"'Absorbance Data'!R3005-Calculations!O$1","v":0},{"$f":"'Absorbance Data'!S3005-Calculations!P$1","v":0},{"$f":"'Absorbance Data'!T3005-Calculations!Q$1","v":0},{"$f":"'Absorbance Data'!U3005-Calculations!R$1","v":0},{"$f":"'Absorbance Data'!V3005-Calculations!S$1","v":0},{"$f":"'Absorbance Data'!W3005-Calculations!T$1","v":0},{"$f":"'Absorbance Data'!X3005-Calculations!U$1","v":0},{"$f":"'Absorbance Data'!Y3005-Calculations!V$1","v":0},{"$f":"'Absorbance Data'!Z3005-Calculations!W$1","v":0}]
[{"$f":"'Absorbance Data'!D3006","v":516.79010009765625},{"$f":"'Absorbance Data'!E3006-Calculations!B$1","v":0},{"$f":"'Absorbance Data'!F3006-Calculations!C$1","v":0},{"$f":"'Absorbance Data'!G3006-Calculations!D$1","v":0},{"$f":"'Absorbance Data'!H3006-Calculations!E$1","v":0},{"$f":"'Absorbance Data'!I3006-Calculations!F$1","v":0},{"$f":"'Absorbance Data'!J3006-Calculations!G$1","v":0},{"$f":"'Absorbance Data'!K3006-Calculations!H$1","v":0},{"$f":"'Absorbance Data'!L3006-Calculations!I$1","v":0},{"$f":"'Absorbance Data'!M3006-Calculations!J$1","v":0},{"$f":"'Absorbance Data'!N3006-Calculations!K$1","v":0},{"$f":"'Absorbance Data'!O3006-Calculations!L$1","v":0},{"$f":"'Absorbance Data'!P3006-Calculations!M$1","v":0},{"$f":"'Absorbance Data'!Q3006-Calculations!N$1","v":0},{"$f":"'Absorbance Data'!R3006-Calculations!O$1","v":0},{"$f":"'Absorbance Data'!S3006-Calculations!P$1","v":0},{"$f":"'Absorbance Data'!T3006-Calculations!Q$1","v":0},{"$f":"'Absorbance Data'!U3006-Calculations!R$1","v":0},{"$f":"'Absorbance Data'!V3006-Calculations!S$1","v":0},{"$f":"'Absorbance Data'!W3006-Calculations!T$1","v":0},{"$f":"'Absorbance Data'!X3006-Calculations!U$1","v":0},{"$f":"'Absorbance Data'!Y3006-Calculations!V$1","v":0},{"$f":"'Absorbance Data'!Z3006-Calculations!W$1","v":0}]
[{"$f":"'Absorbance Data'!D3007","v":517.12060546875},{"$f":"'Absorbance Data'!E3007-Calculations!B$1","v":0},{"$f":"'Absorbance Data'!F3007-Calculations!C$1","v":0},{"$f":"'Absorbance Data'!G3007-Calculations!D$1","v":0},{"$f":"'Absorbance Data'!H3007-Calculations!E$1","v":0},{"$f":"'Absorbance Data'!I3007-Calculations!F$1","v":0},{"$f":"'Absorbance Data'!J3007-Calculations!G$1","v":0},{"$f":"'Absorbance Data'!K3007-Calculations!H$1","v":0},{"$f":"'Absorbance Data'!L3007-Calculations!I$1","v":0},{"$f":"'Absorbance Data'!M3007-Calculations!J$1","v":0},{"$f":"'Absorbance Data'!N3007-Calculations!K$1","v":0},{"$f":"'Absorbance Data'!O3007-Calculations!L$1","v":0},{"$f":"'Absorbance Data'!P3007-Calculations!M$1","v":0},{"$f":"'Absorbance Data'!Q3007-Calculations!N$1","v":0},{"$f":"'Absorbance Data'!R3007-Calculations!O$1","v":0},{"$f":"'Absorbance Data'!S3007-Calculations!P$1","v":0},{"$f":"'Absorbance Data'!T3007-Calculations!Q$1","v":0},{"$f":"'Absorbance Data'!U3007-Calculations!R$1","v":0},{"$f":"'Absorbance Data'!V3007-Calculations!S$1","v":0},{"$f":"'Absorbance Data'!W3007-Calculations!T$1","v":0},{"$f":"'Absorbance Data'!X3007-Calculations!U$1","v":0},{"$f":"'Absorbance Data'!Y3007-Calculations!V$1","v":0},{"$f":"'Absorbance Data'!Z3007-Calculations!W$1","v":0}]
[{"$f":"'Absorbance Data'!D3008","v":517.4510498046875},{"$f":"'Absorbance Data'!E3008-Calculations!B$1","v":0},{"$f":"'Absorbance Data'!F3008-Calculations!C$1","v":0},{"$f":"'Absorbance Data'!G3008-Calculations!D$1","v":0},{"$f":"'Absorbance Data'!H3008-Calculations!E$1","v":0},{"$f":"'Absorbance Data'!I3008-Calculations!F$1","v":0},{"$f":"'Absorbance Data'!J3008-Calculations!G$1","v":0},{"$f":"'Absorbance Data'!K3008-Calculations!H$1","v":0},{"$f":"'Absorbance Data'!L3008-Calculations!I$1","v":0},{"$f":"'Absorbance Data'!M3008-Calculations!J$1","v":0},{"$f":"'Absorbance Data'!N3008-Calculations!K$1","v":0},{"$f":"'Absorbance Data'!O3008-Calculations!L$1","v":0},{"$f":"'Absorbance Data'!P3008-Calculations!M$1","v":0},{"$f":"'Absorbance Data'!Q3008-Calculations!N$1","v":0},{"$f":"'Absorbance Data'!R3008-Calculations!O$1","v":0},{"$f":"'Absorbance Data'!S3008-Calculations!P$1","v":0},{"$f":"'Absorbance Data'!T3008-Calculations!Q$1","v":0},{"$f":"'Absorbance Data'!U3008-Calculations!R$1","v":0},{"$f":"'Absorbance Data'!V3008-Calculations!S$1","v":0},{"$f":"'Absorbance Data'!W3008-Calculations!T$1","v":0},{"$f":"'Absorbance Data'!X3008-Calculations!U$1","v":0},{"$f":"'Absorbance Data'!Y3008-Calculations!V$1","v":0},{"$f":"'Absorbance Data'!Z3008-Calculations!W$1","v":0}]
[{"$f":"'Absorbance Data'!D3009","v":517.78143310546875},{"$f":"'Absorbance Data'!E3009-Calculations!B$1","v":0},{"$f":"'Absorbance Data'!F3009-Calculations!C$1","v":0},{"$f":"'Absorbance Data'!G3009-Calculations!D$1","v":0},{"$f":"'Absorbance Data'!H3009-Calculations!E$1","v":0},{"$f":"'Absorbance Data'!I3009-Calculations!F$1","v":0},{"$f":"'Absorbance Data'!J3009-Calculations!G$1","v":0},{"$f":"'Absorbance Data'!K3009-Calculations!H$1","v":0},{"$f":"'Absorbance Data'!L3009-Calculations!I$1","v":0},{"$f":"'Absorbance Data'!M3009-Calculations!J$1","v":0},{"$f":"'Absorbance Data'!N3009-Calculations!K$1","v":0},{"$f":"'Absorbance Data'!O3009-Calculations!L$1","v":0},{"$f":"'Absorbance Data'!P3009-Calculations!M$1","v":0},{"$f":"'Absorbance Data'!Q3009-Calculations!N$1","v":0},{"$f":"'Absorbance Data'!R3009-Calculations!O$1","v":0},{"$f":"'Absorbance Data'!S3009-Calculations!P$1","v":0},{"$f":"'Absorbance Data'!T3009-Calculations!Q$1","v":0},{"$f":"'Absorbance Data'!U3009-Calculations!R$1","v":0},{"$f":"'Absorbance Data'!V3009-Calculations!S$1","v":0},{"$f":"'Absorbance Data'!W3009-Calculations!T$1","v":0},{"$f":"'Absorbance Data'!X3009-Calculations!U$1","v":0},{"$f":"'Absorbance Data'!Y3009-Calculations!V$1","v":0},{"$f":"'Absorbance Data'!Z3009-Calculations!W$1","v":0}]
[{"$f":"'Absorbance Data'!D3010","v":518.1116943359375},{"$f":"'Absorbance Data'!E3010-Calculations!B$1","v":0},{"$f":"'Absorbance Data'!F3010-Calculations!C$1","v":0},{"$f":"'Absorbance Data'!G3010-Calculations!D$1","v":0},{"$f":"'Absorbance Data'!H3010-Calculations!E$1","v":0},{"$f":"'Absorbance Data'!I3010-Calculations!F$1","v":0},{"$f":"'Absorbance Data'!J3010-Calculations!G$1","v":0},{"$f":"'Absorbance Data'!K3010-Calculations!H$1","v":0},{"$f":"'Absorbance Data'!L3010-Calculations!I$1","v":0},{"$f":"'Absorbance Data'!M3010-Calculations!J$1","v":0},{"$f":"'Absorbance Data'!N3010-Calculations!K$1","v":0},{"$f":"'Absorbance Data'!O3010-Calculations!L$1","v":0},{"$f":"'Absorbance Data'!P3010-Calculations!M$1","v":0},{"$f":"'Absorbance Data'!Q3010-Calculations!N$1","v":0},{"$f":"'Absorbance Data'!R3010-Calculations!O$1","v":0},{"$f":"'Absorbance Data'!S3010-Calculations!P$1","v":0},{"$f":"'Absorbance Data'!T3010-Calculations!Q$1","v":0},{"$f":"'Absorbance Data'!U3010-Calculations!R$1","v":0},{"$f":"'Absorbance Data'!V3010-Calculations!S$1","v":0},{"$f":"'Absorbance Data'!W3010-Calculations!T$1","v":0},{"$f":"'Absorbance Data'!X3010-Calculations!U$1","v":0},{"$f":"'Absorbance Data'!Y3010-Calculations!V$1","v":0},{"$f":"'Absorbance Data'!Z3010-Calculations!W$1","v":0}]
[{"$f":"'Absorbance Data'!D3011","v":518.44207763671875},{"$f":"'Absorbance Data'!E3011-Calculations!B$1","v":0},{"$f":"'Absorbance Data'!F3011-Calculations!C$1","v":0},{"$f":"'Absorbance Data'!G3011-Calculations!D$1","v":0},{"$f":"'Absorbance Data'!H3011-Calculations!E$1","v":0},{"$f":"'Absorbance Data'!I3011-Calculations!F$1","v":0},{"$f":"'Absorbance Data'!J3011-Calculations!G$1","v":0},{"$f":"'Absorbance Data'!K3011-Calculations!H$1","v":0},{"$f":"'Absorbance Data'!L3011-Calculations!I$1","v":0},{"$f":"'Absorbance Data'!M3011-Calculations!J$1","v":0},{"$f":"'Absorbance Data'!N3011-Calculations!K$1","v":0},{"$f":"'Absorbance Data'!O3011-Calculations!L$1","v":0},{"$f":"'Absorbance Data'!P3011-Calculations!M$1","v":0},{"$f":"'Absorbance Data'!Q3011-Calculations!N$1","v":0},{"$f":"'Absorbance Data'!R3011-Calculations!O$1","v":0},{"$f":"'Absorbance Data'!S3011-Calculations!P$1","v":0},{"$f":"'Absorbance Data'!T3011-Calculations!Q$1","v":0},{"$f":"'Absorbance Data'!U3011-Calculations!R$1","v":0},{"$f":"'Absorbance Data'!V3011-Calculations!S$1","v":0},{"$f":"'Absorbance Data'!W3011-Calculations!T$1","v":0},{"$f":"'Absorbance Data'!X3011-Calculations!U$1","v":0},{"$f":"'Absorbance Data'!Y3011-Calculations!V$1","v":0},{"$f":"'Absorbance Data'!Z3011-Calculations!W$1","v":0}]
[{"$f":"'Absorbance Data'!D3012","v":518.77239990234375},{"$f":"'Absorbance Data'!E3012-Calculations!B$1","v":0},{"$f":"'Absorbance Data'!F3012-Calculations!C$1","v":0},{"$f":"'Absorbance Data'!G3012-Calculations!D$1","v":0},{"$f":"'Absorbance Data'!H3012-Calculations!E$1","v":0},{"$f":"'Absorbance Data'!I3012-Calculations!F$1","v":0},{"$f":"'Absorbance Data'!J3012-Calculations!G$1","v":0},{"$f":"'Absorbance Data'!K3012-Calculations!H$1","v":0},{"$f":"'Absorbance Data'!L3012-Calculations!I$1","v":0},{"$f":"'Absorbance Data'!M3012-Calculations!J$1","v":0},{"$f":"'Absorbance Data'!N3012-Calculations!K$1","v":0},{"$f":"'Absorbance Data'!O3012-Calculations!L$1","v":0},{"$f":"'Absorbance Data'!P3012-Calculations!M$1","v":0},{"$f":"'Absorbance Data'!Q3012-Calculations!N$1","v":0},{"$f":"'Absorbance Data'!R3012-Calculations!O$1","v":0},{"$f":"'Absorbance Data'!S3012-Calculations!P$1","v":0},{"$f":"'Absorbance Data'!T3012-Calculations!Q$1","v":0},{"$f":"'Absorbance Data'!U3012-Calculations!R$1","v":0},{"$f":"'Absorbance Data'!V3012-Calculations!S$1","v":0},{"$f":"'Absorbance Data'!W3012-Calculations!T$1","v":0},{"$f":"'Absorbance Data'!X3012-Calculations!U$1","v":0},{"$f":"'Absorbance Data'!Y3012-Calculations!V$1","v":0},{"$f":"'Absorbance Data'!Z3012-Calculations!W$1","v":0}]
[{"$f":"'Absorbance Data'!D3013","v":519.1026611328125},{"$f":"'Absorbance Data'!E3013-Calculations!B$1","v":0},{"$f":"'Absorbance Data'!F3013-Calculations!C$1","v":0},{"$f":"'Absorbance Data'!G3013-Calculations!D$1","v":0},{"$f":"'Absorbance Data'!H3013-Calculations!E$1","v":0},{"$f":"'Absorbance Data'!I3013-Calculations!F$1","v":0},{"$f":"'Absorbance Data'!J3013-Calculations!G$1","v":0},{"$f":"'Absorbance Data'!K3013-Calculations!H$1","v":0},{"$f":"'Absorbance Data'!L3013-Calculations!I$1","v":0},{"$f":"'Absorbance Data'!M3013-Calculations!J$1","v":0},{"$f":"'Absorbance Data'!N3013-Calculations!K$1","v":0},{"$f":"'Absorbance Data'!O3013-Calculations!L$1","v":0},{"$f":"'Absorbance Data'!P3013-Calculations!M$1","v":0},{"$f":"'Absorbance Data'!Q3013-Calculations!N$1","v":0},{"$f":"'Absorbance Data'!R3013-Calculations!O$1","v":0},{"$f":"'Absorbance Data'!S3013-Calculations!P$1","v":0},{"$f":"'Absorbance Data'!T3013-Calculations!Q$1","v":0},{"$f":"'Absorbance Data'!U3013-Calculations!R$1","v":0},{"$f":"'Absorbance Data'!V3013-Calculations!S$1","v":0},{"$f":"'Absorbance Data'!W3013-Calculations!T$1","v":0},{"$f":"'Absorbance Data'!X3013-Calculations!U$1","v":0},{"$f":"'Absorbance Data'!Y3013-Calculations!V$1","v":0},{"$f":"'Absorbance Data'!Z3013-Calculations!W$1","v":0}]
[{"$f":"'Absorbance Data'!D3014","v":519.43280029296875},{"$f":"'Absorbance Data'!E3014-Calculations!B$1","v":0},{"$f":"'Absorbance Data'!F3014-Calculations!C$1","v":0},{"$f":"'Absorbance Data'!G3014-Calculations!D$1","v":0},{"$f":"'Absorbance Data'!H3014-Calculations!E$1","v":0},{"$f":"'Absorbance Data'!I3014-Calculations!F$1","v":0},{"$f":"'Absorbance Data'!J3014-Calculations!G$1","v":0},{"$f":"'Absorbance Data'!K3014-Calculations!H$1","v":0},{"$f":"'Absorbance Data'!L3014-Calculations!I$1","v":0},{"$f":"'Absorbance Data'!M3014-Calculations!J$1","v":0},{"$f":"'Absorbance Data'!N3014-Calculations!K$1","v":0},{"$f":"'Absorbance Data'!O3014-Calculations!L$1","v":0},{"$f":"'Absorbance Data'!P3014-Calculations!M$1","v":0},{"$f":"'Absorbance Data'!Q3014-Calculations!N$1","v":0},{"$f":"'Absorbance Data'!R3014-Calculations!O$1","v":0},{"$f":"'Absorbance Data'!S3014-Calculations!P$1","v":0},{"$f":"'Absorbance Data'!T3014-Calculations!Q$1","v":0},{"$f":"'Absorbance Data'!U3014-Calculations!R$1","v":0},{"$f":"'Absorbance Data'!V3014-Calculations!S$1","v":0},{"$f":"'Absorbance Data'!W3014-Calculations!T$1","v":0},{"$f":"'Absorbance Data'!X3014-Calculations!U$1","v":0},{"$f":"'Absorbance Data'!Y3014-Calculations!V$1","v":0},{"$f":"'Absorbance Data'!Z3014-Calculations!W$1","v":0}]
[{"$f":"'Absorbance Data'!D3015","v":519.762939453125},{"$f":"'Absorbance Data'!E3015-Calculations!B$1","v":0},{"$f":"'Absorbance Data'!F3015-Calculations!C$1","v":0},{"$f":"'Absorbance Data'!G3015-Calculations!D$1","v":0},{"$f":"'Absorbance Data'!H3015-Calculations!E$1","v":0},{"$f":"'Absorbance Data'!I3015-Calculations!F$1","v":0},{"$f":"'Absorbance Data'!J3015-Calculations!G$1","v":0},{"$f":"'Absorbance Data'!K3015-Calculations!H$1","v":0},{"$f":"'Absorbance Data'!L3015-Calculations!I$1","v":0},{"$f":"'Absorbance Data'!M3015-Calculations!J$1","v":0},{"$f":"'Absorbance Data'!N3015-Calculations!K$1","v":0},{"$f":"'Absorbance Data'!O3015-Calculations!L$1","v":0},{"$f":"'Absorbance Data'!P3015-Calculations!M$1","v":0},{"$f":"'Absorbance Data'!Q3015-Calculations!N$1","v":0},{"$f":"'Absorbance Data'!R3015-Calculations!O$1","v":0},{"$f":"'Absorbance Data'!S3015-Calculations!P$1","v":0},{"$f":"'Absorbance Data'!T3015-Calculations!Q$1","v":0},{"$f":"'Absorbance Data'!U3015-Calculations!R$1","v":0},{"$f":"'Absorbance Data'!V3015-Calculations!S$1","v":0},{"$f":"'Absorbance Data'!W3015-Calculations!T$1","v":0},{"$f":"'Absorbance Data'!X3015-Calculations!U$1","v":0},{"$f":"'Absorbance Data'!Y3015-Calculations!V$1","v":0},{"$f":"'Absorbance Data'!Z3015-Calculations!W$1","v":0}]
[{"$f":"'Absorbance Data'!D3016","v":520.09307861328125},{"$f":"'Absorbance Data'!E3016-Calculations!B$1","v":0},{"$f":"'Absorbance Data'!F3016-Calculations!C$1","v":0},{"$f":"'Absorbance Data'!G3016-Calculations!D$1","v":0},{"$f":"'Absorbance Data'!H3016-Calculations!E$1","v":0},{"$f":"'Absorbance Data'!I3016-Calculations!F$1","v":0},{"$f":"'Absorbance Data'!J3016-Calculations!G$1","v":0},{"$f":"'Absorbance Data'!K3016-Calculations!H$1","v":0},{"$f":"'Absorbance Data'!L3016-Calculations!I$1","v":0},{"$f":"'Absorbance Data'!M3016-Calculations!J$1","v":0},{"$f":"'Absorbance Data'!N3016-Calculations!K$1","v":0},{"$f":"'Absorbance Data'!O3016-Calculations!L$1","v":0},{"$f":"'Absorbance Data'!P3016-Calculations!M$1","v":0},{"$f":"'Absorbance Data'!Q3016-Calculations!N$1","v":0},{"$f":"'Absorbance Data'!R3016-Calculations!O$1","v":0},{"$f":"'Absorbance Data'!S3016-Calculations!P$1","v":0},{"$f":"'Absorbance Data'!T3016-Calculations!Q$1","v":0},{"$f":"'Absorbance Data'!U3016-Calculations!R$1","v":0},{"$f":"'Absorbance Data'!V3016-Calculations!S$1","v":0},{"$f":"'Absorbance Data'!W3016-Calculations!T$1","v":0},{"$f":"'Absorbance Data'!X3016-Calculations!U$1","v":0},{"$f":"'Absorbance Data'!Y3016-Calculations!V$1","v":0},{"$f":"'Absorbance Data'!Z3016-Calculations!W$1","v":0}]
[{"$f":"'Absorbance Data'!D3017","v":520.4232177734375},{"$f":"'Absorbance Data'!E3017-Calculations!B$1","v":0},{"$f":"'Absorbance Data'!F3017-Calculations!C$1","v":0},{"$f":"'Absorbance Data'!G3017-Calculations!D$1","v":0},{"$f":"'Absorbance Data'!H3017-Calculations!E$1","v":0},{"$f":"'Absorbance Data'!I3017-Calculations!F$1","v":0},{"$f":"'Absorbance Data'!J3017-Calculations!G$1","v":0},{"$f":"'Absorbance Data'!K3017-Calculations!H$1","v":0},{"$f":"'Absorbance Data'!L3017-Calculations!I$1","v":0},{"$f":"'Absorbance Data'!M3017-Calculations!J$1","v":0},{"$f":"'Absorbance Data'!N3017-Calculations!K$1","v":0},{"$f":"'Absorbance Data'!O3017-Calculations!L$1","v":0},{"$f":"'Absorbance Data'!P3017-Calculations!M$1","v":0},{"$f":"'Absorbance Data'!Q3017-Calculations!N$1","v":0},{"$f":"'Absorbance Data'!R3017-Calculations!O$1","v":0},{"$f":"'Absorbance Data'!S3017-Calculations!P$1","v":0},{"$f":"'Absorbance Data'!T3017-Calculations!Q$1","v":0},{"$f":"'Absorbance Data'!U3017-Calculations!R$1","v":0},{"$f":"'Absorbance Data'!V3017-Calculations!S$1","v":0},{"$f":"'Absorbance Data'!W3017-Calculations!T$1","v":0},{"$f":"'Absorbance Data'!X3017-Calculations!U$1","v":0},{"$f":"'Absorbance Data'!Y3017-Calculations!V$1","v":0},{"$f":"'Absorbance Data'!Z3017-Calculations!W$1","v":0}]
[{"$f":"'Absorbance Data'!D3018","v":520.75323486328125},{"$f":"'Absorbance Data'!E3018-Calculations!B$1","v":0},{"$f":"'Absorbance Data'!F3018-Calculations!C$1","v":0},{"$f":"'Absorbance Data'!G3018-Calculations!D$1","v":0},{"$f":"'Absorbance Data'!H3018-Calculations!E$1","v":0},{"$f":"'Absorbance Data'!I3018-Calculations!F$1","v":0},{"$f":"'Absorbance Data'!J3018-Calculations!G$1","v":0},{"$f":"'Absorbance Data'!K3018-Calculations!H$1","v":0},{"$f":"'Absorbance Data'!L3018-Calculations!I$1","v":0},{"$f":"'Absorbance Data'!M3018-Calculations!J$1","v":0},{"$f":"'Absorbance Data'!N3018-Calculations!K$1","v":0},{"$f":"'Absorbance Data'!O3018-Calculations!L$1","v":0},{"$f":"'Absorbance Data'!P3018-Calculations!M$1","v":0},{"$f":"'Absorbance Data'!Q3018-Calculations!N$1","v":0},{"$f":"'Absorbance Data'!R3018-Calculations!O$1","v":0},{"$f":"'Absorbance Data'!S3018-Calculations!P$1","v":0},{"$f":"'Absorbance Data'!T3018-Calculations!Q$1","v":0},{"$f":"'Absorbance Data'!U3018-Calculations!R$1","v":0},{"$f":"'Absorbance Data'!V3018-Calculations!S$1","v":0},{"$f":"'Absorbance Data'!W3018-Calculations!T$1","v":0},{"$f":"'Absorbance Data'!X3018-Calculations!U$1","v":0},{"$f":"'Absorbance Data'!Y3018-Calculations!V$1","v":0},{"$f":"'Absorbance Data'!Z3018-Calculations!W$1","v":0}]
[{"$f":"'Absorbance Data'!D3019","v":521.083251953125},{"$f":"'Absorbance Data'!E3019-Calculations!B$1","v":0},{"$f":"'Absorbance Data'!F3019-Calculations!C$1","v":0},{"$f":"'Absorbance Data'!G3019-Calculations!D$1","v":0},{"$f":"'Absorbance Data'!H3019-Calculations!E$1","v":0},{"$f":"'Absorbance Data'!I3019-Calculations!F$1","v":0},{"$f":"'Absorbance Data'!J3019-Calculations!G$1","v":0},{"$f":"'Absorbance Data'!K3019-Calculations!H$1","v":0},{"$f":"'Absorbance Data'!L3019-Calculations!I$1","v":0},{"$f":"'Absorbance Data'!M3019-Calculations!J$1","v":0},{"$f":"'Absorbance Data'!N3019-Calculations!K$1","v":0},{"$f":"'Absorbance Data'!O3019-Calculations!L$1","v":0},{"$f":"'Absorbance Data'!P3019-Calculations!M$1","v":0},{"$f":"'Absorbance Data'!Q3019-Calculations!N$1","v":0},{"$f":"'Absorbance Data'!R3019-Calculations!O$1","v":0},{"$f":"'Absorbance Data'!S3019-Calculations!P$1","v":0},{"$f":"'Absorbance Data'!T3019-Calculations!Q$1","v":0},{"$f":"'Absorbance Data'!U3019-Calculations!R$1","v":0},{"$f":"'Absorbance Data'!V3019-Calculations!S$1","v":0},{"$f":"'Absorbance Data'!W3019-Calculations!T$1","v":0},{"$f":"'Absorbance Data'!X3019-Calculations!U$1","v":0},{"$f":"'Absorbance Data'!Y3019-Calculations!V$1","v":0},{"$f":"'Absorbance Data'!Z3019-Calculations!W$1","v":0}]
[{"$f":"'Absorbance Data'!D3020","v":521.41326904296875},{"$f":"'Absorbance Data'!E3020-Calculations!B$1","v":0},{"$f":"'Absorbance Data'!F3020-Calculations!C$1","v":0},{"$f":"'Absorbance Data'!G3020-Calculations!D$1","v":0},{"$f":"'Absorbance Data'!H3020-Calculations!E$1","v":0},{"$f":"'Absorbance Data'!I3020-Calculations!F$1","v":0},{"$f":"'Absorbance Data'!J3020-Calculations!G$1","v":0},{"$f":"'Absorbance Data'!K3020-Calculations!H$1","v":0},{"$f":"'Absorbance Data'!L3020-Calculations!I$1","v":0},{"$f":"'Absorbance Data'!M3020-Calculations!J$1","v":0},{"$f":"'Absorbance Data'!N3020-Calculations!K$1","v":0},{"$f":"'Absorbance Data'!O3020-Calculations!L$1","v":0},{"$f":"'Absorbance Data'!P3020-Calculations!M$1","v":0},{"$f":"'Absorbance Data'!Q3020-Calculations!N$1","v":0},{"$f":"'Absorbance Data'!R3020-Calculations!O$1","v":0},{"$f":"'Absorbance Data'!S3020-Calculations!P$1","v":0},{"$f":"'Absorbance Data'!T3020-Calculations!Q$1","v":0},{"$f":"'Absorbance Data'!U3020-Calculations!R$1","v":0},{"$f":"'Absorbance Data'!V3020-Calculations!S$1","v":0},{"$f":"'Absorbance Data'!W3020-Calculations!T$1","v":0},{"$f":"'Absorbance Data'!X3020-Calculations!U$1","v":0},{"$f":"'Absorbance Data'!Y3020-Calculations!V$1","v":0},{"$f":"'Absorbance Data'!Z3020-Calculations!W$1","v":0}]
[{"$f":"'Absorbance Data'!D3021","v":521.74322509765625},{"$f":"'Absorbance Data'!E3021-Calculations!B$1","v":0},{"$f":"'Absorbance Data'!F3021-Calculations!C$1","v":0},{"$f":"'Absorbance Data'!G3021-Calculations!D$1","v":0},{"$f":"'Absorbance Data'!H3021-Calculations!E$1","v":0},{"$f":"'Absorbance Data'!I3021-Calculations!F$1","v":0},{"$f":"'Absorbance Data'!J3021-Calculations!G$1","v":0},{"$f":"'Absorbance Data'!K3021-Calculations!H$1","v":0},{"$f":"'Absorbance Data'!L3021-Calculations!I$1","v":0},{"$f":"'Absorbance Data'!M3021-Calculations!J$1","v":0},{"$f":"'Absorbance Data'!N3021-Calculations!K$1","v":0},{"$f":"'Absorbance Data'!O3021-Calculations!L$1","v":0},{"$f":"'Absorbance Data'!P3021-Calculations!M$1","v":0},{"$f":"'Absorbance Data'!Q3021-Calculations!N$1","v":0},{"$f":"'Absorbance Data'!R3021-Calculations!O$1","v":0},{"$f":"'Absorbance Data'!S3021-Calculations!P$1","v":0},{"$f":"'Absorbance Data'!T3021-Calculations!Q$1","v":0},{"$f":"'Absorbance Data'!U3021-Calculations!R$1","v":0},{"$f":"'Absorbance Data'!V3021-Calculations!S$1","v":0},{"$f":"'Absorbance Data'!W3021-Calculations!T$1","v":0},{"$f":"'Absorbance Data'!X3021-Calculations!U$1","v":0},{"$f":"'Absorbance Data'!Y3021-Calculations!V$1","v":0},{"$f":"'Absorbance Data'!Z3021-Calculations!W$1","v":0}]
[{"$f":"'Absorbance Data'!D3022","v":522.07305908203125},{"$f":"'Absorbance Data'!E3022-Calculations!B$1","v":0},{"$f":"'Absorbance Data'!F3022-Calculations!C$1","v":0},{"$f":"'Absorbance Data'!G3022-Calculations!D$1","v":0},{"$f":"'Absorbance Data'!H3022-Calculations!E$1","v":0},{"$f":"'Absorbance Data'!I3022-Calculations!F$1","v":0},{"$f":"'Absorbance Data'!J3022-Calculations!G$1","v":0},{"$f":"'Absorbance Data'!K3022-Calculations!H$1","v":0},{"$f":"'Absorbance Data'!L3022-Calculations!I$1","v":0},{"$f":"'Absorbance Data'!M3022-Calculations!J$1","v":0},{"$f":"'Absorbance Data'!N3022-Calculations!K$1","v":0},{"$f":"'Absorbance Data'!O3022-Calculations!L$1","v":0},{"$f":"'Absorbance Data'!P3022-Calculations!M$1","v":0},{"$f":"'Absorbance Data'!Q3022-Calculations!N$1","v":0},{"$f":"'Absorbance Data'!R3022-Calculations!O$1","v":0},{"$f":"'Absorbance Data'!S3022-Calculations!P$1","v":0},{"$f":"'Absorbance Data'!T3022-Calculations!Q$1","v":0},{"$f":"'Absorbance Data'!U3022-Calculations!R$1","v":0},{"$f":"'Absorbance Data'!V3022-Calculations!S$1","v":0},{"$f":"'Absorbance Data'!W3022-Calculations!T$1","v":0},{"$f":"'Absorbance Data'!X3022-Calculations!U$1","v":0},{"$f":"'Absorbance Data'!Y3022-Calculations!V$1","v":0},{"$f":"'Absorbance Data'!Z3022-Calculations!W$1","v":0}]
[{"$f":"'Absorbance Data'!D3023","v":522.40289306640625},{"$f":"'Absorbance Data'!E3023-Calculations!B$1","v":0},{"$f":"'Absorbance Data'!F3023-Calculations!C$1","v":0},{"$f":"'Absorbance Data'!G3023-Calculations!D$1","v":0},{"$f":"'Absorbance Data'!H3023-Calculations!E$1","v":0},{"$f":"'Absorbance Data'!I3023-Calculations!F$1","v":0},{"$f":"'Absorbance Data'!J3023-Calculations!G$1","v":0},{"$f":"'Absorbance Data'!K3023-Calculations!H$1","v":0},{"$f":"'Absorbance Data'!L3023-Calculations!I$1","v":0},{"$f":"'Absorbance Data'!M3023-Calculations!J$1","v":0},{"$f":"'Absorbance Data'!N3023-Calculations!K$1","v":0},{"$f":"'Absorbance Data'!O3023-Calculations!L$1","v":0},{"$f":"'Absorbance Data'!P3023-Calculations!M$1","v":0},{"$f":"'Absorbance Data'!Q3023-Calculations!N$1","v":0},{"$f":"'Absorbance Data'!R3023-Calculations!O$1","v":0},{"$f":"'Absorbance Data'!S3023-Calculations!P$1","v":0},{"$f":"'Absorbance Data'!T3023-Calculations!Q$1","v":0},{"$f":"'Absorbance Data'!U3023-Calculations!R$1","v":0},{"$f":"'Absorbance Data'!V3023-Calculations!S$1","v":0},{"$f":"'Absorbance Data'!W3023-Calculations!T$1","v":0},{"$f":"'Absorbance Data'!X3023-Calculations!U$1","v":0},{"$f":"'Absorbance Data'!Y3023-Calculations!V$1","v":0},{"$f":"'Absorbance Data'!Z3023-Calculations!W$1","v":0}]
[{"$f":"'Absorbance Data'!D3024","v":522.7327880859375},{"$f":"'Absorbance Data'!E3024-Calculations!B$1","v":0},{"$f":"'Absorbance Data'!F3024-Calculations!C$1","v":0},{"$f":"'Absorbance Data'!G3024-Calculations!D$1","v":0},{"$f":"'Absorbance Data'!H3024-Calculations!E$1","v":0},{"$f":"'Absorbance Data'!I3024-Calculations!F$1","v":0},{"$f":"'Absorbance Data'!J3024-Calculations!G$1","v":0},{"$f":"'Absorbance Data'!K3024-Calculations!H$1","v":0},{"$f":"'Absorbance Data'!L3024-Calculations!I$1","v":0},{"$f":"'Absorbance Data'!M3024-Calculations!J$1","v":0},{"$f":"'Absorbance Data'!N3024-Calculations!K$1","v":0},{"$f":"'Absorbance Data'!O3024-Calculations!L$1","v":0},{"$f":"'Absorbance Data'!P3024-Calculations!M$1","v":0},{"$f":"'Absorbance Data'!Q3024-Calculations!N$1","v":0},{"$f":"'Absorbance Data'!R3024-Calculations!O$1","v":0},{"$f":"'Absorbance Data'!S3024-Calculations!P$1","v":0},{"$f":"'Absorbance Data'!T3024-Calculations!Q$1","v":0},{"$f":"'Absorbance Data'!U3024-Calculations!R$1","v":0},{"$f":"'Absorbance Data'!V3024-Calculations!S$1","v":0},{"$f":"'Absorbance Data'!W3024-Calculations!T$1","v":0},{"$f":"'Absorbance Data'!X3024-Calculations!U$1","v":0},{"$f":"'Absorbance Data'!Y3024-Calculations!V$1","v":0},{"$f":"'Absorbance Data'!Z3024-Calculations!W$1","v":0}]
[{"$f":"'Absorbance Data'!D3025","v":523.06256103515625},{"$f":"'Absorbance Data'!E3025-Calculations!B$1","v":0},{"$f":"'Absorbance Data'!F3025-Calculations!C$1","v":0},{"$f":"'Absorbance Data'!G3025-Calculations!D$1","v":0},{"$f":"'Absorbance Data'!H3025-Calculations!E$1","v":0},{"$f":"'Absorbance Data'!I3025-Calculations!F$1","v":0},{"$f":"'Absorbance Data'!J3025-Calculations!G$1","v":0},{"$f":"'Absorbance Data'!K3025-Calculations!H$1","v":0},{"$f":"'Absorbance Data'!L3025-Calculations!I$1","v":0},{"$f":"'Absorbance Data'!M3025-Calculations!J$1","v":0},{"$f":"'Absorbance Data'!N3025-Calculations!K$1","v":0},{"$f":"'Absorbance Data'!O3025-Calculations!L$1","v":0},{"$f":"'Absorbance Data'!P3025-Calculations!M$1","v":0},{"$f":"'Absorbance Data'!Q3025-Calculations!N$1","v":0},{"$f":"'Absorbance Data'!R3025-Calculations!O$1","v":0},{"$f":"'Absorbance Data'!S3025-Calculations!P$1","v":0},{"$f":"'Absorbance Data'!T3025-Calculations!Q$1","v":0},{"$f":"'Absorbance Data'!U3025-Calculations!R$1","v":0},{"$f":"'Absorbance Data'!V3025-Calculations!S$1","v":0},{"$f":"'Absorbance Data'!W3025-Calculations!T$1","v":0},{"$f":"'Absorbance Data'!X3025-Calculations!U$1","v":0},{"$f":"'Absorbance Data'!Y3025-Calculations!V$1","v":0},{"$f":"'Absorbance Data'!Z3025-Calculations!W$1","v":0}]
[{"$f":"'Absorbance Data'!D3026","v":523.392333984375},{"$f":"'Absorbance Data'!E3026-Calculations!B$1","v":0},{"$f":"'Absorbance Data'!F3026-Calculations!C$1","v":0},{"$f":"'Absorbance Data'!G3026-Calculations!D$1","v":0},{"$f":"'Absorbance Data'!H3026-Calculations!E$1","v":0},{"$f":"'Absorbance Data'!I3026-Calculations!F$1","v":0},{"$f":"'Absorbance Data'!J3026-Calculations!G$1","v":0},{"$f":"'Absorbance Data'!K3026-Calculations!H$1","v":0},{"$f":"'Absorbance Data'!L3026-Calculations!I$1","v":0},{"$f":"'Absorbance Data'!M3026-Calculations!J$1","v":0},{"$f":"'Absorbance Data'!N3026-Calculations!K$1","v":0},{"$f":"'Absorbance Data'!O3026-Calculations!L$1","v":0},{"$f":"'Absorbance Data'!P3026-Calculations!M$1","v":0},{"$f":"'Absorbance Data'!Q3026-Calculations!N$1","v":0},{"$f":"'Absorbance Data'!R3026-Calculations!O$1","v":0},{"$f":"'Absorbance Data'!S3026-Calculations!P$1","v":0},{"$f":"'Absorbance Data'!T3026-Calculations!Q$1","v":0},{"$f":"'Absorbance Data'!U3026-Calculations!R$1","v":0},{"$f":"'Absorbance Data'!V3026-Calculations!S$1","v":0},{"$f":"'Absorbance Data'!W3026-Calculations!T$1","v":0},{"$f":"'Absorbance Data'!X3026-Calculations!U$1","v":0},{"$f":"'Absorbance Data'!Y3026-Calculations!V$1","v":0},{"$f":"'Absorbance Data'!Z3026-Calculations!W$1","v":0}]
[{"$f":"'Absorbance Data'!D3027","v":523.72198486328125},{"$f":"'Absorbance Data'!E3027-Calculations!B$1","v":0},{"$f":"'Absorbance Data'!F3027-Calculations!C$1","v":0},{"$f":"'Absorbance Data'!G3027-Calculations!D$1","v":0},{"$f":"'Absorbance Data'!H3027-Calculations!E$1","v":0},{"$f":"'Absorbance Data'!I3027-Calculations!F$1","v":0},{"$f":"'Absorbance Data'!J3027-Calculations!G$1","v":0},{"$f":"'Absorbance Data'!K3027-Calculations!H$1","v":0},{"$f":"'Absorbance Data'!L3027-Calculations!I$1","v":0},{"$f":"'Absorbance Data'!M3027-Calculations!J$1","v":0},{"$f":"'Absorbance Data'!N3027-Calculations!K$1","v":0},{"$f":"'Absorbance Data'!O3027-Calculations!L$1","v":0},{"$f":"'Absorbance Data'!P3027-Calculations!M$1","v":0},{"$f":"'Absorbance Data'!Q3027-Calculations!N$1","v":0},{"$f":"'Absorbance Data'!R3027-Calculations!O$1","v":0},{"$f":"'Absorbance Data'!S3027-Calculations!P$1","v":0},{"$f":"'Absorbance Data'!T3027-Calculations!Q$1","v":0},{"$f":"'Absorbance Data'!U3027-Calculations!R$1","v":0},{"$f":"'Absorbance Data'!V3027-Calculations!S$1","v":0},{"$f":"'Absorbance Data'!W3027-Calculations!T$1","v":0},{"$f":"'Absorbance Data'!X3027-Calculations!U$1","v":0},{"$f":"'Absorbance Data'!Y3027-Calculations!V$1","v":0},{"$f":"'Absorbance Data'!Z3027-Calculations!W$1","v":0}]
[{"$f":"'Absorbance Data'!D3028","v":524.05169677734375},{"$f":"'Absorbance Data'!E3028-Calculations!B$1","v":0},{"$f":"'Absorbance Data'!F3028-Calculations!C$1","v":0},{"$f":"'Absorbance Data'!G3028-Calculations!D$1","v":0},{"$f":"'Absorbance Data'!H3028-Calculations!E$1","v":0},{"$f":"'Absorbance Data'!I3028-Calculations!F$1","v":0},{"$f":"'Absorbance Data'!J3028-Calculations!G$1","v":0},{"$f":"'Absorbance Data'!K3028-Calculations!H$1","v":0},{"$f":"'Absorbance Data'!L3028-Calculations!I$1","v":0},{"$f":"'Absorbance Data'!M3028-Calculations!J$1","v":0},{"$f":"'Absorbance Data'!N3028-Calculations!K$1","v":0},{"$f":"'Absorbance Data'!O3028-Calculations!L$1","v":0},{"$f":"'Absorbance Data'!P3028-Calculations!M$1","v":0},{"$f":"'Absorbance Data'!Q3028-Calculations!N$1","v":0},{"$f":"'Absorbance Data'!R3028-Calculations!O$1","v":0},{"$f":"'Absorbance Data'!S3028-Calculations!P$1","v":0},{"$f":"'Absorbance Data'!T3028-Calculations!Q$1","v":0},{"$f":"'Absorbance Data'!U3028-Calculations!R$1","v":0},{"$f":"'Absorbance Data'!V3028-Calculations!S$1","v":0},{"$f":"'Absorbance Data'!W3028-Calculations!T$1","v":0},{"$f":"'Absorbance Data'!X3028-Calculations!U$1","v":0},{"$f":"'Absorbance Data'!Y3028-Calculations!V$1","v":0},{"$f":"'Absorbance Data'!Z3028-Calculations!W$1","v":0}]
[{"$f":"'Absorbance Data'!D3029","v":524.38134765625},{"$f":"'Absorbance Data'!E3029-Calculations!B$1","v":0},{"$f":"'Absorbance Data'!F3029-Calculations!C$1","v":0},{"$f":"'Absorbance Data'!G3029-Calculations!D$1","v":0},{"$f":"'Absorbance Data'!H3029-Calculations!E$1","v":0},{"$f":"'Absorbance Data'!I3029-Calculations!F$1","v":0},{"$f":"'Absorbance Data'!J3029-Calculations!G$1","v":0},{"$f":"'Absorbance Data'!K3029-Calculations!H$1","v":0},{"$f":"'Absorbance Data'!L3029-Calculations!I$1","v":0},{"$f":"'Absorbance Data'!M3029-Calculations!J$1","v":0},{"$f":"'Absorbance Data'!N3029-Calculations!K$1","v":0},{"$f":"'Absorbance Data'!O3029-Calculations!L$1","v":0},{"$f":"'Absorbance Data'!P3029-Calculations!M$1","v":0},{"$f":"'Absorbance Data'!Q3029-Calculations!N$1","v":0},{"$f":"'Absorbance Data'!R3029-Calculations!O$1","v":0},{"$f":"'Absorbance Data'!S3029-Calculations!P$1","v":0},{"$f":"'Absorbance Data'!T3029-Calculations!Q$1","v":0},{"$f":"'Absorbance Data'!U3029-Calculations!R$1","v":0},{"$f":"'Absorbance Data'!V3029-Calculations!S$1","v":0},{"$f":"'Absorbance Data'!W3029-Calculations!T$1","v":0},{"$f":"'Absorbance Data'!X3029-Calculations!U$1","v":0},{"$f":"'Absorbance Data'!Y3029-Calculations!V$1","v":0},{"$f":"'Absorbance Data'!Z3029-Calculations!W$1","v":0}]
[{"$f":"'Absorbance Data'!D3030","v":524.71087646484375},{"$f":"'Absorbance Data'!E3030-Calculations!B$1","v":0},{"$f":"'Absorbance Data'!F3030-Calculations!C$1","v":0},{"$f":"'Absorbance Data'!G3030-Calculations!D$1","v":0},{"$f":"'Absorbance Data'!H3030-Calculations!E$1","v":0},{"$f":"'Absorbance Data'!I3030-Calculations!F$1","v":0},{"$f":"'Absorbance Data'!J3030-Calculations!G$1","v":0},{"$f":"'Absorbance Data'!K3030-Calculations!H$1","v":0},{"$f":"'Absorbance Data'!L3030-Calculations!I$1","v":0},{"$f":"'Absorbance Data'!M3030-Calculations!J$1","v":0},{"$f":"'Absorbance Data'!N3030-Calculations!K$1","v":0},{"$f":"'Absorbance Data'!O3030-Calculations!L$1","v":0},{"$f":"'Absorbance Data'!P3030-Calculations!M$1","v":0},{"$f":"'Absorbance Data'!Q3030-Calculations!N$1","v":0},{"$f":"'Absorbance Data'!R3030-Calculations!O$1","v":0},{"$f":"'Absorbance Data'!S3030-Calculations!P$1","v":0},{"$f":"'Absorbance Data'!T3030-Calculations!Q$1","v":0},{"$f":"'Absorbance Data'!U3030-Calculations!R$1","v":0},{"$f":"'Absorbance Data'!V3030-Calculations!S$1","v":0},{"$f":"'Absorbance Data'!W3030-Calculations!T$1","v":0},{"$f":"'Absorbance Data'!X3030-Calculations!U$1","v":0},{"$f":"'Absorbance Data'!Y3030-Calculations!V$1","v":0},{"$f":"'Absorbance Data'!Z3030-Calculations!W$1","v":0}]
[{"$f":"'Absorbance Data'!D3031","v":525.04046630859375},{"$f":"'Absorbance Data'!E3031-Calculations!B$1","v":0},{"$f":"'Absorbance Data'!F3031-Calculations!C$1","v":0},{"$f":"'Absorbance Data'!G3031-Calculations!D$1","v":0},{"$f":"'Absorbance Data'!H3031-Calculations!E$1","v":0},{"$f":"'Absorbance Data'!I3031-Calculations!F$1","v":0},{"$f":"'Absorbance Data'!J3031-Calculations!G$1","v":0},{"$f":"'Absorbance Data'!K3031-Calculations!H$1","v":0},{"$f":"'Absorbance Data'!L3031-Calculations!I$1","v":0},{"$f":"'Absorbance Data'!M3031-Calculations!J$1","v":0},{"$f":"'Absorbance Data'!N3031-Calculations!K$1","v":0},{"$f":"'Absorbance Data'!O3031-Calculations!L$1","v":0},{"$f":"'Absorbance Data'!P3031-Calculations!M$1","v":0},{"$f":"'Absorbance Data'!Q3031-Calculations!N$1","v":0},{"$f":"'Absorbance Data'!R3031-Calculations!O$1","v":0},{"$f":"'Absorbance Data'!S3031-Calculations!P$1","v":0},{"$f":"'Absorbance Data'!T3031-Calculations!Q$1","v":0},{"$f":"'Absorbance Data'!U3031-Calculations!R$1","v":0},{"$f":"'Absorbance Data'!V3031-Calculations!S$1","v":0},{"$f":"'Absorbance Data'!W3031-Calculations!T$1","v":0},{"$f":"'Absorbance Data'!X3031-Calculations!U$1","v":0},{"$f":"'Absorbance Data'!Y3031-Calculations!V$1","v":0},{"$f":"'Absorbance Data'!Z3031-Calculations!W$1","v":0}]
[{"$f":"'Absorbance Data'!D3032","v":525.3699951171875},{"$f":"'Absorbance Data'!E3032-Calculations!B$1","v":0},{"$f":"'Absorbance Data'!F3032-Calculations!C$1","v":0},{"$f":"'Absorbance Data'!G3032-Calculations!D$1","v":0},{"$f":"'Absorbance Data'!H3032-Calculations!E$1","v":0},{"$f":"'Absorbance Data'!I3032-Calculations!F$1","v":0},{"$f":"'Absorbance Data'!J3032-Calculations!G$1","v":0},{"$f":"'Absorbance Data'!K3032-Calculations!H$1","v":0},{"$f":"'Absorbance Data'!L3032-Calculations!I$1","v":0},{"$f":"'Absorbance Data'!M3032-Calculations!J$1","v":0},{"$f":"'Absorbance Data'!N3032-Calculations!K$1","v":0},{"$f":"'Absorbance Data'!O3032-Calculations!L$1","v":0},{"$f":"'Absorbance Data'!P3032-Calculations!M$1","v":0},{"$f":"'Absorbance Data'!Q3032-Calculations!N$1","v":0},{"$f":"'Absorbance Data'!R3032-Calculations!O$1","v":0},{"$f":"'Absorbance Data'!S3032-Calculations!P$1","v":0},{"$f":"'Absorbance Data'!T3032-Calculations!Q$1","v":0},{"$f":"'Absorbance Data'!U3032-Calculations!R$1","v":0},{"$f":"'Absorbance Data'!V3032-Calculations!S$1","v":0},{"$f":"'Absorbance Data'!W3032-Calculations!T$1","v":0},{"$f":"'Absorbance Data'!X3032-Calculations!U$1","v":0},{"$f":"'Absorbance Data'!Y3032-Calculations!V$1","v":0},{"$f":"'Absorbance Data'!Z3032-Calculations!W$1","v":0}]
[{"$f":"'Absorbance Data'!D3033","v":525.69952392578125},{"$f":"'Absorbance Data'!E3033-Calculations!B$1","v":0},{"$f":"'Absorbance Data'!F3033-Calculations!C$1","v":0},{"$f":"'Absorbance Data'!G3033-Calculations!D$1","v":0},{"$f":"'Absorbance Data'!H3033-Calculations!E$1","v":0},{"$f":"'Absorbance Data'!I3033-Calculations!F$1","v":0},{"$f":"'Absorbance Data'!J3033-Calculations!G$1","v":0},{"$f":"'Absorbance Data'!K3033-Calculations!H$1","v":0},{"$f":"'Absorbance Data'!L3033-Calculations!I$1","v":0},{"$f":"'Absorbance Data'!M3033-Calculations!J$1","v":0},{"$f":"'Absorbance Data'!N3033-Calculations!K$1","v":0},{"$f":"'Absorbance Data'!O3033-Calculations!L$1","v":0},{"$f":"'Absorbance Data'!P3033-Calculations!M$1","v":0},{"$f":"'Absorbance Data'!Q3033-Calculations!N$1","v":0},{"$f":"'Absorbance Data'!R3033-Calculations!O$1","v":0},{"$f":"'Absorbance Data'!S3033-Calculations!P$1","v":0},{"$f":"'Absorbance Data'!T3033-Calculations!Q$1","v":0},{"$f":"'Absorbance Data'!U3033-Calculations!R$1","v":0},{"$f":"'Absorbance Data'!V3033-Calculations!S$1","v":0},{"$f":"'Absorbance Data'!W3033-Calculations!T$1","v":0},{"$f":"'Absorbance Data'!X3033-Calculations!U$1","v":0},{"$f":"'Absorbance Data'!Y3033-Calculations!V$1","v":0},{"$f":"'Absorbance Data'!Z3033-Calculations!W$1","v":0}]
[{"$f":"'Absorbance Data'!D3034","v":526.02899169921875},{"$f":"'Absorbance Data'!E3034-Calculations!B$1","v":0},{"$f":"'Absorbance Data'!F3034-Calculations!C$1","v":0},{"$f":"'Absorbance Data'!G3034-Calculations!D$1","v":0},{"$f":"'Absorbance Data'!H3034-Calculations!E$1","v":0},{"$f":"'Absorbance Data'!I3034-Calculations!F$1","v":0},{"$f":"'Absorbance Data'!J3034-Calculations!G$1","v":0},{"$f":"'Absorbance Data'!K3034-Calculations!H$1","v":0},{"$f":"'Absorbance Data'!L3034-Calculations!I$1","v":0},{"$f":"'Absorbance Data'!M3034-Calculations!J$1","v":0},{"$f":"'Absorbance Data'!N3034-Calculations!K$1","v":0},{"$f":"'Absorbance Data'!O3034-Calculations!L$1","v":0},{"$f":"'Absorbance Data'!P3034-Calculations!M$1","v":0},{"$f":"'Absorbance Data'!Q3034-Calculations!N$1","v":0},{"$f":"'Absorbance Data'!R3034-Calculations!O$1","v":0},{"$f":"'Absorbance Data'!S3034-Calculations!P$1","v":0},{"$f":"'Absorbance Data'!T3034-Calculations!Q$1","v":0},{"$f":"'Absorbance Data'!U3034-Calculations!R$1","v":0},{"$f":"'Absorbance Data'!V3034-Calculations!S$1","v":0},{"$f":"'Absorbance Data'!W3034-Calculations!T$1","v":0},{"$f":"'Absorbance Data'!X3034-Calculations!U$1","v":0},{"$f":"'Absorbance Data'!Y3034-Calculations!V$1","v":0},{"$f":"'Absorbance Data'!Z3034-Calculations!W$1","v":0}]
[{"$f":"'Absorbance Data'!D3035","v":526.35833740234375},{"$f":"'Absorbance Data'!E3035-Calculations!B$1","v":0},{"$f":"'Absorbance Data'!F3035-Calculations!C$1","v":0},{"$f":"'Absorbance Data'!G3035-Calculations!D$1","v":0},{"$f":"'Absorbance Data'!H3035-Calculations!E$1","v":0},{"$f":"'Absorbance Data'!I3035-Calculations!F$1","v":0},{"$f":"'Absorbance Data'!J3035-Calculations!G$1","v":0},{"$f":"'Absorbance Data'!K3035-Calculations!H$1","v":0},{"$f":"'Absorbance Data'!L3035-Calculations!I$1","v":0},{"$f":"'Absorbance Data'!M3035-Calculations!J$1","v":0},{"$f":"'Absorbance Data'!N3035-Calculations!K$1","v":0},{"$f":"'Absorbance Data'!O3035-Calculations!L$1","v":0},{"$f":"'Absorbance Data'!P3035-Calculations!M$1","v":0},{"$f":"'Absorbance Data'!Q3035-Calculations!N$1","v":0},{"$f":"'Absorbance Data'!R3035-Calculations!O$1","v":0},{"$f":"'Absorbance Data'!S3035-Calculations!P$1","v":0},{"$f":"'Absorbance Data'!T3035-Calculations!Q$1","v":0},{"$f":"'Absorbance Data'!U3035-Calculations!R$1","v":0},{"$f":"'Absorbance Data'!V3035-Calculations!S$1","v":0},{"$f":"'Absorbance Data'!W3035-Calculations!T$1","v":0},{"$f":"'Absorbance Data'!X3035-Calculations!U$1","v":0},{"$f":"'Absorbance Data'!Y3035-Calculations!V$1","v":0},{"$f":"'Absorbance Data'!Z3035-Calculations!W$1","v":0}]
[{"$f":"'Absorbance Data'!D3036","v":526.687744140625},{"$f":"'Absorbance Data'!E3036-Calculations!B$1","v":0},{"$f":"'Absorbance Data'!F3036-Calculations!C$1","v":0},{"$f":"'Absorbance Data'!G3036-Calculations!D$1","v":0},{"$f":"'Absorbance Data'!H3036-Calculations!E$1","v":0},{"$f":"'Absorbance Data'!I3036-Calculations!F$1","v":0},{"$f":"'Absorbance Data'!J3036-Calculations!G$1","v":0},{"$f":"'Absorbance Data'!K3036-Calculations!H$1","v":0},{"$f":"'Absorbance Data'!L3036-Calculations!I$1","v":0},{"$f":"'Absorbance Data'!M3036-Calculations!J$1","v":0},{"$f":"'Absorbance Data'!N3036-Calculations!K$1","v":0},{"$f":"'Absorbance Data'!O3036-Calculations!L$1","v":0},{"$f":"'Absorbance Data'!P3036-Calculations!M$1","v":0},{"$f":"'Absorbance Data'!Q3036-Calculations!N$1","v":0},{"$f":"'Absorbance Data'!R3036-Calculations!O$1","v":0},{"$f":"'Absorbance Data'!S3036-Calculations!P$1","v":0},{"$f":"'Absorbance Data'!T3036-Calculations!Q$1","v":0},{"$f":"'Absorbance Data'!U3036-Calculations!R$1","v":0},{"$f":"'Absorbance Data'!V3036-Calculations!S$1","v":0},{"$f":"'Absorbance Data'!W3036-Calculations!T$1","v":0},{"$f":"'Absorbance Data'!X3036-Calculations!U$1","v":0},{"$f":"'Absorbance Data'!Y3036-Calculations!V$1","v":0},{"$f":"'Absorbance Data'!Z3036-Calculations!W$1","v":0}]
[{"$f":"'Absorbance Data'!D3037","v":527.01708984375},{"$f":"'Absorbance Data'!E3037-Calculations!B$1","v":0},{"$f":"'Absorbance Data'!F3037-Calculations!C$1","v":0},{"$f":"'Absorbance Data'!G3037-Calculations!D$1","v":0},{"$f":"'Absorbance Data'!H3037-Calculations!E$1","v":0},{"$f":"'Absorbance Data'!I3037-Calculations!F$1","v":0},{"$f":"'Absorbance Data'!J3037-Calculations!G$1","v":0},{"$f":"'Absorbance Data'!K3037-Calculations!H$1","v":0},{"$f":"'Absorbance Data'!L3037-Calculations!I$1","v":0},{"$f":"'Absorbance Data'!M3037-Calculations!J$1","v":0},{"$f":"'Absorbance Data'!N3037-Calculations!K$1","v":0},{"$f":"'Absorbance Data'!O3037-Calculations!L$1","v":0},{"$f":"'Absorbance Data'!P3037-Calculations!M$1","v":0},{"$f":"'Absorbance Data'!Q3037-Calculations!N$1","v":0},{"$f":"'Absorbance Data'!R3037-Calculations!O$1","v":0},{"$f":"'Absorbance Data'!S3037-Calculations!P$1","v":0},{"$f":"'Absorbance Data'!T3037-Calculations!Q$1","v":0},{"$f":"'Absorbance Data'!U3037-Calculations!R$1","v":0},{"$f":"'Absorbance Data'!V3037-Calculations!S$1","v":0},{"$f":"'Absorbance Data'!W3037-Calculations!T$1","v":0},{"$f":"'Absorbance Data'!X3037-Calculations!U$1","v":0},{"$f":"'Absorbance Data'!Y3037-Calculations!V$1","v":0},{"$f":"'Absorbance Data'!Z3037-Calculations!W$1","v":0}]
[{"$f":"'Absorbance Data'!D3038","v":527.34637451171875},{"$f":"'Absorbance Data'!E3038-Calculations!B$1","v":0},{"$f":"'Absorbance Data'!F3038-Calculations!C$1","v":0},{"$f":"'Absorbance Data'!G3038-Calculations!D$1","v":0},{"$f":"'Absorbance Data'!H3038-Calculations!E$1","v":0},{"$f":"'Absorbance Data'!I3038-Calculations!F$1","v":0},{"$f":"'Absorbance Data'!J3038-Calculations!G$1","v":0},{"$f":"'Absorbance Data'!K3038-Calculations!H$1","v":0},{"$f":"'Absorbance Data'!L3038-Calculations!I$1","v":0},{"$f":"'Absorbance Data'!M3038-Calculations!J$1","v":0},{"$f":"'Absorbance Data'!N3038-Calculations!K$1","v":0},{"$f":"'Absorbance Data'!O3038-Calculations!L$1","v":0},{"$f":"'Absorbance Data'!P3038-Calculations!M$1","v":0},{"$f":"'Absorbance Data'!Q3038-Calculations!N$1","v":0},{"$f":"'Absorbance Data'!R3038-Calculations!O$1","v":0},{"$f":"'Absorbance Data'!S3038-Calculations!P$1","v":0},{"$f":"'Absorbance Data'!T3038-Calculations!Q$1","v":0},{"$f":"'Absorbance Data'!U3038-Calculations!R$1","v":0},{"$f":"'Absorbance Data'!V3038-Calculations!S$1","v":0},{"$f":"'Absorbance Data'!W3038-Calculations!T$1","v":0},{"$f":"'Absorbance Data'!X3038-Calculations!U$1","v":0},{"$f":"'Absorbance Data'!Y3038-Calculations!V$1","v":0},{"$f":"'Absorbance Data'!Z3038-Calculations!W$1","v":0}]
[{"$f":"'Absorbance Data'!D3039","v":527.67559814453125},{"$f":"'Absorbance Data'!E3039-Calculations!B$1","v":0},{"$f":"'Absorbance Data'!F3039-Calculations!C$1","v":0},{"$f":"'Absorbance Data'!G3039-Calculations!D$1","v":0},{"$f":"'Absorbance Data'!H3039-Calculations!E$1","v":0},{"$f":"'Absorbance Data'!I3039-Calculations!F$1","v":0},{"$f":"'Absorbance Data'!J3039-Calculations!G$1","v":0},{"$f":"'Absorbance Data'!K3039-Calculations!H$1","v":0},{"$f":"'Absorbance Data'!L3039-Calculations!I$1","v":0},{"$f":"'Absorbance Data'!M3039-Calculations!J$1","v":0},{"$f":"'Absorbance Data'!N3039-Calculations!K$1","v":0},{"$f":"'Absorbance Data'!O3039-Calculations!L$1","v":0},{"$f":"'Absorbance Data'!P3039-Calculations!M$1","v":0},{"$f":"'Absorbance Data'!Q3039-Calculations!N$1","v":0},{"$f":"'Absorbance Data'!R3039-Calculations!O$1","v":0},{"$f":"'Absorbance Data'!S3039-Calculations!P$1","v":0},{"$f":"'Absorbance Data'!T3039-Calculations!Q$1","v":0},{"$f":"'Absorbance Data'!U3039-Calculations!R$1","v":0},{"$f":"'Absorbance Data'!V3039-Calculations!S$1","v":0},{"$f":"'Absorbance Data'!W3039-Calculations!T$1","v":0},{"$f":"'Absorbance Data'!X3039-Calculations!U$1","v":0},{"$f":"'Absorbance Data'!Y3039-Calculations!V$1","v":0},{"$f":"'Absorbance Data'!Z3039-Calculations!W$1","v":0}]
[{"$f":"'Absorbance Data'!D3040","v":528.0048828125},{"$f":"'Absorbance Data'!E3040-Calculations!B$1","v":0},{"$f":"'Absorbance Data'!F3040-Calculations!C$1","v":0},{"$f":"'Absorbance Data'!G3040-Calculations!D$1","v":0},{"$f":"'Absorbance Data'!H3040-Calculations!E$1","v":0},{"$f":"'Absorbance Data'!I3040-Calculations!F$1","v":0},{"$f":"'Absorbance Data'!J3040-Calculations!G$1","v":0},{"$f":"'Absorbance Data'!K3040-Calculations!H$1","v":0},{"$f":"'Absorbance Data'!L3040-Calculations!I$1","v":0},{"$f":"'Absorbance Data'!M3040-Calculations!J$1","v":0},{"$f":"'Absorbance Data'!N3040-Calculations!K$1","v":0},{"$f":"'Absorbance Data'!O3040-Calculations!L$1","v":0},{"$f":"'Absorbance Data'!P3040-Calculations!M$1","v":0},{"$f":"'Absorbance Data'!Q3040-Calculations!N$1","v":0},{"$f":"'Absorbance Data'!R3040-Calculations!O$1","v":0},{"$f":"'Absorbance Data'!S3040-Calculations!P$1","v":0},{"$f":"'Absorbance Data'!T3040-Calculations!Q$1","v":0},{"$f":"'Absorbance Data'!U3040-Calculations!R$1","v":0},{"$f":"'Absorbance Data'!V3040-Calculations!S$1","v":0},{"$f":"'Absorbance Data'!W3040-Calculations!T$1","v":0},{"$f":"'Absorbance Data'!X3040-Calculations!U$1","v":0},{"$f":"'Absorbance Data'!Y3040-Calculations!V$1","v":0},{"$f":"'Absorbance Data'!Z3040-Calculations!W$1","v":0}]
[{"$f":"'Absorbance Data'!D3041","v":528.33404541015625},{"$f":"'Absorbance Data'!E3041-Calculations!B$1","v":0},{"$f":"'Absorbance Data'!F3041-Calculations!C$1","v":0},{"$f":"'Absorbance Data'!G3041-Calculations!D$1","v":0},{"$f":"'Absorbance Data'!H3041-Calculations!E$1","v":0},{"$f":"'Absorbance Data'!I3041-Calculations!F$1","v":0},{"$f":"'Absorbance Data'!J3041-Calculations!G$1","v":0},{"$f":"'Absorbance Data'!K3041-Calculations!H$1","v":0},{"$f":"'Absorbance Data'!L3041-Calculations!I$1","v":0},{"$f":"'Absorbance Data'!M3041-Calculations!J$1","v":0},{"$f":"'Absorbance Data'!N3041-Calculations!K$1","v":0},{"$f":"'Absorbance Data'!O3041-Calculations!L$1","v":0},{"$f":"'Absorbance Data'!P3041-Calculations!M$1","v":0},{"$f":"'Absorbance Data'!Q3041-Calculations!N$1","v":0},{"$f":"'Absorbance Data'!R3041-Calculations!O$1","v":0},{"$f":"'Absorbance Data'!S3041-Calculations!P$1","v":0},{"$f":"'Absorbance Data'!T3041-Calculations!Q$1","v":0},{"$f":"'Absorbance Data'!U3041-Calculations!R$1","v":0},{"$f":"'Absorbance Data'!V3041-Calculations!S$1","v":0},{"$f":"'Absorbance Data'!W3041-Calculations!T$1","v":0},{"$f":"'Absorbance Data'!X3041-Calculations!U$1","v":0},{"$f":"'Absorbance Data'!Y3041-Calculations!V$1","v":0},{"$f":"'Absorbance Data'!Z3041-Calculations!W$1","v":0}]
[{"$f":"'Absorbance Data'!D3042","v":528.66326904296875},{"$f":"'Absorbance Data'!E3042-Calculations!B$1","v":0},{"$f":"'Absorbance Data'!F3042-Calculations!C$1","v":0},{"$f":"'Absorbance Data'!G3042-Calculations!D$1","v":0},{"$f":"'Absorbance Data'!H3042-Calculations!E$1","v":0},{"$f":"'Absorbance Data'!I3042-Calculations!F$1","v":0},{"$f":"'Absorbance Data'!J3042-Calculations!G$1","v":0},{"$f":"'Absorbance Data'!K3042-Calculations!H$1","v":0},{"$f":"'Absorbance Data'!L3042-Calculations!I$1","v":0},{"$f":"'Absorbance Data'!M3042-Calculations!J$1","v":0},{"$f":"'Absorbance Data'!N3042-Calculations!K$1","v":0},{"$f":"'Absorbance Data'!O3042-Calculations!L$1","v":0},{"$f":"'Absorbance Data'!P3042-Calculations!M$1","v":0},{"$f":"'Absorbance Data'!Q3042-Calculations!N$1","v":0},{"$f":"'Absorbance Data'!R3042-Calculations!O$1","v":0},{"$f":"'Absorbance Data'!S3042-Calculations!P$1","v":0},{"$f":"'Absorbance Data'!T3042-Calculations!Q$1","v":0},{"$f":"'Absorbance Data'!U3042-Calculations!R$1","v":0},{"$f":"'Absorbance Data'!V3042-Calculations!S$1","v":0},{"$f":"'Absorbance Data'!W3042-Calculations!T$1","v":0},{"$f":"'Absorbance Data'!X3042-Calculations!U$1","v":0},{"$f":"'Absorbance Data'!Y3042-Calculations!V$1","v":0},{"$f":"'Absorbance Data'!Z3042-Calculations!W$1","v":0}]
[{"$f":"'Absorbance Data'!D3043","v":528.9923095703125},{"$f":"'Absorbance Data'!E3043-Calculations!B$1","v":0},{"$f":"'Absorbance Data'!F3043-Calculations!C$1","v":0},{"$f":"'Absorbance Data'!G3043-Calculations!D$1","v":0},{"$f":"'Absorbance Data'!H3043-Calculations!E$1","v":0},{"$f":"'Absorbance Data'!I3043-Calculations!F$1","v":0},{"$f":"'Absorbance Data'!J3043-Calculations!G$1","v":0},{"$f":"'Absorbance Data'!K3043-Calculations!H$1","v":0},{"$f":"'Absorbance Data'!L3043-Calculations!I$1","v":0},{"$f":"'Absorbance Data'!M3043-Calculations!J$1","v":0},{"$f":"'Absorbance Data'!N3043-Calculations!K$1","v":0},{"$f":"'Absorbance Data'!O3043-Calculations!L$1","v":0},{"$f":"'Absorbance Data'!P3043-Calculations!M$1","v":0},{"$f":"'Absorbance Data'!Q3043-Calculations!N$1","v":0},{"$f":"'Absorbance Data'!R3043-Calculations!O$1","v":0},{"$f":"'Absorbance Data'!S3043-Calculations!P$1","v":0},{"$f":"'Absorbance Data'!T3043-Calculations!Q$1","v":0},{"$f":"'Absorbance Data'!U3043-Calculations!R$1","v":0},{"$f":"'Absorbance Data'!V3043-Calculations!S$1","v":0},{"$f":"'Absorbance Data'!W3043-Calculations!T$1","v":0},{"$f":"'Absorbance Data'!X3043-Calculations!U$1","v":0},{"$f":"'Absorbance Data'!Y3043-Calculations!V$1","v":0},{"$f":"'Absorbance Data'!Z3043-Calculations!W$1","v":0}]
[{"$f":"'Absorbance Data'!D3044","v":529.32135009765625},{"$f":"'Absorbance Data'!E3044-Calculations!B$1","v":0},{"$f":"'Absorbance Data'!F3044-Calculations!C$1","v":0},{"$f":"'Absorbance Data'!G3044-Calculations!D$1","v":0},{"$f":"'Absorbance Data'!H3044-Calculations!E$1","v":0},{"$f":"'Absorbance Data'!I3044-Calculations!F$1","v":0},{"$f":"'Absorbance Data'!J3044-Calculations!G$1","v":0},{"$f":"'Absorbance Data'!K3044-Calculations!H$1","v":0},{"$f":"'Absorbance Data'!L3044-Calculations!I$1","v":0},{"$f":"'Absorbance Data'!M3044-Calculations!J$1","v":0},{"$f":"'Absorbance Data'!N3044-Calculations!K$1","v":0},{"$f":"'Absorbance Data'!O3044-Calculations!L$1","v":0},{"$f":"'Absorbance Data'!P3044-Calculations!M$1","v":0},{"$f":"'Absorbance Data'!Q3044-Calculations!N$1","v":0},{"$f":"'Absorbance Data'!R3044-Calculations!O$1","v":0},{"$f":"'Absorbance Data'!S3044-Calculations!P$1","v":0},{"$f":"'Absorbance Data'!T3044-Calculations!Q$1","v":0},{"$f":"'Absorbance Data'!U3044-Calculations!R$1","v":0},{"$f":"'Absorbance Data'!V3044-Calculations!S$1","v":0},{"$f":"'Absorbance Data'!W3044-Calculations!T$1","v":0},{"$f":"'Absorbance Data'!X3044-Calculations!U$1","v":0},{"$f":"'Absorbance Data'!Y3044-Calculations!V$1","v":0},{"$f":"'Absorbance Data'!Z3044-Calculations!W$1","v":0}]
[{"$f":"'Absorbance Data'!D3045","v":529.65045166015625},{"$f":"'Absorbance Data'!E3045-Calculations!B$1","v":0},{"$f":"'Absorbance Data'!F3045-Calculations!C$1","v":0},{"$f":"'Absorbance Data'!G3045-Calculations!D$1","v":0},{"$f":"'Absorbance Data'!H3045-Calculations!E$1","v":0},{"$f":"'Absorbance Data'!I3045-Calculations!F$1","v":0},{"$f":"'Absorbance Data'!J3045-Calculations!G$1","v":0},{"$f":"'Absorbance Data'!K3045-Calculations!H$1","v":0},{"$f":"'Absorbance Data'!L3045-Calculations!I$1","v":0},{"$f":"'Absorbance Data'!M3045-Calculations!J$1","v":0},{"$f":"'Absorbance Data'!N3045-Calculations!K$1","v":0},{"$f":"'Absorbance Data'!O3045-Calculations!L$1","v":0},{"$f":"'Absorbance Data'!P3045-Calculations!M$1","v":0},{"$f":"'Absorbance Data'!Q3045-Calculations!N$1","v":0},{"$f":"'Absorbance Data'!R3045-Calculations!O$1","v":0},{"$f":"'Absorbance Data'!S3045-Calculations!P$1","v":0},{"$f":"'Absorbance Data'!T3045-Calculations!Q$1","v":0},{"$f":"'Absorbance Data'!U3045-Calculations!R$1","v":0},{"$f":"'Absorbance Data'!V3045-Calculations!S$1","v":0},{"$f":"'Absorbance Data'!W3045-Calculations!T$1","v":0},{"$f":"'Absorbance Data'!X3045-Calculations!U$1","v":0},{"$f":"'Absorbance Data'!Y3045-Calculations!V$1","v":0},{"$f":"'Absorbance Data'!Z3045-Calculations!W$1","v":0}]
[{"$f":"'Absorbance Data'!D3046","v":529.97943115234375},{"$f":"'Absorbance Data'!E3046-Calculations!B$1","v":0},{"$f":"'Absorbance Data'!F3046-Calculations!C$1","v":0},{"$f":"'Absorbance Data'!G3046-Calculations!D$1","v":0},{"$f":"'Absorbance Data'!H3046-Calculations!E$1","v":0},{"$f":"'Absorbance Data'!I3046-Calculations!F$1","v":0},{"$f":"'Absorbance Data'!J3046-Calculations!G$1","v":0},{"$f":"'Absorbance Data'!K3046-Calculations!H$1","v":0},{"$f":"'Absorbance Data'!L3046-Calculations!I$1","v":0},{"$f":"'Absorbance Data'!M3046-Calculations!J$1","v":0},{"$f":"'Absorbance Data'!N3046-Calculations!K$1","v":0},{"$f":"'Absorbance Data'!O3046-Calculations!L$1","v":0},{"$f":"'Absorbance Data'!P3046-Calculations!M$1","v":0},{"$f":"'Absorbance Data'!Q3046-Calculations!N$1","v":0},{"$f":"'Absorbance Data'!R3046-Calculations!O$1","v":0},{"$f":"'Absorbance Data'!S3046-Calculations!P$1","v":0},{"$f":"'Absorbance Data'!T3046-Calculations!Q$1","v":0},{"$f":"'Absorbance Data'!U3046-Calculations!R$1","v":0},{"$f":"'Absorbance Data'!V3046-Calculations!S$1","v":0},{"$f":"'Absorbance Data'!W3046-Calculations!T$1","v":0},{"$f":"'Absorbance Data'!X3046-Calculations!U$1","v":0},{"$f":"'Absorbance Data'!Y3046-Calculations!V$1","v":0},{"$f":"'Absorbance Data'!Z3046-Calculations!W$1","v":0}]
[{"$f":"'Absorbance Data'!D3047","v":530.308349609375},{"$f":"'Absorbance Data'!E3047-Calculations!B$1","v":0},{"$f":"'Absorbance Data'!F3047-Calculations!C$1","v":0},{"$f":"'Absorbance Data'!G3047-Calculations!D$1","v":0},{"$f":"'Absorbance Data'!H3047-Calculations!E$1","v":0},{"$f":"'Absorbance Data'!I3047-Calculations!F$1","v":0},{"$f":"'Absorbance Data'!J3047-Calculations!G$1","v":0},{"$f":"'Absorbance Data'!K3047-Calculations!H$1","v":0},{"$f":"'Absorbance Data'!L3047-Calculations!I$1","v":0},{"$f":"'Absorbance Data'!M3047-Calculations!J$1","v":0},{"$f":"'Absorbance Data'!N3047-Calculations!K$1","v":0},{"$f":"'Absorbance Data'!O3047-Calculations!L$1","v":0},{"$f":"'Absorbance Data'!P3047-Calculations!M$1","v":0},{"$f":"'Absorbance Data'!Q3047-Calculations!N$1","v":0},{"$f":"'Absorbance Data'!R3047-Calculations!O$1","v":0},{"$f":"'Absorbance Data'!S3047-Calculations!P$1","v":0},{"$f":"'Absorbance Data'!T3047-Calculations!Q$1","v":0},{"$f":"'Absorbance Data'!U3047-Calculations!R$1","v":0},{"$f":"'Absorbance Data'!V3047-Calculations!S$1","v":0},{"$f":"'Absorbance Data'!W3047-Calculations!T$1","v":0},{"$f":"'Absorbance Data'!X3047-Calculations!U$1","v":0},{"$f":"'Absorbance Data'!Y3047-Calculations!V$1","v":0},{"$f":"'Absorbance Data'!Z3047-Calculations!W$1","v":0}]
[{"$f":"'Absorbance Data'!D3048","v":530.63726806640625},{"$f":"'Absorbance Data'!E3048-Calculations!B$1","v":0},{"$f":"'Absorbance Data'!F3048-Calculations!C$1","v":0},{"$f":"'Absorbance Data'!G3048-Calculations!D$1","v":0},{"$f":"'Absorbance Data'!H3048-Calculations!E$1","v":0},{"$f":"'Absorbance Data'!I3048-Calculations!F$1","v":0},{"$f":"'Absorbance Data'!J3048-Calculations!G$1","v":0},{"$f":"'Absorbance Data'!K3048-Calculations!H$1","v":0},{"$f":"'Absorbance Data'!L3048-Calculations!I$1","v":0},{"$f":"'Absorbance Data'!M3048-Calculations!J$1","v":0},{"$f":"'Absorbance Data'!N3048-Calculations!K$1","v":0},{"$f":"'Absorbance Data'!O3048-Calculations!L$1","v":0},{"$f":"'Absorbance Data'!P3048-Calculations!M$1","v":0},{"$f":"'Absorbance Data'!Q3048-Calculations!N$1","v":0},{"$f":"'Absorbance Data'!R3048-Calculations!O$1","v":0},{"$f":"'Absorbance Data'!S3048-Calculations!P$1","v":0},{"$f":"'Absorbance Data'!T3048-Calculations!Q$1","v":0},{"$f":"'Absorbance Data'!U3048-Calculations!R$1","v":0},{"$f":"'Absorbance Data'!V3048-Calculations!S$1","v":0},{"$f":"'Absorbance Data'!W3048-Calculations!T$1","v":0},{"$f":"'Absorbance Data'!X3048-Calculations!U$1","v":0},{"$f":"'Absorbance Data'!Y3048-Calculations!V$1","v":0},{"$f":"'Absorbance Data'!Z3048-Calculations!W$1","v":0}]
[{"$f":"'Absorbance Data'!D3049","v":530.9661865234375},{"$f":"'Absorbance Data'!E3049-Calculations!B$1","v":0},{"$f":"'Absorbance Data'!F3049-Calculations!C$1","v":0},{"$f":"'Absorbance Data'!G3049-Calculations!D$1","v":0},{"$f":"'Absorbance Data'!H3049-Calculations!E$1","v":0},{"$f":"'Absorbance Data'!I3049-Calculations!F$1","v":0},{"$f":"'Absorbance Data'!J3049-Calculations!G$1","v":0},{"$f":"'Absorbance Data'!K3049-Calculations!H$1","v":0},{"$f":"'Absorbance Data'!L3049-Calculations!I$1","v":0},{"$f":"'Absorbance Data'!M3049-Calculations!J$1","v":0},{"$f":"'Absorbance Data'!N3049-Calculations!K$1","v":0},{"$f":"'Absorbance Data'!O3049-Calculations!L$1","v":0},{"$f":"'Absorbance Data'!P3049-Calculations!M$1","v":0},{"$f":"'Absorbance Data'!Q3049-Calculations!N$1","v":0},{"$f":"'Absorbance Data'!R3049-Calculations!O$1","v":0},{"$f":"'Absorbance Data'!S3049-Calculations!P$1","v":0},{"$f":"'Absorbance Data'!T3049-Calculations!Q$1","v":0},{"$f":"'Absorbance Data'!U3049-Calculations!R$1","v":0},{"$f":"'Absorbance Data'!V3049-Calculations!S$1","v":0},{"$f":"'Absorbance Data'!W3049-Calculations!T$1","v":0},{"$f":"'Absorbance Data'!X3049-Calculations!U$1","v":0},{"$f":"'Absorbance Data'!Y3049-Calculations!V$1","v":0},{"$f":"'Absorbance Data'!Z3049-Calculations!W$1","v":0}]
[{"$f":"'Absorbance Data'!D3050","v":531.29510498046875},{"$f":"'Absorbance Data'!E3050-Calculations!B$1","v":0},{"$f":"'Absorbance Data'!F3050-Calculations!C$1","v":0},{"$f":"'Absorbance Data'!G3050-Calculations!D$1","v":0},{"$f":"'Absorbance Data'!H3050-Calculations!E$1","v":0},{"$f":"'Absorbance Data'!I3050-Calculations!F$1","v":0},{"$f":"'Absorbance Data'!J3050-Calculations!G$1","v":0},{"$f":"'Absorbance Data'!K3050-Calculations!H$1","v":0},{"$f":"'Absorbance Data'!L3050-Calculations!I$1","v":0},{"$f":"'Absorbance Data'!M3050-Calculations!J$1","v":0},{"$f":"'Absorbance Data'!N3050-Calculations!K$1","v":0},{"$f":"'Absorbance Data'!O3050-Calculations!L$1","v":0},{"$f":"'Absorbance Data'!P3050-Calculations!M$1","v":0},{"$f":"'Absorbance Data'!Q3050-Calculations!N$1","v":0},{"$f":"'Absorbance Data'!R3050-Calculations!O$1","v":0},{"$f":"'Absorbance Data'!S3050-Calculations!P$1","v":0},{"$f":"'Absorbance Data'!T3050-Calculations!Q$1","v":0},{"$f":"'Absorbance Data'!U3050-Calculations!R$1","v":0},{"$f":"'Absorbance Data'!V3050-Calculations!S$1","v":0},{"$f":"'Absorbance Data'!W3050-Calculations!T$1","v":0},{"$f":"'Absorbance Data'!X3050-Calculations!U$1","v":0},{"$f":"'Absorbance Data'!Y3050-Calculations!V$1","v":0},{"$f":"'Absorbance Data'!Z3050-Calculations!W$1","v":0}]
[{"$f":"'Absorbance Data'!D3051","v":531.62384033203125},{"$f":"'Absorbance Data'!E3051-Calculations!B$1","v":0},{"$f":"'Absorbance Data'!F3051-Calculations!C$1","v":0},{"$f":"'Absorbance Data'!G3051-Calculations!D$1","v":0},{"$f":"'Absorbance Data'!H3051-Calculations!E$1","v":0},{"$f":"'Absorbance Data'!I3051-Calculations!F$1","v":0},{"$f":"'Absorbance Data'!J3051-Calculations!G$1","v":0},{"$f":"'Absorbance Data'!K3051-Calculations!H$1","v":0},{"$f":"'Absorbance Data'!L3051-Calculations!I$1","v":0},{"$f":"'Absorbance Data'!M3051-Calculations!J$1","v":0},{"$f":"'Absorbance Data'!N3051-Calculations!K$1","v":0},{"$f":"'Absorbance Data'!O3051-Calculations!L$1","v":0},{"$f":"'Absorbance Data'!P3051-Calculations!M$1","v":0},{"$f":"'Absorbance Data'!Q3051-Calculations!N$1","v":0},{"$f":"'Absorbance Data'!R3051-Calculations!O$1","v":0},{"$f":"'Absorbance Data'!S3051-Calculations!P$1","v":0},{"$f":"'Absorbance Data'!T3051-Calculations!Q$1","v":0},{"$f":"'Absorbance Data'!U3051-Calculations!R$1","v":0},{"$f":"'Absorbance Data'!V3051-Calculations!S$1","v":0},{"$f":"'Absorbance Data'!W3051-Calculations!T$1","v":0},{"$f":"'Absorbance Data'!X3051-Calculations!U$1","v":0},{"$f":"'Absorbance Data'!Y3051-Calculations!V$1","v":0},{"$f":"'Absorbance Data'!Z3051-Calculations!W$1","v":0}]
[{"$f":"'Absorbance Data'!D3052","v":531.95257568359375},{"$f":"'Absorbance Data'!E3052-Calculations!B$1","v":0},{"$f":"'Absorbance Data'!F3052-Calculations!C$1","v":0},{"$f":"'Absorbance Data'!G3052-Calculations!D$1","v":0},{"$f":"'Absorbance Data'!H3052-Calculations!E$1","v":0},{"$f":"'Absorbance Data'!I3052-Calculations!F$1","v":0},{"$f":"'Absorbance Data'!J3052-Calculations!G$1","v":0},{"$f":"'Absorbance Data'!K3052-Calculations!H$1","v":0},{"$f":"'Absorbance Data'!L3052-Calculations!I$1","v":0},{"$f":"'Absorbance Data'!M3052-Calculations!J$1","v":0},{"$f":"'Absorbance Data'!N3052-Calculations!K$1","v":0},{"$f":"'Absorbance Data'!O3052-Calculations!L$1","v":0},{"$f":"'Absorbance Data'!P3052-Calculations!M$1","v":0},{"$f":"'Absorbance Data'!Q3052-Calculations!N$1","v":0},{"$f":"'Absorbance Data'!R3052-Calculations!O$1","v":0},{"$f":"'Absorbance Data'!S3052-Calculations!P$1","v":0},{"$f":"'Absorbance Data'!T3052-Calculations!Q$1","v":0},{"$f":"'Absorbance Data'!U3052-Calculations!R$1","v":0},{"$f":"'Absorbance Data'!V3052-Calculations!S$1","v":0},{"$f":"'Absorbance Data'!W3052-Calculations!T$1","v":0},{"$f":"'Absorbance Data'!X3052-Calculations!U$1","v":0},{"$f":"'Absorbance Data'!Y3052-Calculations!V$1","v":0},{"$f":"'Absorbance Data'!Z3052-Calculations!W$1","v":0}]
[{"$f":"'Absorbance Data'!D3053","v":532.2813720703125},{"$f":"'Absorbance Data'!E3053-Calculations!B$1","v":0},{"$f":"'Absorbance Data'!F3053-Calculations!C$1","v":0},{"$f":"'Absorbance Data'!G3053-Calculations!D$1","v":0},{"$f":"'Absorbance Data'!H3053-Calculations!E$1","v":0},{"$f":"'Absorbance Data'!I3053-Calculations!F$1","v":0},{"$f":"'Absorbance Data'!J3053-Calculations!G$1","v":0},{"$f":"'Absorbance Data'!K3053-Calculations!H$1","v":0},{"$f":"'Absorbance Data'!L3053-Calculations!I$1","v":0},{"$f":"'Absorbance Data'!M3053-Calculations!J$1","v":0},{"$f":"'Absorbance Data'!N3053-Calculations!K$1","v":0},{"$f":"'Absorbance Data'!O3053-Calculations!L$1","v":0},{"$f":"'Absorbance Data'!P3053-Calculations!M$1","v":0},{"$f":"'Absorbance Data'!Q3053-Calculations!N$1","v":0},{"$f":"'Absorbance Data'!R3053-Calculations!O$1","v":0},{"$f":"'Absorbance Data'!S3053-Calculations!P$1","v":0},{"$f":"'Absorbance Data'!T3053-Calculations!Q$1","v":0},{"$f":"'Absorbance Data'!U3053-Calculations!R$1","v":0},{"$f":"'Absorbance Data'!V3053-Calculations!S$1","v":0},{"$f":"'Absorbance Data'!W3053-Calculations!T$1","v":0},{"$f":"'Absorbance Data'!X3053-Calculations!U$1","v":0},{"$f":"'Absorbance Data'!Y3053-Calculations!V$1","v":0},{"$f":"'Absorbance Data'!Z3053-Calculations!W$1","v":0}]
[{"$f":"'Absorbance Data'!D3054","v":532.610107421875},{"$f":"'Absorbance Data'!E3054-Calculations!B$1","v":0},{"$f":"'Absorbance Data'!F3054-Calculations!C$1","v":0},{"$f":"'Absorbance Data'!G3054-Calculations!D$1","v":0},{"$f":"'Absorbance Data'!H3054-Calculations!E$1","v":0},{"$f":"'Absorbance Data'!I3054-Calculations!F$1","v":0},{"$f":"'Absorbance Data'!J3054-Calculations!G$1","v":0},{"$f":"'Absorbance Data'!K3054-Calculations!H$1","v":0},{"$f":"'Absorbance Data'!L3054-Calculations!I$1","v":0},{"$f":"'Absorbance Data'!M3054-Calculations!J$1","v":0},{"$f":"'Absorbance Data'!N3054-Calculations!K$1","v":0},{"$f":"'Absorbance Data'!O3054-Calculations!L$1","v":0},{"$f":"'Absorbance Data'!P3054-Calculations!M$1","v":0},{"$f":"'Absorbance Data'!Q3054-Calculations!N$1","v":0},{"$f":"'Absorbance Data'!R3054-Calculations!O$1","v":0},{"$f":"'Absorbance Data'!S3054-Calculations!P$1","v":0},{"$f":"'Absorbance Data'!T3054-Calculations!Q$1","v":0},{"$f":"'Absorbance Data'!U3054-Calculations!R$1","v":0},{"$f":"'Absorbance Data'!V3054-Calculations!S$1","v":0},{"$f":"'Absorbance Data'!W3054-Calculations!T$1","v":0},{"$f":"'Absorbance Data'!X3054-Calculations!U$1","v":0},{"$f":"'Absorbance Data'!Y3054-Calculations!V$1","v":0},{"$f":"'Absorbance Data'!Z3054-Calculations!W$1","v":0}]
[{"$f":"'Absorbance Data'!D3055","v":532.938720703125},{"$f":"'Absorbance Data'!E3055-Calculations!B$1","v":0},{"$f":"'Absorbance Data'!F3055-Calculations!C$1","v":0},{"$f":"'Absorbance Data'!G3055-Calculations!D$1","v":0},{"$f":"'Absorbance Data'!H3055-Calculations!E$1","v":0},{"$f":"'Absorbance Data'!I3055-Calculations!F$1","v":0},{"$f":"'Absorbance Data'!J3055-Calculations!G$1","v":0},{"$f":"'Absorbance Data'!K3055-Calculations!H$1","v":0},{"$f":"'Absorbance Data'!L3055-Calculations!I$1","v":0},{"$f":"'Absorbance Data'!M3055-Calculations!J$1","v":0},{"$f":"'Absorbance Data'!N3055-Calculations!K$1","v":0},{"$f":"'Absorbance Data'!O3055-Calculations!L$1","v":0},{"$f":"'Absorbance Data'!P3055-Calculations!M$1","v":0},{"$f":"'Absorbance Data'!Q3055-Calculations!N$1","v":0},{"$f":"'Absorbance Data'!R3055-Calculations!O$1","v":0},{"$f":"'Absorbance Data'!S3055-Calculations!P$1","v":0},{"$f":"'Absorbance Data'!T3055-Calculations!Q$1","v":0},{"$f":"'Absorbance Data'!U3055-Calculations!R$1","v":0},{"$f":"'Absorbance Data'!V3055-Calculations!S$1","v":0},{"$f":"'Absorbance Data'!W3055-Calculations!T$1","v":0},{"$f":"'Absorbance Data'!X3055-Calculations!U$1","v":0},{"$f":"'Absorbance Data'!Y3055-Calculations!V$1","v":0},{"$f":"'Absorbance Data'!Z3055-Calculations!W$1","v":0}]
[{"$f":"'Absorbance Data'!D3056","v":533.267333984375},{"$f":"'Absorbance Data'!E3056-Calculations!B$1","v":0},{"$f":"'Absorbance Data'!F3056-Calculations!C$1","v":0},{"$f":"'Absorbance Data'!G3056-Calculations!D$1","v":0},{"$f":"'Absorbance Data'!H3056-Calculations!E$1","v":0},{"$f":"'Absorbance Data'!I3056-Calculations!F$1","v":0},{"$f":"'Absorbance Data'!J3056-Calculations!G$1","v":0},{"$f":"'Absorbance Data'!K3056-Calculations!H$1","v":0},{"$f":"'Absorbance Data'!L3056-Calculations!I$1","v":0},{"$f":"'Absorbance Data'!M3056-Calculations!J$1","v":0},{"$f":"'Absorbance Data'!N3056-Calculations!K$1","v":0},{"$f":"'Absorbance Data'!O3056-Calculations!L$1","v":0},{"$f":"'Absorbance Data'!P3056-Calculations!M$1","v":0},{"$f":"'Absorbance Data'!Q3056-Calculations!N$1","v":0},{"$f":"'Absorbance Data'!R3056-Calculations!O$1","v":0},{"$f":"'Absorbance Data'!S3056-Calculations!P$1","v":0},{"$f":"'Absorbance Data'!T3056-Calculations!Q$1","v":0},{"$f":"'Absorbance Data'!U3056-Calculations!R$1","v":0},{"$f":"'Absorbance Data'!V3056-Calculations!S$1","v":0},{"$f":"'Absorbance Data'!W3056-Calculations!T$1","v":0},{"$f":"'Absorbance Data'!X3056-Calculations!U$1","v":0},{"$f":"'Absorbance Data'!Y3056-Calculations!V$1","v":0},{"$f":"'Absorbance Data'!Z3056-Calculations!W$1","v":0}]
[{"$f":"'Absorbance Data'!D3057","v":533.595947265625},{"$f":"'Absorbance Data'!E3057-Calculations!B$1","v":0},{"$f":"'Absorbance Data'!F3057-Calculations!C$1","v":0},{"$f":"'Absorbance Data'!G3057-Calculations!D$1","v":0},{"$f":"'Absorbance Data'!H3057-Calculations!E$1","v":0},{"$f":"'Absorbance Data'!I3057-Calculations!F$1","v":0},{"$f":"'Absorbance Data'!J3057-Calculations!G$1","v":0},{"$f":"'Absorbance Data'!K3057-Calculations!H$1","v":0},{"$f":"'Absorbance Data'!L3057-Calculations!I$1","v":0},{"$f":"'Absorbance Data'!M3057-Calculations!J$1","v":0},{"$f":"'Absorbance Data'!N3057-Calculations!K$1","v":0},{"$f":"'Absorbance Data'!O3057-Calculations!L$1","v":0},{"$f":"'Absorbance Data'!P3057-Calculations!M$1","v":0},{"$f":"'Absorbance Data'!Q3057-Calculations!N$1","v":0},{"$f":"'Absorbance Data'!R3057-Calculations!O$1","v":0},{"$f":"'Absorbance Data'!S3057-Calculations!P$1","v":0},{"$f":"'Absorbance Data'!T3057-Calculations!Q$1","v":0},{"$f":"'Absorbance Data'!U3057-Calculations!R$1","v":0},{"$f":"'Absorbance Data'!V3057-Calculations!S$1","v":0},{"$f":"'Absorbance Data'!W3057-Calculations!T$1","v":0},{"$f":"'Absorbance Data'!X3057-Calculations!U$1","v":0},{"$f":"'Absorbance Data'!Y3057-Calculations!V$1","v":0},{"$f":"'Absorbance Data'!Z3057-Calculations!W$1","v":0}]
[{"$f":"'Absorbance Data'!D3058","v":533.92449951171875},{"$f":"'Absorbance Data'!E3058-Calculations!B$1","v":0},{"$f":"'Absorbance Data'!F3058-Calculations!C$1","v":0},{"$f":"'Absorbance Data'!G3058-Calculations!D$1","v":0},{"$f":"'Absorbance Data'!H3058-Calculations!E$1","v":0},{"$f":"'Absorbance Data'!I3058-Calculations!F$1","v":0},{"$f":"'Absorbance Data'!J3058-Calculations!G$1","v":0},{"$f":"'Absorbance Data'!K3058-Calculations!H$1","v":0},{"$f":"'Absorbance Data'!L3058-Calculations!I$1","v":0},{"$f":"'Absorbance Data'!M3058-Calculations!J$1","v":0},{"$f":"'Absorbance Data'!N3058-Calculations!K$1","v":0},{"$f":"'Absorbance Data'!O3058-Calculations!L$1","v":0},{"$f":"'Absorbance Data'!P3058-Calculations!M$1","v":0},{"$f":"'Absorbance Data'!Q3058-Calculations!N$1","v":0},{"$f":"'Absorbance Data'!R3058-Calculations!O$1","v":0},{"$f":"'Absorbance Data'!S3058-Calculations!P$1","v":0},{"$f":"'Absorbance Data'!T3058-Calculations!Q$1","v":0},{"$f":"'Absorbance Data'!U3058-Calculations!R$1","v":0},{"$f":"'Absorbance Data'!V3058-Calculations!S$1","v":0},{"$f":"'Absorbance Data'!W3058-Calculations!T$1","v":0},{"$f":"'Absorbance Data'!X3058-Calculations!U$1","v":0},{"$f":"'Absorbance Data'!Y3058-Calculations!V$1","v":0},{"$f":"'Absorbance Data'!Z3058-Calculations!W$1","v":0}]
[{"$f":"'Absorbance Data'!D3059","v":534.2529296875},{"$f":"'Absorbance Data'!E3059-Calculations!B$1","v":0},{"$f":"'Absorbance Data'!F3059-Calculations!C$1","v":0},{"$f":"'Absorbance Data'!G3059-Calculations!D$1","v":0},{"$f":"'Absorbance Data'!H3059-Calculations!E$1","v":0},{"$f":"'Absorbance Data'!I3059-Calculations!F$1","v":0},{"$f":"'Absorbance Data'!J3059-Calculations!G$1","v":0},{"$f":"'Absorbance Data'!K3059-Calculations!H$1","v":0},{"$f":"'Absorbance Data'!L3059-Calculations!I$1","v":0},{"$f":"'Absorbance Data'!M3059-Calculations!J$1","v":0},{"$f":"'Absorbance Data'!N3059-Calculations!K$1","v":0},{"$f":"'Absorbance Data'!O3059-Calculations!L$1","v":0},{"$f":"'Absorbance Data'!P3059-Calculations!M$1","v":0},{"$f":"'Absorbance Data'!Q3059-Calculations!N$1","v":0},{"$f":"'Absorbance Data'!R3059-Calculations!O$1","v":0},{"$f":"'Absorbance Data'!S3059-Calculations!P$1","v":0},{"$f":"'Absorbance Data'!T3059-Calculations!Q$1","v":0},{"$f":"'Absorbance Data'!U3059-Calculations!R$1","v":0},{"$f":"'Absorbance Data'!V3059-Calculations!S$1","v":0},{"$f":"'Absorbance Data'!W3059-Calculations!T$1","v":0},{"$f":"'Absorbance Data'!X3059-Calculations!U$1","v":0},{"$f":"'Absorbance Data'!Y3059-Calculations!V$1","v":0},{"$f":"'Absorbance Data'!Z3059-Calculations!W$1","v":0}]
[{"$f":"'Absorbance Data'!D3060","v":534.5814208984375},{"$f":"'Absorbance Data'!E3060-Calculations!B$1","v":0},{"$f":"'Absorbance Data'!F3060-Calculations!C$1","v":0},{"$f":"'Absorbance Data'!G3060-Calculations!D$1","v":0},{"$f":"'Absorbance Data'!H3060-Calculations!E$1","v":0},{"$f":"'Absorbance Data'!I3060-Calculations!F$1","v":0},{"$f":"'Absorbance Data'!J3060-Calculations!G$1","v":0},{"$f":"'Absorbance Data'!K3060-Calculations!H$1","v":0},{"$f":"'Absorbance Data'!L3060-Calculations!I$1","v":0},{"$f":"'Absorbance Data'!M3060-Calculations!J$1","v":0},{"$f":"'Absorbance Data'!N3060-Calculations!K$1","v":0},{"$f":"'Absorbance Data'!O3060-Calculations!L$1","v":0},{"$f":"'Absorbance Data'!P3060-Calculations!M$1","v":0},{"$f":"'Absorbance Data'!Q3060-Calculations!N$1","v":0},{"$f":"'Absorbance Data'!R3060-Calculations!O$1","v":0},{"$f":"'Absorbance Data'!S3060-Calculations!P$1","v":0},{"$f":"'Absorbance Data'!T3060-Calculations!Q$1","v":0},{"$f":"'Absorbance Data'!U3060-Calculations!R$1","v":0},{"$f":"'Absorbance Data'!V3060-Calculations!S$1","v":0},{"$f":"'Absorbance Data'!W3060-Calculations!T$1","v":0},{"$f":"'Absorbance Data'!X3060-Calculations!U$1","v":0},{"$f":"'Absorbance Data'!Y3060-Calculations!V$1","v":0},{"$f":"'Absorbance Data'!Z3060-Calculations!W$1","v":0}]
[{"$f":"'Absorbance Data'!D3061","v":534.90985107421875},{"$f":"'Absorbance Data'!E3061-Calculations!B$1","v":0},{"$f":"'Absorbance Data'!F3061-Calculations!C$1","v":0},{"$f":"'Absorbance Data'!G3061-Calculations!D$1","v":0},{"$f":"'Absorbance Data'!H3061-Calculations!E$1","v":0},{"$f":"'Absorbance Data'!I3061-Calculations!F$1","v":0},{"$f":"'Absorbance Data'!J3061-Calculations!G$1","v":0},{"$f":"'Absorbance Data'!K3061-Calculations!H$1","v":0},{"$f":"'Absorbance Data'!L3061-Calculations!I$1","v":0},{"$f":"'Absorbance Data'!M3061-Calculations!J$1","v":0},{"$f":"'Absorbance Data'!N3061-Calculations!K$1","v":0},{"$f":"'Absorbance Data'!O3061-Calculations!L$1","v":0},{"$f":"'Absorbance Data'!P3061-Calculations!M$1","v":0},{"$f":"'Absorbance Data'!Q3061-Calculations!N$1","v":0},{"$f":"'Absorbance Data'!R3061-Calculations!O$1","v":0},{"$f":"'Absorbance Data'!S3061-Calculations!P$1","v":0},{"$f":"'Absorbance Data'!T3061-Calculations!Q$1","v":0},{"$f":"'Absorbance Data'!U3061-Calculations!R$1","v":0},{"$f":"'Absorbance Data'!V3061-Calculations!S$1","v":0},{"$f":"'Absorbance Data'!W3061-Calculations!T$1","v":0},{"$f":"'Absorbance Data'!X3061-Calculations!U$1","v":0},{"$f":"'Absorbance Data'!Y3061-Calculations!V$1","v":0},{"$f":"'Absorbance Data'!Z3061-Calculations!W$1","v":0}]
[{"$f":"'Absorbance Data'!D3062","v":535.23828125},{"$f":"'Absorbance Data'!E3062-Calculations!B$1","v":0},{"$f":"'Absorbance Data'!F3062-Calculations!C$1","v":0},{"$f":"'Absorbance Data'!G3062-Calculations!D$1","v":0},{"$f":"'Absorbance Data'!H3062-Calculations!E$1","v":0},{"$f":"'Absorbance Data'!I3062-Calculations!F$1","v":0},{"$f":"'Absorbance Data'!J3062-Calculations!G$1","v":0},{"$f":"'Absorbance Data'!K3062-Calculations!H$1","v":0},{"$f":"'Absorbance Data'!L3062-Calculations!I$1","v":0},{"$f":"'Absorbance Data'!M3062-Calculations!J$1","v":0},{"$f":"'Absorbance Data'!N3062-Calculations!K$1","v":0},{"$f":"'Absorbance Data'!O3062-Calculations!L$1","v":0},{"$f":"'Absorbance Data'!P3062-Calculations!M$1","v":0},{"$f":"'Absorbance Data'!Q3062-Calculations!N$1","v":0},{"$f":"'Absorbance Data'!R3062-Calculations!O$1","v":0},{"$f":"'Absorbance Data'!S3062-Calculations!P$1","v":0},{"$f":"'Absorbance Data'!T3062-Calculations!Q$1","v":0},{"$f":"'Absorbance Data'!U3062-Calculations!R$1","v":0},{"$f":"'Absorbance Data'!V3062-Calculations!S$1","v":0},{"$f":"'Absorbance Data'!W3062-Calculations!T$1","v":0},{"$f":"'Absorbance Data'!X3062-Calculations!U$1","v":0},{"$f":"'Absorbance Data'!Y3062-Calculations!V$1","v":0},{"$f":"'Absorbance Data'!Z3062-Calculations!W$1","v":0}]
[{"$f":"'Absorbance Data'!D3063","v":535.56658935546875},{"$f":"'Absorbance Data'!E3063-Calculations!B$1","v":0},{"$f":"'Absorbance Data'!F3063-Calculations!C$1","v":0},{"$f":"'Absorbance Data'!G3063-Calculations!D$1","v":0},{"$f":"'Absorbance Data'!H3063-Calculations!E$1","v":0},{"$f":"'Absorbance Data'!I3063-Calculations!F$1","v":0},{"$f":"'Absorbance Data'!J3063-Calculations!G$1","v":0},{"$f":"'Absorbance Data'!K3063-Calculations!H$1","v":0},{"$f":"'Absorbance Data'!L3063-Calculations!I$1","v":0},{"$f":"'Absorbance Data'!M3063-Calculations!J$1","v":0},{"$f":"'Absorbance Data'!N3063-Calculations!K$1","v":0},{"$f":"'Absorbance Data'!O3063-Calculations!L$1","v":0},{"$f":"'Absorbance Data'!P3063-Calculations!M$1","v":0},{"$f":"'Absorbance Data'!Q3063-Calculations!N$1","v":0},{"$f":"'Absorbance Data'!R3063-Calculations!O$1","v":0},{"$f":"'Absorbance Data'!S3063-Calculations!P$1","v":0},{"$f":"'Absorbance Data'!T3063-Calculations!Q$1","v":0},{"$f":"'Absorbance Data'!U3063-Calculations!R$1","v":0},{"$f":"'Absorbance Data'!V3063-Calculations!S$1","v":0},{"$f":"'Absorbance Data'!W3063-Calculations!T$1","v":0},{"$f":"'Absorbance Data'!X3063-Calculations!U$1","v":0},{"$f":"'Absorbance Data'!Y3063-Calculations!V$1","v":0},{"$f":"'Absorbance Data'!Z3063-Calculations!W$1","v":0}]
[{"$f":"'Absorbance Data'!D3064","v":535.8948974609375},{"$f":"'Absorbance Data'!E3064-Calculations!B$1","v":0},{"$f":"'Absorbance Data'!F3064-Calculations!C$1","v":0},{"$f":"'Absorbance Data'!G3064-Calculations!D$1","v":0},{"$f":"'Absorbance Data'!H3064-Calculations!E$1","v":0},{"$f":"'Absorbance Data'!I3064-Calculations!F$1","v":0},{"$f":"'Absorbance Data'!J3064-Calculations!G$1","v":0},{"$f":"'Absorbance Data'!K3064-Calculations!H$1","v":0},{"$f":"'Absorbance Data'!L3064-Calculations!I$1","v":0},{"$f":"'Absorbance Data'!M3064-Calculations!J$1","v":0},{"$f":"'Absorbance Data'!N3064-Calculations!K$1","v":0},{"$f":"'Absorbance Data'!O3064-Calculations!L$1","v":0},{"$f":"'Absorbance Data'!P3064-Calculations!M$1","v":0},{"$f":"'Absorbance Data'!Q3064-Calculations!N$1","v":0},{"$f":"'Absorbance Data'!R3064-Calculations!O$1","v":0},{"$f":"'Absorbance Data'!S3064-Calculations!P$1","v":0},{"$f":"'Absorbance Data'!T3064-Calculations!Q$1","v":0},{"$f":"'Absorbance Data'!U3064-Calculations!R$1","v":0},{"$f":"'Absorbance Data'!V3064-Calculations!S$1","v":0},{"$f":"'Absorbance Data'!W3064-Calculations!T$1","v":0},{"$f":"'Absorbance Data'!X3064-Calculations!U$1","v":0},{"$f":"'Absorbance Data'!Y3064-Calculations!V$1","v":0},{"$f":"'Absorbance Data'!Z3064-Calculations!W$1","v":0}]
[{"$f":"'Absorbance Data'!D3065","v":536.22314453125},{"$f":"'Absorbance Data'!E3065-Calculations!B$1","v":0},{"$f":"'Absorbance Data'!F3065-Calculations!C$1","v":0},{"$f":"'Absorbance Data'!G3065-Calculations!D$1","v":0},{"$f":"'Absorbance Data'!H3065-Calculations!E$1","v":0},{"$f":"'Absorbance Data'!I3065-Calculations!F$1","v":0},{"$f":"'Absorbance Data'!J3065-Calculations!G$1","v":0},{"$f":"'Absorbance Data'!K3065-Calculations!H$1","v":0},{"$f":"'Absorbance Data'!L3065-Calculations!I$1","v":0},{"$f":"'Absorbance Data'!M3065-Calculations!J$1","v":0},{"$f":"'Absorbance Data'!N3065-Calculations!K$1","v":0},{"$f":"'Absorbance Data'!O3065-Calculations!L$1","v":0},{"$f":"'Absorbance Data'!P3065-Calculations!M$1","v":0},{"$f":"'Absorbance Data'!Q3065-Calculations!N$1","v":0},{"$f":"'Absorbance Data'!R3065-Calculations!O$1","v":0},{"$f":"'Absorbance Data'!S3065-Calculations!P$1","v":0},{"$f":"'Absorbance Data'!T3065-Calculations!Q$1","v":0},{"$f":"'Absorbance Data'!U3065-Calculations!R$1","v":0},{"$f":"'Absorbance Data'!V3065-Calculations!S$1","v":0},{"$f":"'Absorbance Data'!W3065-Calculations!T$1","v":0},{"$f":"'Absorbance Data'!X3065-Calculations!U$1","v":0},{"$f":"'Absorbance Data'!Y3065-Calculations!V$1","v":0},{"$f":"'Absorbance Data'!Z3065-Calculations!W$1","v":0}]
[{"$f":"'Absorbance Data'!D3066","v":536.55145263671875},{"$f":"'Absorbance Data'!E3066-Calculations!B$1","v":0},{"$f":"'Absorbance Data'!F3066-Calculations!C$1","v":0},{"$f":"'Absorbance Data'!G3066-Calculations!D$1","v":0},{"$f":"'Absorbance Data'!H3066-Calculations!E$1","v":0},{"$f":"'Absorbance Data'!I3066-Calculations!F$1","v":0},{"$f":"'Absorbance Data'!J3066-Calculations!G$1","v":0},{"$f":"'Absorbance Data'!K3066-Calculations!H$1","v":0},{"$f":"'Absorbance Data'!L3066-Calculations!I$1","v":0},{"$f":"'Absorbance Data'!M3066-Calculations!J$1","v":0},{"$f":"'Absorbance Data'!N3066-Calculations!K$1","v":0},{"$f":"'Absorbance Data'!O3066-Calculations!L$1","v":0},{"$f":"'Absorbance Data'!P3066-Calculations!M$1","v":0},{"$f":"'Absorbance Data'!Q3066-Calculations!N$1","v":0},{"$f":"'Absorbance Data'!R3066-Calculations!O$1","v":0},{"$f":"'Absorbance Data'!S3066-Calculations!P$1","v":0},{"$f":"'Absorbance Data'!T3066-Calculations!Q$1","v":0},{"$f":"'Absorbance Data'!U3066-Calculations!R$1","v":0},{"$f":"'Absorbance Data'!V3066-Calculations!S$1","v":0},{"$f":"'Absorbance Data'!W3066-Calculations!T$1","v":0},{"$f":"'Absorbance Data'!X3066-Calculations!U$1","v":0},{"$f":"'Absorbance Data'!Y3066-Calculations!V$1","v":0},{"$f":"'Absorbance Data'!Z3066-Calculations!W$1","v":0}]
[{"$f":"'Absorbance Data'!D3067","v":536.87957763671875},{"$f":"'Absorbance Data'!E3067-Calculations!B$1","v":0},{"$f":"'Absorbance Data'!F3067-Calculations!C$1","v":0},{"$f":"'Absorbance Data'!G3067-Calculations!D$1","v":0},{"$f":"'Absorbance Data'!H3067-Calculations!E$1","v":0},{"$f":"'Absorbance Data'!I3067-Calculations!F$1","v":0},{"$f":"'Absorbance Data'!J3067-Calculations!G$1","v":0},{"$f":"'Absorbance Data'!K3067-Calculations!H$1","v":0},{"$f":"'Absorbance Data'!L3067-Calculations!I$1","v":0},{"$f":"'Absorbance Data'!M3067-Calculations!J$1","v":0},{"$f":"'Absorbance Data'!N3067-Calculations!K$1","v":0},{"$f":"'Absorbance Data'!O3067-Calculations!L$1","v":0},{"$f":"'Absorbance Data'!P3067-Calculations!M$1","v":0},{"$f":"'Absorbance Data'!Q3067-Calculations!N$1","v":0},{"$f":"'Absorbance Data'!R3067-Calculations!O$1","v":0},{"$f":"'Absorbance Data'!S3067-Calculations!P$1","v":0},{"$f":"'Absorbance Data'!T3067-Calculations!Q$1","v":0},{"$f":"'Absorbance Data'!U3067-Calculations!R$1","v":0},{"$f":"'Absorbance Data'!V3067-Calculations!S$1","v":0},{"$f":"'Absorbance Data'!W3067-Calculations!T$1","v":0},{"$f":"'Absorbance Data'!X3067-Calculations!U$1","v":0},{"$f":"'Absorbance Data'!Y3067-Calculations!V$1","v":0},{"$f":"'Absorbance Data'!Z3067-Calculations!W$1","v":0}]
[{"$f":"'Absorbance Data'!D3068","v":537.207763671875},{"$f":"'Absorbance Data'!E3068-Calculations!B$1","v":0},{"$f":"'Absorbance Data'!F3068-Calculations!C$1","v":0},{"$f":"'Absorbance Data'!G3068-Calculations!D$1","v":0},{"$f":"'Absorbance Data'!H3068-Calculations!E$1","v":0},{"$f":"'Absorbance Data'!I3068-Calculations!F$1","v":0},{"$f":"'Absorbance Data'!J3068-Calculations!G$1","v":0},{"$f":"'Absorbance Data'!K3068-Calculations!H$1","v":0},{"$f":"'Absorbance Data'!L3068-Calculations!I$1","v":0},{"$f":"'Absorbance Data'!M3068-Calculations!J$1","v":0},{"$f":"'Absorbance Data'!N3068-Calculations!K$1","v":0},{"$f":"'Absorbance Data'!O3068-Calculations!L$1","v":0},{"$f":"'Absorbance Data'!P3068-Calculations!M$1","v":0},{"$f":"'Absorbance Data'!Q3068-Calculations!N$1","v":0},{"$f":"'Absorbance Data'!R3068-Calculations!O$1","v":0},{"$f":"'Absorbance Data'!S3068-Calculations!P$1","v":0},{"$f":"'Absorbance Data'!T3068-Calculations!Q$1","v":0},{"$f":"'Absorbance Data'!U3068-Calculations!R$1","v":0},{"$f":"'Absorbance Data'!V3068-Calculations!S$1","v":0},{"$f":"'Absorbance Data'!W3068-Calculations!T$1","v":0},{"$f":"'Absorbance Data'!X3068-Calculations!U$1","v":0},{"$f":"'Absorbance Data'!Y3068-Calculations!V$1","v":0},{"$f":"'Absorbance Data'!Z3068-Calculations!W$1","v":0}]
[{"$f":"'Absorbance Data'!D3069","v":537.535888671875},{"$f":"'Absorbance Data'!E3069-Calculations!B$1","v":0},{"$f":"'Absorbance Data'!F3069-Calculations!C$1","v":0},{"$f":"'Absorbance Data'!G3069-Calculations!D$1","v":0},{"$f":"'Absorbance Data'!H3069-Calculations!E$1","v":0},{"$f":"'Absorbance Data'!I3069-Calculations!F$1","v":0},{"$f":"'Absorbance Data'!J3069-Calculations!G$1","v":0},{"$f":"'Absorbance Data'!K3069-Calculations!H$1","v":0},{"$f":"'Absorbance Data'!L3069-Calculations!I$1","v":0},{"$f":"'Absorbance Data'!M3069-Calculations!J$1","v":0},{"$f":"'Absorbance Data'!N3069-Calculations!K$1","v":0},{"$f":"'Absorbance Data'!O3069-Calculations!L$1","v":0},{"$f":"'Absorbance Data'!P3069-Calculations!M$1","v":0},{"$f":"'Absorbance Data'!Q3069-Calculations!N$1","v":0},{"$f":"'Absorbance Data'!R3069-Calculations!O$1","v":0},{"$f":"'Absorbance Data'!S3069-Calculations!P$1","v":0},{"$f":"'Absorbance Data'!T3069-Calculations!Q$1","v":0},{"$f":"'Absorbance Data'!U3069-Calculations!R$1","v":0},{"$f":"'Absorbance Data'!V3069-Calculations!S$1","v":0},{"$f":"'Absorbance Data'!W3069-Calculations!T$1","v":0},{"$f":"'Absorbance Data'!X3069-Calculations!U$1","v":0},{"$f":"'Absorbance Data'!Y3069-Calculations!V$1","v":0},{"$f":"'Absorbance Data'!Z3069-Calculations!W$1","v":0}]
[{"$f":"'Absorbance Data'!D3070","v":537.864013671875},{"$f":"'Absorbance Data'!E3070-Calculations!B$1","v":0},{"$f":"'Absorbance Data'!F3070-Calculations!C$1","v":0},{"$f":"'Absorbance Data'!G3070-Calculations!D$1","v":0},{"$f":"'Absorbance Data'!H3070-Calculations!E$1","v":0},{"$f":"'Absorbance Data'!I3070-Calculations!F$1","v":0},{"$f":"'Absorbance Data'!J3070-Calculations!G$1","v":0},{"$f":"'Absorbance Data'!K3070-Calculations!H$1","v":0},{"$f":"'Absorbance Data'!L3070-Calculations!I$1","v":0},{"$f":"'Absorbance Data'!M3070-Calculations!J$1","v":0},{"$f":"'Absorbance Data'!N3070-Calculations!K$1","v":0},{"$f":"'Absorbance Data'!O3070-Calculations!L$1","v":0},{"$f":"'Absorbance Data'!P3070-Calculations!M$1","v":0},{"$f":"'Absorbance Data'!Q3070-Calculations!N$1","v":0},{"$f":"'Absorbance Data'!R3070-Calculations!O$1","v":0},{"$f":"'Absorbance Data'!S3070-Calculations!P$1","v":0},{"$f":"'Absorbance Data'!T3070-Calculations!Q$1","v":0},{"$f":"'Absorbance Data'!U3070-Calculations!R$1","v":0},{"$f":"'Absorbance Data'!V3070-Calculations!S$1","v":0},{"$f":"'Absorbance Data'!W3070-Calculations!T$1","v":0},{"$f":"'Absorbance Data'!X3070-Calculations!U$1","v":0},{"$f":"'Absorbance Data'!Y3070-Calculations!V$1","v":0},{"$f":"'Absorbance Data'!Z3070-Calculations!W$1","v":0}]
[{"$f":"'Absorbance Data'!D3071","v":538.192138671875},{"$f":"'Absorbance Data'!E3071-Calculations!B$1","v":0},{"$f":"'Absorbance Data'!F3071-Calculations!C$1","v":0},{"$f":"'Absorbance Data'!G3071-Calculations!D$1","v":0},{"$f":"'Absorbance Data'!H3071-Calculations!E$1","v":0},{"$f":"'Absorbance Data'!I3071-Calculations!F$1","v":0},{"$f":"'Absorbance Data'!J3071-Calculations!G$1","v":0},{"$f":"'Absorbance Data'!K3071-Calculations!H$1","v":0},{"$f":"'Absorbance Data'!L3071-Calculations!I$1","v":0},{"$f":"'Absorbance Data'!M3071-Calculations!J$1","v":0},{"$f":"'Absorbance Data'!N3071-Calculations!K$1","v":0},{"$f":"'Absorbance Data'!O3071-Calculations!L$1","v":0},{"$f":"'Absorbance Data'!P3071-Calculations!M$1","v":0},{"$f":"'Absorbance Data'!Q3071-Calculations!N$1","v":0},{"$f":"'Absorbance Data'!R3071-Calculations!O$1","v":0},{"$f":"'Absorbance Data'!S3071-Calculations!P$1","v":0},{"$f":"'Absorbance Data'!T3071-Calculations!Q$1","v":0},{"$f":"'Absorbance Data'!U3071-Calculations!R$1","v":0},{"$f":"'Absorbance Data'!V3071-Calculations!S$1","v":0},{"$f":"'Absorbance Data'!W3071-Calculations!T$1","v":0},{"$f":"'Absorbance Data'!X3071-Calculations!U$1","v":0},{"$f":"'Absorbance Data'!Y3071-Calculations!V$1","v":0},{"$f":"'Absorbance Data'!Z3071-Calculations!W$1","v":0}]
[{"$f":"'Absorbance Data'!D3072","v":538.52008056640625},{"$f":"'Absorbance Data'!E3072-Calculations!B$1","v":0},{"$f":"'Absorbance Data'!F3072-Calculations!C$1","v":0},{"$f":"'Absorbance Data'!G3072-Calculations!D$1","v":0},{"$f":"'Absorbance Data'!H3072-Calculations!E$1","v":0},{"$f":"'Absorbance Data'!I3072-Calculations!F$1","v":0},{"$f":"'Absorbance Data'!J3072-Calculations!G$1","v":0},{"$f":"'Absorbance Data'!K3072-Calculations!H$1","v":0},{"$f":"'Absorbance Data'!L3072-Calculations!I$1","v":0},{"$f":"'Absorbance Data'!M3072-Calculations!J$1","v":0},{"$f":"'Absorbance Data'!N3072-Calculations!K$1","v":0},{"$f":"'Absorbance Data'!O3072-Calculations!L$1","v":0},{"$f":"'Absorbance Data'!P3072-Calculations!M$1","v":0},{"$f":"'Absorbance Data'!Q3072-Calculations!N$1","v":0},{"$f":"'Absorbance Data'!R3072-Calculations!O$1","v":0},{"$f":"'Absorbance Data'!S3072-Calculations!P$1","v":0},{"$f":"'Absorbance Data'!T3072-Calculations!Q$1","v":0},{"$f":"'Absorbance Data'!U3072-Calculations!R$1","v":0},{"$f":"'Absorbance Data'!V3072-Calculations!S$1","v":0},{"$f":"'Absorbance Data'!W3072-Calculations!T$1","v":0},{"$f":"'Absorbance Data'!X3072-Calculations!U$1","v":0},{"$f":"'Absorbance Data'!Y3072-Calculations!V$1","v":0},{"$f":"'Absorbance Data'!Z3072-Calculations!W$1","v":0}]
[{"$f":"'Absorbance Data'!D3073","v":538.8480224609375},{"$f":"'Absorbance Data'!E3073-Calculations!B$1","v":0},{"$f":"'Absorbance Data'!F3073-Calculations!C$1","v":0},{"$f":"'Absorbance Data'!G3073-Calculations!D$1","v":0},{"$f":"'Absorbance Data'!H3073-Calculations!E$1","v":0},{"$f":"'Absorbance Data'!I3073-Calculations!F$1","v":0},{"$f":"'Absorbance Data'!J3073-Calculations!G$1","v":0},{"$f":"'Absorbance Data'!K3073-Calculations!H$1","v":0},{"$f":"'Absorbance Data'!L3073-Calculations!I$1","v":0},{"$f":"'Absorbance Data'!M3073-Calculations!J$1","v":0},{"$f":"'Absorbance Data'!N3073-Calculations!K$1","v":0},{"$f":"'Absorbance Data'!O3073-Calculations!L$1","v":0},{"$f":"'Absorbance Data'!P3073-Calculations!M$1","v":0},{"$f":"'Absorbance Data'!Q3073-Calculations!N$1","v":0},{"$f":"'Absorbance Data'!R3073-Calculations!O$1","v":0},{"$f":"'Absorbance Data'!S3073-Calculations!P$1","v":0},{"$f":"'Absorbance Data'!T3073-Calculations!Q$1","v":0},{"$f":"'Absorbance Data'!U3073-Calculations!R$1","v":0},{"$f":"'Absorbance Data'!V3073-Calculations!S$1","v":0},{"$f":"'Absorbance Data'!W3073-Calculations!T$1","v":0},{"$f":"'Absorbance Data'!X3073-Calculations!U$1","v":0},{"$f":"'Absorbance Data'!Y3073-Calculations!V$1","v":0},{"$f":"'Absorbance Data'!Z3073-Calculations!W$1","v":0}]
[{"$f":"'Absorbance Data'!D3074","v":539.17596435546875},{"$f":"'Absorbance Data'!E3074-Calculations!B$1","v":0},{"$f":"'Absorbance Data'!F3074-Calculations!C$1","v":0},{"$f":"'Absorbance Data'!G3074-Calculations!D$1","v":0},{"$f":"'Absorbance Data'!H3074-Calculations!E$1","v":0},{"$f":"'Absorbance Data'!I3074-Calculations!F$1","v":0},{"$f":"'Absorbance Data'!J3074-Calculations!G$1","v":0},{"$f":"'Absorbance Data'!K3074-Calculations!H$1","v":0},{"$f":"'Absorbance Data'!L3074-Calculations!I$1","v":0},{"$f":"'Absorbance Data'!M3074-Calculations!J$1","v":0},{"$f":"'Absorbance Data'!N3074-Calculations!K$1","v":0},{"$f":"'Absorbance Data'!O3074-Calculations!L$1","v":0},{"$f":"'Absorbance Data'!P3074-Calculations!M$1","v":0},{"$f":"'Absorbance Data'!Q3074-Calculations!N$1","v":0},{"$f":"'Absorbance Data'!R3074-Calculations!O$1","v":0},{"$f":"'Absorbance Data'!S3074-Calculations!P$1","v":0},{"$f":"'Absorbance Data'!T3074-Calculations!Q$1","v":0},{"$f":"'Absorbance Data'!U3074-Calculations!R$1","v":0},{"$f":"'Absorbance Data'!V3074-Calculations!S$1","v":0},{"$f":"'Absorbance Data'!W3074-Calculations!T$1","v":0},{"$f":"'Absorbance Data'!X3074-Calculations!U$1","v":0},{"$f":"'Absorbance Data'!Y3074-Calculations!V$1","v":0},{"$f":"'Absorbance Data'!Z3074-Calculations!W$1","v":0}]
[{"$f":"'Absorbance Data'!D3075","v":539.50390625},{"$f":"'Absorbance Data'!E3075-Calculations!B$1","v":0},{"$f":"'Absorbance Data'!F3075-Calculations!C$1","v":0},{"$f":"'Absorbance Data'!G3075-Calculations!D$1","v":0},{"$f":"'Absorbance Data'!H3075-Calculations!E$1","v":0},{"$f":"'Absorbance Data'!I3075-Calculations!F$1","v":0},{"$f":"'Absorbance Data'!J3075-Calculations!G$1","v":0},{"$f":"'Absorbance Data'!K3075-Calculations!H$1","v":0},{"$f":"'Absorbance Data'!L3075-Calculations!I$1","v":0},{"$f":"'Absorbance Data'!M3075-Calculations!J$1","v":0},{"$f":"'Absorbance Data'!N3075-Calculations!K$1","v":0},{"$f":"'Absorbance Data'!O3075-Calculations!L$1","v":0},{"$f":"'Absorbance Data'!P3075-Calculations!M$1","v":0},{"$f":"'Absorbance Data'!Q3075-Calculations!N$1","v":0},{"$f":"'Absorbance Data'!R3075-Calculations!O$1","v":0},{"$f":"'Absorbance Data'!S3075-Calculations!P$1","v":0},{"$f":"'Absorbance Data'!T3075-Calculations!Q$1","v":0},{"$f":"'Absorbance Data'!U3075-Calculations!R$1","v":0},{"$f":"'Absorbance Data'!V3075-Calculations!S$1","v":0},{"$f":"'Absorbance Data'!W3075-Calculations!T$1","v":0},{"$f":"'Absorbance Data'!X3075-Calculations!U$1","v":0},{"$f":"'Absorbance Data'!Y3075-Calculations!V$1","v":0},{"$f":"'Absorbance Data'!Z3075-Calculations!W$1","v":0}]
[{"$f":"'Absorbance Data'!D3076","v":539.831787109375},{"$f":"'Absorbance Data'!E3076-Calculations!B$1","v":0},{"$f":"'Absorbance Data'!F3076-Calculations!C$1","v":0},{"$f":"'Absorbance Data'!G3076-Calculations!D$1","v":0},{"$f":"'Absorbance Data'!H3076-Calculations!E$1","v":0},{"$f":"'Absorbance Data'!I3076-Calculations!F$1","v":0},{"$f":"'Absorbance Data'!J3076-Calculations!G$1","v":0},{"$f":"'Absorbance Data'!K3076-Calculations!H$1","v":0},{"$f":"'Absorbance Data'!L3076-Calculations!I$1","v":0},{"$f":"'Absorbance Data'!M3076-Calculations!J$1","v":0},{"$f":"'Absorbance Data'!N3076-Calculations!K$1","v":0},{"$f":"'Absorbance Data'!O3076-Calculations!L$1","v":0},{"$f":"'Absorbance Data'!P3076-Calculations!M$1","v":0},{"$f":"'Absorbance Data'!Q3076-Calculations!N$1","v":0},{"$f":"'Absorbance Data'!R3076-Calculations!O$1","v":0},{"$f":"'Absorbance Data'!S3076-Calculations!P$1","v":0},{"$f":"'Absorbance Data'!T3076-Calculations!Q$1","v":0},{"$f":"'Absorbance Data'!U3076-Calculations!R$1","v":0},{"$f":"'Absorbance Data'!V3076-Calculations!S$1","v":0},{"$f":"'Absorbance Data'!W3076-Calculations!T$1","v":0},{"$f":"'Absorbance Data'!X3076-Calculations!U$1","v":0},{"$f":"'Absorbance Data'!Y3076-Calculations!V$1","v":0},{"$f":"'Absorbance Data'!Z3076-Calculations!W$1","v":0}]
[{"$f":"'Absorbance Data'!D3077","v":540.1595458984375},{"$f":"'Absorbance Data'!E3077-Calculations!B$1","v":0},{"$f":"'Absorbance Data'!F3077-Calculations!C$1","v":0},{"$f":"'Absorbance Data'!G3077-Calculations!D$1","v":0},{"$f":"'Absorbance Data'!H3077-Calculations!E$1","v":0},{"$f":"'Absorbance Data'!I3077-Calculations!F$1","v":0},{"$f":"'Absorbance Data'!J3077-Calculations!G$1","v":0},{"$f":"'Absorbance Data'!K3077-Calculations!H$1","v":0},{"$f":"'Absorbance Data'!L3077-Calculations!I$1","v":0},{"$f":"'Absorbance Data'!M3077-Calculations!J$1","v":0},{"$f":"'Absorbance Data'!N3077-Calculations!K$1","v":0},{"$f":"'Absorbance Data'!O3077-Calculations!L$1","v":0},{"$f":"'Absorbance Data'!P3077-Calculations!M$1","v":0},{"$f":"'Absorbance Data'!Q3077-Calculations!N$1","v":0},{"$f":"'Absorbance Data'!R3077-Calculations!O$1","v":0},{"$f":"'Absorbance Data'!S3077-Calculations!P$1","v":0},{"$f":"'Absorbance Data'!T3077-Calculations!Q$1","v":0},{"$f":"'Absorbance Data'!U3077-Calculations!R$1","v":0},{"$f":"'Absorbance Data'!V3077-Calculations!S$1","v":0},{"$f":"'Absorbance Data'!W3077-Calculations!T$1","v":0},{"$f":"'Absorbance Data'!X3077-Calculations!U$1","v":0},{"$f":"'Absorbance Data'!Y3077-Calculations!V$1","v":0},{"$f":"'Absorbance Data'!Z3077-Calculations!W$1","v":0}]
[{"$f":"'Absorbance Data'!D3078","v":540.4873046875},{"$f":"'Absorbance Data'!E3078-Calculations!B$1","v":0},{"$f":"'Absorbance Data'!F3078-Calculations!C$1","v":0},{"$f":"'Absorbance Data'!G3078-Calculations!D$1","v":0},{"$f":"'Absorbance Data'!H3078-Calculations!E$1","v":0},{"$f":"'Absorbance Data'!I3078-Calculations!F$1","v":0},{"$f":"'Absorbance Data'!J3078-Calculations!G$1","v":0},{"$f":"'Absorbance Data'!K3078-Calculations!H$1","v":0},{"$f":"'Absorbance Data'!L3078-Calculations!I$1","v":0},{"$f":"'Absorbance Data'!M3078-Calculations!J$1","v":0},{"$f":"'Absorbance Data'!N3078-Calculations!K$1","v":0},{"$f":"'Absorbance Data'!O3078-Calculations!L$1","v":0},{"$f":"'Absorbance Data'!P3078-Calculations!M$1","v":0},{"$f":"'Absorbance Data'!Q3078-Calculations!N$1","v":0},{"$f":"'Absorbance Data'!R3078-Calculations!O$1","v":0},{"$f":"'Absorbance Data'!S3078-Calculations!P$1","v":0},{"$f":"'Absorbance Data'!T3078-Calculations!Q$1","v":0},{"$f":"'Absorbance Data'!U3078-Calculations!R$1","v":0},{"$f":"'Absorbance Data'!V3078-Calculations!S$1","v":0},{"$f":"'Absorbance Data'!W3078-Calculations!T$1","v":0},{"$f":"'Absorbance Data'!X3078-Calculations!U$1","v":0},{"$f":"'Absorbance Data'!Y3078-Calculations!V$1","v":0},{"$f":"'Absorbance Data'!Z3078-Calculations!W$1","v":0}]
[{"$f":"'Absorbance Data'!D3079","v":540.81512451171875},{"$f":"'Absorbance Data'!E3079-Calculations!B$1","v":0},{"$f":"'Absorbance Data'!F3079-Calculations!C$1","v":0},{"$f":"'Absorbance Data'!G3079-Calculations!D$1","v":0},{"$f":"'Absorbance Data'!H3079-Calculations!E$1","v":0},{"$f":"'Absorbance Data'!I3079-Calculations!F$1","v":0},{"$f":"'Absorbance Data'!J3079-Calculations!G$1","v":0},{"$f":"'Absorbance Data'!K3079-Calculations!H$1","v":0},{"$f":"'Absorbance Data'!L3079-Calculations!I$1","v":0},{"$f":"'Absorbance Data'!M3079-Calculations!J$1","v":0},{"$f":"'Absorbance Data'!N3079-Calculations!K$1","v":0},{"$f":"'Absorbance Data'!O3079-Calculations!L$1","v":0},{"$f":"'Absorbance Data'!P3079-Calculations!M$1","v":0},{"$f":"'Absorbance Data'!Q3079-Calculations!N$1","v":0},{"$f":"'Absorbance Data'!R3079-Calculations!O$1","v":0},{"$f":"'Absorbance Data'!S3079-Calculations!P$1","v":0},{"$f":"'Absorbance Data'!T3079-Calculations!Q$1","v":0},{"$f":"'Absorbance Data'!U3079-Calculations!R$1","v":0},{"$f":"'Absorbance Data'!V3079-Calculations!S$1","v":0},{"$f":"'Absorbance Data'!W3079-Calculations!T$1","v":0},{"$f":"'Absorbance Data'!X3079-Calculations!U$1","v":0},{"$f":"'Absorbance Data'!Y3079-Calculations!V$1","v":0},{"$f":"'Absorbance Data'!Z3079-Calculations!W$1","v":0}]
[{"$f":"'Absorbance Data'!D3080","v":541.14276123046875},{"$f":"'Absorbance Data'!E3080-Calculations!B$1","v":0},{"$f":"'Absorbance Data'!F3080-Calculations!C$1","v":0},{"$f":"'Absorbance Data'!G3080-Calculations!D$1","v":0},{"$f":"'Absorbance Data'!H3080-Calculations!E$1","v":0},{"$f":"'Absorbance Data'!I3080-Calculations!F$1","v":0},{"$f":"'Absorbance Data'!J3080-Calculations!G$1","v":0},{"$f":"'Absorbance Data'!K3080-Calculations!H$1","v":0},{"$f":"'Absorbance Data'!L3080-Calculations!I$1","v":0},{"$f":"'Absorbance Data'!M3080-Calculations!J$1","v":0},{"$f":"'Absorbance Data'!N3080-Calculations!K$1","v":0},{"$f":"'Absorbance Data'!O3080-Calculations!L$1","v":0},{"$f":"'Absorbance Data'!P3080-Calculations!M$1","v":0},{"$f":"'Absorbance Data'!Q3080-Calculations!N$1","v":0},{"$f":"'Absorbance Data'!R3080-Calculations!O$1","v":0},{"$f":"'Absorbance Data'!S3080-Calculations!P$1","v":0},{"$f":"'Absorbance Data'!T3080-Calculations!Q$1","v":0},{"$f":"'Absorbance Data'!U3080-Calculations!R$1","v":0},{"$f":"'Absorbance Data'!V3080-Calculations!S$1","v":0},{"$f":"'Absorbance Data'!W3080-Calculations!T$1","v":0},{"$f":"'Absorbance Data'!X3080-Calculations!U$1","v":0},{"$f":"'Absorbance Data'!Y3080-Calculations!V$1","v":0},{"$f":"'Absorbance Data'!Z3080-Calculations!W$1","v":0}]
[{"$f":"'Absorbance Data'!D3081","v":541.47039794921875},{"$f":"'Absorbance Data'!E3081-Calculations!B$1","v":0},{"$f":"'Absorbance Data'!F3081-Calculations!C$1","v":0},{"$f":"'Absorbance Data'!G3081-Calculations!D$1","v":0},{"$f":"'Absorbance Data'!H3081-Calculations!E$1","v":0},{"$f":"'Absorbance Data'!I3081-Calculations!F$1","v":0},{"$f":"'Absorbance Data'!J3081-Calculations!G$1","v":0},{"$f":"'Absorbance Data'!K3081-Calculations!H$1","v":0},{"$f":"'Absorbance Data'!L3081-Calculations!I$1","v":0},{"$f":"'Absorbance Data'!M3081-Calculations!J$1","v":0},{"$f":"'Absorbance Data'!N3081-Calculations!K$1","v":0},{"$f":"'Absorbance Data'!O3081-Calculations!L$1","v":0},{"$f":"'Absorbance Data'!P3081-Calculations!M$1","v":0},{"$f":"'Absorbance Data'!Q3081-Calculations!N$1","v":0},{"$f":"'Absorbance Data'!R3081-Calculations!O$1","v":0},{"$f":"'Absorbance Data'!S3081-Calculations!P$1","v":0},{"$f":"'Absorbance Data'!T3081-Calculations!Q$1","v":0},{"$f":"'Absorbance Data'!U3081-Calculations!R$1","v":0},{"$f":"'Absorbance Data'!V3081-Calculations!S$1","v":0},{"$f":"'Absorbance Data'!W3081-Calculations!T$1","v":0},{"$f":"'Absorbance Data'!X3081-Calculations!U$1","v":0},{"$f":"'Absorbance Data'!Y3081-Calculations!V$1","v":0},{"$f":"'Absorbance Data'!Z3081-Calculations!W$1","v":0}]
[{"$f":"'Absorbance Data'!D3082","v":541.798095703125},{"$f":"'Absorbance Data'!E3082-Calculations!B$1","v":0},{"$f":"'Absorbance Data'!F3082-Calculations!C$1","v":0},{"$f":"'Absorbance Data'!G3082-Calculations!D$1","v":0},{"$f":"'Absorbance Data'!H3082-Calculations!E$1","v":0},{"$f":"'Absorbance Data'!I3082-Calculations!F$1","v":0},{"$f":"'Absorbance Data'!J3082-Calculations!G$1","v":0},{"$f":"'Absorbance Data'!K3082-Calculations!H$1","v":0},{"$f":"'Absorbance Data'!L3082-Calculations!I$1","v":0},{"$f":"'Absorbance Data'!M3082-Calculations!J$1","v":0},{"$f":"'Absorbance Data'!N3082-Calculations!K$1","v":0},{"$f":"'Absorbance Data'!O3082-Calculations!L$1","v":0},{"$f":"'Absorbance Data'!P3082-Calculations!M$1","v":0},{"$f":"'Absorbance Data'!Q3082-Calculations!N$1","v":0},{"$f":"'Absorbance Data'!R3082-Calculations!O$1","v":0},{"$f":"'Absorbance Data'!S3082-Calculations!P$1","v":0},{"$f":"'Absorbance Data'!T3082-Calculations!Q$1","v":0},{"$f":"'Absorbance Data'!U3082-Calculations!R$1","v":0},{"$f":"'Absorbance Data'!V3082-Calculations!S$1","v":0},{"$f":"'Absorbance Data'!W3082-Calculations!T$1","v":0},{"$f":"'Absorbance Data'!X3082-Calculations!U$1","v":0},{"$f":"'Absorbance Data'!Y3082-Calculations!V$1","v":0},{"$f":"'Absorbance Data'!Z3082-Calculations!W$1","v":0}]
[{"$f":"'Absorbance Data'!D3083","v":542.125732421875},{"$f":"'Absorbance Data'!E3083-Calculations!B$1","v":0},{"$f":"'Absorbance Data'!F3083-Calculations!C$1","v":0},{"$f":"'Absorbance Data'!G3083-Calculations!D$1","v":0},{"$f":"'Absorbance Data'!H3083-Calculations!E$1","v":0},{"$f":"'Absorbance Data'!I3083-Calculations!F$1","v":0},{"$f":"'Absorbance Data'!J3083-Calculations!G$1","v":0},{"$f":"'Absorbance Data'!K3083-Calculations!H$1","v":0},{"$f":"'Absorbance Data'!L3083-Calculations!I$1","v":0},{"$f":"'Absorbance Data'!M3083-Calculations!J$1","v":0},{"$f":"'Absorbance Data'!N3083-Calculations!K$1","v":0},{"$f":"'Absorbance Data'!O3083-Calculations!L$1","v":0},{"$f":"'Absorbance Data'!P3083-Calculations!M$1","v":0},{"$f":"'Absorbance Data'!Q3083-Calculations!N$1","v":0},{"$f":"'Absorbance Data'!R3083-Calculations!O$1","v":0},{"$f":"'Absorbance Data'!S3083-Calculations!P$1","v":0},{"$f":"'Absorbance Data'!T3083-Calculations!Q$1","v":0},{"$f":"'Absorbance Data'!U3083-Calculations!R$1","v":0},{"$f":"'Absorbance Data'!V3083-Calculations!S$1","v":0},{"$f":"'Absorbance Data'!W3083-Calculations!T$1","v":0},{"$f":"'Absorbance Data'!X3083-Calculations!U$1","v":0},{"$f":"'Absorbance Data'!Y3083-Calculations!V$1","v":0},{"$f":"'Absorbance Data'!Z3083-Calculations!W$1","v":0}]
[{"$f":"'Absorbance Data'!D3084","v":542.4532470703125},{"$f":"'Absorbance Data'!E3084-Calculations!B$1","v":0},{"$f":"'Absorbance Data'!F3084-Calculations!C$1","v":0},{"$f":"'Absorbance Data'!G3084-Calculations!D$1","v":0},{"$f":"'Absorbance Data'!H3084-Calculations!E$1","v":0},{"$f":"'Absorbance Data'!I3084-Calculations!F$1","v":0},{"$f":"'Absorbance Data'!J3084-Calculations!G$1","v":0},{"$f":"'Absorbance Data'!K3084-Calculations!H$1","v":0},{"$f":"'Absorbance Data'!L3084-Calculations!I$1","v":0},{"$f":"'Absorbance Data'!M3084-Calculations!J$1","v":0},{"$f":"'Absorbance Data'!N3084-Calculations!K$1","v":0},{"$f":"'Absorbance Data'!O3084-Calculations!L$1","v":0},{"$f":"'Absorbance Data'!P3084-Calculations!M$1","v":0},{"$f":"'Absorbance Data'!Q3084-Calculations!N$1","v":0},{"$f":"'Absorbance Data'!R3084-Calculations!O$1","v":0},{"$f":"'Absorbance Data'!S3084-Calculations!P$1","v":0},{"$f":"'Absorbance Data'!T3084-Calculations!Q$1","v":0},{"$f":"'Absorbance Data'!U3084-Calculations!R$1","v":0},{"$f":"'Absorbance Data'!V3084-Calculations!S$1","v":0},{"$f":"'Absorbance Data'!W3084-Calculations!T$1","v":0},{"$f":"'Absorbance Data'!X3084-Calculations!U$1","v":0},{"$f":"'Absorbance Data'!Y3084-Calculations!V$1","v":0},{"$f":"'Absorbance Data'!Z3084-Calculations!W$1","v":0}]
[{"$f":"'Absorbance Data'!D3085","v":542.78070068359375},{"$f":"'Absorbance Data'!E3085-Calculations!B$1","v":0},{"$f":"'Absorbance Data'!F3085-Calculations!C$1","v":0},{"$f":"'Absorbance Data'!G3085-Calculations!D$1","v":0},{"$f":"'Absorbance Data'!H3085-Calculations!E$1","v":0},{"$f":"'Absorbance Data'!I3085-Calculations!F$1","v":0},{"$f":"'Absorbance Data'!J3085-Calculations!G$1","v":0},{"$f":"'Absorbance Data'!K3085-Calculations!H$1","v":0},{"$f":"'Absorbance Data'!L3085-Calculations!I$1","v":0},{"$f":"'Absorbance Data'!M3085-Calculations!J$1","v":0},{"$f":"'Absorbance Data'!N3085-Calculations!K$1","v":0},{"$f":"'Absorbance Data'!O3085-Calculations!L$1","v":0},{"$f":"'Absorbance Data'!P3085-Calculations!M$1","v":0},{"$f":"'Absorbance Data'!Q3085-Calculations!N$1","v":0},{"$f":"'Absorbance Data'!R3085-Calculations!O$1","v":0},{"$f":"'Absorbance Data'!S3085-Calculations!P$1","v":0},{"$f":"'Absorbance Data'!T3085-Calculations!Q$1","v":0},{"$f":"'Absorbance Data'!U3085-Calculations!R$1","v":0},{"$f":"'Absorbance Data'!V3085-Calculations!S$1","v":0},{"$f":"'Absorbance Data'!W3085-Calculations!T$1","v":0},{"$f":"'Absorbance Data'!X3085-Calculations!U$1","v":0},{"$f":"'Absorbance Data'!Y3085-Calculations!V$1","v":0},{"$f":"'Absorbance Data'!Z3085-Calculations!W$1","v":0}]
[{"$f":"'Absorbance Data'!D3086","v":543.10821533203125},{"$f":"'Absorbance Data'!E3086-Calculations!B$1","v":0},{"$f":"'Absorbance Data'!F3086-Calculations!C$1","v":0},{"$f":"'Absorbance Data'!G3086-Calculations!D$1","v":0},{"$f":"'Absorbance Data'!H3086-Calculations!E$1","v":0},{"$f":"'Absorbance Data'!I3086-Calculations!F$1","v":0},{"$f":"'Absorbance Data'!J3086-Calculations!G$1","v":0},{"$f":"'Absorbance Data'!K3086-Calculations!H$1","v":0},{"$f":"'Absorbance Data'!L3086-Calculations!I$1","v":0},{"$f":"'Absorbance Data'!M3086-Calculations!J$1","v":0},{"$f":"'Absorbance Data'!N3086-Calculations!K$1","v":0},{"$f":"'Absorbance Data'!O3086-Calculations!L$1","v":0},{"$f":"'Absorbance Data'!P3086-Calculations!M$1","v":0},{"$f":"'Absorbance Data'!Q3086-Calculations!N$1","v":0},{"$f":"'Absorbance Data'!R3086-Calculations!O$1","v":0},{"$f":"'Absorbance Data'!S3086-Calculations!P$1","v":0},{"$f":"'Absorbance Data'!T3086-Calculations!Q$1","v":0},{"$f":"'Absorbance Data'!U3086-Calculations!R$1","v":0},{"$f":"'Absorbance Data'!V3086-Calculations!S$1","v":0},{"$f":"'Absorbance Data'!W3086-Calculations!T$1","v":0},{"$f":"'Absorbance Data'!X3086-Calculations!U$1","v":0},{"$f":"'Absorbance Data'!Y3086-Calculations!V$1","v":0},{"$f":"'Absorbance Data'!Z3086-Calculations!W$1","v":0}]
[{"$f":"'Absorbance Data'!D3087","v":543.43572998046875},{"$f":"'Absorbance Data'!E3087-Calculations!B$1","v":0},{"$f":"'Absorbance Data'!F3087-Calculations!C$1","v":0},{"$f":"'Absorbance Data'!G3087-Calculations!D$1","v":0},{"$f":"'Absorbance Data'!H3087-Calculations!E$1","v":0},{"$f":"'Absorbance Data'!I3087-Calculations!F$1","v":0},{"$f":"'Absorbance Data'!J3087-Calculations!G$1","v":0},{"$f":"'Absorbance Data'!K3087-Calculations!H$1","v":0},{"$f":"'Absorbance Data'!L3087-Calculations!I$1","v":0},{"$f":"'Absorbance Data'!M3087-Calculations!J$1","v":0},{"$f":"'Absorbance Data'!N3087-Calculations!K$1","v":0},{"$f":"'Absorbance Data'!O3087-Calculations!L$1","v":0},{"$f":"'Absorbance Data'!P3087-Calculations!M$1","v":0},{"$f":"'Absorbance Data'!Q3087-Calculations!N$1","v":0},{"$f":"'Absorbance Data'!R3087-Calculations!O$1","v":0},{"$f":"'Absorbance Data'!S3087-Calculations!P$1","v":0},{"$f":"'Absorbance Data'!T3087-Calculations!Q$1","v":0},{"$f":"'Absorbance Data'!U3087-Calculations!R$1","v":0},{"$f":"'Absorbance Data'!V3087-Calculations!S$1","v":0},{"$f":"'Absorbance Data'!W3087-Calculations!T$1","v":0},{"$f":"'Absorbance Data'!X3087-Calculations!U$1","v":0},{"$f":"'Absorbance Data'!Y3087-Calculations!V$1","v":0},{"$f":"'Absorbance Data'!Z3087-Calculations!W$1","v":0}]
[{"$f":"'Absorbance Data'!D3088","v":543.7630615234375},{"$f":"'Absorbance Data'!E3088-Calculations!B$1","v":0},{"$f":"'Absorbance Data'!F3088-Calculations!C$1","v":0},{"$f":"'Absorbance Data'!G3088-Calculations!D$1","v":0},{"$f":"'Absorbance Data'!H3088-Calculations!E$1","v":0},{"$f":"'Absorbance Data'!I3088-Calculations!F$1","v":0},{"$f":"'Absorbance Data'!J3088-Calculations!G$1","v":0},{"$f":"'Absorbance Data'!K3088-Calculations!H$1","v":0},{"$f":"'Absorbance Data'!L3088-Calculations!I$1","v":0},{"$f":"'Absorbance Data'!M3088-Calculations!J$1","v":0},{"$f":"'Absorbance Data'!N3088-Calculations!K$1","v":0},{"$f":"'Absorbance Data'!O3088-Calculations!L$1","v":0},{"$f":"'Absorbance Data'!P3088-Calculations!M$1","v":0},{"$f":"'Absorbance Data'!Q3088-Calculations!N$1","v":0},{"$f":"'Absorbance Data'!R3088-Calculations!O$1","v":0},{"$f":"'Absorbance Data'!S3088-Calculations!P$1","v":0},{"$f":"'Absorbance Data'!T3088-Calculations!Q$1","v":0},{"$f":"'Absorbance Data'!U3088-Calculations!R$1","v":0},{"$f":"'Absorbance Data'!V3088-Calculations!S$1","v":0},{"$f":"'Absorbance Data'!W3088-Calculations!T$1","v":0},{"$f":"'Absorbance Data'!X3088-Calculations!U$1","v":0},{"$f":"'Absorbance Data'!Y3088-Calculations!V$1","v":0},{"$f":"'Absorbance Data'!Z3088-Calculations!W$1","v":0}]
[{"$f":"'Absorbance Data'!D3089","v":544.09039306640625},{"$f":"'Absorbance Data'!E3089-Calculations!B$1","v":0},{"$f":"'Absorbance Data'!F3089-Calculations!C$1","v":0},{"$f":"'Absorbance Data'!G3089-Calculations!D$1","v":0},{"$f":"'Absorbance Data'!H3089-Calculations!E$1","v":0},{"$f":"'Absorbance Data'!I3089-Calculations!F$1","v":0},{"$f":"'Absorbance Data'!J3089-Calculations!G$1","v":0},{"$f":"'Absorbance Data'!K3089-Calculations!H$1","v":0},{"$f":"'Absorbance Data'!L3089-Calculations!I$1","v":0},{"$f":"'Absorbance Data'!M3089-Calculations!J$1","v":0},{"$f":"'Absorbance Data'!N3089-Calculations!K$1","v":0},{"$f":"'Absorbance Data'!O3089-Calculations!L$1","v":0},{"$f":"'Absorbance Data'!P3089-Calculations!M$1","v":0},{"$f":"'Absorbance Data'!Q3089-Calculations!N$1","v":0},{"$f":"'Absorbance Data'!R3089-Calculations!O$1","v":0},{"$f":"'Absorbance Data'!S3089-Calculations!P$1","v":0},{"$f":"'Absorbance Data'!T3089-Calculations!Q$1","v":0},{"$f":"'Absorbance Data'!U3089-Calculations!R$1","v":0},{"$f":"'Absorbance Data'!V3089-Calculations!S$1","v":0},{"$f":"'Absorbance Data'!W3089-Calculations!T$1","v":0},{"$f":"'Absorbance Data'!X3089-Calculations!U$1","v":0},{"$f":"'Absorbance Data'!Y3089-Calculations!V$1","v":0},{"$f":"'Absorbance Data'!Z3089-Calculations!W$1","v":0}]
[{"$f":"'Absorbance Data'!D3090","v":544.417724609375},{"$f":"'Absorbance Data'!E3090-Calculations!B$1","v":0},{"$f":"'Absorbance Data'!F3090-Calculations!C$1","v":0},{"$f":"'Absorbance Data'!G3090-Calculations!D$1","v":0},{"$f":"'Absorbance Data'!H3090-Calculations!E$1","v":0},{"$f":"'Absorbance Data'!I3090-Calculations!F$1","v":0},{"$f":"'Absorbance Data'!J3090-Calculations!G$1","v":0},{"$f":"'Absorbance Data'!K3090-Calculations!H$1","v":0},{"$f":"'Absorbance Data'!L3090-Calculations!I$1","v":0},{"$f":"'Absorbance Data'!M3090-Calculations!J$1","v":0},{"$f":"'Absorbance Data'!N3090-Calculations!K$1","v":0},{"$f":"'Absorbance Data'!O3090-Calculations!L$1","v":0},{"$f":"'Absorbance Data'!P3090-Calculations!M$1","v":0},{"$f":"'Absorbance Data'!Q3090-Calculations!N$1","v":0},{"$f":"'Absorbance Data'!R3090-Calculations!O$1","v":0},{"$f":"'Absorbance Data'!S3090-Calculations!P$1","v":0},{"$f":"'Absorbance Data'!T3090-Calculations!Q$1","v":0},{"$f":"'Absorbance Data'!U3090-Calculations!R$1","v":0},{"$f":"'Absorbance Data'!V3090-Calculations!S$1","v":0},{"$f":"'Absorbance Data'!W3090-Calculations!T$1","v":0},{"$f":"'Absorbance Data'!X3090-Calculations!U$1","v":0},{"$f":"'Absorbance Data'!Y3090-Calculations!V$1","v":0},{"$f":"'Absorbance Data'!Z3090-Calculations!W$1","v":0}]
[{"$f":"'Absorbance Data'!D3091","v":544.74505615234375},{"$f":"'Absorbance Data'!E3091-Calculations!B$1","v":0},{"$f":"'Absorbance Data'!F3091-Calculations!C$1","v":0},{"$f":"'Absorbance Data'!G3091-Calculations!D$1","v":0},{"$f":"'Absorbance Data'!H3091-Calculations!E$1","v":0},{"$f":"'Absorbance Data'!I3091-Calculations!F$1","v":0},{"$f":"'Absorbance Data'!J3091-Calculations!G$1","v":0},{"$f":"'Absorbance Data'!K3091-Calculations!H$1","v":0},{"$f":"'Absorbance Data'!L3091-Calculations!I$1","v":0},{"$f":"'Absorbance Data'!M3091-Calculations!J$1","v":0},{"$f":"'Absorbance Data'!N3091-Calculations!K$1","v":0},{"$f":"'Absorbance Data'!O3091-Calculations!L$1","v":0},{"$f":"'Absorbance Data'!P3091-Calculations!M$1","v":0},{"$f":"'Absorbance Data'!Q3091-Calculations!N$1","v":0},{"$f":"'Absorbance Data'!R3091-Calculations!O$1","v":0},{"$f":"'Absorbance Data'!S3091-Calculations!P$1","v":0},{"$f":"'Absorbance Data'!T3091-Calculations!Q$1","v":0},{"$f":"'Absorbance Data'!U3091-Calculations!R$1","v":0},{"$f":"'Absorbance Data'!V3091-Calculations!S$1","v":0},{"$f":"'Absorbance Data'!W3091-Calculations!T$1","v":0},{"$f":"'Absorbance Data'!X3091-Calculations!U$1","v":0},{"$f":"'Absorbance Data'!Y3091-Calculations!V$1","v":0},{"$f":"'Absorbance Data'!Z3091-Calculations!W$1","v":0}]
[{"$f":"'Absorbance Data'!D3092","v":545.072265625},{"$f":"'Absorbance Data'!E3092-Calculations!B$1","v":0},{"$f":"'Absorbance Data'!F3092-Calculations!C$1","v":0},{"$f":"'Absorbance Data'!G3092-Calculations!D$1","v":0},{"$f":"'Absorbance Data'!H3092-Calculations!E$1","v":0},{"$f":"'Absorbance Data'!I3092-Calculations!F$1","v":0},{"$f":"'Absorbance Data'!J3092-Calculations!G$1","v":0},{"$f":"'Absorbance Data'!K3092-Calculations!H$1","v":0},{"$f":"'Absorbance Data'!L3092-Calculations!I$1","v":0},{"$f":"'Absorbance Data'!M3092-Calculations!J$1","v":0},{"$f":"'Absorbance Data'!N3092-Calculations!K$1","v":0},{"$f":"'Absorbance Data'!O3092-Calculations!L$1","v":0},{"$f":"'Absorbance Data'!P3092-Calculations!M$1","v":0},{"$f":"'Absorbance Data'!Q3092-Calculations!N$1","v":0},{"$f":"'Absorbance Data'!R3092-Calculations!O$1","v":0},{"$f":"'Absorbance Data'!S3092-Calculations!P$1","v":0},{"$f":"'Absorbance Data'!T3092-Calculations!Q$1","v":0},{"$f":"'Absorbance Data'!U3092-Calculations!R$1","v":0},{"$f":"'Absorbance Data'!V3092-Calculations!S$1","v":0},{"$f":"'Absorbance Data'!W3092-Calculations!T$1","v":0},{"$f":"'Absorbance Data'!X3092-Calculations!U$1","v":0},{"$f":"'Absorbance Data'!Y3092-Calculations!V$1","v":0},{"$f":"'Absorbance Data'!Z3092-Calculations!W$1","v":0}]
[{"$f":"'Absorbance Data'!D3093","v":545.39947509765625},{"$f":"'Absorbance Data'!E3093-Calculations!B$1","v":0},{"$f":"'Absorbance Data'!F3093-Calculations!C$1","v":0},{"$f":"'Absorbance Data'!G3093-Calculations!D$1","v":0},{"$f":"'Absorbance Data'!H3093-Calculations!E$1","v":0},{"$f":"'Absorbance Data'!I3093-Calculations!F$1","v":0},{"$f":"'Absorbance Data'!J3093-Calculations!G$1","v":0},{"$f":"'Absorbance Data'!K3093-Calculations!H$1","v":0},{"$f":"'Absorbance Data'!L3093-Calculations!I$1","v":0},{"$f":"'Absorbance Data'!M3093-Calculations!J$1","v":0},{"$f":"'Absorbance Data'!N3093-Calculations!K$1","v":0},{"$f":"'Absorbance Data'!O3093-Calculations!L$1","v":0},{"$f":"'Absorbance Data'!P3093-Calculations!M$1","v":0},{"$f":"'Absorbance Data'!Q3093-Calculations!N$1","v":0},{"$f":"'Absorbance Data'!R3093-Calculations!O$1","v":0},{"$f":"'Absorbance Data'!S3093-Calculations!P$1","v":0},{"$f":"'Absorbance Data'!T3093-Calculations!Q$1","v":0},{"$f":"'Absorbance Data'!U3093-Calculations!R$1","v":0},{"$f":"'Absorbance Data'!V3093-Calculations!S$1","v":0},{"$f":"'Absorbance Data'!W3093-Calculations!T$1","v":0},{"$f":"'Absorbance Data'!X3093-Calculations!U$1","v":0},{"$f":"'Absorbance Data'!Y3093-Calculations!V$1","v":0},{"$f":"'Absorbance Data'!Z3093-Calculations!W$1","v":0}]
[{"$f":"'Absorbance Data'!D3094","v":545.72662353515625},{"$f":"'Absorbance Data'!E3094-Calculations!B$1","v":0},{"$f":"'Absorbance Data'!F3094-Calculations!C$1","v":0},{"$f":"'Absorbance Data'!G3094-Calculations!D$1","v":0},{"$f":"'Absorbance Data'!H3094-Calculations!E$1","v":0},{"$f":"'Absorbance Data'!I3094-Calculations!F$1","v":0},{"$f":"'Absorbance Data'!J3094-Calculations!G$1","v":0},{"$f":"'Absorbance Data'!K3094-Calculations!H$1","v":0},{"$f":"'Absorbance Data'!L3094-Calculations!I$1","v":0},{"$f":"'Absorbance Data'!M3094-Calculations!J$1","v":0},{"$f":"'Absorbance Data'!N3094-Calculations!K$1","v":0},{"$f":"'Absorbance Data'!O3094-Calculations!L$1","v":0},{"$f":"'Absorbance Data'!P3094-Calculations!M$1","v":0},{"$f":"'Absorbance Data'!Q3094-Calculations!N$1","v":0},{"$f":"'Absorbance Data'!R3094-Calculations!O$1","v":0},{"$f":"'Absorbance Data'!S3094-Calculations!P$1","v":0},{"$f":"'Absorbance Data'!T3094-Calculations!Q$1","v":0},{"$f":"'Absorbance Data'!U3094-Calculations!R$1","v":0},{"$f":"'Absorbance Data'!V3094-Calculations!S$1","v":0},{"$f":"'Absorbance Data'!W3094-Calculations!T$1","v":0},{"$f":"'Absorbance Data'!X3094-Calculations!U$1","v":0},{"$f":"'Absorbance Data'!Y3094-Calculations!V$1","v":0},{"$f":"'Absorbance Data'!Z3094-Calculations!W$1","v":0}]
[{"$f":"'Absorbance Data'!D3095","v":546.05377197265625},{"$f":"'Absorbance Data'!E3095-Calculations!B$1","v":0},{"$f":"'Absorbance Data'!F3095-Calculations!C$1","v":0},{"$f":"'Absorbance Data'!G3095-Calculations!D$1","v":0},{"$f":"'Absorbance Data'!H3095-Calculations!E$1","v":0},{"$f":"'Absorbance Data'!I3095-Calculations!F$1","v":0},{"$f":"'Absorbance Data'!J3095-Calculations!G$1","v":0},{"$f":"'Absorbance Data'!K3095-Calculations!H$1","v":0},{"$f":"'Absorbance Data'!L3095-Calculations!I$1","v":0},{"$f":"'Absorbance Data'!M3095-Calculations!J$1","v":0},{"$f":"'Absorbance Data'!N3095-Calculations!K$1","v":0},{"$f":"'Absorbance Data'!O3095-Calculations!L$1","v":0},{"$f":"'Absorbance Data'!P3095-Calculations!M$1","v":0},{"$f":"'Absorbance Data'!Q3095-Calculations!N$1","v":0},{"$f":"'Absorbance Data'!R3095-Calculations!O$1","v":0},{"$f":"'Absorbance Data'!S3095-Calculations!P$1","v":0},{"$f":"'Absorbance Data'!T3095-Calculations!Q$1","v":0},{"$f":"'Absorbance Data'!U3095-Calculations!R$1","v":0},{"$f":"'Absorbance Data'!V3095-Calculations!S$1","v":0},{"$f":"'Absorbance Data'!W3095-Calculations!T$1","v":0},{"$f":"'Absorbance Data'!X3095-Calculations!U$1","v":0},{"$f":"'Absorbance Data'!Y3095-Calculations!V$1","v":0},{"$f":"'Absorbance Data'!Z3095-Calculations!W$1","v":0}]
[{"$f":"'Absorbance Data'!D3096","v":546.380859375},{"$f":"'Absorbance Data'!E3096-Calculations!B$1","v":0},{"$f":"'Absorbance Data'!F3096-Calculations!C$1","v":0},{"$f":"'Absorbance Data'!G3096-Calculations!D$1","v":0},{"$f":"'Absorbance Data'!H3096-Calculations!E$1","v":0},{"$f":"'Absorbance Data'!I3096-Calculations!F$1","v":0},{"$f":"'Absorbance Data'!J3096-Calculations!G$1","v":0},{"$f":"'Absorbance Data'!K3096-Calculations!H$1","v":0},{"$f":"'Absorbance Data'!L3096-Calculations!I$1","v":0},{"$f":"'Absorbance Data'!M3096-Calculations!J$1","v":0},{"$f":"'Absorbance Data'!N3096-Calculations!K$1","v":0},{"$f":"'Absorbance Data'!O3096-Calculations!L$1","v":0},{"$f":"'Absorbance Data'!P3096-Calculations!M$1","v":0},{"$f":"'Absorbance Data'!Q3096-Calculations!N$1","v":0},{"$f":"'Absorbance Data'!R3096-Calculations!O$1","v":0},{"$f":"'Absorbance Data'!S3096-Calculations!P$1","v":0},{"$f":"'Absorbance Data'!T3096-Calculations!Q$1","v":0},{"$f":"'Absorbance Data'!U3096-Calculations!R$1","v":0},{"$f":"'Absorbance Data'!V3096-Calculations!S$1","v":0},{"$f":"'Absorbance Data'!W3096-Calculations!T$1","v":0},{"$f":"'Absorbance Data'!X3096-Calculations!U$1","v":0},{"$f":"'Absorbance Data'!Y3096-Calculations!V$1","v":0},{"$f":"'Absorbance Data'!Z3096-Calculations!W$1","v":0}]
[{"$f":"'Absorbance Data'!D3097","v":546.7078857421875},{"$f":"'Absorbance Data'!E3097-Calculations!B$1","v":0},{"$f":"'Absorbance Data'!F3097-Calculations!C$1","v":0},{"$f":"'Absorbance Data'!G3097-Calculations!D$1","v":0},{"$f":"'Absorbance Data'!H3097-Calculations!E$1","v":0},{"$f":"'Absorbance Data'!I3097-Calculations!F$1","v":0},{"$f":"'Absorbance Data'!J3097-Calculations!G$1","v":0},{"$f":"'Absorbance Data'!K3097-Calculations!H$1","v":0},{"$f":"'Absorbance Data'!L3097-Calculations!I$1","v":0},{"$f":"'Absorbance Data'!M3097-Calculations!J$1","v":0},{"$f":"'Absorbance Data'!N3097-Calculations!K$1","v":0},{"$f":"'Absorbance Data'!O3097-Calculations!L$1","v":0},{"$f":"'Absorbance Data'!P3097-Calculations!M$1","v":0},{"$f":"'Absorbance Data'!Q3097-Calculations!N$1","v":0},{"$f":"'Absorbance Data'!R3097-Calculations!O$1","v":0},{"$f":"'Absorbance Data'!S3097-Calculations!P$1","v":0},{"$f":"'Absorbance Data'!T3097-Calculations!Q$1","v":0},{"$f":"'Absorbance Data'!U3097-Calculations!R$1","v":0},{"$f":"'Absorbance Data'!V3097-Calculations!S$1","v":0},{"$f":"'Absorbance Data'!W3097-Calculations!T$1","v":0},{"$f":"'Absorbance Data'!X3097-Calculations!U$1","v":0},{"$f":"'Absorbance Data'!Y3097-Calculations!V$1","v":0},{"$f":"'Absorbance Data'!Z3097-Calculations!W$1","v":0}]
[{"$f":"'Absorbance Data'!D3098","v":547.034912109375},{"$f":"'Absorbance Data'!E3098-Calculations!B$1","v":0},{"$f":"'Absorbance Data'!F3098-Calculations!C$1","v":0},{"$f":"'Absorbance Data'!G3098-Calculations!D$1","v":0},{"$f":"'Absorbance Data'!H3098-Calculations!E$1","v":0},{"$f":"'Absorbance Data'!I3098-Calculations!F$1","v":0},{"$f":"'Absorbance Data'!J3098-Calculations!G$1","v":0},{"$f":"'Absorbance Data'!K3098-Calculations!H$1","v":0},{"$f":"'Absorbance Data'!L3098-Calculations!I$1","v":0},{"$f":"'Absorbance Data'!M3098-Calculations!J$1","v":0},{"$f":"'Absorbance Data'!N3098-Calculations!K$1","v":0},{"$f":"'Absorbance Data'!O3098-Calculations!L$1","v":0},{"$f":"'Absorbance Data'!P3098-Calculations!M$1","v":0},{"$f":"'Absorbance Data'!Q3098-Calculations!N$1","v":0},{"$f":"'Absorbance Data'!R3098-Calculations!O$1","v":0},{"$f":"'Absorbance Data'!S3098-Calculations!P$1","v":0},{"$f":"'Absorbance Data'!T3098-Calculations!Q$1","v":0},{"$f":"'Absorbance Data'!U3098-Calculations!R$1","v":0},{"$f":"'Absorbance Data'!V3098-Calculations!S$1","v":0},{"$f":"'Absorbance Data'!W3098-Calculations!T$1","v":0},{"$f":"'Absorbance Data'!X3098-Calculations!U$1","v":0},{"$f":"'Absorbance Data'!Y3098-Calculations!V$1","v":0},{"$f":"'Absorbance Data'!Z3098-Calculations!W$1","v":0}]
[{"$f":"'Absorbance Data'!D3099","v":547.3619384765625},{"$f":"'Absorbance Data'!E3099-Calculations!B$1","v":0},{"$f":"'Absorbance Data'!F3099-Calculations!C$1","v":0},{"$f":"'Absorbance Data'!G3099-Calculations!D$1","v":0},{"$f":"'Absorbance Data'!H3099-Calculations!E$1","v":0},{"$f":"'Absorbance Data'!I3099-Calculations!F$1","v":0},{"$f":"'Absorbance Data'!J3099-Calculations!G$1","v":0},{"$f":"'Absorbance Data'!K3099-Calculations!H$1","v":0},{"$f":"'Absorbance Data'!L3099-Calculations!I$1","v":0},{"$f":"'Absorbance Data'!M3099-Calculations!J$1","v":0},{"$f":"'Absorbance Data'!N3099-Calculations!K$1","v":0},{"$f":"'Absorbance Data'!O3099-Calculations!L$1","v":0},{"$f":"'Absorbance Data'!P3099-Calculations!M$1","v":0},{"$f":"'Absorbance Data'!Q3099-Calculations!N$1","v":0},{"$f":"'Absorbance Data'!R3099-Calculations!O$1","v":0},{"$f":"'Absorbance Data'!S3099-Calculations!P$1","v":0},{"$f":"'Absorbance Data'!T3099-Calculations!Q$1","v":0},{"$f":"'Absorbance Data'!U3099-Calculations!R$1","v":0},{"$f":"'Absorbance Data'!V3099-Calculations!S$1","v":0},{"$f":"'Absorbance Data'!W3099-Calculations!T$1","v":0},{"$f":"'Absorbance Data'!X3099-Calculations!U$1","v":0},{"$f":"'Absorbance Data'!Y3099-Calculations!V$1","v":0},{"$f":"'Absorbance Data'!Z3099-Calculations!W$1","v":0}]
[{"$f":"'Absorbance Data'!D3100","v":547.6888427734375},{"$f":"'Absorbance Data'!E3100-Calculations!B$1","v":0},{"$f":"'Absorbance Data'!F3100-Calculations!C$1","v":0},{"$f":"'Absorbance Data'!G3100-Calculations!D$1","v":0},{"$f":"'Absorbance Data'!H3100-Calculations!E$1","v":0},{"$f":"'Absorbance Data'!I3100-Calculations!F$1","v":0},{"$f":"'Absorbance Data'!J3100-Calculations!G$1","v":0},{"$f":"'Absorbance Data'!K3100-Calculations!H$1","v":0},{"$f":"'Absorbance Data'!L3100-Calculations!I$1","v":0},{"$f":"'Absorbance Data'!M3100-Calculations!J$1","v":0},{"$f":"'Absorbance Data'!N3100-Calculations!K$1","v":0},{"$f":"'Absorbance Data'!O3100-Calculations!L$1","v":0},{"$f":"'Absorbance Data'!P3100-Calculations!M$1","v":0},{"$f":"'Absorbance Data'!Q3100-Calculations!N$1","v":0},{"$f":"'Absorbance Data'!R3100-Calculations!O$1","v":0},{"$f":"'Absorbance Data'!S3100-Calculations!P$1","v":0},{"$f":"'Absorbance Data'!T3100-Calculations!Q$1","v":0},{"$f":"'Absorbance Data'!U3100-Calculations!R$1","v":0},{"$f":"'Absorbance Data'!V3100-Calculations!S$1","v":0},{"$f":"'Absorbance Data'!W3100-Calculations!T$1","v":0},{"$f":"'Absorbance Data'!X3100-Calculations!U$1","v":0},{"$f":"'Absorbance Data'!Y3100-Calculations!V$1","v":0},{"$f":"'Absorbance Data'!Z3100-Calculations!W$1","v":0}]
[{"$f":"'Absorbance Data'!D3101","v":548.0157470703125},{"$f":"'Absorbance Data'!E3101-Calculations!B$1","v":0},{"$f":"'Absorbance Data'!F3101-Calculations!C$1","v":0},{"$f":"'Absorbance Data'!G3101-Calculations!D$1","v":0},{"$f":"'Absorbance Data'!H3101-Calculations!E$1","v":0},{"$f":"'Absorbance Data'!I3101-Calculations!F$1","v":0},{"$f":"'Absorbance Data'!J3101-Calculations!G$1","v":0},{"$f":"'Absorbance Data'!K3101-Calculations!H$1","v":0},{"$f":"'Absorbance Data'!L3101-Calculations!I$1","v":0},{"$f":"'Absorbance Data'!M3101-Calculations!J$1","v":0},{"$f":"'Absorbance Data'!N3101-Calculations!K$1","v":0},{"$f":"'Absorbance Data'!O3101-Calculations!L$1","v":0},{"$f":"'Absorbance Data'!P3101-Calculations!M$1","v":0},{"$f":"'Absorbance Data'!Q3101-Calculations!N$1","v":0},{"$f":"'Absorbance Data'!R3101-Calculations!O$1","v":0},{"$f":"'Absorbance Data'!S3101-Calculations!P$1","v":0},{"$f":"'Absorbance Data'!T3101-Calculations!Q$1","v":0},{"$f":"'Absorbance Data'!U3101-Calculations!R$1","v":0},{"$f":"'Absorbance Data'!V3101-Calculations!S$1","v":0},{"$f":"'Absorbance Data'!W3101-Calculations!T$1","v":0},{"$f":"'Absorbance Data'!X3101-Calculations!U$1","v":0},{"$f":"'Absorbance Data'!Y3101-Calculations!V$1","v":0},{"$f":"'Absorbance Data'!Z3101-Calculations!W$1","v":0}]
[{"$f":"'Absorbance Data'!D3102","v":548.34259033203125},{"$f":"'Absorbance Data'!E3102-Calculations!B$1","v":0},{"$f":"'Absorbance Data'!F3102-Calculations!C$1","v":0},{"$f":"'Absorbance Data'!G3102-Calculations!D$1","v":0},{"$f":"'Absorbance Data'!H3102-Calculations!E$1","v":0},{"$f":"'Absorbance Data'!I3102-Calculations!F$1","v":0},{"$f":"'Absorbance Data'!J3102-Calculations!G$1","v":0},{"$f":"'Absorbance Data'!K3102-Calculations!H$1","v":0},{"$f":"'Absorbance Data'!L3102-Calculations!I$1","v":0},{"$f":"'Absorbance Data'!M3102-Calculations!J$1","v":0},{"$f":"'Absorbance Data'!N3102-Calculations!K$1","v":0},{"$f":"'Absorbance Data'!O3102-Calculations!L$1","v":0},{"$f":"'Absorbance Data'!P3102-Calculations!M$1","v":0},{"$f":"'Absorbance Data'!Q3102-Calculations!N$1","v":0},{"$f":"'Absorbance Data'!R3102-Calculations!O$1","v":0},{"$f":"'Absorbance Data'!S3102-Calculations!P$1","v":0},{"$f":"'Absorbance Data'!T3102-Calculations!Q$1","v":0},{"$f":"'Absorbance Data'!U3102-Calculations!R$1","v":0},{"$f":"'Absorbance Data'!V3102-Calculations!S$1","v":0},{"$f":"'Absorbance Data'!W3102-Calculations!T$1","v":0},{"$f":"'Absorbance Data'!X3102-Calculations!U$1","v":0},{"$f":"'Absorbance Data'!Y3102-Calculations!V$1","v":0},{"$f":"'Absorbance Data'!Z3102-Calculations!W$1","v":0}]
[{"$f":"'Absorbance Data'!D3103","v":548.66949462890625},{"$f":"'Absorbance Data'!E3103-Calculations!B$1","v":0},{"$f":"'Absorbance Data'!F3103-Calculations!C$1","v":0},{"$f":"'Absorbance Data'!G3103-Calculations!D$1","v":0},{"$f":"'Absorbance Data'!H3103-Calculations!E$1","v":0},{"$f":"'Absorbance Data'!I3103-Calculations!F$1","v":0},{"$f":"'Absorbance Data'!J3103-Calculations!G$1","v":0},{"$f":"'Absorbance Data'!K3103-Calculations!H$1","v":0},{"$f":"'Absorbance Data'!L3103-Calculations!I$1","v":0},{"$f":"'Absorbance Data'!M3103-Calculations!J$1","v":0},{"$f":"'Absorbance Data'!N3103-Calculations!K$1","v":0},{"$f":"'Absorbance Data'!O3103-Calculations!L$1","v":0},{"$f":"'Absorbance Data'!P3103-Calculations!M$1","v":0},{"$f":"'Absorbance Data'!Q3103-Calculations!N$1","v":0},{"$f":"'Absorbance Data'!R3103-Calculations!O$1","v":0},{"$f":"'Absorbance Data'!S3103-Calculations!P$1","v":0},{"$f":"'Absorbance Data'!T3103-Calculations!Q$1","v":0},{"$f":"'Absorbance Data'!U3103-Calculations!R$1","v":0},{"$f":"'Absorbance Data'!V3103-Calculations!S$1","v":0},{"$f":"'Absorbance Data'!W3103-Calculations!T$1","v":0},{"$f":"'Absorbance Data'!X3103-Calculations!U$1","v":0},{"$f":"'Absorbance Data'!Y3103-Calculations!V$1","v":0},{"$f":"'Absorbance Data'!Z3103-Calculations!W$1","v":0}]
[{"$f":"'Absorbance Data'!D3104","v":548.99627685546875},{"$f":"'Absorbance Data'!E3104-Calculations!B$1","v":0},{"$f":"'Absorbance Data'!F3104-Calculations!C$1","v":0},{"$f":"'Absorbance Data'!G3104-Calculations!D$1","v":0},{"$f":"'Absorbance Data'!H3104-Calculations!E$1","v":0},{"$f":"'Absorbance Data'!I3104-Calculations!F$1","v":0},{"$f":"'Absorbance Data'!J3104-Calculations!G$1","v":0},{"$f":"'Absorbance Data'!K3104-Calculations!H$1","v":0},{"$f":"'Absorbance Data'!L3104-Calculations!I$1","v":0},{"$f":"'Absorbance Data'!M3104-Calculations!J$1","v":0},{"$f":"'Absorbance Data'!N3104-Calculations!K$1","v":0},{"$f":"'Absorbance Data'!O3104-Calculations!L$1","v":0},{"$f":"'Absorbance Data'!P3104-Calculations!M$1","v":0},{"$f":"'Absorbance Data'!Q3104-Calculations!N$1","v":0},{"$f":"'Absorbance Data'!R3104-Calculations!O$1","v":0},{"$f":"'Absorbance Data'!S3104-Calculations!P$1","v":0},{"$f":"'Absorbance Data'!T3104-Calculations!Q$1","v":0},{"$f":"'Absorbance Data'!U3104-Calculations!R$1","v":0},{"$f":"'Absorbance Data'!V3104-Calculations!S$1","v":0},{"$f":"'Absorbance Data'!W3104-Calculations!T$1","v":0},{"$f":"'Absorbance Data'!X3104-Calculations!U$1","v":0},{"$f":"'Absorbance Data'!Y3104-Calculations!V$1","v":0},{"$f":"'Absorbance Data'!Z3104-Calculations!W$1","v":0}]
[{"$f":"'Absorbance Data'!D3105","v":549.322998046875},{"$f":"'Absorbance Data'!E3105-Calculations!B$1","v":0},{"$f":"'Absorbance Data'!F3105-Calculations!C$1","v":0},{"$f":"'Absorbance Data'!G3105-Calculations!D$1","v":0},{"$f":"'Absorbance Data'!H3105-Calculations!E$1","v":0},{"$f":"'Absorbance Data'!I3105-Calculations!F$1","v":0},{"$f":"'Absorbance Data'!J3105-Calculations!G$1","v":0},{"$f":"'Absorbance Data'!K3105-Calculations!H$1","v":0},{"$f":"'Absorbance Data'!L3105-Calculations!I$1","v":0},{"$f":"'Absorbance Data'!M3105-Calculations!J$1","v":0},{"$f":"'Absorbance Data'!N3105-Calculations!K$1","v":0},{"$f":"'Absorbance Data'!O3105-Calculations!L$1","v":0},{"$f":"'Absorbance Data'!P3105-Calculations!M$1","v":0},{"$f":"'Absorbance Data'!Q3105-Calculations!N$1","v":0},{"$f":"'Absorbance Data'!R3105-Calculations!O$1","v":0},{"$f":"'Absorbance Data'!S3105-Calculations!P$1","v":0},{"$f":"'Absorbance Data'!T3105-Calculations!Q$1","v":0},{"$f":"'Absorbance Data'!U3105-Calculations!R$1","v":0},{"$f":"'Absorbance Data'!V3105-Calculations!S$1","v":0},{"$f":"'Absorbance Data'!W3105-Calculations!T$1","v":0},{"$f":"'Absorbance Data'!X3105-Calculations!U$1","v":0},{"$f":"'Absorbance Data'!Y3105-Calculations!V$1","v":0},{"$f":"'Absorbance Data'!Z3105-Calculations!W$1","v":0}]
[{"$f":"'Absorbance Data'!D3106","v":549.649658203125},{"$f":"'Absorbance Data'!E3106-Calculations!B$1","v":0},{"$f":"'Absorbance Data'!F3106-Calculations!C$1","v":0},{"$f":"'Absorbance Data'!G3106-Calculations!D$1","v":0},{"$f":"'Absorbance Data'!H3106-Calculations!E$1","v":0},{"$f":"'Absorbance Data'!I3106-Calculations!F$1","v":0},{"$f":"'Absorbance Data'!J3106-Calculations!G$1","v":0},{"$f":"'Absorbance Data'!K3106-Calculations!H$1","v":0},{"$f":"'Absorbance Data'!L3106-Calculations!I$1","v":0},{"$f":"'Absorbance Data'!M3106-Calculations!J$1","v":0},{"$f":"'Absorbance Data'!N3106-Calculations!K$1","v":0},{"$f":"'Absorbance Data'!O3106-Calculations!L$1","v":0},{"$f":"'Absorbance Data'!P3106-Calculations!M$1","v":0},{"$f":"'Absorbance Data'!Q3106-Calculations!N$1","v":0},{"$f":"'Absorbance Data'!R3106-Calculations!O$1","v":0},{"$f":"'Absorbance Data'!S3106-Calculations!P$1","v":0},{"$f":"'Absorbance Data'!T3106-Calculations!Q$1","v":0},{"$f":"'Absorbance Data'!U3106-Calculations!R$1","v":0},{"$f":"'Absorbance Data'!V3106-Calculations!S$1","v":0},{"$f":"'Absorbance Data'!W3106-Calculations!T$1","v":0},{"$f":"'Absorbance Data'!X3106-Calculations!U$1","v":0},{"$f":"'Absorbance Data'!Y3106-Calculations!V$1","v":0},{"$f":"'Absorbance Data'!Z3106-Calculations!W$1","v":0}]
[{"$f":"'Absorbance Data'!D3107","v":549.97637939453125},{"$f":"'Absorbance Data'!E3107-Calculations!B$1","v":0},{"$f":"'Absorbance Data'!F3107-Calculations!C$1","v":0},{"$f":"'Absorbance Data'!G3107-Calculations!D$1","v":0},{"$f":"'Absorbance Data'!H3107-Calculations!E$1","v":0},{"$f":"'Absorbance Data'!I3107-Calculations!F$1","v":0},{"$f":"'Absorbance Data'!J3107-Calculations!G$1","v":0},{"$f":"'Absorbance Data'!K3107-Calculations!H$1","v":0},{"$f":"'Absorbance Data'!L3107-Calculations!I$1","v":0},{"$f":"'Absorbance Data'!M3107-Calculations!J$1","v":0},{"$f":"'Absorbance Data'!N3107-Calculations!K$1","v":0},{"$f":"'Absorbance Data'!O3107-Calculations!L$1","v":0},{"$f":"'Absorbance Data'!P3107-Calculations!M$1","v":0},{"$f":"'Absorbance Data'!Q3107-Calculations!N$1","v":0},{"$f":"'Absorbance Data'!R3107-Calculations!O$1","v":0},{"$f":"'Absorbance Data'!S3107-Calculations!P$1","v":0},{"$f":"'Absorbance Data'!T3107-Calculations!Q$1","v":0},{"$f":"'Absorbance Data'!U3107-Calculations!R$1","v":0},{"$f":"'Absorbance Data'!V3107-Calculations!S$1","v":0},{"$f":"'Absorbance Data'!W3107-Calculations!T$1","v":0},{"$f":"'Absorbance Data'!X3107-Calculations!U$1","v":0},{"$f":"'Absorbance Data'!Y3107-Calculations!V$1","v":0},{"$f":"'Absorbance Data'!Z3107-Calculations!W$1","v":0}]
[{"$f":"'Absorbance Data'!D3108","v":550.30303955078125},{"$f":"'Absorbance Data'!E3108-Calculations!B$1","v":0},{"$f":"'Absorbance Data'!F3108-Calculations!C$1","v":0},{"$f":"'Absorbance Data'!G3108-Calculations!D$1","v":0},{"$f":"'Absorbance Data'!H3108-Calculations!E$1","v":0},{"$f":"'Absorbance Data'!I3108-Calculations!F$1","v":0},{"$f":"'Absorbance Data'!J3108-Calculations!G$1","v":0},{"$f":"'Absorbance Data'!K3108-Calculations!H$1","v":0},{"$f":"'Absorbance Data'!L3108-Calculations!I$1","v":0},{"$f":"'Absorbance Data'!M3108-Calculations!J$1","v":0},{"$f":"'Absorbance Data'!N3108-Calculations!K$1","v":0},{"$f":"'Absorbance Data'!O3108-Calculations!L$1","v":0},{"$f":"'Absorbance Data'!P3108-Calculations!M$1","v":0},{"$f":"'Absorbance Data'!Q3108-Calculations!N$1","v":0},{"$f":"'Absorbance Data'!R3108-Calculations!O$1","v":0},{"$f":"'Absorbance Data'!S3108-Calculations!P$1","v":0},{"$f":"'Absorbance Data'!T3108-Calculations!Q$1","v":0},{"$f":"'Absorbance Data'!U3108-Calculations!R$1","v":0},{"$f":"'Absorbance Data'!V3108-Calculations!S$1","v":0},{"$f":"'Absorbance Data'!W3108-Calculations!T$1","v":0},{"$f":"'Absorbance Data'!X3108-Calculations!U$1","v":0},{"$f":"'Absorbance Data'!Y3108-Calculations!V$1","v":0},{"$f":"'Absorbance Data'!Z3108-Calculations!W$1","v":0}]
[{"$f":"'Absorbance Data'!D3109","v":550.62957763671875},{"$f":"'Absorbance Data'!E3109-Calculations!B$1","v":0},{"$f":"'Absorbance Data'!F3109-Calculations!C$1","v":0},{"$f":"'Absorbance Data'!G3109-Calculations!D$1","v":0},{"$f":"'Absorbance Data'!H3109-Calculations!E$1","v":0},{"$f":"'Absorbance Data'!I3109-Calculations!F$1","v":0},{"$f":"'Absorbance Data'!J3109-Calculations!G$1","v":0},{"$f":"'Absorbance Data'!K3109-Calculations!H$1","v":0},{"$f":"'Absorbance Data'!L3109-Calculations!I$1","v":0},{"$f":"'Absorbance Data'!M3109-Calculations!J$1","v":0},{"$f":"'Absorbance Data'!N3109-Calculations!K$1","v":0},{"$f":"'Absorbance Data'!O3109-Calculations!L$1","v":0},{"$f":"'Absorbance Data'!P3109-Calculations!M$1","v":0},{"$f":"'Absorbance Data'!Q3109-Calculations!N$1","v":0},{"$f":"'Absorbance Data'!R3109-Calculations!O$1","v":0},{"$f":"'Absorbance Data'!S3109-Calculations!P$1","v":0},{"$f":"'Absorbance Data'!T3109-Calculations!Q$1","v":0},{"$f":"'Absorbance Data'!U3109-Calculations!R$1","v":0},{"$f":"'Absorbance Data'!V3109-Calculations!S$1","v":0},{"$f":"'Absorbance Data'!W3109-Calculations!T$1","v":0},{"$f":"'Absorbance Data'!X3109-Calculations!U$1","v":0},{"$f":"'Absorbance Data'!Y3109-Calculations!V$1","v":0},{"$f":"'Absorbance Data'!Z3109-Calculations!W$1","v":0}]
[{"$f":"'Absorbance Data'!D3110","v":550.95611572265625},{"$f":"'Absorbance Data'!E3110-Calculations!B$1","v":0},{"$f":"'Absorbance Data'!F3110-Calculations!C$1","v":0},{"$f":"'Absorbance Data'!G3110-Calculations!D$1","v":0},{"$f":"'Absorbance Data'!H3110-Calculations!E$1","v":0},{"$f":"'Absorbance Data'!I3110-Calculations!F$1","v":0},{"$f":"'Absorbance Data'!J3110-Calculations!G$1","v":0},{"$f":"'Absorbance Data'!K3110-Calculations!H$1","v":0},{"$f":"'Absorbance Data'!L3110-Calculations!I$1","v":0},{"$f":"'Absorbance Data'!M3110-Calculations!J$1","v":0},{"$f":"'Absorbance Data'!N3110-Calculations!K$1","v":0},{"$f":"'Absorbance Data'!O3110-Calculations!L$1","v":0},{"$f":"'Absorbance Data'!P3110-Calculations!M$1","v":0},{"$f":"'Absorbance Data'!Q3110-Calculations!N$1","v":0},{"$f":"'Absorbance Data'!R3110-Calculations!O$1","v":0},{"$f":"'Absorbance Data'!S3110-Calculations!P$1","v":0},{"$f":"'Absorbance Data'!T3110-Calculations!Q$1","v":0},{"$f":"'Absorbance Data'!U3110-Calculations!R$1","v":0},{"$f":"'Absorbance Data'!V3110-Calculations!S$1","v":0},{"$f":"'Absorbance Data'!W3110-Calculations!T$1","v":0},{"$f":"'Absorbance Data'!X3110-Calculations!U$1","v":0},{"$f":"'Absorbance Data'!Y3110-Calculations!V$1","v":0},{"$f":"'Absorbance Data'!Z3110-Calculations!W$1","v":0}]
[{"$f":"'Absorbance Data'!D3111","v":551.28265380859375},{"$f":"'Absorbance Data'!E3111-Calculations!B$1","v":0},{"$f":"'Absorbance Data'!F3111-Calculations!C$1","v":0},{"$f":"'Absorbance Data'!G3111-Calculations!D$1","v":0},{"$f":"'Absorbance Data'!H3111-Calculations!E$1","v":0},{"$f":"'Absorbance Data'!I3111-Calculations!F$1","v":0},{"$f":"'Absorbance Data'!J3111-Calculations!G$1","v":0},{"$f":"'Absorbance Data'!K3111-Calculations!H$1","v":0},{"$f":"'Absorbance Data'!L3111-Calculations!I$1","v":0},{"$f":"'Absorbance Data'!M3111-Calculations!J$1","v":0},{"$f":"'Absorbance Data'!N3111-Calculations!K$1","v":0},{"$f":"'Absorbance Data'!O3111-Calculations!L$1","v":0},{"$f":"'Absorbance Data'!P3111-Calculations!M$1","v":0},{"$f":"'Absorbance Data'!Q3111-Calculations!N$1","v":0},{"$f":"'Absorbance Data'!R3111-Calculations!O$1","v":0},{"$f":"'Absorbance Data'!S3111-Calculations!P$1","v":0},{"$f":"'Absorbance Data'!T3111-Calculations!Q$1","v":0},{"$f":"'Absorbance Data'!U3111-Calculations!R$1","v":0},{"$f":"'Absorbance Data'!V3111-Calculations!S$1","v":0},{"$f":"'Absorbance Data'!W3111-Calculations!T$1","v":0},{"$f":"'Absorbance Data'!X3111-Calculations!U$1","v":0},{"$f":"'Absorbance Data'!Y3111-Calculations!V$1","v":0},{"$f":"'Absorbance Data'!Z3111-Calculations!W$1","v":0}]
[{"$f":"'Absorbance Data'!D3112","v":551.609130859375},{"$f":"'Absorbance Data'!E3112-Calculations!B$1","v":0},{"$f":"'Absorbance Data'!F3112-Calculations!C$1","v":0},{"$f":"'Absorbance Data'!G3112-Calculations!D$1","v":0},{"$f":"'Absorbance Data'!H3112-Calculations!E$1","v":0},{"$f":"'Absorbance Data'!I3112-Calculations!F$1","v":0},{"$f":"'Absorbance Data'!J3112-Calculations!G$1","v":0},{"$f":"'Absorbance Data'!K3112-Calculations!H$1","v":0},{"$f":"'Absorbance Data'!L3112-Calculations!I$1","v":0},{"$f":"'Absorbance Data'!M3112-Calculations!J$1","v":0},{"$f":"'Absorbance Data'!N3112-Calculations!K$1","v":0},{"$f":"'Absorbance Data'!O3112-Calculations!L$1","v":0},{"$f":"'Absorbance Data'!P3112-Calculations!M$1","v":0},{"$f":"'Absorbance Data'!Q3112-Calculations!N$1","v":0},{"$f":"'Absorbance Data'!R3112-Calculations!O$1","v":0},{"$f":"'Absorbance Data'!S3112-Calculations!P$1","v":0},{"$f":"'Absorbance Data'!T3112-Calculations!Q$1","v":0},{"$f":"'Absorbance Data'!U3112-Calculations!R$1","v":0},{"$f":"'Absorbance Data'!V3112-Calculations!S$1","v":0},{"$f":"'Absorbance Data'!W3112-Calculations!T$1","v":0},{"$f":"'Absorbance Data'!X3112-Calculations!U$1","v":0},{"$f":"'Absorbance Data'!Y3112-Calculations!V$1","v":0},{"$f":"'Absorbance Data'!Z3112-Calculations!W$1","v":0}]
[{"$f":"'Absorbance Data'!D3113","v":551.93560791015625},{"$f":"'Absorbance Data'!E3113-Calculations!B$1","v":0},{"$f":"'Absorbance Data'!F3113-Calculations!C$1","v":0},{"$f":"'Absorbance Data'!G3113-Calculations!D$1","v":0},{"$f":"'Absorbance Data'!H3113-Calculations!E$1","v":0},{"$f":"'Absorbance Data'!I3113-Calculations!F$1","v":0},{"$f":"'Absorbance Data'!J3113-Calculations!G$1","v":0},{"$f":"'Absorbance Data'!K3113-Calculations!H$1","v":0},{"$f":"'Absorbance Data'!L3113-Calculations!I$1","v":0},{"$f":"'Absorbance Data'!M3113-Calculations!J$1","v":0},{"$f":"'Absorbance Data'!N3113-Calculations!K$1","v":0},{"$f":"'Absorbance Data'!O3113-Calculations!L$1","v":0},{"$f":"'Absorbance Data'!P3113-Calculations!M$1","v":0},{"$f":"'Absorbance Data'!Q3113-Calculations!N$1","v":0},{"$f":"'Absorbance Data'!R3113-Calculations!O$1","v":0},{"$f":"'Absorbance Data'!S3113-Calculations!P$1","v":0},{"$f":"'Absorbance Data'!T3113-Calculations!Q$1","v":0},{"$f":"'Absorbance Data'!U3113-Calculations!R$1","v":0},{"$f":"'Absorbance Data'!V3113-Calculations!S$1","v":0},{"$f":"'Absorbance Data'!W3113-Calculations!T$1","v":0},{"$f":"'Absorbance Data'!X3113-Calculations!U$1","v":0},{"$f":"'Absorbance Data'!Y3113-Calculations!V$1","v":0},{"$f":"'Absorbance Data'!Z3113-Calculations!W$1","v":0}]
[{"$f":"'Absorbance Data'!D3114","v":552.261962890625},{"$f":"'Absorbance Data'!E3114-Calculations!B$1","v":0},{"$f":"'Absorbance Data'!F3114-Calculations!C$1","v":0},{"$f":"'Absorbance Data'!G3114-Calculations!D$1","v":0},{"$f":"'Absorbance Data'!H3114-Calculations!E$1","v":0},{"$f":"'Absorbance Data'!I3114-Calculations!F$1","v":0},{"$f":"'Absorbance Data'!J3114-Calculations!G$1","v":0},{"$f":"'Absorbance Data'!K3114-Calculations!H$1","v":0},{"$f":"'Absorbance Data'!L3114-Calculations!I$1","v":0},{"$f":"'Absorbance Data'!M3114-Calculations!J$1","v":0},{"$f":"'Absorbance Data'!N3114-Calculations!K$1","v":0},{"$f":"'Absorbance Data'!O3114-Calculations!L$1","v":0},{"$f":"'Absorbance Data'!P3114-Calculations!M$1","v":0},{"$f":"'Absorbance Data'!Q3114-Calculations!N$1","v":0},{"$f":"'Absorbance Data'!R3114-Calculations!O$1","v":0},{"$f":"'Absorbance Data'!S3114-Calculations!P$1","v":0},{"$f":"'Absorbance Data'!T3114-Calculations!Q$1","v":0},{"$f":"'Absorbance Data'!U3114-Calculations!R$1","v":0},{"$f":"'Absorbance Data'!V3114-Calculations!S$1","v":0},{"$f":"'Absorbance Data'!W3114-Calculations!T$1","v":0},{"$f":"'Absorbance Data'!X3114-Calculations!U$1","v":0},{"$f":"'Absorbance Data'!Y3114-Calculations!V$1","v":0},{"$f":"'Absorbance Data'!Z3114-Calculations!W$1","v":0}]
[{"$f":"'Absorbance Data'!D3115","v":552.58837890625},{"$f":"'Absorbance Data'!E3115-Calculations!B$1","v":0},{"$f":"'Absorbance Data'!F3115-Calculations!C$1","v":0},{"$f":"'Absorbance Data'!G3115-Calculations!D$1","v":0},{"$f":"'Absorbance Data'!H3115-Calculations!E$1","v":0},{"$f":"'Absorbance Data'!I3115-Calculations!F$1","v":0},{"$f":"'Absorbance Data'!J3115-Calculations!G$1","v":0},{"$f":"'Absorbance Data'!K3115-Calculations!H$1","v":0},{"$f":"'Absorbance Data'!L3115-Calculations!I$1","v":0},{"$f":"'Absorbance Data'!M3115-Calculations!J$1","v":0},{"$f":"'Absorbance Data'!N3115-Calculations!K$1","v":0},{"$f":"'Absorbance Data'!O3115-Calculations!L$1","v":0},{"$f":"'Absorbance Data'!P3115-Calculations!M$1","v":0},{"$f":"'Absorbance Data'!Q3115-Calculations!N$1","v":0},{"$f":"'Absorbance Data'!R3115-Calculations!O$1","v":0},{"$f":"'Absorbance Data'!S3115-Calculations!P$1","v":0},{"$f":"'Absorbance Data'!T3115-Calculations!Q$1","v":0},{"$f":"'Absorbance Data'!U3115-Calculations!R$1","v":0},{"$f":"'Absorbance Data'!V3115-Calculations!S$1","v":0},{"$f":"'Absorbance Data'!W3115-Calculations!T$1","v":0},{"$f":"'Absorbance Data'!X3115-Calculations!U$1","v":0},{"$f":"'Absorbance Data'!Y3115-Calculations!V$1","v":0},{"$f":"'Absorbance Data'!Z3115-Calculations!W$1","v":0}]
[{"$f":"'Absorbance Data'!D3116","v":552.9146728515625},{"$f":"'Absorbance Data'!E3116-Calculations!B$1","v":0},{"$f":"'Absorbance Data'!F3116-Calculations!C$1","v":0},{"$f":"'Absorbance Data'!G3116-Calculations!D$1","v":0},{"$f":"'Absorbance Data'!H3116-Calculations!E$1","v":0},{"$f":"'Absorbance Data'!I3116-Calculations!F$1","v":0},{"$f":"'Absorbance Data'!J3116-Calculations!G$1","v":0},{"$f":"'Absorbance Data'!K3116-Calculations!H$1","v":0},{"$f":"'Absorbance Data'!L3116-Calculations!I$1","v":0},{"$f":"'Absorbance Data'!M3116-Calculations!J$1","v":0},{"$f":"'Absorbance Data'!N3116-Calculations!K$1","v":0},{"$f":"'Absorbance Data'!O3116-Calculations!L$1","v":0},{"$f":"'Absorbance Data'!P3116-Calculations!M$1","v":0},{"$f":"'Absorbance Data'!Q3116-Calculations!N$1","v":0},{"$f":"'Absorbance Data'!R3116-Calculations!O$1","v":0},{"$f":"'Absorbance Data'!S3116-Calculations!P$1","v":0},{"$f":"'Absorbance Data'!T3116-Calculations!Q$1","v":0},{"$f":"'Absorbance Data'!U3116-Calculations!R$1","v":0},{"$f":"'Absorbance Data'!V3116-Calculations!S$1","v":0},{"$f":"'Absorbance Data'!W3116-Calculations!T$1","v":0},{"$f":"'Absorbance Data'!X3116-Calculations!U$1","v":0},{"$f":"'Absorbance Data'!Y3116-Calculations!V$1","v":0},{"$f":"'Absorbance Data'!Z3116-Calculations!W$1","v":0}]
[{"$f":"'Absorbance Data'!D3117","v":553.240966796875},{"$f":"'Absorbance Data'!E3117-Calculations!B$1","v":0},{"$f":"'Absorbance Data'!F3117-Calculations!C$1","v":0},{"$f":"'Absorbance Data'!G3117-Calculations!D$1","v":0},{"$f":"'Absorbance Data'!H3117-Calculations!E$1","v":0},{"$f":"'Absorbance Data'!I3117-Calculations!F$1","v":0},{"$f":"'Absorbance Data'!J3117-Calculations!G$1","v":0},{"$f":"'Absorbance Data'!K3117-Calculations!H$1","v":0},{"$f":"'Absorbance Data'!L3117-Calculations!I$1","v":0},{"$f":"'Absorbance Data'!M3117-Calculations!J$1","v":0},{"$f":"'Absorbance Data'!N3117-Calculations!K$1","v":0},{"$f":"'Absorbance Data'!O3117-Calculations!L$1","v":0},{"$f":"'Absorbance Data'!P3117-Calculations!M$1","v":0},{"$f":"'Absorbance Data'!Q3117-Calculations!N$1","v":0},{"$f":"'Absorbance Data'!R3117-Calculations!O$1","v":0},{"$f":"'Absorbance Data'!S3117-Calculations!P$1","v":0},{"$f":"'Absorbance Data'!T3117-Calculations!Q$1","v":0},{"$f":"'Absorbance Data'!U3117-Calculations!R$1","v":0},{"$f":"'Absorbance Data'!V3117-Calculations!S$1","v":0},{"$f":"'Absorbance Data'!W3117-Calculations!T$1","v":0},{"$f":"'Absorbance Data'!X3117-Calculations!U$1","v":0},{"$f":"'Absorbance Data'!Y3117-Calculations!V$1","v":0},{"$f":"'Absorbance Data'!Z3117-Calculations!W$1","v":0}]
[{"$f":"'Absorbance Data'!D3118","v":553.567138671875},{"$f":"'Absorbance Data'!E3118-Calculations!B$1","v":0},{"$f":"'Absorbance Data'!F3118-Calculations!C$1","v":0},{"$f":"'Absorbance Data'!G3118-Calculations!D$1","v":0},{"$f":"'Absorbance Data'!H3118-Calculations!E$1","v":0},{"$f":"'Absorbance Data'!I3118-Calculations!F$1","v":0},{"$f":"'Absorbance Data'!J3118-Calculations!G$1","v":0},{"$f":"'Absorbance Data'!K3118-Calculations!H$1","v":0},{"$f":"'Absorbance Data'!L3118-Calculations!I$1","v":0},{"$f":"'Absorbance Data'!M3118-Calculations!J$1","v":0},{"$f":"'Absorbance Data'!N3118-Calculations!K$1","v":0},{"$f":"'Absorbance Data'!O3118-Calculations!L$1","v":0},{"$f":"'Absorbance Data'!P3118-Calculations!M$1","v":0},{"$f":"'Absorbance Data'!Q3118-Calculations!N$1","v":0},{"$f":"'Absorbance Data'!R3118-Calculations!O$1","v":0},{"$f":"'Absorbance Data'!S3118-Calculations!P$1","v":0},{"$f":"'Absorbance Data'!T3118-Calculations!Q$1","v":0},{"$f":"'Absorbance Data'!U3118-Calculations!R$1","v":0},{"$f":"'Absorbance Data'!V3118-Calculations!S$1","v":0},{"$f":"'Absorbance Data'!W3118-Calculations!T$1","v":0},{"$f":"'Absorbance Data'!X3118-Calculations!U$1","v":0},{"$f":"'Absorbance Data'!Y3118-Calculations!V$1","v":0},{"$f":"'Absorbance Data'!Z3118-Calculations!W$1","v":0}]
[{"$f":"'Absorbance Data'!D3119","v":553.89337158203125},{"$f":"'Absorbance Data'!E3119-Calculations!B$1","v":0},{"$f":"'Absorbance Data'!F3119-Calculations!C$1","v":0},{"$f":"'Absorbance Data'!G3119-Calculations!D$1","v":0},{"$f":"'Absorbance Data'!H3119-Calculations!E$1","v":0},{"$f":"'Absorbance Data'!I3119-Calculations!F$1","v":0},{"$f":"'Absorbance Data'!J3119-Calculations!G$1","v":0},{"$f":"'Absorbance Data'!K3119-Calculations!H$1","v":0},{"$f":"'Absorbance Data'!L3119-Calculations!I$1","v":0},{"$f":"'Absorbance Data'!M3119-Calculations!J$1","v":0},{"$f":"'Absorbance Data'!N3119-Calculations!K$1","v":0},{"$f":"'Absorbance Data'!O3119-Calculations!L$1","v":0},{"$f":"'Absorbance Data'!P3119-Calculations!M$1","v":0},{"$f":"'Absorbance Data'!Q3119-Calculations!N$1","v":0},{"$f":"'Absorbance Data'!R3119-Calculations!O$1","v":0},{"$f":"'Absorbance Data'!S3119-Calculations!P$1","v":0},{"$f":"'Absorbance Data'!T3119-Calculations!Q$1","v":0},{"$f":"'Absorbance Data'!U3119-Calculations!R$1","v":0},{"$f":"'Absorbance Data'!V3119-Calculations!S$1","v":0},{"$f":"'Absorbance Data'!W3119-Calculations!T$1","v":0},{"$f":"'Absorbance Data'!X3119-Calculations!U$1","v":0},{"$f":"'Absorbance Data'!Y3119-Calculations!V$1","v":0},{"$f":"'Absorbance Data'!Z3119-Calculations!W$1","v":0}]
[{"$f":"'Absorbance Data'!D3120","v":554.2196044921875},{"$f":"'Absorbance Data'!E3120-Calculations!B$1","v":0},{"$f":"'Absorbance Data'!F3120-Calculations!C$1","v":0},{"$f":"'Absorbance Data'!G3120-Calculations!D$1","v":0},{"$f":"'Absorbance Data'!H3120-Calculations!E$1","v":0},{"$f":"'Absorbance Data'!I3120-Calculations!F$1","v":0},{"$f":"'Absorbance Data'!J3120-Calculations!G$1","v":0},{"$f":"'Absorbance Data'!K3120-Calculations!H$1","v":0},{"$f":"'Absorbance Data'!L3120-Calculations!I$1","v":0},{"$f":"'Absorbance Data'!M3120-Calculations!J$1","v":0},{"$f":"'Absorbance Data'!N3120-Calculations!K$1","v":0},{"$f":"'Absorbance Data'!O3120-Calculations!L$1","v":0},{"$f":"'Absorbance Data'!P3120-Calculations!M$1","v":0},{"$f":"'Absorbance Data'!Q3120-Calculations!N$1","v":0},{"$f":"'Absorbance Data'!R3120-Calculations!O$1","v":0},{"$f":"'Absorbance Data'!S3120-Calculations!P$1","v":0},{"$f":"'Absorbance Data'!T3120-Calculations!Q$1","v":0},{"$f":"'Absorbance Data'!U3120-Calculations!R$1","v":0},{"$f":"'Absorbance Data'!V3120-Calculations!S$1","v":0},{"$f":"'Absorbance Data'!W3120-Calculations!T$1","v":0},{"$f":"'Absorbance Data'!X3120-Calculations!U$1","v":0},{"$f":"'Absorbance Data'!Y3120-Calculations!V$1","v":0},{"$f":"'Absorbance Data'!Z3120-Calculations!W$1","v":0}]
[{"$f":"'Absorbance Data'!D3121","v":554.545654296875},{"$f":"'Absorbance Data'!E3121-Calculations!B$1","v":0},{"$f":"'Absorbance Data'!F3121-Calculations!C$1","v":0},{"$f":"'Absorbance Data'!G3121-Calculations!D$1","v":0},{"$f":"'Absorbance Data'!H3121-Calculations!E$1","v":0},{"$f":"'Absorbance Data'!I3121-Calculations!F$1","v":0},{"$f":"'Absorbance Data'!J3121-Calculations!G$1","v":0},{"$f":"'Absorbance Data'!K3121-Calculations!H$1","v":0},{"$f":"'Absorbance Data'!L3121-Calculations!I$1","v":0},{"$f":"'Absorbance Data'!M3121-Calculations!J$1","v":0},{"$f":"'Absorbance Data'!N3121-Calculations!K$1","v":0},{"$f":"'Absorbance Data'!O3121-Calculations!L$1","v":0},{"$f":"'Absorbance Data'!P3121-Calculations!M$1","v":0},{"$f":"'Absorbance Data'!Q3121-Calculations!N$1","v":0},{"$f":"'Absorbance Data'!R3121-Calculations!O$1","v":0},{"$f":"'Absorbance Data'!S3121-Calculations!P$1","v":0},{"$f":"'Absorbance Data'!T3121-Calculations!Q$1","v":0},{"$f":"'Absorbance Data'!U3121-Calculations!R$1","v":0},{"$f":"'Absorbance Data'!V3121-Calculations!S$1","v":0},{"$f":"'Absorbance Data'!W3121-Calculations!T$1","v":0},{"$f":"'Absorbance Data'!X3121-Calculations!U$1","v":0},{"$f":"'Absorbance Data'!Y3121-Calculations!V$1","v":0},{"$f":"'Absorbance Data'!Z3121-Calculations!W$1","v":0}]
[{"$f":"'Absorbance Data'!D3122","v":554.87176513671875},{"$f":"'Absorbance Data'!E3122-Calculations!B$1","v":0},{"$f":"'Absorbance Data'!F3122-Calculations!C$1","v":0},{"$f":"'Absorbance Data'!G3122-Calculations!D$1","v":0},{"$f":"'Absorbance Data'!H3122-Calculations!E$1","v":0},{"$f":"'Absorbance Data'!I3122-Calculations!F$1","v":0},{"$f":"'Absorbance Data'!J3122-Calculations!G$1","v":0},{"$f":"'Absorbance Data'!K3122-Calculations!H$1","v":0},{"$f":"'Absorbance Data'!L3122-Calculations!I$1","v":0},{"$f":"'Absorbance Data'!M3122-Calculations!J$1","v":0},{"$f":"'Absorbance Data'!N3122-Calculations!K$1","v":0},{"$f":"'Absorbance Data'!O3122-Calculations!L$1","v":0},{"$f":"'Absorbance Data'!P3122-Calculations!M$1","v":0},{"$f":"'Absorbance Data'!Q3122-Calculations!N$1","v":0},{"$f":"'Absorbance Data'!R3122-Calculations!O$1","v":0},{"$f":"'Absorbance Data'!S3122-Calculations!P$1","v":0},{"$f":"'Absorbance Data'!T3122-Calculations!Q$1","v":0},{"$f":"'Absorbance Data'!U3122-Calculations!R$1","v":0},{"$f":"'Absorbance Data'!V3122-Calculations!S$1","v":0},{"$f":"'Absorbance Data'!W3122-Calculations!T$1","v":0},{"$f":"'Absorbance Data'!X3122-Calculations!U$1","v":0},{"$f":"'Absorbance Data'!Y3122-Calculations!V$1","v":0},{"$f":"'Absorbance Data'!Z3122-Calculations!W$1","v":0}]
[{"$f":"'Absorbance Data'!D3123","v":555.19781494140625},{"$f":"'Absorbance Data'!E3123-Calculations!B$1","v":0},{"$f":"'Absorbance Data'!F3123-Calculations!C$1","v":0},{"$f":"'Absorbance Data'!G3123-Calculations!D$1","v":0},{"$f":"'Absorbance Data'!H3123-Calculations!E$1","v":0},{"$f":"'Absorbance Data'!I3123-Calculations!F$1","v":0},{"$f":"'Absorbance Data'!J3123-Calculations!G$1","v":0},{"$f":"'Absorbance Data'!K3123-Calculations!H$1","v":0},{"$f":"'Absorbance Data'!L3123-Calculations!I$1","v":0},{"$f":"'Absorbance Data'!M3123-Calculations!J$1","v":0},{"$f":"'Absorbance Data'!N3123-Calculations!K$1","v":0},{"$f":"'Absorbance Data'!O3123-Calculations!L$1","v":0},{"$f":"'Absorbance Data'!P3123-Calculations!M$1","v":0},{"$f":"'Absorbance Data'!Q3123-Calculations!N$1","v":0},{"$f":"'Absorbance Data'!R3123-Calculations!O$1","v":0},{"$f":"'Absorbance Data'!S3123-Calculations!P$1","v":0},{"$f":"'Absorbance Data'!T3123-Calculations!Q$1","v":0},{"$f":"'Absorbance Data'!U3123-Calculations!R$1","v":0},{"$f":"'Absorbance Data'!V3123-Calculations!S$1","v":0},{"$f":"'Absorbance Data'!W3123-Calculations!T$1","v":0},{"$f":"'Absorbance Data'!X3123-Calculations!U$1","v":0},{"$f":"'Absorbance Data'!Y3123-Calculations!V$1","v":0},{"$f":"'Absorbance Data'!Z3123-Calculations!W$1","v":0}]
[{"$f":"'Absorbance Data'!D3124","v":555.52386474609375},{"$f":"'Absorbance Data'!E3124-Calculations!B$1","v":0},{"$f":"'Absorbance Data'!F3124-Calculations!C$1","v":0},{"$f":"'Absorbance Data'!G3124-Calculations!D$1","v":0},{"$f":"'Absorbance Data'!H3124-Calculations!E$1","v":0},{"$f":"'Absorbance Data'!I3124-Calculations!F$1","v":0},{"$f":"'Absorbance Data'!J3124-Calculations!G$1","v":0},{"$f":"'Absorbance Data'!K3124-Calculations!H$1","v":0},{"$f":"'Absorbance Data'!L3124-Calculations!I$1","v":0},{"$f":"'Absorbance Data'!M3124-Calculations!J$1","v":0},{"$f":"'Absorbance Data'!N3124-Calculations!K$1","v":0},{"$f":"'Absorbance Data'!O3124-Calculations!L$1","v":0},{"$f":"'Absorbance Data'!P3124-Calculations!M$1","v":0},{"$f":"'Absorbance Data'!Q3124-Calculations!N$1","v":0},{"$f":"'Absorbance Data'!R3124-Calculations!O$1","v":0},{"$f":"'Absorbance Data'!S3124-Calculations!P$1","v":0},{"$f":"'Absorbance Data'!T3124-Calculations!Q$1","v":0},{"$f":"'Absorbance Data'!U3124-Calculations!R$1","v":0},{"$f":"'Absorbance Data'!V3124-Calculations!S$1","v":0},{"$f":"'Absorbance Data'!W3124-Calculations!T$1","v":0},{"$f":"'Absorbance Data'!X3124-Calculations!U$1","v":0},{"$f":"'Absorbance Data'!Y3124-Calculations!V$1","v":0},{"$f":"'Absorbance Data'!Z3124-Calculations!W$1","v":0}]
[{"$f":"'Absorbance Data'!D3125","v":555.849853515625},{"$f":"'Absorbance Data'!E3125-Calculations!B$1","v":0},{"$f":"'Absorbance Data'!F3125-Calculations!C$1","v":0},{"$f":"'Absorbance Data'!G3125-Calculations!D$1","v":0},{"$f":"'Absorbance Data'!H3125-Calculations!E$1","v":0},{"$f":"'Absorbance Data'!I3125-Calculations!F$1","v":0},{"$f":"'Absorbance Data'!J3125-Calculations!G$1","v":0},{"$f":"'Absorbance Data'!K3125-Calculations!H$1","v":0},{"$f":"'Absorbance Data'!L3125-Calculations!I$1","v":0},{"$f":"'Absorbance Data'!M3125-Calculations!J$1","v":0},{"$f":"'Absorbance Data'!N3125-Calculations!K$1","v":0},{"$f":"'Absorbance Data'!O3125-Calculations!L$1","v":0},{"$f":"'Absorbance Data'!P3125-Calculations!M$1","v":0},{"$f":"'Absorbance Data'!Q3125-Calculations!N$1","v":0},{"$f":"'Absorbance Data'!R3125-Calculations!O$1","v":0},{"$f":"'Absorbance Data'!S3125-Calculations!P$1","v":0},{"$f":"'Absorbance Data'!T3125-Calculations!Q$1","v":0},{"$f":"'Absorbance Data'!U3125-Calculations!R$1","v":0},{"$f":"'Absorbance Data'!V3125-Calculations!S$1","v":0},{"$f":"'Absorbance Data'!W3125-Calculations!T$1","v":0},{"$f":"'Absorbance Data'!X3125-Calculations!U$1","v":0},{"$f":"'Absorbance Data'!Y3125-Calculations!V$1","v":0},{"$f":"'Absorbance Data'!Z3125-Calculations!W$1","v":0}]
[{"$f":"'Absorbance Data'!D3126","v":556.17572021484375},{"$f":"'Absorbance Data'!E3126-Calculations!B$1","v":0},{"$f":"'Absorbance Data'!F3126-Calculations!C$1","v":0},{"$f":"'Absorbance Data'!G3126-Calculations!D$1","v":0},{"$f":"'Absorbance Data'!H3126-Calculations!E$1","v":0},{"$f":"'Absorbance Data'!I3126-Calculations!F$1","v":0},{"$f":"'Absorbance Data'!J3126-Calculations!G$1","v":0},{"$f":"'Absorbance Data'!K3126-Calculations!H$1","v":0},{"$f":"'Absorbance Data'!L3126-Calculations!I$1","v":0},{"$f":"'Absorbance Data'!M3126-Calculations!J$1","v":0},{"$f":"'Absorbance Data'!N3126-Calculations!K$1","v":0},{"$f":"'Absorbance Data'!O3126-Calculations!L$1","v":0},{"$f":"'Absorbance Data'!P3126-Calculations!M$1","v":0},{"$f":"'Absorbance Data'!Q3126-Calculations!N$1","v":0},{"$f":"'Absorbance Data'!R3126-Calculations!O$1","v":0},{"$f":"'Absorbance Data'!S3126-Calculations!P$1","v":0},{"$f":"'Absorbance Data'!T3126-Calculations!Q$1","v":0},{"$f":"'Absorbance Data'!U3126-Calculations!R$1","v":0},{"$f":"'Absorbance Data'!V3126-Calculations!S$1","v":0},{"$f":"'Absorbance Data'!W3126-Calculations!T$1","v":0},{"$f":"'Absorbance Data'!X3126-Calculations!U$1","v":0},{"$f":"'Absorbance Data'!Y3126-Calculations!V$1","v":0},{"$f":"'Absorbance Data'!Z3126-Calculations!W$1","v":0}]
[{"$f":"'Absorbance Data'!D3127","v":556.5015869140625},{"$f":"'Absorbance Data'!E3127-Calculations!B$1","v":0},{"$f":"'Absorbance Data'!F3127-Calculations!C$1","v":0},{"$f":"'Absorbance Data'!G3127-Calculations!D$1","v":0},{"$f":"'Absorbance Data'!H3127-Calculations!E$1","v":0},{"$f":"'Absorbance Data'!I3127-Calculations!F$1","v":0},{"$f":"'Absorbance Data'!J3127-Calculations!G$1","v":0},{"$f":"'Absorbance Data'!K3127-Calculations!H$1","v":0},{"$f":"'Absorbance Data'!L3127-Calculations!I$1","v":0},{"$f":"'Absorbance Data'!M3127-Calculations!J$1","v":0},{"$f":"'Absorbance Data'!N3127-Calculations!K$1","v":0},{"$f":"'Absorbance Data'!O3127-Calculations!L$1","v":0},{"$f":"'Absorbance Data'!P3127-Calculations!M$1","v":0},{"$f":"'Absorbance Data'!Q3127-Calculations!N$1","v":0},{"$f":"'Absorbance Data'!R3127-Calculations!O$1","v":0},{"$f":"'Absorbance Data'!S3127-Calculations!P$1","v":0},{"$f":"'Absorbance Data'!T3127-Calculations!Q$1","v":0},{"$f":"'Absorbance Data'!U3127-Calculations!R$1","v":0},{"$f":"'Absorbance Data'!V3127-Calculations!S$1","v":0},{"$f":"'Absorbance Data'!W3127-Calculations!T$1","v":0},{"$f":"'Absorbance Data'!X3127-Calculations!U$1","v":0},{"$f":"'Absorbance Data'!Y3127-Calculations!V$1","v":0},{"$f":"'Absorbance Data'!Z3127-Calculations!W$1","v":0}]
[{"$f":"'Absorbance Data'!D3128","v":556.8275146484375},{"$f":"'Absorbance Data'!E3128-Calculations!B$1","v":0},{"$f":"'Absorbance Data'!F3128-Calculations!C$1","v":0},{"$f":"'Absorbance Data'!G3128-Calculations!D$1","v":0},{"$f":"'Absorbance Data'!H3128-Calculations!E$1","v":0},{"$f":"'Absorbance Data'!I3128-Calculations!F$1","v":0},{"$f":"'Absorbance Data'!J3128-Calculations!G$1","v":0},{"$f":"'Absorbance Data'!K3128-Calculations!H$1","v":0},{"$f":"'Absorbance Data'!L3128-Calculations!I$1","v":0},{"$f":"'Absorbance Data'!M3128-Calculations!J$1","v":0},{"$f":"'Absorbance Data'!N3128-Calculations!K$1","v":0},{"$f":"'Absorbance Data'!O3128-Calculations!L$1","v":0},{"$f":"'Absorbance Data'!P3128-Calculations!M$1","v":0},{"$f":"'Absorbance Data'!Q3128-Calculations!N$1","v":0},{"$f":"'Absorbance Data'!R3128-Calculations!O$1","v":0},{"$f":"'Absorbance Data'!S3128-Calculations!P$1","v":0},{"$f":"'Absorbance Data'!T3128-Calculations!Q$1","v":0},{"$f":"'Absorbance Data'!U3128-Calculations!R$1","v":0},{"$f":"'Absorbance Data'!V3128-Calculations!S$1","v":0},{"$f":"'Absorbance Data'!W3128-Calculations!T$1","v":0},{"$f":"'Absorbance Data'!X3128-Calculations!U$1","v":0},{"$f":"'Absorbance Data'!Y3128-Calculations!V$1","v":0},{"$f":"'Absorbance Data'!Z3128-Calculations!W$1","v":0}]
[{"$f":"'Absorbance Data'!D3129","v":557.1533203125},{"$f":"'Absorbance Data'!E3129-Calculations!B$1","v":0},{"$f":"'Absorbance Data'!F3129-Calculations!C$1","v":0},{"$f":"'Absorbance Data'!G3129-Calculations!D$1","v":0},{"$f":"'Absorbance Data'!H3129-Calculations!E$1","v":0},{"$f":"'Absorbance Data'!I3129-Calculations!F$1","v":0},{"$f":"'Absorbance Data'!J3129-Calculations!G$1","v":0},{"$f":"'Absorbance Data'!K3129-Calculations!H$1","v":0},{"$f":"'Absorbance Data'!L3129-Calculations!I$1","v":0},{"$f":"'Absorbance Data'!M3129-Calculations!J$1","v":0},{"$f":"'Absorbance Data'!N3129-Calculations!K$1","v":0},{"$f":"'Absorbance Data'!O3129-Calculations!L$1","v":0},{"$f":"'Absorbance Data'!P3129-Calculations!M$1","v":0},{"$f":"'Absorbance Data'!Q3129-Calculations!N$1","v":0},{"$f":"'Absorbance Data'!R3129-Calculations!O$1","v":0},{"$f":"'Absorbance Data'!S3129-Calculations!P$1","v":0},{"$f":"'Absorbance Data'!T3129-Calculations!Q$1","v":0},{"$f":"'Absorbance Data'!U3129-Calculations!R$1","v":0},{"$f":"'Absorbance Data'!V3129-Calculations!S$1","v":0},{"$f":"'Absorbance Data'!W3129-Calculations!T$1","v":0},{"$f":"'Absorbance Data'!X3129-Calculations!U$1","v":0},{"$f":"'Absorbance Data'!Y3129-Calculations!V$1","v":0},{"$f":"'Absorbance Data'!Z3129-Calculations!W$1","v":0}]
[{"$f":"'Absorbance Data'!D3130","v":557.47906494140625},{"$f":"'Absorbance Data'!E3130-Calculations!B$1","v":0},{"$f":"'Absorbance Data'!F3130-Calculations!C$1","v":0},{"$f":"'Absorbance Data'!G3130-Calculations!D$1","v":0},{"$f":"'Absorbance Data'!H3130-Calculations!E$1","v":0},{"$f":"'Absorbance Data'!I3130-Calculations!F$1","v":0},{"$f":"'Absorbance Data'!J3130-Calculations!G$1","v":0},{"$f":"'Absorbance Data'!K3130-Calculations!H$1","v":0},{"$f":"'Absorbance Data'!L3130-Calculations!I$1","v":0},{"$f":"'Absorbance Data'!M3130-Calculations!J$1","v":0},{"$f":"'Absorbance Data'!N3130-Calculations!K$1","v":0},{"$f":"'Absorbance Data'!O3130-Calculations!L$1","v":0},{"$f":"'Absorbance Data'!P3130-Calculations!M$1","v":0},{"$f":"'Absorbance Data'!Q3130-Calculations!N$1","v":0},{"$f":"'Absorbance Data'!R3130-Calculations!O$1","v":0},{"$f":"'Absorbance Data'!S3130-Calculations!P$1","v":0},{"$f":"'Absorbance Data'!T3130-Calculations!Q$1","v":0},{"$f":"'Absorbance Data'!U3130-Calculations!R$1","v":0},{"$f":"'Absorbance Data'!V3130-Calculations!S$1","v":0},{"$f":"'Absorbance Data'!W3130-Calculations!T$1","v":0},{"$f":"'Absorbance Data'!X3130-Calculations!U$1","v":0},{"$f":"'Absorbance Data'!Y3130-Calculations!V$1","v":0},{"$f":"'Absorbance Data'!Z3130-Calculations!W$1","v":0}]
[{"$f":"'Absorbance Data'!D3131","v":557.8048095703125},{"$f":"'Absorbance Data'!E3131-Calculations!B$1","v":0},{"$f":"'Absorbance Data'!F3131-Calculations!C$1","v":0},{"$f":"'Absorbance Data'!G3131-Calculations!D$1","v":0},{"$f":"'Absorbance Data'!H3131-Calculations!E$1","v":0},{"$f":"'Absorbance Data'!I3131-Calculations!F$1","v":0},{"$f":"'Absorbance Data'!J3131-Calculations!G$1","v":0},{"$f":"'Absorbance Data'!K3131-Calculations!H$1","v":0},{"$f":"'Absorbance Data'!L3131-Calculations!I$1","v":0},{"$f":"'Absorbance Data'!M3131-Calculations!J$1","v":0},{"$f":"'Absorbance Data'!N3131-Calculations!K$1","v":0},{"$f":"'Absorbance Data'!O3131-Calculations!L$1","v":0},{"$f":"'Absorbance Data'!P3131-Calculations!M$1","v":0},{"$f":"'Absorbance Data'!Q3131-Calculations!N$1","v":0},{"$f":"'Absorbance Data'!R3131-Calculations!O$1","v":0},{"$f":"'Absorbance Data'!S3131-Calculations!P$1","v":0},{"$f":"'Absorbance Data'!T3131-Calculations!Q$1","v":0},{"$f":"'Absorbance Data'!U3131-Calculations!R$1","v":0},{"$f":"'Absorbance Data'!V3131-Calculations!S$1","v":0},{"$f":"'Absorbance Data'!W3131-Calculations!T$1","v":0},{"$f":"'Absorbance Data'!X3131-Calculations!U$1","v":0},{"$f":"'Absorbance Data'!Y3131-Calculations!V$1","v":0},{"$f":"'Absorbance Data'!Z3131-Calculations!W$1","v":0}]
[{"$f":"'Absorbance Data'!D3132","v":558.13055419921875},{"$f":"'Absorbance Data'!E3132-Calculations!B$1","v":0},{"$f":"'Absorbance Data'!F3132-Calculations!C$1","v":0},{"$f":"'Absorbance Data'!G3132-Calculations!D$1","v":0},{"$f":"'Absorbance Data'!H3132-Calculations!E$1","v":0},{"$f":"'Absorbance Data'!I3132-Calculations!F$1","v":0},{"$f":"'Absorbance Data'!J3132-Calculations!G$1","v":0},{"$f":"'Absorbance Data'!K3132-Calculations!H$1","v":0},{"$f":"'Absorbance Data'!L3132-Calculations!I$1","v":0},{"$f":"'Absorbance Data'!M3132-Calculations!J$1","v":0},{"$f":"'Absorbance Data'!N3132-Calculations!K$1","v":0},{"$f":"'Absorbance Data'!O3132-Calculations!L$1","v":0},{"$f":"'Absorbance Data'!P3132-Calculations!M$1","v":0},{"$f":"'Absorbance Data'!Q3132-Calculations!N$1","v":0},{"$f":"'Absorbance Data'!R3132-Calculations!O$1","v":0},{"$f":"'Absorbance Data'!S3132-Calculations!P$1","v":0},{"$f":"'Absorbance Data'!T3132-Calculations!Q$1","v":0},{"$f":"'Absorbance Data'!U3132-Calculations!R$1","v":0},{"$f":"'Absorbance Data'!V3132-Calculations!S$1","v":0},{"$f":"'Absorbance Data'!W3132-Calculations!T$1","v":0},{"$f":"'Absorbance Data'!X3132-Calculations!U$1","v":0},{"$f":"'Absorbance Data'!Y3132-Calculations!V$1","v":0},{"$f":"'Absorbance Data'!Z3132-Calculations!W$1","v":0}]
[{"$f":"'Absorbance Data'!D3133","v":558.45623779296875},{"$f":"'Absorbance Data'!E3133-Calculations!B$1","v":0},{"$f":"'Absorbance Data'!F3133-Calculations!C$1","v":0},{"$f":"'Absorbance Data'!G3133-Calculations!D$1","v":0},{"$f":"'Absorbance Data'!H3133-Calculations!E$1","v":0},{"$f":"'Absorbance Data'!I3133-Calculations!F$1","v":0},{"$f":"'Absorbance Data'!J3133-Calculations!G$1","v":0},{"$f":"'Absorbance Data'!K3133-Calculations!H$1","v":0},{"$f":"'Absorbance Data'!L3133-Calculations!I$1","v":0},{"$f":"'Absorbance Data'!M3133-Calculations!J$1","v":0},{"$f":"'Absorbance Data'!N3133-Calculations!K$1","v":0},{"$f":"'Absorbance Data'!O3133-Calculations!L$1","v":0},{"$f":"'Absorbance Data'!P3133-Calculations!M$1","v":0},{"$f":"'Absorbance Data'!Q3133-Calculations!N$1","v":0},{"$f":"'Absorbance Data'!R3133-Calculations!O$1","v":0},{"$f":"'Absorbance Data'!S3133-Calculations!P$1","v":0},{"$f":"'Absorbance Data'!T3133-Calculations!Q$1","v":0},{"$f":"'Absorbance Data'!U3133-Calculations!R$1","v":0},{"$f":"'Absorbance Data'!V3133-Calculations!S$1","v":0},{"$f":"'Absorbance Data'!W3133-Calculations!T$1","v":0},{"$f":"'Absorbance Data'!X3133-Calculations!U$1","v":0},{"$f":"'Absorbance Data'!Y3133-Calculations!V$1","v":0},{"$f":"'Absorbance Data'!Z3133-Calculations!W$1","v":0}]
[{"$f":"'Absorbance Data'!D3134","v":558.7818603515625},{"$f":"'Absorbance Data'!E3134-Calculations!B$1","v":0},{"$f":"'Absorbance Data'!F3134-Calculations!C$1","v":0},{"$f":"'Absorbance Data'!G3134-Calculations!D$1","v":0},{"$f":"'Absorbance Data'!H3134-Calculations!E$1","v":0},{"$f":"'Absorbance Data'!I3134-Calculations!F$1","v":0},{"$f":"'Absorbance Data'!J3134-Calculations!G$1","v":0},{"$f":"'Absorbance Data'!K3134-Calculations!H$1","v":0},{"$f":"'Absorbance Data'!L3134-Calculations!I$1","v":0},{"$f":"'Absorbance Data'!M3134-Calculations!J$1","v":0},{"$f":"'Absorbance Data'!N3134-Calculations!K$1","v":0},{"$f":"'Absorbance Data'!O3134-Calculations!L$1","v":0},{"$f":"'Absorbance Data'!P3134-Calculations!M$1","v":0},{"$f":"'Absorbance Data'!Q3134-Calculations!N$1","v":0},{"$f":"'Absorbance Data'!R3134-Calculations!O$1","v":0},{"$f":"'Absorbance Data'!S3134-Calculations!P$1","v":0},{"$f":"'Absorbance Data'!T3134-Calculations!Q$1","v":0},{"$f":"'Absorbance Data'!U3134-Calculations!R$1","v":0},{"$f":"'Absorbance Data'!V3134-Calculations!S$1","v":0},{"$f":"'Absorbance Data'!W3134-Calculations!T$1","v":0},{"$f":"'Absorbance Data'!X3134-Calculations!U$1","v":0},{"$f":"'Absorbance Data'!Y3134-Calculations!V$1","v":0},{"$f":"'Absorbance Data'!Z3134-Calculations!W$1","v":0}]
[{"$f":"'Absorbance Data'!D3135","v":559.107421875},{"$f":"'Absorbance Data'!E3135-Calculations!B$1","v":0},{"$f":"'Absorbance Data'!F3135-Calculations!C$1","v":0},{"$f":"'Absorbance Data'!G3135-Calculations!D$1","v":0},{"$f":"'Absorbance Data'!H3135-Calculations!E$1","v":0},{"$f":"'Absorbance Data'!I3135-Calculations!F$1","v":0},{"$f":"'Absorbance Data'!J3135-Calculations!G$1","v":0},{"$f":"'Absorbance Data'!K3135-Calculations!H$1","v":0},{"$f":"'Absorbance Data'!L3135-Calculations!I$1","v":0},{"$f":"'Absorbance Data'!M3135-Calculations!J$1","v":0},{"$f":"'Absorbance Data'!N3135-Calculations!K$1","v":0},{"$f":"'Absorbance Data'!O3135-Calculations!L$1","v":0},{"$f":"'Absorbance Data'!P3135-Calculations!M$1","v":0},{"$f":"'Absorbance Data'!Q3135-Calculations!N$1","v":0},{"$f":"'Absorbance Data'!R3135-Calculations!O$1","v":0},{"$f":"'Absorbance Data'!S3135-Calculations!P$1","v":0},{"$f":"'Absorbance Data'!T3135-Calculations!Q$1","v":0},{"$f":"'Absorbance Data'!U3135-Calculations!R$1","v":0},{"$f":"'Absorbance Data'!V3135-Calculations!S$1","v":0},{"$f":"'Absorbance Data'!W3135-Calculations!T$1","v":0},{"$f":"'Absorbance Data'!X3135-Calculations!U$1","v":0},{"$f":"'Absorbance Data'!Y3135-Calculations!V$1","v":0},{"$f":"'Absorbance Data'!Z3135-Calculations!W$1","v":0}]
[{"$f":"'Absorbance Data'!D3136","v":559.4329833984375},{"$f":"'Absorbance Data'!E3136-Calculations!B$1","v":0},{"$f":"'Absorbance Data'!F3136-Calculations!C$1","v":0},{"$f":"'Absorbance Data'!G3136-Calculations!D$1","v":0},{"$f":"'Absorbance Data'!H3136-Calculations!E$1","v":0},{"$f":"'Absorbance Data'!I3136-Calculations!F$1","v":0},{"$f":"'Absorbance Data'!J3136-Calculations!G$1","v":0},{"$f":"'Absorbance Data'!K3136-Calculations!H$1","v":0},{"$f":"'Absorbance Data'!L3136-Calculations!I$1","v":0},{"$f":"'Absorbance Data'!M3136-Calculations!J$1","v":0},{"$f":"'Absorbance Data'!N3136-Calculations!K$1","v":0},{"$f":"'Absorbance Data'!O3136-Calculations!L$1","v":0},{"$f":"'Absorbance Data'!P3136-Calculations!M$1","v":0},{"$f":"'Absorbance Data'!Q3136-Calculations!N$1","v":0},{"$f":"'Absorbance Data'!R3136-Calculations!O$1","v":0},{"$f":"'Absorbance Data'!S3136-Calculations!P$1","v":0},{"$f":"'Absorbance Data'!T3136-Calculations!Q$1","v":0},{"$f":"'Absorbance Data'!U3136-Calculations!R$1","v":0},{"$f":"'Absorbance Data'!V3136-Calculations!S$1","v":0},{"$f":"'Absorbance Data'!W3136-Calculations!T$1","v":0},{"$f":"'Absorbance Data'!X3136-Calculations!U$1","v":0},{"$f":"'Absorbance Data'!Y3136-Calculations!V$1","v":0},{"$f":"'Absorbance Data'!Z3136-Calculations!W$1","v":0}]
[{"$f":"'Absorbance Data'!D3137","v":559.758544921875},{"$f":"'Absorbance Data'!E3137-Calculations!B$1","v":0},{"$f":"'Absorbance Data'!F3137-Calculations!C$1","v":0},{"$f":"'Absorbance Data'!G3137-Calculations!D$1","v":0},{"$f":"'Absorbance Data'!H3137-Calculations!E$1","v":0},{"$f":"'Absorbance Data'!I3137-Calculations!F$1","v":0},{"$f":"'Absorbance Data'!J3137-Calculations!G$1","v":0},{"$f":"'Absorbance Data'!K3137-Calculations!H$1","v":0},{"$f":"'Absorbance Data'!L3137-Calculations!I$1","v":0},{"$f":"'Absorbance Data'!M3137-Calculations!J$1","v":0},{"$f":"'Absorbance Data'!N3137-Calculations!K$1","v":0},{"$f":"'Absorbance Data'!O3137-Calculations!L$1","v":0},{"$f":"'Absorbance Data'!P3137-Calculations!M$1","v":0},{"$f":"'Absorbance Data'!Q3137-Calculations!N$1","v":0},{"$f":"'Absorbance Data'!R3137-Calculations!O$1","v":0},{"$f":"'Absorbance Data'!S3137-Calculations!P$1","v":0},{"$f":"'Absorbance Data'!T3137-Calculations!Q$1","v":0},{"$f":"'Absorbance Data'!U3137-Calculations!R$1","v":0},{"$f":"'Absorbance Data'!V3137-Calculations!S$1","v":0},{"$f":"'Absorbance Data'!W3137-Calculations!T$1","v":0},{"$f":"'Absorbance Data'!X3137-Calculations!U$1","v":0},{"$f":"'Absorbance Data'!Y3137-Calculations!V$1","v":0},{"$f":"'Absorbance Data'!Z3137-Calculations!W$1","v":0}]
[{"$f":"'Absorbance Data'!D3138","v":560.083984375},{"$f":"'Absorbance Data'!E3138-Calculations!B$1","v":0},{"$f":"'Absorbance Data'!F3138-Calculations!C$1","v":0},{"$f":"'Absorbance Data'!G3138-Calculations!D$1","v":0},{"$f":"'Absorbance Data'!H3138-Calculations!E$1","v":0},{"$f":"'Absorbance Data'!I3138-Calculations!F$1","v":0},{"$f":"'Absorbance Data'!J3138-Calculations!G$1","v":0},{"$f":"'Absorbance Data'!K3138-Calculations!H$1","v":0},{"$f":"'Absorbance Data'!L3138-Calculations!I$1","v":0},{"$f":"'Absorbance Data'!M3138-Calculations!J$1","v":0},{"$f":"'Absorbance Data'!N3138-Calculations!K$1","v":0},{"$f":"'Absorbance Data'!O3138-Calculations!L$1","v":0},{"$f":"'Absorbance Data'!P3138-Calculations!M$1","v":0},{"$f":"'Absorbance Data'!Q3138-Calculations!N$1","v":0},{"$f":"'Absorbance Data'!R3138-Calculations!O$1","v":0},{"$f":"'Absorbance Data'!S3138-Calculations!P$1","v":0},{"$f":"'Absorbance Data'!T3138-Calculations!Q$1","v":0},{"$f":"'Absorbance Data'!U3138-Calculations!R$1","v":0},{"$f":"'Absorbance Data'!V3138-Calculations!S$1","v":0},{"$f":"'Absorbance Data'!W3138-Calculations!T$1","v":0},{"$f":"'Absorbance Data'!X3138-Calculations!U$1","v":0},{"$f":"'Absorbance Data'!Y3138-Calculations!V$1","v":0},{"$f":"'Absorbance Data'!Z3138-Calculations!W$1","v":0}]
[{"$f":"'Absorbance Data'!D3139","v":560.4093017578125},{"$f":"'Absorbance Data'!E3139-Calculations!B$1","v":0},{"$f":"'Absorbance Data'!F3139-Calculations!C$1","v":0},{"$f":"'Absorbance Data'!G3139-Calculations!D$1","v":0},{"$f":"'Absorbance Data'!H3139-Calculations!E$1","v":0},{"$f":"'Absorbance Data'!I3139-Calculations!F$1","v":0},{"$f":"'Absorbance Data'!J3139-Calculations!G$1","v":0},{"$f":"'Absorbance Data'!K3139-Calculations!H$1","v":0},{"$f":"'Absorbance Data'!L3139-Calculations!I$1","v":0},{"$f":"'Absorbance Data'!M3139-Calculations!J$1","v":0},{"$f":"'Absorbance Data'!N3139-Calculations!K$1","v":0},{"$f":"'Absorbance Data'!O3139-Calculations!L$1","v":0},{"$f":"'Absorbance Data'!P3139-Calculations!M$1","v":0},{"$f":"'Absorbance Data'!Q3139-Calculations!N$1","v":0},{"$f":"'Absorbance Data'!R3139-Calculations!O$1","v":0},{"$f":"'Absorbance Data'!S3139-Calculations!P$1","v":0},{"$f":"'Absorbance Data'!T3139-Calculations!Q$1","v":0},{"$f":"'Absorbance Data'!U3139-Calculations!R$1","v":0},{"$f":"'Absorbance Data'!V3139-Calculations!S$1","v":0},{"$f":"'Absorbance Data'!W3139-Calculations!T$1","v":0},{"$f":"'Absorbance Data'!X3139-Calculations!U$1","v":0},{"$f":"'Absorbance Data'!Y3139-Calculations!V$1","v":0},{"$f":"'Absorbance Data'!Z3139-Calculations!W$1","v":0}]
[{"$f":"'Absorbance Data'!D3140","v":560.73480224609375},{"$f":"'Absorbance Data'!E3140-Calculations!B$1","v":0},{"$f":"'Absorbance Data'!F3140-Calculations!C$1","v":0},{"$f":"'Absorbance Data'!G3140-Calculations!D$1","v":0},{"$f":"'Absorbance Data'!H3140-Calculations!E$1","v":0},{"$f":"'Absorbance Data'!I3140-Calculations!F$1","v":0},{"$f":"'Absorbance Data'!J3140-Calculations!G$1","v":0},{"$f":"'Absorbance Data'!K3140-Calculations!H$1","v":0},{"$f":"'Absorbance Data'!L3140-Calculations!I$1","v":0},{"$f":"'Absorbance Data'!M3140-Calculations!J$1","v":0},{"$f":"'Absorbance Data'!N3140-Calculations!K$1","v":0},{"$f":"'Absorbance Data'!O3140-Calculations!L$1","v":0},{"$f":"'Absorbance Data'!P3140-Calculations!M$1","v":0},{"$f":"'Absorbance Data'!Q3140-Calculations!N$1","v":0},{"$f":"'Absorbance Data'!R3140-Calculations!O$1","v":0},{"$f":"'Absorbance Data'!S3140-Calculations!P$1","v":0},{"$f":"'Absorbance Data'!T3140-Calculations!Q$1","v":0},{"$f":"'Absorbance Data'!U3140-Calculations!R$1","v":0},{"$f":"'Absorbance Data'!V3140-Calculations!S$1","v":0},{"$f":"'Absorbance Data'!W3140-Calculations!T$1","v":0},{"$f":"'Absorbance Data'!X3140-Calculations!U$1","v":0},{"$f":"'Absorbance Data'!Y3140-Calculations!V$1","v":0},{"$f":"'Absorbance Data'!Z3140-Calculations!W$1","v":0}]
[{"$f":"'Absorbance Data'!D3141","v":561.0601806640625},{"$f":"'Absorbance Data'!E3141-Calculations!B$1","v":0},{"$f":"'Absorbance Data'!F3141-Calculations!C$1","v":0},{"$f":"'Absorbance Data'!G3141-Calculations!D$1","v":0},{"$f":"'Absorbance Data'!H3141-Calculations!E$1","v":0},{"$f":"'Absorbance Data'!I3141-Calculations!F$1","v":0},{"$f":"'Absorbance Data'!J3141-Calculations!G$1","v":0},{"$f":"'Absorbance Data'!K3141-Calculations!H$1","v":0},{"$f":"'Absorbance Data'!L3141-Calculations!I$1","v":0},{"$f":"'Absorbance Data'!M3141-Calculations!J$1","v":0},{"$f":"'Absorbance Data'!N3141-Calculations!K$1","v":0},{"$f":"'Absorbance Data'!O3141-Calculations!L$1","v":0},{"$f":"'Absorbance Data'!P3141-Calculations!M$1","v":0},{"$f":"'Absorbance Data'!Q3141-Calculations!N$1","v":0},{"$f":"'Absorbance Data'!R3141-Calculations!O$1","v":0},{"$f":"'Absorbance Data'!S3141-Calculations!P$1","v":0},{"$f":"'Absorbance Data'!T3141-Calculations!Q$1","v":0},{"$f":"'Absorbance Data'!U3141-Calculations!R$1","v":0},{"$f":"'Absorbance Data'!V3141-Calculations!S$1","v":0},{"$f":"'Absorbance Data'!W3141-Calculations!T$1","v":0},{"$f":"'Absorbance Data'!X3141-Calculations!U$1","v":0},{"$f":"'Absorbance Data'!Y3141-Calculations!V$1","v":0},{"$f":"'Absorbance Data'!Z3141-Calculations!W$1","v":0}]
[{"$f":"'Absorbance Data'!D3142","v":561.38543701171875},{"$f":"'Absorbance Data'!E3142-Calculations!B$1","v":0},{"$f":"'Absorbance Data'!F3142-Calculations!C$1","v":0},{"$f":"'Absorbance Data'!G3142-Calculations!D$1","v":0},{"$f":"'Absorbance Data'!H3142-Calculations!E$1","v":0},{"$f":"'Absorbance Data'!I3142-Calculations!F$1","v":0},{"$f":"'Absorbance Data'!J3142-Calculations!G$1","v":0},{"$f":"'Absorbance Data'!K3142-Calculations!H$1","v":0},{"$f":"'Absorbance Data'!L3142-Calculations!I$1","v":0},{"$f":"'Absorbance Data'!M3142-Calculations!J$1","v":0},{"$f":"'Absorbance Data'!N3142-Calculations!K$1","v":0},{"$f":"'Absorbance Data'!O3142-Calculations!L$1","v":0},{"$f":"'Absorbance Data'!P3142-Calculations!M$1","v":0},{"$f":"'Absorbance Data'!Q3142-Calculations!N$1","v":0},{"$f":"'Absorbance Data'!R3142-Calculations!O$1","v":0},{"$f":"'Absorbance Data'!S3142-Calculations!P$1","v":0},{"$f":"'Absorbance Data'!T3142-Calculations!Q$1","v":0},{"$f":"'Absorbance Data'!U3142-Calculations!R$1","v":0},{"$f":"'Absorbance Data'!V3142-Calculations!S$1","v":0},{"$f":"'Absorbance Data'!W3142-Calculations!T$1","v":0},{"$f":"'Absorbance Data'!X3142-Calculations!U$1","v":0},{"$f":"'Absorbance Data'!Y3142-Calculations!V$1","v":0},{"$f":"'Absorbance Data'!Z3142-Calculations!W$1","v":0}]
[{"$f":"'Absorbance Data'!D3143","v":561.710693359375},{"$f":"'Absorbance Data'!E3143-Calculations!B$1","v":0},{"$f":"'Absorbance Data'!F3143-Calculations!C$1","v":0},{"$f":"'Absorbance Data'!G3143-Calculations!D$1","v":0},{"$f":"'Absorbance Data'!H3143-Calculations!E$1","v":0},{"$f":"'Absorbance Data'!I3143-Calculations!F$1","v":0},{"$f":"'Absorbance Data'!J3143-Calculations!G$1","v":0},{"$f":"'Absorbance Data'!K3143-Calculations!H$1","v":0},{"$f":"'Absorbance Data'!L3143-Calculations!I$1","v":0},{"$f":"'Absorbance Data'!M3143-Calculations!J$1","v":0},{"$f":"'Absorbance Data'!N3143-Calculations!K$1","v":0},{"$f":"'Absorbance Data'!O3143-Calculations!L$1","v":0},{"$f":"'Absorbance Data'!P3143-Calculations!M$1","v":0},{"$f":"'Absorbance Data'!Q3143-Calculations!N$1","v":0},{"$f":"'Absorbance Data'!R3143-Calculations!O$1","v":0},{"$f":"'Absorbance Data'!S3143-Calculations!P$1","v":0},{"$f":"'Absorbance Data'!T3143-Calculations!Q$1","v":0},{"$f":"'Absorbance Data'!U3143-Calculations!R$1","v":0},{"$f":"'Absorbance Data'!V3143-Calculations!S$1","v":0},{"$f":"'Absorbance Data'!W3143-Calculations!T$1","v":0},{"$f":"'Absorbance Data'!X3143-Calculations!U$1","v":0},{"$f":"'Absorbance Data'!Y3143-Calculations!V$1","v":0},{"$f":"'Absorbance Data'!Z3143-Calculations!W$1","v":0}]
[{"$f":"'Absorbance Data'!D3144","v":562.03594970703125},{"$f":"'Absorbance Data'!E3144-Calculations!B$1","v":0},{"$f":"'Absorbance Data'!F3144-Calculations!C$1","v":0},{"$f":"'Absorbance Data'!G3144-Calculations!D$1","v":0},{"$f":"'Absorbance Data'!H3144-Calculations!E$1","v":0},{"$f":"'Absorbance Data'!I3144-Calculations!F$1","v":0},{"$f":"'Absorbance Data'!J3144-Calculations!G$1","v":0},{"$f":"'Absorbance Data'!K3144-Calculations!H$1","v":0},{"$f":"'Absorbance Data'!L3144-Calculations!I$1","v":0},{"$f":"'Absorbance Data'!M3144-Calculations!J$1","v":0},{"$f":"'Absorbance Data'!N3144-Calculations!K$1","v":0},{"$f":"'Absorbance Data'!O3144-Calculations!L$1","v":0},{"$f":"'Absorbance Data'!P3144-Calculations!M$1","v":0},{"$f":"'Absorbance Data'!Q3144-Calculations!N$1","v":0},{"$f":"'Absorbance Data'!R3144-Calculations!O$1","v":0},{"$f":"'Absorbance Data'!S3144-Calculations!P$1","v":0},{"$f":"'Absorbance Data'!T3144-Calculations!Q$1","v":0},{"$f":"'Absorbance Data'!U3144-Calculations!R$1","v":0},{"$f":"'Absorbance Data'!V3144-Calculations!S$1","v":0},{"$f":"'Absorbance Data'!W3144-Calculations!T$1","v":0},{"$f":"'Absorbance Data'!X3144-Calculations!U$1","v":0},{"$f":"'Absorbance Data'!Y3144-Calculations!V$1","v":0},{"$f":"'Absorbance Data'!Z3144-Calculations!W$1","v":0}]
[{"$f":"'Absorbance Data'!D3145","v":562.36114501953125},{"$f":"'Absorbance Data'!E3145-Calculations!B$1","v":0},{"$f":"'Absorbance Data'!F3145-Calculations!C$1","v":0},{"$f":"'Absorbance Data'!G3145-Calculations!D$1","v":0},{"$f":"'Absorbance Data'!H3145-Calculations!E$1","v":0},{"$f":"'Absorbance Data'!I3145-Calculations!F$1","v":0},{"$f":"'Absorbance Data'!J3145-Calculations!G$1","v":0},{"$f":"'Absorbance Data'!K3145-Calculations!H$1","v":0},{"$f":"'Absorbance Data'!L3145-Calculations!I$1","v":0},{"$f":"'Absorbance Data'!M3145-Calculations!J$1","v":0},{"$f":"'Absorbance Data'!N3145-Calculations!K$1","v":0},{"$f":"'Absorbance Data'!O3145-Calculations!L$1","v":0},{"$f":"'Absorbance Data'!P3145-Calculations!M$1","v":0},{"$f":"'Absorbance Data'!Q3145-Calculations!N$1","v":0},{"$f":"'Absorbance Data'!R3145-Calculations!O$1","v":0},{"$f":"'Absorbance Data'!S3145-Calculations!P$1","v":0},{"$f":"'Absorbance Data'!T3145-Calculations!Q$1","v":0},{"$f":"'Absorbance Data'!U3145-Calculations!R$1","v":0},{"$f":"'Absorbance Data'!V3145-Calculations!S$1","v":0},{"$f":"'Absorbance Data'!W3145-Calculations!T$1","v":0},{"$f":"'Absorbance Data'!X3145-Calculations!U$1","v":0},{"$f":"'Absorbance Data'!Y3145-Calculations!V$1","v":0},{"$f":"'Absorbance Data'!Z3145-Calculations!W$1","v":0}]
[{"$f":"'Absorbance Data'!D3146","v":562.686279296875},{"$f":"'Absorbance Data'!E3146-Calculations!B$1","v":0},{"$f":"'Absorbance Data'!F3146-Calculations!C$1","v":0},{"$f":"'Absorbance Data'!G3146-Calculations!D$1","v":0},{"$f":"'Absorbance Data'!H3146-Calculations!E$1","v":0},{"$f":"'Absorbance Data'!I3146-Calculations!F$1","v":0},{"$f":"'Absorbance Data'!J3146-Calculations!G$1","v":0},{"$f":"'Absorbance Data'!K3146-Calculations!H$1","v":0},{"$f":"'Absorbance Data'!L3146-Calculations!I$1","v":0},{"$f":"'Absorbance Data'!M3146-Calculations!J$1","v":0},{"$f":"'Absorbance Data'!N3146-Calculations!K$1","v":0},{"$f":"'Absorbance Data'!O3146-Calculations!L$1","v":0},{"$f":"'Absorbance Data'!P3146-Calculations!M$1","v":0},{"$f":"'Absorbance Data'!Q3146-Calculations!N$1","v":0},{"$f":"'Absorbance Data'!R3146-Calculations!O$1","v":0},{"$f":"'Absorbance Data'!S3146-Calculations!P$1","v":0},{"$f":"'Absorbance Data'!T3146-Calculations!Q$1","v":0},{"$f":"'Absorbance Data'!U3146-Calculations!R$1","v":0},{"$f":"'Absorbance Data'!V3146-Calculations!S$1","v":0},{"$f":"'Absorbance Data'!W3146-Calculations!T$1","v":0},{"$f":"'Absorbance Data'!X3146-Calculations!U$1","v":0},{"$f":"'Absorbance Data'!Y3146-Calculations!V$1","v":0},{"$f":"'Absorbance Data'!Z3146-Calculations!W$1","v":0}]
[{"$f":"'Absorbance Data'!D3147","v":563.0113525390625},{"$f":"'Absorbance Data'!E3147-Calculations!B$1","v":0},{"$f":"'Absorbance Data'!F3147-Calculations!C$1","v":0},{"$f":"'Absorbance Data'!G3147-Calculations!D$1","v":0},{"$f":"'Absorbance Data'!H3147-Calculations!E$1","v":0},{"$f":"'Absorbance Data'!I3147-Calculations!F$1","v":0},{"$f":"'Absorbance Data'!J3147-Calculations!G$1","v":0},{"$f":"'Absorbance Data'!K3147-Calculations!H$1","v":0},{"$f":"'Absorbance Data'!L3147-Calculations!I$1","v":0},{"$f":"'Absorbance Data'!M3147-Calculations!J$1","v":0},{"$f":"'Absorbance Data'!N3147-Calculations!K$1","v":0},{"$f":"'Absorbance Data'!O3147-Calculations!L$1","v":0},{"$f":"'Absorbance Data'!P3147-Calculations!M$1","v":0},{"$f":"'Absorbance Data'!Q3147-Calculations!N$1","v":0},{"$f":"'Absorbance Data'!R3147-Calculations!O$1","v":0},{"$f":"'Absorbance Data'!S3147-Calculations!P$1","v":0},{"$f":"'Absorbance Data'!T3147-Calculations!Q$1","v":0},{"$f":"'Absorbance Data'!U3147-Calculations!R$1","v":0},{"$f":"'Absorbance Data'!V3147-Calculations!S$1","v":0},{"$f":"'Absorbance Data'!W3147-Calculations!T$1","v":0},{"$f":"'Absorbance Data'!X3147-Calculations!U$1","v":0},{"$f":"'Absorbance Data'!Y3147-Calculations!V$1","v":0},{"$f":"'Absorbance Data'!Z3147-Calculations!W$1","v":0}]
[{"$f":"'Absorbance Data'!D3148","v":563.33648681640625},{"$f":"'Absorbance Data'!E3148-Calculations!B$1","v":0},{"$f":"'Absorbance Data'!F3148-Calculations!C$1","v":0},{"$f":"'Absorbance Data'!G3148-Calculations!D$1","v":0},{"$f":"'Absorbance Data'!H3148-Calculations!E$1","v":0},{"$f":"'Absorbance Data'!I3148-Calculations!F$1","v":0},{"$f":"'Absorbance Data'!J3148-Calculations!G$1","v":0},{"$f":"'Absorbance Data'!K3148-Calculations!H$1","v":0},{"$f":"'Absorbance Data'!L3148-Calculations!I$1","v":0},{"$f":"'Absorbance Data'!M3148-Calculations!J$1","v":0},{"$f":"'Absorbance Data'!N3148-Calculations!K$1","v":0},{"$f":"'Absorbance Data'!O3148-Calculations!L$1","v":0},{"$f":"'Absorbance Data'!P3148-Calculations!M$1","v":0},{"$f":"'Absorbance Data'!Q3148-Calculations!N$1","v":0},{"$f":"'Absorbance Data'!R3148-Calculations!O$1","v":0},{"$f":"'Absorbance Data'!S3148-Calculations!P$1","v":0},{"$f":"'Absorbance Data'!T3148-Calculations!Q$1","v":0},{"$f":"'Absorbance Data'!U3148-Calculations!R$1","v":0},{"$f":"'Absorbance Data'!V3148-Calculations!S$1","v":0},{"$f":"'Absorbance Data'!W3148-Calculations!T$1","v":0},{"$f":"'Absorbance Data'!X3148-Calculations!U$1","v":0},{"$f":"'Absorbance Data'!Y3148-Calculations!V$1","v":0},{"$f":"'Absorbance Data'!Z3148-Calculations!W$1","v":0}]
[{"$f":"'Absorbance Data'!D3149","v":563.6614990234375},{"$f":"'Absorbance Data'!E3149-Calculations!B$1","v":0},{"$f":"'Absorbance Data'!F3149-Calculations!C$1","v":0},{"$f":"'Absorbance Data'!G3149-Calculations!D$1","v":0},{"$f":"'Absorbance Data'!H3149-Calculations!E$1","v":0},{"$f":"'Absorbance Data'!I3149-Calculations!F$1","v":0},{"$f":"'Absorbance Data'!J3149-Calculations!G$1","v":0},{"$f":"'Absorbance Data'!K3149-Calculations!H$1","v":0},{"$f":"'Absorbance Data'!L3149-Calculations!I$1","v":0},{"$f":"'Absorbance Data'!M3149-Calculations!J$1","v":0},{"$f":"'Absorbance Data'!N3149-Calculations!K$1","v":0},{"$f":"'Absorbance Data'!O3149-Calculations!L$1","v":0},{"$f":"'Absorbance Data'!P3149-Calculations!M$1","v":0},{"$f":"'Absorbance Data'!Q3149-Calculations!N$1","v":0},{"$f":"'Absorbance Data'!R3149-Calculations!O$1","v":0},{"$f":"'Absorbance Data'!S3149-Calculations!P$1","v":0},{"$f":"'Absorbance Data'!T3149-Calculations!Q$1","v":0},{"$f":"'Absorbance Data'!U3149-Calculations!R$1","v":0},{"$f":"'Absorbance Data'!V3149-Calculations!S$1","v":0},{"$f":"'Absorbance Data'!W3149-Calculations!T$1","v":0},{"$f":"'Absorbance Data'!X3149-Calculations!U$1","v":0},{"$f":"'Absorbance Data'!Y3149-Calculations!V$1","v":0},{"$f":"'Absorbance Data'!Z3149-Calculations!W$1","v":0}]
[{"$f":"'Absorbance Data'!D3150","v":563.98651123046875},{"$f":"'Absorbance Data'!E3150-Calculations!B$1","v":0},{"$f":"'Absorbance Data'!F3150-Calculations!C$1","v":0},{"$f":"'Absorbance Data'!G3150-Calculations!D$1","v":0},{"$f":"'Absorbance Data'!H3150-Calculations!E$1","v":0},{"$f":"'Absorbance Data'!I3150-Calculations!F$1","v":0},{"$f":"'Absorbance Data'!J3150-Calculations!G$1","v":0},{"$f":"'Absorbance Data'!K3150-Calculations!H$1","v":0},{"$f":"'Absorbance Data'!L3150-Calculations!I$1","v":0},{"$f":"'Absorbance Data'!M3150-Calculations!J$1","v":0},{"$f":"'Absorbance Data'!N3150-Calculations!K$1","v":0},{"$f":"'Absorbance Data'!O3150-Calculations!L$1","v":0},{"$f":"'Absorbance Data'!P3150-Calculations!M$1","v":0},{"$f":"'Absorbance Data'!Q3150-Calculations!N$1","v":0},{"$f":"'Absorbance Data'!R3150-Calculations!O$1","v":0},{"$f":"'Absorbance Data'!S3150-Calculations!P$1","v":0},{"$f":"'Absorbance Data'!T3150-Calculations!Q$1","v":0},{"$f":"'Absorbance Data'!U3150-Calculations!R$1","v":0},{"$f":"'Absorbance Data'!V3150-Calculations!S$1","v":0},{"$f":"'Absorbance Data'!W3150-Calculations!T$1","v":0},{"$f":"'Absorbance Data'!X3150-Calculations!U$1","v":0},{"$f":"'Absorbance Data'!Y3150-Calculations!V$1","v":0},{"$f":"'Absorbance Data'!Z3150-Calculations!W$1","v":0}]
[{"$f":"'Absorbance Data'!D3151","v":564.3114013671875},{"$f":"'Absorbance Data'!E3151-Calculations!B$1","v":0},{"$f":"'Absorbance Data'!F3151-Calculations!C$1","v":0},{"$f":"'Absorbance Data'!G3151-Calculations!D$1","v":0},{"$f":"'Absorbance Data'!H3151-Calculations!E$1","v":0},{"$f":"'Absorbance Data'!I3151-Calculations!F$1","v":0},{"$f":"'Absorbance Data'!J3151-Calculations!G$1","v":0},{"$f":"'Absorbance Data'!K3151-Calculations!H$1","v":0},{"$f":"'Absorbance Data'!L3151-Calculations!I$1","v":0},{"$f":"'Absorbance Data'!M3151-Calculations!J$1","v":0},{"$f":"'Absorbance Data'!N3151-Calculations!K$1","v":0},{"$f":"'Absorbance Data'!O3151-Calculations!L$1","v":0},{"$f":"'Absorbance Data'!P3151-Calculations!M$1","v":0},{"$f":"'Absorbance Data'!Q3151-Calculations!N$1","v":0},{"$f":"'Absorbance Data'!R3151-Calculations!O$1","v":0},{"$f":"'Absorbance Data'!S3151-Calculations!P$1","v":0},{"$f":"'Absorbance Data'!T3151-Calculations!Q$1","v":0},{"$f":"'Absorbance Data'!U3151-Calculations!R$1","v":0},{"$f":"'Absorbance Data'!V3151-Calculations!S$1","v":0},{"$f":"'Absorbance Data'!W3151-Calculations!T$1","v":0},{"$f":"'Absorbance Data'!X3151-Calculations!U$1","v":0},{"$f":"'Absorbance Data'!Y3151-Calculations!V$1","v":0},{"$f":"'Absorbance Data'!Z3151-Calculations!W$1","v":0}]
[{"$f":"'Absorbance Data'!D3152","v":564.63641357421875},{"$f":"'Absorbance Data'!E3152-Calculations!B$1","v":0},{"$f":"'Absorbance Data'!F3152-Calculations!C$1","v":0},{"$f":"'Absorbance Data'!G3152-Calculations!D$1","v":0},{"$f":"'Absorbance Data'!H3152-Calculations!E$1","v":0},{"$f":"'Absorbance Data'!I3152-Calculations!F$1","v":0},{"$f":"'Absorbance Data'!J3152-Calculations!G$1","v":0},{"$f":"'Absorbance Data'!K3152-Calculations!H$1","v":0},{"$f":"'Absorbance Data'!L3152-Calculations!I$1","v":0},{"$f":"'Absorbance Data'!M3152-Calculations!J$1","v":0},{"$f":"'Absorbance Data'!N3152-Calculations!K$1","v":0},{"$f":"'Absorbance Data'!O3152-Calculations!L$1","v":0},{"$f":"'Absorbance Data'!P3152-Calculations!M$1","v":0},{"$f":"'Absorbance Data'!Q3152-Calculations!N$1","v":0},{"$f":"'Absorbance Data'!R3152-Calculations!O$1","v":0},{"$f":"'Absorbance Data'!S3152-Calculations!P$1","v":0},{"$f":"'Absorbance Data'!T3152-Calculations!Q$1","v":0},{"$f":"'Absorbance Data'!U3152-Calculations!R$1","v":0},{"$f":"'Absorbance Data'!V3152-Calculations!S$1","v":0},{"$f":"'Absorbance Data'!W3152-Calculations!T$1","v":0},{"$f":"'Absorbance Data'!X3152-Calculations!U$1","v":0},{"$f":"'Absorbance Data'!Y3152-Calculations!V$1","v":0},{"$f":"'Absorbance Data'!Z3152-Calculations!W$1","v":0}]
[{"$f":"'Absorbance Data'!D3153","v":564.9613037109375},{"$f":"'Absorbance Data'!E3153-Calculations!B$1","v":0},{"$f":"'Absorbance Data'!F3153-Calculations!C$1","v":0},{"$f":"'Absorbance Data'!G3153-Calculations!D$1","v":0},{"$f":"'Absorbance Data'!H3153-Calculations!E$1","v":0},{"$f":"'Absorbance Data'!I3153-Calculations!F$1","v":0},{"$f":"'Absorbance Data'!J3153-Calculations!G$1","v":0},{"$f":"'Absorbance Data'!K3153-Calculations!H$1","v":0},{"$f":"'Absorbance Data'!L3153-Calculations!I$1","v":0},{"$f":"'Absorbance Data'!M3153-Calculations!J$1","v":0},{"$f":"'Absorbance Data'!N3153-Calculations!K$1","v":0},{"$f":"'Absorbance Data'!O3153-Calculations!L$1","v":0},{"$f":"'Absorbance Data'!P3153-Calculations!M$1","v":0},{"$f":"'Absorbance Data'!Q3153-Calculations!N$1","v":0},{"$f":"'Absorbance Data'!R3153-Calculations!O$1","v":0},{"$f":"'Absorbance Data'!S3153-Calculations!P$1","v":0},{"$f":"'Absorbance Data'!T3153-Calculations!Q$1","v":0},{"$f":"'Absorbance Data'!U3153-Calculations!R$1","v":0},{"$f":"'Absorbance Data'!V3153-Calculations!S$1","v":0},{"$f":"'Absorbance Data'!W3153-Calculations!T$1","v":0},{"$f":"'Absorbance Data'!X3153-Calculations!U$1","v":0},{"$f":"'Absorbance Data'!Y3153-Calculations!V$1","v":0},{"$f":"'Absorbance Data'!Z3153-Calculations!W$1","v":0}]
[{"$f":"'Absorbance Data'!D3154","v":565.2861328125},{"$f":"'Absorbance Data'!E3154-Calculations!B$1","v":0},{"$f":"'Absorbance Data'!F3154-Calculations!C$1","v":0},{"$f":"'Absorbance Data'!G3154-Calculations!D$1","v":0},{"$f":"'Absorbance Data'!H3154-Calculations!E$1","v":0},{"$f":"'Absorbance Data'!I3154-Calculations!F$1","v":0},{"$f":"'Absorbance Data'!J3154-Calculations!G$1","v":0},{"$f":"'Absorbance Data'!K3154-Calculations!H$1","v":0},{"$f":"'Absorbance Data'!L3154-Calculations!I$1","v":0},{"$f":"'Absorbance Data'!M3154-Calculations!J$1","v":0},{"$f":"'Absorbance Data'!N3154-Calculations!K$1","v":0},{"$f":"'Absorbance Data'!O3154-Calculations!L$1","v":0},{"$f":"'Absorbance Data'!P3154-Calculations!M$1","v":0},{"$f":"'Absorbance Data'!Q3154-Calculations!N$1","v":0},{"$f":"'Absorbance Data'!R3154-Calculations!O$1","v":0},{"$f":"'Absorbance Data'!S3154-Calculations!P$1","v":0},{"$f":"'Absorbance Data'!T3154-Calculations!Q$1","v":0},{"$f":"'Absorbance Data'!U3154-Calculations!R$1","v":0},{"$f":"'Absorbance Data'!V3154-Calculations!S$1","v":0},{"$f":"'Absorbance Data'!W3154-Calculations!T$1","v":0},{"$f":"'Absorbance Data'!X3154-Calculations!U$1","v":0},{"$f":"'Absorbance Data'!Y3154-Calculations!V$1","v":0},{"$f":"'Absorbance Data'!Z3154-Calculations!W$1","v":0}]
[{"$f":"'Absorbance Data'!D3155","v":565.61090087890625},{"$f":"'Absorbance Data'!E3155-Calculations!B$1","v":0},{"$f":"'Absorbance Data'!F3155-Calculations!C$1","v":0},{"$f":"'Absorbance Data'!G3155-Calculations!D$1","v":0},{"$f":"'Absorbance Data'!H3155-Calculations!E$1","v":0},{"$f":"'Absorbance Data'!I3155-Calculations!F$1","v":0},{"$f":"'Absorbance Data'!J3155-Calculations!G$1","v":0},{"$f":"'Absorbance Data'!K3155-Calculations!H$1","v":0},{"$f":"'Absorbance Data'!L3155-Calculations!I$1","v":0},{"$f":"'Absorbance Data'!M3155-Calculations!J$1","v":0},{"$f":"'Absorbance Data'!N3155-Calculations!K$1","v":0},{"$f":"'Absorbance Data'!O3155-Calculations!L$1","v":0},{"$f":"'Absorbance Data'!P3155-Calculations!M$1","v":0},{"$f":"'Absorbance Data'!Q3155-Calculations!N$1","v":0},{"$f":"'Absorbance Data'!R3155-Calculations!O$1","v":0},{"$f":"'Absorbance Data'!S3155-Calculations!P$1","v":0},{"$f":"'Absorbance Data'!T3155-Calculations!Q$1","v":0},{"$f":"'Absorbance Data'!U3155-Calculations!R$1","v":0},{"$f":"'Absorbance Data'!V3155-Calculations!S$1","v":0},{"$f":"'Absorbance Data'!W3155-Calculations!T$1","v":0},{"$f":"'Absorbance Data'!X3155-Calculations!U$1","v":0},{"$f":"'Absorbance Data'!Y3155-Calculations!V$1","v":0},{"$f":"'Absorbance Data'!Z3155-Calculations!W$1","v":0}]
[{"$f":"'Absorbance Data'!D3156","v":565.93572998046875},{"$f":"'Absorbance Data'!E3156-Calculations!B$1","v":0},{"$f":"'Absorbance Data'!F3156-Calculations!C$1","v":0},{"$f":"'Absorbance Data'!G3156-Calculations!D$1","v":0},{"$f":"'Absorbance Data'!H3156-Calculations!E$1","v":0},{"$f":"'Absorbance Data'!I3156-Calculations!F$1","v":0},{"$f":"'Absorbance Data'!J3156-Calculations!G$1","v":0},{"$f":"'Absorbance Data'!K3156-Calculations!H$1","v":0},{"$f":"'Absorbance Data'!L3156-Calculations!I$1","v":0},{"$f":"'Absorbance Data'!M3156-Calculations!J$1","v":0},{"$f":"'Absorbance Data'!N3156-Calculations!K$1","v":0},{"$f":"'Absorbance Data'!O3156-Calculations!L$1","v":0},{"$f":"'Absorbance Data'!P3156-Calculations!M$1","v":0},{"$f":"'Absorbance Data'!Q3156-Calculations!N$1","v":0},{"$f":"'Absorbance Data'!R3156-Calculations!O$1","v":0},{"$f":"'Absorbance Data'!S3156-Calculations!P$1","v":0},{"$f":"'Absorbance Data'!T3156-Calculations!Q$1","v":0},{"$f":"'Absorbance Data'!U3156-Calculations!R$1","v":0},{"$f":"'Absorbance Data'!V3156-Calculations!S$1","v":0},{"$f":"'Absorbance Data'!W3156-Calculations!T$1","v":0},{"$f":"'Absorbance Data'!X3156-Calculations!U$1","v":0},{"$f":"'Absorbance Data'!Y3156-Calculations!V$1","v":0},{"$f":"'Absorbance Data'!Z3156-Calculations!W$1","v":0}]
[{"$f":"'Absorbance Data'!D3157","v":566.26043701171875},{"$f":"'Absorbance Data'!E3157-Calculations!B$1","v":0},{"$f":"'Absorbance Data'!F3157-Calculations!C$1","v":0},{"$f":"'Absorbance Data'!G3157-Calculations!D$1","v":0},{"$f":"'Absorbance Data'!H3157-Calculations!E$1","v":0},{"$f":"'Absorbance Data'!I3157-Calculations!F$1","v":0},{"$f":"'Absorbance Data'!J3157-Calculations!G$1","v":0},{"$f":"'Absorbance Data'!K3157-Calculations!H$1","v":0},{"$f":"'Absorbance Data'!L3157-Calculations!I$1","v":0},{"$f":"'Absorbance Data'!M3157-Calculations!J$1","v":0},{"$f":"'Absorbance Data'!N3157-Calculations!K$1","v":0},{"$f":"'Absorbance Data'!O3157-Calculations!L$1","v":0},{"$f":"'Absorbance Data'!P3157-Calculations!M$1","v":0},{"$f":"'Absorbance Data'!Q3157-Calculations!N$1","v":0},{"$f":"'Absorbance Data'!R3157-Calculations!O$1","v":0},{"$f":"'Absorbance Data'!S3157-Calculations!P$1","v":0},{"$f":"'Absorbance Data'!T3157-Calculations!Q$1","v":0},{"$f":"'Absorbance Data'!U3157-Calculations!R$1","v":0},{"$f":"'Absorbance Data'!V3157-Calculations!S$1","v":0},{"$f":"'Absorbance Data'!W3157-Calculations!T$1","v":0},{"$f":"'Absorbance Data'!X3157-Calculations!U$1","v":0},{"$f":"'Absorbance Data'!Y3157-Calculations!V$1","v":0},{"$f":"'Absorbance Data'!Z3157-Calculations!W$1","v":0}]
[{"$f":"'Absorbance Data'!D3158","v":566.58514404296875},{"$f":"'Absorbance Data'!E3158-Calculations!B$1","v":0},{"$f":"'Absorbance Data'!F3158-Calculations!C$1","v":0},{"$f":"'Absorbance Data'!G3158-Calculations!D$1","v":0},{"$f":"'Absorbance Data'!H3158-Calculations!E$1","v":0},{"$f":"'Absorbance Data'!I3158-Calculations!F$1","v":0},{"$f":"'Absorbance Data'!J3158-Calculations!G$1","v":0},{"$f":"'Absorbance Data'!K3158-Calculations!H$1","v":0},{"$f":"'Absorbance Data'!L3158-Calculations!I$1","v":0},{"$f":"'Absorbance Data'!M3158-Calculations!J$1","v":0},{"$f":"'Absorbance Data'!N3158-Calculations!K$1","v":0},{"$f":"'Absorbance Data'!O3158-Calculations!L$1","v":0},{"$f":"'Absorbance Data'!P3158-Calculations!M$1","v":0},{"$f":"'Absorbance Data'!Q3158-Calculations!N$1","v":0},{"$f":"'Absorbance Data'!R3158-Calculations!O$1","v":0},{"$f":"'Absorbance Data'!S3158-Calculations!P$1","v":0},{"$f":"'Absorbance Data'!T3158-Calculations!Q$1","v":0},{"$f":"'Absorbance Data'!U3158-Calculations!R$1","v":0},{"$f":"'Absorbance Data'!V3158-Calculations!S$1","v":0},{"$f":"'Absorbance Data'!W3158-Calculations!T$1","v":0},{"$f":"'Absorbance Data'!X3158-Calculations!U$1","v":0},{"$f":"'Absorbance Data'!Y3158-Calculations!V$1","v":0},{"$f":"'Absorbance Data'!Z3158-Calculations!W$1","v":0}]
[{"$f":"'Absorbance Data'!D3159","v":566.90972900390625},{"$f":"'Absorbance Data'!E3159-Calculations!B$1","v":0},{"$f":"'Absorbance Data'!F3159-Calculations!C$1","v":0},{"$f":"'Absorbance Data'!G3159-Calculations!D$1","v":0},{"$f":"'Absorbance Data'!H3159-Calculations!E$1","v":0},{"$f":"'Absorbance Data'!I3159-Calculations!F$1","v":0},{"$f":"'Absorbance Data'!J3159-Calculations!G$1","v":0},{"$f":"'Absorbance Data'!K3159-Calculations!H$1","v":0},{"$f":"'Absorbance Data'!L3159-Calculations!I$1","v":0},{"$f":"'Absorbance Data'!M3159-Calculations!J$1","v":0},{"$f":"'Absorbance Data'!N3159-Calculations!K$1","v":0},{"$f":"'Absorbance Data'!O3159-Calculations!L$1","v":0},{"$f":"'Absorbance Data'!P3159-Calculations!M$1","v":0},{"$f":"'Absorbance Data'!Q3159-Calculations!N$1","v":0},{"$f":"'Absorbance Data'!R3159-Calculations!O$1","v":0},{"$f":"'Absorbance Data'!S3159-Calculations!P$1","v":0},{"$f":"'Absorbance Data'!T3159-Calculations!Q$1","v":0},{"$f":"'Absorbance Data'!U3159-Calculations!R$1","v":0},{"$f":"'Absorbance Data'!V3159-Calculations!S$1","v":0},{"$f":"'Absorbance Data'!W3159-Calculations!T$1","v":0},{"$f":"'Absorbance Data'!X3159-Calculations!U$1","v":0},{"$f":"'Absorbance Data'!Y3159-Calculations!V$1","v":0},{"$f":"'Absorbance Data'!Z3159-Calculations!W$1","v":0}]
[{"$f":"'Absorbance Data'!D3160","v":567.234375},{"$f":"'Absorbance Data'!E3160-Calculations!B$1","v":0},{"$f":"'Absorbance Data'!F3160-Calculations!C$1","v":0},{"$f":"'Absorbance Data'!G3160-Calculations!D$1","v":0},{"$f":"'Absorbance Data'!H3160-Calculations!E$1","v":0},{"$f":"'Absorbance Data'!I3160-Calculations!F$1","v":0},{"$f":"'Absorbance Data'!J3160-Calculations!G$1","v":0},{"$f":"'Absorbance Data'!K3160-Calculations!H$1","v":0},{"$f":"'Absorbance Data'!L3160-Calculations!I$1","v":0},{"$f":"'Absorbance Data'!M3160-Calculations!J$1","v":0},{"$f":"'Absorbance Data'!N3160-Calculations!K$1","v":0},{"$f":"'Absorbance Data'!O3160-Calculations!L$1","v":0},{"$f":"'Absorbance Data'!P3160-Calculations!M$1","v":0},{"$f":"'Absorbance Data'!Q3160-Calculations!N$1","v":0},{"$f":"'Absorbance Data'!R3160-Calculations!O$1","v":0},{"$f":"'Absorbance Data'!S3160-Calculations!P$1","v":0},{"$f":"'Absorbance Data'!T3160-Calculations!Q$1","v":0},{"$f":"'Absorbance Data'!U3160-Calculations!R$1","v":0},{"$f":"'Absorbance Data'!V3160-Calculations!S$1","v":0},{"$f":"'Absorbance Data'!W3160-Calculations!T$1","v":0},{"$f":"'Absorbance Data'!X3160-Calculations!U$1","v":0},{"$f":"'Absorbance Data'!Y3160-Calculations!V$1","v":0},{"$f":"'Absorbance Data'!Z3160-Calculations!W$1","v":0}]
[{"$f":"'Absorbance Data'!D3161","v":567.55889892578125},{"$f":"'Absorbance Data'!E3161-Calculations!B$1","v":0},{"$f":"'Absorbance Data'!F3161-Calculations!C$1","v":0},{"$f":"'Absorbance Data'!G3161-Calculations!D$1","v":0},{"$f":"'Absorbance Data'!H3161-Calculations!E$1","v":0},{"$f":"'Absorbance Data'!I3161-Calculations!F$1","v":0},{"$f":"'Absorbance Data'!J3161-Calculations!G$1","v":0},{"$f":"'Absorbance Data'!K3161-Calculations!H$1","v":0},{"$f":"'Absorbance Data'!L3161-Calculations!I$1","v":0},{"$f":"'Absorbance Data'!M3161-Calculations!J$1","v":0},{"$f":"'Absorbance Data'!N3161-Calculations!K$1","v":0},{"$f":"'Absorbance Data'!O3161-Calculations!L$1","v":0},{"$f":"'Absorbance Data'!P3161-Calculations!M$1","v":0},{"$f":"'Absorbance Data'!Q3161-Calculations!N$1","v":0},{"$f":"'Absorbance Data'!R3161-Calculations!O$1","v":0},{"$f":"'Absorbance Data'!S3161-Calculations!P$1","v":0},{"$f":"'Absorbance Data'!T3161-Calculations!Q$1","v":0},{"$f":"'Absorbance Data'!U3161-Calculations!R$1","v":0},{"$f":"'Absorbance Data'!V3161-Calculations!S$1","v":0},{"$f":"'Absorbance Data'!W3161-Calculations!T$1","v":0},{"$f":"'Absorbance Data'!X3161-Calculations!U$1","v":0},{"$f":"'Absorbance Data'!Y3161-Calculations!V$1","v":0},{"$f":"'Absorbance Data'!Z3161-Calculations!W$1","v":0}]
[{"$f":"'Absorbance Data'!D3162","v":567.883544921875},{"$f":"'Absorbance Data'!E3162-Calculations!B$1","v":0},{"$f":"'Absorbance Data'!F3162-Calculations!C$1","v":0},{"$f":"'Absorbance Data'!G3162-Calculations!D$1","v":0},{"$f":"'Absorbance Data'!H3162-Calculations!E$1","v":0},{"$f":"'Absorbance Data'!I3162-Calculations!F$1","v":0},{"$f":"'Absorbance Data'!J3162-Calculations!G$1","v":0},{"$f":"'Absorbance Data'!K3162-Calculations!H$1","v":0},{"$f":"'Absorbance Data'!L3162-Calculations!I$1","v":0},{"$f":"'Absorbance Data'!M3162-Calculations!J$1","v":0},{"$f":"'Absorbance Data'!N3162-Calculations!K$1","v":0},{"$f":"'Absorbance Data'!O3162-Calculations!L$1","v":0},{"$f":"'Absorbance Data'!P3162-Calculations!M$1","v":0},{"$f":"'Absorbance Data'!Q3162-Calculations!N$1","v":0},{"$f":"'Absorbance Data'!R3162-Calculations!O$1","v":0},{"$f":"'Absorbance Data'!S3162-Calculations!P$1","v":0},{"$f":"'Absorbance Data'!T3162-Calculations!Q$1","v":0},{"$f":"'Absorbance Data'!U3162-Calculations!R$1","v":0},{"$f":"'Absorbance Data'!V3162-Calculations!S$1","v":0},{"$f":"'Absorbance Data'!W3162-Calculations!T$1","v":0},{"$f":"'Absorbance Data'!X3162-Calculations!U$1","v":0},{"$f":"'Absorbance Data'!Y3162-Calculations!V$1","v":0},{"$f":"'Absorbance Data'!Z3162-Calculations!W$1","v":0}]
[{"$f":"'Absorbance Data'!D3163","v":568.20794677734375},{"$f":"'Absorbance Data'!E3163-Calculations!B$1","v":0},{"$f":"'Absorbance Data'!F3163-Calculations!C$1","v":0},{"$f":"'Absorbance Data'!G3163-Calculations!D$1","v":0},{"$f":"'Absorbance Data'!H3163-Calculations!E$1","v":0},{"$f":"'Absorbance Data'!I3163-Calculations!F$1","v":0},{"$f":"'Absorbance Data'!J3163-Calculations!G$1","v":0},{"$f":"'Absorbance Data'!K3163-Calculations!H$1","v":0},{"$f":"'Absorbance Data'!L3163-Calculations!I$1","v":0},{"$f":"'Absorbance Data'!M3163-Calculations!J$1","v":0},{"$f":"'Absorbance Data'!N3163-Calculations!K$1","v":0},{"$f":"'Absorbance Data'!O3163-Calculations!L$1","v":0},{"$f":"'Absorbance Data'!P3163-Calculations!M$1","v":0},{"$f":"'Absorbance Data'!Q3163-Calculations!N$1","v":0},{"$f":"'Absorbance Data'!R3163-Calculations!O$1","v":0},{"$f":"'Absorbance Data'!S3163-Calculations!P$1","v":0},{"$f":"'Absorbance Data'!T3163-Calculations!Q$1","v":0},{"$f":"'Absorbance Data'!U3163-Calculations!R$1","v":0},{"$f":"'Absorbance Data'!V3163-Calculations!S$1","v":0},{"$f":"'Absorbance Data'!W3163-Calculations!T$1","v":0},{"$f":"'Absorbance Data'!X3163-Calculations!U$1","v":0},{"$f":"'Absorbance Data'!Y3163-Calculations!V$1","v":0},{"$f":"'Absorbance Data'!Z3163-Calculations!W$1","v":0}]
[{"$f":"'Absorbance Data'!D3164","v":568.53240966796875},{"$f":"'Absorbance Data'!E3164-Calculations!B$1","v":0},{"$f":"'Absorbance Data'!F3164-Calculations!C$1","v":0},{"$f":"'Absorbance Data'!G3164-Calculations!D$1","v":0},{"$f":"'Absorbance Data'!H3164-Calculations!E$1","v":0},{"$f":"'Absorbance Data'!I3164-Calculations!F$1","v":0},{"$f":"'Absorbance Data'!J3164-Calculations!G$1","v":0},{"$f":"'Absorbance Data'!K3164-Calculations!H$1","v":0},{"$f":"'Absorbance Data'!L3164-Calculations!I$1","v":0},{"$f":"'Absorbance Data'!M3164-Calculations!J$1","v":0},{"$f":"'Absorbance Data'!N3164-Calculations!K$1","v":0},{"$f":"'Absorbance Data'!O3164-Calculations!L$1","v":0},{"$f":"'Absorbance Data'!P3164-Calculations!M$1","v":0},{"$f":"'Absorbance Data'!Q3164-Calculations!N$1","v":0},{"$f":"'Absorbance Data'!R3164-Calculations!O$1","v":0},{"$f":"'Absorbance Data'!S3164-Calculations!P$1","v":0},{"$f":"'Absorbance Data'!T3164-Calculations!Q$1","v":0},{"$f":"'Absorbance Data'!U3164-Calculations!R$1","v":0},{"$f":"'Absorbance Data'!V3164-Calculations!S$1","v":0},{"$f":"'Absorbance Data'!W3164-Calculations!T$1","v":0},{"$f":"'Absorbance Data'!X3164-Calculations!U$1","v":0},{"$f":"'Absorbance Data'!Y3164-Calculations!V$1","v":0},{"$f":"'Absorbance Data'!Z3164-Calculations!W$1","v":0}]
[{"$f":"'Absorbance Data'!D3165","v":568.8568115234375},{"$f":"'Absorbance Data'!E3165-Calculations!B$1","v":0},{"$f":"'Absorbance Data'!F3165-Calculations!C$1","v":0},{"$f":"'Absorbance Data'!G3165-Calculations!D$1","v":0},{"$f":"'Absorbance Data'!H3165-Calculations!E$1","v":0},{"$f":"'Absorbance Data'!I3165-Calculations!F$1","v":0},{"$f":"'Absorbance Data'!J3165-Calculations!G$1","v":0},{"$f":"'Absorbance Data'!K3165-Calculations!H$1","v":0},{"$f":"'Absorbance Data'!L3165-Calculations!I$1","v":0},{"$f":"'Absorbance Data'!M3165-Calculations!J$1","v":0},{"$f":"'Absorbance Data'!N3165-Calculations!K$1","v":0},{"$f":"'Absorbance Data'!O3165-Calculations!L$1","v":0},{"$f":"'Absorbance Data'!P3165-Calculations!M$1","v":0},{"$f":"'Absorbance Data'!Q3165-Calculations!N$1","v":0},{"$f":"'Absorbance Data'!R3165-Calculations!O$1","v":0},{"$f":"'Absorbance Data'!S3165-Calculations!P$1","v":0},{"$f":"'Absorbance Data'!T3165-Calculations!Q$1","v":0},{"$f":"'Absorbance Data'!U3165-Calculations!R$1","v":0},{"$f":"'Absorbance Data'!V3165-Calculations!S$1","v":0},{"$f":"'Absorbance Data'!W3165-Calculations!T$1","v":0},{"$f":"'Absorbance Data'!X3165-Calculations!U$1","v":0},{"$f":"'Absorbance Data'!Y3165-Calculations!V$1","v":0},{"$f":"'Absorbance Data'!Z3165-Calculations!W$1","v":0}]
[{"$f":"'Absorbance Data'!D3166","v":569.1812744140625},{"$f":"'Absorbance Data'!E3166-Calculations!B$1","v":0},{"$f":"'Absorbance Data'!F3166-Calculations!C$1","v":0},{"$f":"'Absorbance Data'!G3166-Calculations!D$1","v":0},{"$f":"'Absorbance Data'!H3166-Calculations!E$1","v":0},{"$f":"'Absorbance Data'!I3166-Calculations!F$1","v":0},{"$f":"'Absorbance Data'!J3166-Calculations!G$1","v":0},{"$f":"'Absorbance Data'!K3166-Calculations!H$1","v":0},{"$f":"'Absorbance Data'!L3166-Calculations!I$1","v":0},{"$f":"'Absorbance Data'!M3166-Calculations!J$1","v":0},{"$f":"'Absorbance Data'!N3166-Calculations!K$1","v":0},{"$f":"'Absorbance Data'!O3166-Calculations!L$1","v":0},{"$f":"'Absorbance Data'!P3166-Calculations!M$1","v":0},{"$f":"'Absorbance Data'!Q3166-Calculations!N$1","v":0},{"$f":"'Absorbance Data'!R3166-Calculations!O$1","v":0},{"$f":"'Absorbance Data'!S3166-Calculations!P$1","v":0},{"$f":"'Absorbance Data'!T3166-Calculations!Q$1","v":0},{"$f":"'Absorbance Data'!U3166-Calculations!R$1","v":0},{"$f":"'Absorbance Data'!V3166-Calculations!S$1","v":0},{"$f":"'Absorbance Data'!W3166-Calculations!T$1","v":0},{"$f":"'Absorbance Data'!X3166-Calculations!U$1","v":0},{"$f":"'Absorbance Data'!Y3166-Calculations!V$1","v":0},{"$f":"'Absorbance Data'!Z3166-Calculations!W$1","v":0}]
[{"$f":"'Absorbance Data'!D3167","v":569.50555419921875},{"$f":"'Absorbance Data'!E3167-Calculations!B$1","v":0},{"$f":"'Absorbance Data'!F3167-Calculations!C$1","v":0},{"$f":"'Absorbance Data'!G3167-Calculations!D$1","v":0},{"$f":"'Absorbance Data'!H3167-Calculations!E$1","v":0},{"$f":"'Absorbance Data'!I3167-Calculations!F$1","v":0},{"$f":"'Absorbance Data'!J3167-Calculations!G$1","v":0},{"$f":"'Absorbance Data'!K3167-Calculations!H$1","v":0},{"$f":"'Absorbance Data'!L3167-Calculations!I$1","v":0},{"$f":"'Absorbance Data'!M3167-Calculations!J$1","v":0},{"$f":"'Absorbance Data'!N3167-Calculations!K$1","v":0},{"$f":"'Absorbance Data'!O3167-Calculations!L$1","v":0},{"$f":"'Absorbance Data'!P3167-Calculations!M$1","v":0},{"$f":"'Absorbance Data'!Q3167-Calculations!N$1","v":0},{"$f":"'Absorbance Data'!R3167-Calculations!O$1","v":0},{"$f":"'Absorbance Data'!S3167-Calculations!P$1","v":0},{"$f":"'Absorbance Data'!T3167-Calculations!Q$1","v":0},{"$f":"'Absorbance Data'!U3167-Calculations!R$1","v":0},{"$f":"'Absorbance Data'!V3167-Calculations!S$1","v":0},{"$f":"'Absorbance Data'!W3167-Calculations!T$1","v":0},{"$f":"'Absorbance Data'!X3167-Calculations!U$1","v":0},{"$f":"'Absorbance Data'!Y3167-Calculations!V$1","v":0},{"$f":"'Absorbance Data'!Z3167-Calculations!W$1","v":0}]
[{"$f":"'Absorbance Data'!D3168","v":569.829833984375},{"$f":"'Absorbance Data'!E3168-Calculations!B$1","v":0},{"$f":"'Absorbance Data'!F3168-Calculations!C$1","v":0},{"$f":"'Absorbance Data'!G3168-Calculations!D$1","v":0},{"$f":"'Absorbance Data'!H3168-Calculations!E$1","v":0},{"$f":"'Absorbance Data'!I3168-Calculations!F$1","v":0},{"$f":"'Absorbance Data'!J3168-Calculations!G$1","v":0},{"$f":"'Absorbance Data'!K3168-Calculations!H$1","v":0},{"$f":"'Absorbance Data'!L3168-Calculations!I$1","v":0},{"$f":"'Absorbance Data'!M3168-Calculations!J$1","v":0},{"$f":"'Absorbance Data'!N3168-Calculations!K$1","v":0},{"$f":"'Absorbance Data'!O3168-Calculations!L$1","v":0},{"$f":"'Absorbance Data'!P3168-Calculations!M$1","v":0},{"$f":"'Absorbance Data'!Q3168-Calculations!N$1","v":0},{"$f":"'Absorbance Data'!R3168-Calculations!O$1","v":0},{"$f":"'Absorbance Data'!S3168-Calculations!P$1","v":0},{"$f":"'Absorbance Data'!T3168-Calculations!Q$1","v":0},{"$f":"'Absorbance Data'!U3168-Calculations!R$1","v":0},{"$f":"'Absorbance Data'!V3168-Calculations!S$1","v":0},{"$f":"'Absorbance Data'!W3168-Calculations!T$1","v":0},{"$f":"'Absorbance Data'!X3168-Calculations!U$1","v":0},{"$f":"'Absorbance Data'!Y3168-Calculations!V$1","v":0},{"$f":"'Absorbance Data'!Z3168-Calculations!W$1","v":0}]
[{"$f":"'Absorbance Data'!D3169","v":570.15411376953125},{"$f":"'Absorbance Data'!E3169-Calculations!B$1","v":0},{"$f":"'Absorbance Data'!F3169-Calculations!C$1","v":0},{"$f":"'Absorbance Data'!G3169-Calculations!D$1","v":0},{"$f":"'Absorbance Data'!H3169-Calculations!E$1","v":0},{"$f":"'Absorbance Data'!I3169-Calculations!F$1","v":0},{"$f":"'Absorbance Data'!J3169-Calculations!G$1","v":0},{"$f":"'Absorbance Data'!K3169-Calculations!H$1","v":0},{"$f":"'Absorbance Data'!L3169-Calculations!I$1","v":0},{"$f":"'Absorbance Data'!M3169-Calculations!J$1","v":0},{"$f":"'Absorbance Data'!N3169-Calculations!K$1","v":0},{"$f":"'Absorbance Data'!O3169-Calculations!L$1","v":0},{"$f":"'Absorbance Data'!P3169-Calculations!M$1","v":0},{"$f":"'Absorbance Data'!Q3169-Calculations!N$1","v":0},{"$f":"'Absorbance Data'!R3169-Calculations!O$1","v":0},{"$f":"'Absorbance Data'!S3169-Calculations!P$1","v":0},{"$f":"'Absorbance Data'!T3169-Calculations!Q$1","v":0},{"$f":"'Absorbance Data'!U3169-Calculations!R$1","v":0},{"$f":"'Absorbance Data'!V3169-Calculations!S$1","v":0},{"$f":"'Absorbance Data'!W3169-Calculations!T$1","v":0},{"$f":"'Absorbance Data'!X3169-Calculations!U$1","v":0},{"$f":"'Absorbance Data'!Y3169-Calculations!V$1","v":0},{"$f":"'Absorbance Data'!Z3169-Calculations!W$1","v":0}]
[{"$f":"'Absorbance Data'!D3170","v":570.47833251953125},{"$f":"'Absorbance Data'!E3170-Calculations!B$1","v":0},{"$f":"'Absorbance Data'!F3170-Calculations!C$1","v":0},{"$f":"'Absorbance Data'!G3170-Calculations!D$1","v":0},{"$f":"'Absorbance Data'!H3170-Calculations!E$1","v":0},{"$f":"'Absorbance Data'!I3170-Calculations!F$1","v":0},{"$f":"'Absorbance Data'!J3170-Calculations!G$1","v":0},{"$f":"'Absorbance Data'!K3170-Calculations!H$1","v":0},{"$f":"'Absorbance Data'!L3170-Calculations!I$1","v":0},{"$f":"'Absorbance Data'!M3170-Calculations!J$1","v":0},{"$f":"'Absorbance Data'!N3170-Calculations!K$1","v":0},{"$f":"'Absorbance Data'!O3170-Calculations!L$1","v":0},{"$f":"'Absorbance Data'!P3170-Calculations!M$1","v":0},{"$f":"'Absorbance Data'!Q3170-Calculations!N$1","v":0},{"$f":"'Absorbance Data'!R3170-Calculations!O$1","v":0},{"$f":"'Absorbance Data'!S3170-Calculations!P$1","v":0},{"$f":"'Absorbance Data'!T3170-Calculations!Q$1","v":0},{"$f":"'Absorbance Data'!U3170-Calculations!R$1","v":0},{"$f":"'Absorbance Data'!V3170-Calculations!S$1","v":0},{"$f":"'Absorbance Data'!W3170-Calculations!T$1","v":0},{"$f":"'Absorbance Data'!X3170-Calculations!U$1","v":0},{"$f":"'Absorbance Data'!Y3170-Calculations!V$1","v":0},{"$f":"'Absorbance Data'!Z3170-Calculations!W$1","v":0}]
[{"$f":"'Absorbance Data'!D3171","v":570.802490234375},{"$f":"'Absorbance Data'!E3171-Calculations!B$1","v":0},{"$f":"'Absorbance Data'!F3171-Calculations!C$1","v":0},{"$f":"'Absorbance Data'!G3171-Calculations!D$1","v":0},{"$f":"'Absorbance Data'!H3171-Calculations!E$1","v":0},{"$f":"'Absorbance Data'!I3171-Calculations!F$1","v":0},{"$f":"'Absorbance Data'!J3171-Calculations!G$1","v":0},{"$f":"'Absorbance Data'!K3171-Calculations!H$1","v":0},{"$f":"'Absorbance Data'!L3171-Calculations!I$1","v":0},{"$f":"'Absorbance Data'!M3171-Calculations!J$1","v":0},{"$f":"'Absorbance Data'!N3171-Calculations!K$1","v":0},{"$f":"'Absorbance Data'!O3171-Calculations!L$1","v":0},{"$f":"'Absorbance Data'!P3171-Calculations!M$1","v":0},{"$f":"'Absorbance Data'!Q3171-Calculations!N$1","v":0},{"$f":"'Absorbance Data'!R3171-Calculations!O$1","v":0},{"$f":"'Absorbance Data'!S3171-Calculations!P$1","v":0},{"$f":"'Absorbance Data'!T3171-Calculations!Q$1","v":0},{"$f":"'Absorbance Data'!U3171-Calculations!R$1","v":0},{"$f":"'Absorbance Data'!V3171-Calculations!S$1","v":0},{"$f":"'Absorbance Data'!W3171-Calculations!T$1","v":0},{"$f":"'Absorbance Data'!X3171-Calculations!U$1","v":0},{"$f":"'Absorbance Data'!Y3171-Calculations!V$1","v":0},{"$f":"'Absorbance Data'!Z3171-Calculations!W$1","v":0}]
[{"$f":"'Absorbance Data'!D3172","v":571.1265869140625},{"$f":"'Absorbance Data'!E3172-Calculations!B$1","v":0},{"$f":"'Absorbance Data'!F3172-Calculations!C$1","v":0},{"$f":"'Absorbance Data'!G3172-Calculations!D$1","v":0},{"$f":"'Absorbance Data'!H3172-Calculations!E$1","v":0},{"$f":"'Absorbance Data'!I3172-Calculations!F$1","v":0},{"$f":"'Absorbance Data'!J3172-Calculations!G$1","v":0},{"$f":"'Absorbance Data'!K3172-Calculations!H$1","v":0},{"$f":"'Absorbance Data'!L3172-Calculations!I$1","v":0},{"$f":"'Absorbance Data'!M3172-Calculations!J$1","v":0},{"$f":"'Absorbance Data'!N3172-Calculations!K$1","v":0},{"$f":"'Absorbance Data'!O3172-Calculations!L$1","v":0},{"$f":"'Absorbance Data'!P3172-Calculations!M$1","v":0},{"$f":"'Absorbance Data'!Q3172-Calculations!N$1","v":0},{"$f":"'Absorbance Data'!R3172-Calculations!O$1","v":0},{"$f":"'Absorbance Data'!S3172-Calculations!P$1","v":0},{"$f":"'Absorbance Data'!T3172-Calculations!Q$1","v":0},{"$f":"'Absorbance Data'!U3172-Calculations!R$1","v":0},{"$f":"'Absorbance Data'!V3172-Calculations!S$1","v":0},{"$f":"'Absorbance Data'!W3172-Calculations!T$1","v":0},{"$f":"'Absorbance Data'!X3172-Calculations!U$1","v":0},{"$f":"'Absorbance Data'!Y3172-Calculations!V$1","v":0},{"$f":"'Absorbance Data'!Z3172-Calculations!W$1","v":0}]
[{"$f":"'Absorbance Data'!D3173","v":571.45068359375},{"$f":"'Absorbance Data'!E3173-Calculations!B$1","v":0},{"$f":"'Absorbance Data'!F3173-Calculations!C$1","v":0},{"$f":"'Absorbance Data'!G3173-Calculations!D$1","v":0},{"$f":"'Absorbance Data'!H3173-Calculations!E$1","v":0},{"$f":"'Absorbance Data'!I3173-Calculations!F$1","v":0},{"$f":"'Absorbance Data'!J3173-Calculations!G$1","v":0},{"$f":"'Absorbance Data'!K3173-Calculations!H$1","v":0},{"$f":"'Absorbance Data'!L3173-Calculations!I$1","v":0},{"$f":"'Absorbance Data'!M3173-Calculations!J$1","v":0},{"$f":"'Absorbance Data'!N3173-Calculations!K$1","v":0},{"$f":"'Absorbance Data'!O3173-Calculations!L$1","v":0},{"$f":"'Absorbance Data'!P3173-Calculations!M$1","v":0},{"$f":"'Absorbance Data'!Q3173-Calculations!N$1","v":0},{"$f":"'Absorbance Data'!R3173-Calculations!O$1","v":0},{"$f":"'Absorbance Data'!S3173-Calculations!P$1","v":0},{"$f":"'Absorbance Data'!T3173-Calculations!Q$1","v":0},{"$f":"'Absorbance Data'!U3173-Calculations!R$1","v":0},{"$f":"'Absorbance Data'!V3173-Calculations!S$1","v":0},{"$f":"'Absorbance Data'!W3173-Calculations!T$1","v":0},{"$f":"'Absorbance Data'!X3173-Calculations!U$1","v":0},{"$f":"'Absorbance Data'!Y3173-Calculations!V$1","v":0},{"$f":"'Absorbance Data'!Z3173-Calculations!W$1","v":0}]
[{"$f":"'Absorbance Data'!D3174","v":571.77484130859375},{"$f":"'Absorbance Data'!E3174-Calculations!B$1","v":0},{"$f":"'Absorbance Data'!F3174-Calculations!C$1","v":0},{"$f":"'Absorbance Data'!G3174-Calculations!D$1","v":0},{"$f":"'Absorbance Data'!H3174-Calculations!E$1","v":0},{"$f":"'Absorbance Data'!I3174-Calculations!F$1","v":0},{"$f":"'Absorbance Data'!J3174-Calculations!G$1","v":0},{"$f":"'Absorbance Data'!K3174-Calculations!H$1","v":0},{"$f":"'Absorbance Data'!L3174-Calculations!I$1","v":0},{"$f":"'Absorbance Data'!M3174-Calculations!J$1","v":0},{"$f":"'Absorbance Data'!N3174-Calculations!K$1","v":0},{"$f":"'Absorbance Data'!O3174-Calculations!L$1","v":0},{"$f":"'Absorbance Data'!P3174-Calculations!M$1","v":0},{"$f":"'Absorbance Data'!Q3174-Calculations!N$1","v":0},{"$f":"'Absorbance Data'!R3174-Calculations!O$1","v":0},{"$f":"'Absorbance Data'!S3174-Calculations!P$1","v":0},{"$f":"'Absorbance Data'!T3174-Calculations!Q$1","v":0},{"$f":"'Absorbance Data'!U3174-Calculations!R$1","v":0},{"$f":"'Absorbance Data'!V3174-Calculations!S$1","v":0},{"$f":"'Absorbance Data'!W3174-Calculations!T$1","v":0},{"$f":"'Absorbance Data'!X3174-Calculations!U$1","v":0},{"$f":"'Absorbance Data'!Y3174-Calculations!V$1","v":0},{"$f":"'Absorbance Data'!Z3174-Calculations!W$1","v":0}]
[{"$f":"'Absorbance Data'!D3175","v":572.0987548828125},{"$f":"'Absorbance Data'!E3175-Calculations!B$1","v":0},{"$f":"'Absorbance Data'!F3175-Calculations!C$1","v":0},{"$f":"'Absorbance Data'!G3175-Calculations!D$1","v":0},{"$f":"'Absorbance Data'!H3175-Calculations!E$1","v":0},{"$f":"'Absorbance Data'!I3175-Calculations!F$1","v":0},{"$f":"'Absorbance Data'!J3175-Calculations!G$1","v":0},{"$f":"'Absorbance Data'!K3175-Calculations!H$1","v":0},{"$f":"'Absorbance Data'!L3175-Calculations!I$1","v":0},{"$f":"'Absorbance Data'!M3175-Calculations!J$1","v":0},{"$f":"'Absorbance Data'!N3175-Calculations!K$1","v":0},{"$f":"'Absorbance Data'!O3175-Calculations!L$1","v":0},{"$f":"'Absorbance Data'!P3175-Calculations!M$1","v":0},{"$f":"'Absorbance Data'!Q3175-Calculations!N$1","v":0},{"$f":"'Absorbance Data'!R3175-Calculations!O$1","v":0},{"$f":"'Absorbance Data'!S3175-Calculations!P$1","v":0},{"$f":"'Absorbance Data'!T3175-Calculations!Q$1","v":0},{"$f":"'Absorbance Data'!U3175-Calculations!R$1","v":0},{"$f":"'Absorbance Data'!V3175-Calculations!S$1","v":0},{"$f":"'Absorbance Data'!W3175-Calculations!T$1","v":0},{"$f":"'Absorbance Data'!X3175-Calculations!U$1","v":0},{"$f":"'Absorbance Data'!Y3175-Calculations!V$1","v":0},{"$f":"'Absorbance Data'!Z3175-Calculations!W$1","v":0}]
[{"$f":"'Absorbance Data'!D3176","v":572.42279052734375},{"$f":"'Absorbance Data'!E3176-Calculations!B$1","v":0},{"$f":"'Absorbance Data'!F3176-Calculations!C$1","v":0},{"$f":"'Absorbance Data'!G3176-Calculations!D$1","v":0},{"$f":"'Absorbance Data'!H3176-Calculations!E$1","v":0},{"$f":"'Absorbance Data'!I3176-Calculations!F$1","v":0},{"$f":"'Absorbance Data'!J3176-Calculations!G$1","v":0},{"$f":"'Absorbance Data'!K3176-Calculations!H$1","v":0},{"$f":"'Absorbance Data'!L3176-Calculations!I$1","v":0},{"$f":"'Absorbance Data'!M3176-Calculations!J$1","v":0},{"$f":"'Absorbance Data'!N3176-Calculations!K$1","v":0},{"$f":"'Absorbance Data'!O3176-Calculations!L$1","v":0},{"$f":"'Absorbance Data'!P3176-Calculations!M$1","v":0},{"$f":"'Absorbance Data'!Q3176-Calculations!N$1","v":0},{"$f":"'Absorbance Data'!R3176-Calculations!O$1","v":0},{"$f":"'Absorbance Data'!S3176-Calculations!P$1","v":0},{"$f":"'Absorbance Data'!T3176-Calculations!Q$1","v":0},{"$f":"'Absorbance Data'!U3176-Calculations!R$1","v":0},{"$f":"'Absorbance Data'!V3176-Calculations!S$1","v":0},{"$f":"'Absorbance Data'!W3176-Calculations!T$1","v":0},{"$f":"'Absorbance Data'!X3176-Calculations!U$1","v":0},{"$f":"'Absorbance Data'!Y3176-Calculations!V$1","v":0},{"$f":"'Absorbance Data'!Z3176-Calculations!W$1","v":0}]
[{"$f":"'Absorbance Data'!D3177","v":572.74676513671875},{"$f":"'Absorbance Data'!E3177-Calculations!B$1","v":0},{"$f":"'Absorbance Data'!F3177-Calculations!C$1","v":0},{"$f":"'Absorbance Data'!G3177-Calculations!D$1","v":0},{"$f":"'Absorbance Data'!H3177-Calculations!E$1","v":0},{"$f":"'Absorbance Data'!I3177-Calculations!F$1","v":0},{"$f":"'Absorbance Data'!J3177-Calculations!G$1","v":0},{"$f":"'Absorbance Data'!K3177-Calculations!H$1","v":0},{"$f":"'Absorbance Data'!L3177-Calculations!I$1","v":0},{"$f":"'Absorbance Data'!M3177-Calculations!J$1","v":0},{"$f":"'Absorbance Data'!N3177-Calculations!K$1","v":0},{"$f":"'Absorbance Data'!O3177-Calculations!L$1","v":0},{"$f":"'Absorbance Data'!P3177-Calculations!M$1","v":0},{"$f":"'Absorbance Data'!Q3177-Calculations!N$1","v":0},{"$f":"'Absorbance Data'!R3177-Calculations!O$1","v":0},{"$f":"'Absorbance Data'!S3177-Calculations!P$1","v":0},{"$f":"'Absorbance Data'!T3177-Calculations!Q$1","v":0},{"$f":"'Absorbance Data'!U3177-Calculations!R$1","v":0},{"$f":"'Absorbance Data'!V3177-Calculations!S$1","v":0},{"$f":"'Absorbance Data'!W3177-Calculations!T$1","v":0},{"$f":"'Absorbance Data'!X3177-Calculations!U$1","v":0},{"$f":"'Absorbance Data'!Y3177-Calculations!V$1","v":0},{"$f":"'Absorbance Data'!Z3177-Calculations!W$1","v":0}]
[{"$f":"'Absorbance Data'!D3178","v":573.07061767578125},{"$f":"'Absorbance Data'!E3178-Calculations!B$1","v":0},{"$f":"'Absorbance Data'!F3178-Calculations!C$1","v":0},{"$f":"'Absorbance Data'!G3178-Calculations!D$1","v":0},{"$f":"'Absorbance Data'!H3178-Calculations!E$1","v":0},{"$f":"'Absorbance Data'!I3178-Calculations!F$1","v":0},{"$f":"'Absorbance Data'!J3178-Calculations!G$1","v":0},{"$f":"'Absorbance Data'!K3178-Calculations!H$1","v":0},{"$f":"'Absorbance Data'!L3178-Calculations!I$1","v":0},{"$f":"'Absorbance Data'!M3178-Calculations!J$1","v":0},{"$f":"'Absorbance Data'!N3178-Calculations!K$1","v":0},{"$f":"'Absorbance Data'!O3178-Calculations!L$1","v":0},{"$f":"'Absorbance Data'!P3178-Calculations!M$1","v":0},{"$f":"'Absorbance Data'!Q3178-Calculations!N$1","v":0},{"$f":"'Absorbance Data'!R3178-Calculations!O$1","v":0},{"$f":"'Absorbance Data'!S3178-Calculations!P$1","v":0},{"$f":"'Absorbance Data'!T3178-Calculations!Q$1","v":0},{"$f":"'Absorbance Data'!U3178-Calculations!R$1","v":0},{"$f":"'Absorbance Data'!V3178-Calculations!S$1","v":0},{"$f":"'Absorbance Data'!W3178-Calculations!T$1","v":0},{"$f":"'Absorbance Data'!X3178-Calculations!U$1","v":0},{"$f":"'Absorbance Data'!Y3178-Calculations!V$1","v":0},{"$f":"'Absorbance Data'!Z3178-Calculations!W$1","v":0}]
[{"$f":"'Absorbance Data'!D3179","v":573.39447021484375},{"$f":"'Absorbance Data'!E3179-Calculations!B$1","v":0},{"$f":"'Absorbance Data'!F3179-Calculations!C$1","v":0},{"$f":"'Absorbance Data'!G3179-Calculations!D$1","v":0},{"$f":"'Absorbance Data'!H3179-Calculations!E$1","v":0},{"$f":"'Absorbance Data'!I3179-Calculations!F$1","v":0},{"$f":"'Absorbance Data'!J3179-Calculations!G$1","v":0},{"$f":"'Absorbance Data'!K3179-Calculations!H$1","v":0},{"$f":"'Absorbance Data'!L3179-Calculations!I$1","v":0},{"$f":"'Absorbance Data'!M3179-Calculations!J$1","v":0},{"$f":"'Absorbance Data'!N3179-Calculations!K$1","v":0},{"$f":"'Absorbance Data'!O3179-Calculations!L$1","v":0},{"$f":"'Absorbance Data'!P3179-Calculations!M$1","v":0},{"$f":"'Absorbance Data'!Q3179-Calculations!N$1","v":0},{"$f":"'Absorbance Data'!R3179-Calculations!O$1","v":0},{"$f":"'Absorbance Data'!S3179-Calculations!P$1","v":0},{"$f":"'Absorbance Data'!T3179-Calculations!Q$1","v":0},{"$f":"'Absorbance Data'!U3179-Calculations!R$1","v":0},{"$f":"'Absorbance Data'!V3179-Calculations!S$1","v":0},{"$f":"'Absorbance Data'!W3179-Calculations!T$1","v":0},{"$f":"'Absorbance Data'!X3179-Calculations!U$1","v":0},{"$f":"'Absorbance Data'!Y3179-Calculations!V$1","v":0},{"$f":"'Absorbance Data'!Z3179-Calculations!W$1","v":0}]
[{"$f":"'Absorbance Data'!D3180","v":573.71826171875},{"$f":"'Absorbance Data'!E3180-Calculations!B$1","v":0},{"$f":"'Absorbance Data'!F3180-Calculations!C$1","v":0},{"$f":"'Absorbance Data'!G3180-Calculations!D$1","v":0},{"$f":"'Absorbance Data'!H3180-Calculations!E$1","v":0},{"$f":"'Absorbance Data'!I3180-Calculations!F$1","v":0},{"$f":"'Absorbance Data'!J3180-Calculations!G$1","v":0},{"$f":"'Absorbance Data'!K3180-Calculations!H$1","v":0},{"$f":"'Absorbance Data'!L3180-Calculations!I$1","v":0},{"$f":"'Absorbance Data'!M3180-Calculations!J$1","v":0},{"$f":"'Absorbance Data'!N3180-Calculations!K$1","v":0},{"$f":"'Absorbance Data'!O3180-Calculations!L$1","v":0},{"$f":"'Absorbance Data'!P3180-Calculations!M$1","v":0},{"$f":"'Absorbance Data'!Q3180-Calculations!N$1","v":0},{"$f":"'Absorbance Data'!R3180-Calculations!O$1","v":0},{"$f":"'Absorbance Data'!S3180-Calculations!P$1","v":0},{"$f":"'Absorbance Data'!T3180-Calculations!Q$1","v":0},{"$f":"'Absorbance Data'!U3180-Calculations!R$1","v":0},{"$f":"'Absorbance Data'!V3180-Calculations!S$1","v":0},{"$f":"'Absorbance Data'!W3180-Calculations!T$1","v":0},{"$f":"'Absorbance Data'!X3180-Calculations!U$1","v":0},{"$f":"'Absorbance Data'!Y3180-Calculations!V$1","v":0},{"$f":"'Absorbance Data'!Z3180-Calculations!W$1","v":0}]
[{"$f":"'Absorbance Data'!D3181","v":574.04205322265625},{"$f":"'Absorbance Data'!E3181-Calculations!B$1","v":0},{"$f":"'Absorbance Data'!F3181-Calculations!C$1","v":0},{"$f":"'Absorbance Data'!G3181-Calculations!D$1","v":0},{"$f":"'Absorbance Data'!H3181-Calculations!E$1","v":0},{"$f":"'Absorbance Data'!I3181-Calculations!F$1","v":0},{"$f":"'Absorbance Data'!J3181-Calculations!G$1","v":0},{"$f":"'Absorbance Data'!K3181-Calculations!H$1","v":0},{"$f":"'Absorbance Data'!L3181-Calculations!I$1","v":0},{"$f":"'Absorbance Data'!M3181-Calculations!J$1","v":0},{"$f":"'Absorbance Data'!N3181-Calculations!K$1","v":0},{"$f":"'Absorbance Data'!O3181-Calculations!L$1","v":0},{"$f":"'Absorbance Data'!P3181-Calculations!M$1","v":0},{"$f":"'Absorbance Data'!Q3181-Calculations!N$1","v":0},{"$f":"'Absorbance Data'!R3181-Calculations!O$1","v":0},{"$f":"'Absorbance Data'!S3181-Calculations!P$1","v":0},{"$f":"'Absorbance Data'!T3181-Calculations!Q$1","v":0},{"$f":"'Absorbance Data'!U3181-Calculations!R$1","v":0},{"$f":"'Absorbance Data'!V3181-Calculations!S$1","v":0},{"$f":"'Absorbance Data'!W3181-Calculations!T$1","v":0},{"$f":"'Absorbance Data'!X3181-Calculations!U$1","v":0},{"$f":"'Absorbance Data'!Y3181-Calculations!V$1","v":0},{"$f":"'Absorbance Data'!Z3181-Calculations!W$1","v":0}]
[{"$f":"'Absorbance Data'!D3182","v":574.3658447265625},{"$f":"'Absorbance Data'!E3182-Calculations!B$1","v":0},{"$f":"'Absorbance Data'!F3182-Calculations!C$1","v":0},{"$f":"'Absorbance Data'!G3182-Calculations!D$1","v":0},{"$f":"'Absorbance Data'!H3182-Calculations!E$1","v":0},{"$f":"'Absorbance Data'!I3182-Calculations!F$1","v":0},{"$f":"'Absorbance Data'!J3182-Calculations!G$1","v":0},{"$f":"'Absorbance Data'!K3182-Calculations!H$1","v":0},{"$f":"'Absorbance Data'!L3182-Calculations!I$1","v":0},{"$f":"'Absorbance Data'!M3182-Calculations!J$1","v":0},{"$f":"'Absorbance Data'!N3182-Calculations!K$1","v":0},{"$f":"'Absorbance Data'!O3182-Calculations!L$1","v":0},{"$f":"'Absorbance Data'!P3182-Calculations!M$1","v":0},{"$f":"'Absorbance Data'!Q3182-Calculations!N$1","v":0},{"$f":"'Absorbance Data'!R3182-Calculations!O$1","v":0},{"$f":"'Absorbance Data'!S3182-Calculations!P$1","v":0},{"$f":"'Absorbance Data'!T3182-Calculations!Q$1","v":0},{"$f":"'Absorbance Data'!U3182-Calculations!R$1","v":0},{"$f":"'Absorbance Data'!V3182-Calculations!S$1","v":0},{"$f":"'Absorbance Data'!W3182-Calculations!T$1","v":0},{"$f":"'Absorbance Data'!X3182-Calculations!U$1","v":0},{"$f":"'Absorbance Data'!Y3182-Calculations!V$1","v":0},{"$f":"'Absorbance Data'!Z3182-Calculations!W$1","v":0}]
[{"$f":"'Absorbance Data'!D3183","v":574.68951416015625},{"$f":"'Absorbance Data'!E3183-Calculations!B$1","v":0},{"$f":"'Absorbance Data'!F3183-Calculations!C$1","v":0},{"$f":"'Absorbance Data'!G3183-Calculations!D$1","v":0},{"$f":"'Absorbance Data'!H3183-Calculations!E$1","v":0},{"$f":"'Absorbance Data'!I3183-Calculations!F$1","v":0},{"$f":"'Absorbance Data'!J3183-Calculations!G$1","v":0},{"$f":"'Absorbance Data'!K3183-Calculations!H$1","v":0},{"$f":"'Absorbance Data'!L3183-Calculations!I$1","v":0},{"$f":"'Absorbance Data'!M3183-Calculations!J$1","v":0},{"$f":"'Absorbance Data'!N3183-Calculations!K$1","v":0},{"$f":"'Absorbance Data'!O3183-Calculations!L$1","v":0},{"$f":"'Absorbance Data'!P3183-Calculations!M$1","v":0},{"$f":"'Absorbance Data'!Q3183-Calculations!N$1","v":0},{"$f":"'Absorbance Data'!R3183-Calculations!O$1","v":0},{"$f":"'Absorbance Data'!S3183-Calculations!P$1","v":0},{"$f":"'Absorbance Data'!T3183-Calculations!Q$1","v":0},{"$f":"'Absorbance Data'!U3183-Calculations!R$1","v":0},{"$f":"'Absorbance Data'!V3183-Calculations!S$1","v":0},{"$f":"'Absorbance Data'!W3183-Calculations!T$1","v":0},{"$f":"'Absorbance Data'!X3183-Calculations!U$1","v":0},{"$f":"'Absorbance Data'!Y3183-Calculations!V$1","v":0},{"$f":"'Absorbance Data'!Z3183-Calculations!W$1","v":0}]
[{"$f":"'Absorbance Data'!D3184","v":575.01312255859375},{"$f":"'Absorbance Data'!E3184-Calculations!B$1","v":0},{"$f":"'Absorbance Data'!F3184-Calculations!C$1","v":0},{"$f":"'Absorbance Data'!G3184-Calculations!D$1","v":0},{"$f":"'Absorbance Data'!H3184-Calculations!E$1","v":0},{"$f":"'Absorbance Data'!I3184-Calculations!F$1","v":0},{"$f":"'Absorbance Data'!J3184-Calculations!G$1","v":0},{"$f":"'Absorbance Data'!K3184-Calculations!H$1","v":0},{"$f":"'Absorbance Data'!L3184-Calculations!I$1","v":0},{"$f":"'Absorbance Data'!M3184-Calculations!J$1","v":0},{"$f":"'Absorbance Data'!N3184-Calculations!K$1","v":0},{"$f":"'Absorbance Data'!O3184-Calculations!L$1","v":0},{"$f":"'Absorbance Data'!P3184-Calculations!M$1","v":0},{"$f":"'Absorbance Data'!Q3184-Calculations!N$1","v":0},{"$f":"'Absorbance Data'!R3184-Calculations!O$1","v":0},{"$f":"'Absorbance Data'!S3184-Calculations!P$1","v":0},{"$f":"'Absorbance Data'!T3184-Calculations!Q$1","v":0},{"$f":"'Absorbance Data'!U3184-Calculations!R$1","v":0},{"$f":"'Absorbance Data'!V3184-Calculations!S$1","v":0},{"$f":"'Absorbance Data'!W3184-Calculations!T$1","v":0},{"$f":"'Absorbance Data'!X3184-Calculations!U$1","v":0},{"$f":"'Absorbance Data'!Y3184-Calculations!V$1","v":0},{"$f":"'Absorbance Data'!Z3184-Calculations!W$1","v":0}]
[{"$f":"'Absorbance Data'!D3185","v":575.33685302734375},{"$f":"'Absorbance Data'!E3185-Calculations!B$1","v":0},{"$f":"'Absorbance Data'!F3185-Calculations!C$1","v":0},{"$f":"'Absorbance Data'!G3185-Calculations!D$1","v":0},{"$f":"'Absorbance Data'!H3185-Calculations!E$1","v":0},{"$f":"'Absorbance Data'!I3185-Calculations!F$1","v":0},{"$f":"'Absorbance Data'!J3185-Calculations!G$1","v":0},{"$f":"'Absorbance Data'!K3185-Calculations!H$1","v":0},{"$f":"'Absorbance Data'!L3185-Calculations!I$1","v":0},{"$f":"'Absorbance Data'!M3185-Calculations!J$1","v":0},{"$f":"'Absorbance Data'!N3185-Calculations!K$1","v":0},{"$f":"'Absorbance Data'!O3185-Calculations!L$1","v":0},{"$f":"'Absorbance Data'!P3185-Calculations!M$1","v":0},{"$f":"'Absorbance Data'!Q3185-Calculations!N$1","v":0},{"$f":"'Absorbance Data'!R3185-Calculations!O$1","v":0},{"$f":"'Absorbance Data'!S3185-Calculations!P$1","v":0},{"$f":"'Absorbance Data'!T3185-Calculations!Q$1","v":0},{"$f":"'Absorbance Data'!U3185-Calculations!R$1","v":0},{"$f":"'Absorbance Data'!V3185-Calculations!S$1","v":0},{"$f":"'Absorbance Data'!W3185-Calculations!T$1","v":0},{"$f":"'Absorbance Data'!X3185-Calculations!U$1","v":0},{"$f":"'Absorbance Data'!Y3185-Calculations!V$1","v":0},{"$f":"'Absorbance Data'!Z3185-Calculations!W$1","v":0}]
[{"$f":"'Absorbance Data'!D3186","v":575.66046142578125},{"$f":"'Absorbance Data'!E3186-Calculations!B$1","v":0},{"$f":"'Absorbance Data'!F3186-Calculations!C$1","v":0},{"$f":"'Absorbance Data'!G3186-Calculations!D$1","v":0},{"$f":"'Absorbance Data'!H3186-Calculations!E$1","v":0},{"$f":"'Absorbance Data'!I3186-Calculations!F$1","v":0},{"$f":"'Absorbance Data'!J3186-Calculations!G$1","v":0},{"$f":"'Absorbance Data'!K3186-Calculations!H$1","v":0},{"$f":"'Absorbance Data'!L3186-Calculations!I$1","v":0},{"$f":"'Absorbance Data'!M3186-Calculations!J$1","v":0},{"$f":"'Absorbance Data'!N3186-Calculations!K$1","v":0},{"$f":"'Absorbance Data'!O3186-Calculations!L$1","v":0},{"$f":"'Absorbance Data'!P3186-Calculations!M$1","v":0},{"$f":"'Absorbance Data'!Q3186-Calculations!N$1","v":0},{"$f":"'Absorbance Data'!R3186-Calculations!O$1","v":0},{"$f":"'Absorbance Data'!S3186-Calculations!P$1","v":0},{"$f":"'Absorbance Data'!T3186-Calculations!Q$1","v":0},{"$f":"'Absorbance Data'!U3186-Calculations!R$1","v":0},{"$f":"'Absorbance Data'!V3186-Calculations!S$1","v":0},{"$f":"'Absorbance Data'!W3186-Calculations!T$1","v":0},{"$f":"'Absorbance Data'!X3186-Calculations!U$1","v":0},{"$f":"'Absorbance Data'!Y3186-Calculations!V$1","v":0},{"$f":"'Absorbance Data'!Z3186-Calculations!W$1","v":0}]
[{"$f":"'Absorbance Data'!D3187","v":575.98388671875},{"$f":"'Absorbance Data'!E3187-Calculations!B$1","v":0},{"$f":"'Absorbance Data'!F3187-Calculations!C$1","v":0},{"$f":"'Absorbance Data'!G3187-Calculations!D$1","v":0},{"$f":"'Absorbance Data'!H3187-Calculations!E$1","v":0},{"$f":"'Absorbance Data'!I3187-Calculations!F$1","v":0},{"$f":"'Absorbance Data'!J3187-Calculations!G$1","v":0},{"$f":"'Absorbance Data'!K3187-Calculations!H$1","v":0},{"$f":"'Absorbance Data'!L3187-Calculations!I$1","v":0},{"$f":"'Absorbance Data'!M3187-Calculations!J$1","v":0},{"$f":"'Absorbance Data'!N3187-Calculations!K$1","v":0},{"$f":"'Absorbance Data'!O3187-Calculations!L$1","v":0},{"$f":"'Absorbance Data'!P3187-Calculations!M$1","v":0},{"$f":"'Absorbance Data'!Q3187-Calculations!N$1","v":0},{"$f":"'Absorbance Data'!R3187-Calculations!O$1","v":0},{"$f":"'Absorbance Data'!S3187-Calculations!P$1","v":0},{"$f":"'Absorbance Data'!T3187-Calculations!Q$1","v":0},{"$f":"'Absorbance Data'!U3187-Calculations!R$1","v":0},{"$f":"'Absorbance Data'!V3187-Calculations!S$1","v":0},{"$f":"'Absorbance Data'!W3187-Calculations!T$1","v":0},{"$f":"'Absorbance Data'!X3187-Calculations!U$1","v":0},{"$f":"'Absorbance Data'!Y3187-Calculations!V$1","v":0},{"$f":"'Absorbance Data'!Z3187-Calculations!W$1","v":0}]
[{"$f":"'Absorbance Data'!D3188","v":576.30743408203125},{"$f":"'Absorbance Data'!E3188-Calculations!B$1","v":0},{"$f":"'Absorbance Data'!F3188-Calculations!C$1","v":0},{"$f":"'Absorbance Data'!G3188-Calculations!D$1","v":0},{"$f":"'Absorbance Data'!H3188-Calculations!E$1","v":0},{"$f":"'Absorbance Data'!I3188-Calculations!F$1","v":0},{"$f":"'Absorbance Data'!J3188-Calculations!G$1","v":0},{"$f":"'Absorbance Data'!K3188-Calculations!H$1","v":0},{"$f":"'Absorbance Data'!L3188-Calculations!I$1","v":0},{"$f":"'Absorbance Data'!M3188-Calculations!J$1","v":0},{"$f":"'Absorbance Data'!N3188-Calculations!K$1","v":0},{"$f":"'Absorbance Data'!O3188-Calculations!L$1","v":0},{"$f":"'Absorbance Data'!P3188-Calculations!M$1","v":0},{"$f":"'Absorbance Data'!Q3188-Calculations!N$1","v":0},{"$f":"'Absorbance Data'!R3188-Calculations!O$1","v":0},{"$f":"'Absorbance Data'!S3188-Calculations!P$1","v":0},{"$f":"'Absorbance Data'!T3188-Calculations!Q$1","v":0},{"$f":"'Absorbance Data'!U3188-Calculations!R$1","v":0},{"$f":"'Absorbance Data'!V3188-Calculations!S$1","v":0},{"$f":"'Absorbance Data'!W3188-Calculations!T$1","v":0},{"$f":"'Absorbance Data'!X3188-Calculations!U$1","v":0},{"$f":"'Absorbance Data'!Y3188-Calculations!V$1","v":0},{"$f":"'Absorbance Data'!Z3188-Calculations!W$1","v":0}]
[{"$f":"'Absorbance Data'!D3189","v":576.63092041015625},{"$f":"'Absorbance Data'!E3189-Calculations!B$1","v":0},{"$f":"'Absorbance Data'!F3189-Calculations!C$1","v":0},{"$f":"'Absorbance Data'!G3189-Calculations!D$1","v":0},{"$f":"'Absorbance Data'!H3189-Calculations!E$1","v":0},{"$f":"'Absorbance Data'!I3189-Calculations!F$1","v":0},{"$f":"'Absorbance Data'!J3189-Calculations!G$1","v":0},{"$f":"'Absorbance Data'!K3189-Calculations!H$1","v":0},{"$f":"'Absorbance Data'!L3189-Calculations!I$1","v":0},{"$f":"'Absorbance Data'!M3189-Calculations!J$1","v":0},{"$f":"'Absorbance Data'!N3189-Calculations!K$1","v":0},{"$f":"'Absorbance Data'!O3189-Calculations!L$1","v":0},{"$f":"'Absorbance Data'!P3189-Calculations!M$1","v":0},{"$f":"'Absorbance Data'!Q3189-Calculations!N$1","v":0},{"$f":"'Absorbance Data'!R3189-Calculations!O$1","v":0},{"$f":"'Absorbance Data'!S3189-Calculations!P$1","v":0},{"$f":"'Absorbance Data'!T3189-Calculations!Q$1","v":0},{"$f":"'Absorbance Data'!U3189-Calculations!R$1","v":0},{"$f":"'Absorbance Data'!V3189-Calculations!S$1","v":0},{"$f":"'Absorbance Data'!W3189-Calculations!T$1","v":0},{"$f":"'Absorbance Data'!X3189-Calculations!U$1","v":0},{"$f":"'Absorbance Data'!Y3189-Calculations!V$1","v":0},{"$f":"'Absorbance Data'!Z3189-Calculations!W$1","v":0}]
[{"$f":"'Absorbance Data'!D3190","v":576.954345703125},{"$f":"'Absorbance Data'!E3190-Calculations!B$1","v":0},{"$f":"'Absorbance Data'!F3190-Calculations!C$1","v":0},{"$f":"'Absorbance Data'!G3190-Calculations!D$1","v":0},{"$f":"'Absorbance Data'!H3190-Calculations!E$1","v":0},{"$f":"'Absorbance Data'!I3190-Calculations!F$1","v":0},{"$f":"'Absorbance Data'!J3190-Calculations!G$1","v":0},{"$f":"'Absorbance Data'!K3190-Calculations!H$1","v":0},{"$f":"'Absorbance Data'!L3190-Calculations!I$1","v":0},{"$f":"'Absorbance Data'!M3190-Calculations!J$1","v":0},{"$f":"'Absorbance Data'!N3190-Calculations!K$1","v":0},{"$f":"'Absorbance Data'!O3190-Calculations!L$1","v":0},{"$f":"'Absorbance Data'!P3190-Calculations!M$1","v":0},{"$f":"'Absorbance Data'!Q3190-Calculations!N$1","v":0},{"$f":"'Absorbance Data'!R3190-Calculations!O$1","v":0},{"$f":"'Absorbance Data'!S3190-Calculations!P$1","v":0},{"$f":"'Absorbance Data'!T3190-Calculations!Q$1","v":0},{"$f":"'Absorbance Data'!U3190-Calculations!R$1","v":0},{"$f":"'Absorbance Data'!V3190-Calculations!S$1","v":0},{"$f":"'Absorbance Data'!W3190-Calculations!T$1","v":0},{"$f":"'Absorbance Data'!X3190-Calculations!U$1","v":0},{"$f":"'Absorbance Data'!Y3190-Calculations!V$1","v":0},{"$f":"'Absorbance Data'!Z3190-Calculations!W$1","v":0}]
[{"$f":"'Absorbance Data'!D3191","v":577.2777099609375},{"$f":"'Absorbance Data'!E3191-Calculations!B$1","v":0},{"$f":"'Absorbance Data'!F3191-Calculations!C$1","v":0},{"$f":"'Absorbance Data'!G3191-Calculations!D$1","v":0},{"$f":"'Absorbance Data'!H3191-Calculations!E$1","v":0},{"$f":"'Absorbance Data'!I3191-Calculations!F$1","v":0},{"$f":"'Absorbance Data'!J3191-Calculations!G$1","v":0},{"$f":"'Absorbance Data'!K3191-Calculations!H$1","v":0},{"$f":"'Absorbance Data'!L3191-Calculations!I$1","v":0},{"$f":"'Absorbance Data'!M3191-Calculations!J$1","v":0},{"$f":"'Absorbance Data'!N3191-Calculations!K$1","v":0},{"$f":"'Absorbance Data'!O3191-Calculations!L$1","v":0},{"$f":"'Absorbance Data'!P3191-Calculations!M$1","v":0},{"$f":"'Absorbance Data'!Q3191-Calculations!N$1","v":0},{"$f":"'Absorbance Data'!R3191-Calculations!O$1","v":0},{"$f":"'Absorbance Data'!S3191-Calculations!P$1","v":0},{"$f":"'Absorbance Data'!T3191-Calculations!Q$1","v":0},{"$f":"'Absorbance Data'!U3191-Calculations!R$1","v":0},{"$f":"'Absorbance Data'!V3191-Calculations!S$1","v":0},{"$f":"'Absorbance Data'!W3191-Calculations!T$1","v":0},{"$f":"'Absorbance Data'!X3191-Calculations!U$1","v":0},{"$f":"'Absorbance Data'!Y3191-Calculations!V$1","v":0},{"$f":"'Absorbance Data'!Z3191-Calculations!W$1","v":0}]
[{"$f":"'Absorbance Data'!D3192","v":577.60113525390625},{"$f":"'Absorbance Data'!E3192-Calculations!B$1","v":0},{"$f":"'Absorbance Data'!F3192-Calculations!C$1","v":0},{"$f":"'Absorbance Data'!G3192-Calculations!D$1","v":0},{"$f":"'Absorbance Data'!H3192-Calculations!E$1","v":0},{"$f":"'Absorbance Data'!I3192-Calculations!F$1","v":0},{"$f":"'Absorbance Data'!J3192-Calculations!G$1","v":0},{"$f":"'Absorbance Data'!K3192-Calculations!H$1","v":0},{"$f":"'Absorbance Data'!L3192-Calculations!I$1","v":0},{"$f":"'Absorbance Data'!M3192-Calculations!J$1","v":0},{"$f":"'Absorbance Data'!N3192-Calculations!K$1","v":0},{"$f":"'Absorbance Data'!O3192-Calculations!L$1","v":0},{"$f":"'Absorbance Data'!P3192-Calculations!M$1","v":0},{"$f":"'Absorbance Data'!Q3192-Calculations!N$1","v":0},{"$f":"'Absorbance Data'!R3192-Calculations!O$1","v":0},{"$f":"'Absorbance Data'!S3192-Calculations!P$1","v":0},{"$f":"'Absorbance Data'!T3192-Calculations!Q$1","v":0},{"$f":"'Absorbance Data'!U3192-Calculations!R$1","v":0},{"$f":"'Absorbance Data'!V3192-Calculations!S$1","v":0},{"$f":"'Absorbance Data'!W3192-Calculations!T$1","v":0},{"$f":"'Absorbance Data'!X3192-Calculations!U$1","v":0},{"$f":"'Absorbance Data'!Y3192-Calculations!V$1","v":0},{"$f":"'Absorbance Data'!Z3192-Calculations!W$1","v":0}]
[{"$f":"'Absorbance Data'!D3193","v":577.92437744140625},{"$f":"'Absorbance Data'!E3193-Calculations!B$1","v":0},{"$f":"'Absorbance Data'!F3193-Calculations!C$1","v":0},{"$f":"'Absorbance Data'!G3193-Calculations!D$1","v":0},{"$f":"'Absorbance Data'!H3193-Calculations!E$1","v":0},{"$f":"'Absorbance Data'!I3193-Calculations!F$1","v":0},{"$f":"'Absorbance Data'!J3193-Calculations!G$1","v":0},{"$f":"'Absorbance Data'!K3193-Calculations!H$1","v":0},{"$f":"'Absorbance Data'!L3193-Calculations!I$1","v":0},{"$f":"'Absorbance Data'!M3193-Calculations!J$1","v":0},{"$f":"'Absorbance Data'!N3193-Calculations!K$1","v":0},{"$f":"'Absorbance Data'!O3193-Calculations!L$1","v":0},{"$f":"'Absorbance Data'!P3193-Calculations!M$1","v":0},{"$f":"'Absorbance Data'!Q3193-Calculations!N$1","v":0},{"$f":"'Absorbance Data'!R3193-Calculations!O$1","v":0},{"$f":"'Absorbance Data'!S3193-Calculations!P$1","v":0},{"$f":"'Absorbance Data'!T3193-Calculations!Q$1","v":0},{"$f":"'Absorbance Data'!U3193-Calculations!R$1","v":0},{"$f":"'Absorbance Data'!V3193-Calculations!S$1","v":0},{"$f":"'Absorbance Data'!W3193-Calculations!T$1","v":0},{"$f":"'Absorbance Data'!X3193-Calculations!U$1","v":0},{"$f":"'Absorbance Data'!Y3193-Calculations!V$1","v":0},{"$f":"'Absorbance Data'!Z3193-Calculations!W$1","v":0}]
[{"$f":"'Absorbance Data'!D3194","v":578.2476806640625},{"$f":"'Absorbance Data'!E3194-Calculations!B$1","v":0},{"$f":"'Absorbance Data'!F3194-Calculations!C$1","v":0},{"$f":"'Absorbance Data'!G3194-Calculations!D$1","v":0},{"$f":"'Absorbance Data'!H3194-Calculations!E$1","v":0},{"$f":"'Absorbance Data'!I3194-Calculations!F$1","v":0},{"$f":"'Absorbance Data'!J3194-Calculations!G$1","v":0},{"$f":"'Absorbance Data'!K3194-Calculations!H$1","v":0},{"$f":"'Absorbance Data'!L3194-Calculations!I$1","v":0},{"$f":"'Absorbance Data'!M3194-Calculations!J$1","v":0},{"$f":"'Absorbance Data'!N3194-Calculations!K$1","v":0},{"$f":"'Absorbance Data'!O3194-Calculations!L$1","v":0},{"$f":"'Absorbance Data'!P3194-Calculations!M$1","v":0},{"$f":"'Absorbance Data'!Q3194-Calculations!N$1","v":0},{"$f":"'Absorbance Data'!R3194-Calculations!O$1","v":0},{"$f":"'Absorbance Data'!S3194-Calculations!P$1","v":0},{"$f":"'Absorbance Data'!T3194-Calculations!Q$1","v":0},{"$f":"'Absorbance Data'!U3194-Calculations!R$1","v":0},{"$f":"'Absorbance Data'!V3194-Calculations!S$1","v":0},{"$f":"'Absorbance Data'!W3194-Calculations!T$1","v":0},{"$f":"'Absorbance Data'!X3194-Calculations!U$1","v":0},{"$f":"'Absorbance Data'!Y3194-Calculations!V$1","v":0},{"$f":"'Absorbance Data'!Z3194-Calculations!W$1","v":0}]
[{"$f":"'Absorbance Data'!D3195","v":578.5709228515625},{"$f":"'Absorbance Data'!E3195-Calculations!B$1","v":0},{"$f":"'Absorbance Data'!F3195-Calculations!C$1","v":0},{"$f":"'Absorbance Data'!G3195-Calculations!D$1","v":0},{"$f":"'Absorbance Data'!H3195-Calculations!E$1","v":0},{"$f":"'Absorbance Data'!I3195-Calculations!F$1","v":0},{"$f":"'Absorbance Data'!J3195-Calculations!G$1","v":0},{"$f":"'Absorbance Data'!K3195-Calculations!H$1","v":0},{"$f":"'Absorbance Data'!L3195-Calculations!I$1","v":0},{"$f":"'Absorbance Data'!M3195-Calculations!J$1","v":0},{"$f":"'Absorbance Data'!N3195-Calculations!K$1","v":0},{"$f":"'Absorbance Data'!O3195-Calculations!L$1","v":0},{"$f":"'Absorbance Data'!P3195-Calculations!M$1","v":0},{"$f":"'Absorbance Data'!Q3195-Calculations!N$1","v":0},{"$f":"'Absorbance Data'!R3195-Calculations!O$1","v":0},{"$f":"'Absorbance Data'!S3195-Calculations!P$1","v":0},{"$f":"'Absorbance Data'!T3195-Calculations!Q$1","v":0},{"$f":"'Absorbance Data'!U3195-Calculations!R$1","v":0},{"$f":"'Absorbance Data'!V3195-Calculations!S$1","v":0},{"$f":"'Absorbance Data'!W3195-Calculations!T$1","v":0},{"$f":"'Absorbance Data'!X3195-Calculations!U$1","v":0},{"$f":"'Absorbance Data'!Y3195-Calculations!V$1","v":0},{"$f":"'Absorbance Data'!Z3195-Calculations!W$1","v":0}]
[{"$f":"'Absorbance Data'!D3196","v":578.89404296875},{"$f":"'Absorbance Data'!E3196-Calculations!B$1","v":0},{"$f":"'Absorbance Data'!F3196-Calculations!C$1","v":0},{"$f":"'Absorbance Data'!G3196-Calculations!D$1","v":0},{"$f":"'Absorbance Data'!H3196-Calculations!E$1","v":0},{"$f":"'Absorbance Data'!I3196-Calculations!F$1","v":0},{"$f":"'Absorbance Data'!J3196-Calculations!G$1","v":0},{"$f":"'Absorbance Data'!K3196-Calculations!H$1","v":0},{"$f":"'Absorbance Data'!L3196-Calculations!I$1","v":0},{"$f":"'Absorbance Data'!M3196-Calculations!J$1","v":0},{"$f":"'Absorbance Data'!N3196-Calculations!K$1","v":0},{"$f":"'Absorbance Data'!O3196-Calculations!L$1","v":0},{"$f":"'Absorbance Data'!P3196-Calculations!M$1","v":0},{"$f":"'Absorbance Data'!Q3196-Calculations!N$1","v":0},{"$f":"'Absorbance Data'!R3196-Calculations!O$1","v":0},{"$f":"'Absorbance Data'!S3196-Calculations!P$1","v":0},{"$f":"'Absorbance Data'!T3196-Calculations!Q$1","v":0},{"$f":"'Absorbance Data'!U3196-Calculations!R$1","v":0},{"$f":"'Absorbance Data'!V3196-Calculations!S$1","v":0},{"$f":"'Absorbance Data'!W3196-Calculations!T$1","v":0},{"$f":"'Absorbance Data'!X3196-Calculations!U$1","v":0},{"$f":"'Absorbance Data'!Y3196-Calculations!V$1","v":0},{"$f":"'Absorbance Data'!Z3196-Calculations!W$1","v":0}]
[{"$f":"'Absorbance Data'!D3197","v":579.21722412109375},{"$f":"'Absorbance Data'!E3197-Calculations!B$1","v":0},{"$f":"'Absorbance Data'!F3197-Calculations!C$1","v":0},{"$f":"'Absorbance Data'!G3197-Calculations!D$1","v":0},{"$f":"'Absorbance Data'!H3197-Calculations!E$1","v":0},{"$f":"'Absorbance Data'!I3197-Calculations!F$1","v":0},{"$f":"'Absorbance Data'!J3197-Calculations!G$1","v":0},{"$f":"'Absorbance Data'!K3197-Calculations!H$1","v":0},{"$f":"'Absorbance Data'!L3197-Calculations!I$1","v":0},{"$f":"'Absorbance Data'!M3197-Calculations!J$1","v":0},{"$f":"'Absorbance Data'!N3197-Calculations!K$1","v":0},{"$f":"'Absorbance Data'!O3197-Calculations!L$1","v":0},{"$f":"'Absorbance Data'!P3197-Calculations!M$1","v":0},{"$f":"'Absorbance Data'!Q3197-Calculations!N$1","v":0},{"$f":"'Absorbance Data'!R3197-Calculations!O$1","v":0},{"$f":"'Absorbance Data'!S3197-Calculations!P$1","v":0},{"$f":"'Absorbance Data'!T3197-Calculations!Q$1","v":0},{"$f":"'Absorbance Data'!U3197-Calculations!R$1","v":0},{"$f":"'Absorbance Data'!V3197-Calculations!S$1","v":0},{"$f":"'Absorbance Data'!W3197-Calculations!T$1","v":0},{"$f":"'Absorbance Data'!X3197-Calculations!U$1","v":0},{"$f":"'Absorbance Data'!Y3197-Calculations!V$1","v":0},{"$f":"'Absorbance Data'!Z3197-Calculations!W$1","v":0}]
[{"$f":"'Absorbance Data'!D3198","v":579.54034423828125},{"$f":"'Absorbance Data'!E3198-Calculations!B$1","v":0},{"$f":"'Absorbance Data'!F3198-Calculations!C$1","v":0},{"$f":"'Absorbance Data'!G3198-Calculations!D$1","v":0},{"$f":"'Absorbance Data'!H3198-Calculations!E$1","v":0},{"$f":"'Absorbance Data'!I3198-Calculations!F$1","v":0},{"$f":"'Absorbance Data'!J3198-Calculations!G$1","v":0},{"$f":"'Absorbance Data'!K3198-Calculations!H$1","v":0},{"$f":"'Absorbance Data'!L3198-Calculations!I$1","v":0},{"$f":"'Absorbance Data'!M3198-Calculations!J$1","v":0},{"$f":"'Absorbance Data'!N3198-Calculations!K$1","v":0},{"$f":"'Absorbance Data'!O3198-Calculations!L$1","v":0},{"$f":"'Absorbance Data'!P3198-Calculations!M$1","v":0},{"$f":"'Absorbance Data'!Q3198-Calculations!N$1","v":0},{"$f":"'Absorbance Data'!R3198-Calculations!O$1","v":0},{"$f":"'Absorbance Data'!S3198-Calculations!P$1","v":0},{"$f":"'Absorbance Data'!T3198-Calculations!Q$1","v":0},{"$f":"'Absorbance Data'!U3198-Calculations!R$1","v":0},{"$f":"'Absorbance Data'!V3198-Calculations!S$1","v":0},{"$f":"'Absorbance Data'!W3198-Calculations!T$1","v":0},{"$f":"'Absorbance Data'!X3198-Calculations!U$1","v":0},{"$f":"'Absorbance Data'!Y3198-Calculations!V$1","v":0},{"$f":"'Absorbance Data'!Z3198-Calculations!W$1","v":0}]
[{"$f":"'Absorbance Data'!D3199","v":579.8634033203125},{"$f":"'Absorbance Data'!E3199-Calculations!B$1","v":0},{"$f":"'Absorbance Data'!F3199-Calculations!C$1","v":0},{"$f":"'Absorbance Data'!G3199-Calculations!D$1","v":0},{"$f":"'Absorbance Data'!H3199-Calculations!E$1","v":0},{"$f":"'Absorbance Data'!I3199-Calculations!F$1","v":0},{"$f":"'Absorbance Data'!J3199-Calculations!G$1","v":0},{"$f":"'Absorbance Data'!K3199-Calculations!H$1","v":0},{"$f":"'Absorbance Data'!L3199-Calculations!I$1","v":0},{"$f":"'Absorbance Data'!M3199-Calculations!J$1","v":0},{"$f":"'Absorbance Data'!N3199-Calculations!K$1","v":0},{"$f":"'Absorbance Data'!O3199-Calculations!L$1","v":0},{"$f":"'Absorbance Data'!P3199-Calculations!M$1","v":0},{"$f":"'Absorbance Data'!Q3199-Calculations!N$1","v":0},{"$f":"'Absorbance Data'!R3199-Calculations!O$1","v":0},{"$f":"'Absorbance Data'!S3199-Calculations!P$1","v":0},{"$f":"'Absorbance Data'!T3199-Calculations!Q$1","v":0},{"$f":"'Absorbance Data'!U3199-Calculations!R$1","v":0},{"$f":"'Absorbance Data'!V3199-Calculations!S$1","v":0},{"$f":"'Absorbance Data'!W3199-Calculations!T$1","v":0},{"$f":"'Absorbance Data'!X3199-Calculations!U$1","v":0},{"$f":"'Absorbance Data'!Y3199-Calculations!V$1","v":0},{"$f":"'Absorbance Data'!Z3199-Calculations!W$1","v":0}]
[{"$f":"'Absorbance Data'!D3200","v":580.18646240234375},{"$f":"'Absorbance Data'!E3200-Calculations!B$1","v":0},{"$f":"'Absorbance Data'!F3200-Calculations!C$1","v":0},{"$f":"'Absorbance Data'!G3200-Calculations!D$1","v":0},{"$f":"'Absorbance Data'!H3200-Calculations!E$1","v":0},{"$f":"'Absorbance Data'!I3200-Calculations!F$1","v":0},{"$f":"'Absorbance Data'!J3200-Calculations!G$1","v":0},{"$f":"'Absorbance Data'!K3200-Calculations!H$1","v":0},{"$f":"'Absorbance Data'!L3200-Calculations!I$1","v":0},{"$f":"'Absorbance Data'!M3200-Calculations!J$1","v":0},{"$f":"'Absorbance Data'!N3200-Calculations!K$1","v":0},{"$f":"'Absorbance Data'!O3200-Calculations!L$1","v":0},{"$f":"'Absorbance Data'!P3200-Calculations!M$1","v":0},{"$f":"'Absorbance Data'!Q3200-Calculations!N$1","v":0},{"$f":"'Absorbance Data'!R3200-Calculations!O$1","v":0},{"$f":"'Absorbance Data'!S3200-Calculations!P$1","v":0},{"$f":"'Absorbance Data'!T3200-Calculations!Q$1","v":0},{"$f":"'Absorbance Data'!U3200-Calculations!R$1","v":0},{"$f":"'Absorbance Data'!V3200-Calculations!S$1","v":0},{"$f":"'Absorbance Data'!W3200-Calculations!T$1","v":0},{"$f":"'Absorbance Data'!X3200-Calculations!U$1","v":0},{"$f":"'Absorbance Data'!Y3200-Calculations!V$1","v":0},{"$f":"'Absorbance Data'!Z3200-Calculations!W$1","v":0}]
[{"$f":"'Absorbance Data'!D3201","v":580.5093994140625},{"$f":"'Absorbance Data'!E3201-Calculations!B$1","v":0},{"$f":"'Absorbance Data'!F3201-Calculations!C$1","v":0},{"$f":"'Absorbance Data'!G3201-Calculations!D$1","v":0},{"$f":"'Absorbance Data'!H3201-Calculations!E$1","v":0},{"$f":"'Absorbance Data'!I3201-Calculations!F$1","v":0},{"$f":"'Absorbance Data'!J3201-Calculations!G$1","v":0},{"$f":"'Absorbance Data'!K3201-Calculations!H$1","v":0},{"$f":"'Absorbance Data'!L3201-Calculations!I$1","v":0},{"$f":"'Absorbance Data'!M3201-Calculations!J$1","v":0},{"$f":"'Absorbance Data'!N3201-Calculations!K$1","v":0},{"$f":"'Absorbance Data'!O3201-Calculations!L$1","v":0},{"$f":"'Absorbance Data'!P3201-Calculations!M$1","v":0},{"$f":"'Absorbance Data'!Q3201-Calculations!N$1","v":0},{"$f":"'Absorbance Data'!R3201-Calculations!O$1","v":0},{"$f":"'Absorbance Data'!S3201-Calculations!P$1","v":0},{"$f":"'Absorbance Data'!T3201-Calculations!Q$1","v":0},{"$f":"'Absorbance Data'!U3201-Calculations!R$1","v":0},{"$f":"'Absorbance Data'!V3201-Calculations!S$1","v":0},{"$f":"'Absorbance Data'!W3201-Calculations!T$1","v":0},{"$f":"'Absorbance Data'!X3201-Calculations!U$1","v":0},{"$f":"'Absorbance Data'!Y3201-Calculations!V$1","v":0},{"$f":"'Absorbance Data'!Z3201-Calculations!W$1","v":0}]
[{"$f":"'Absorbance Data'!D3202","v":580.83233642578125},{"$f":"'Absorbance Data'!E3202-Calculations!B$1","v":0},{"$f":"'Absorbance Data'!F3202-Calculations!C$1","v":0},{"$f":"'Absorbance Data'!G3202-Calculations!D$1","v":0},{"$f":"'Absorbance Data'!H3202-Calculations!E$1","v":0},{"$f":"'Absorbance Data'!I3202-Calculations!F$1","v":0},{"$f":"'Absorbance Data'!J3202-Calculations!G$1","v":0},{"$f":"'Absorbance Data'!K3202-Calculations!H$1","v":0},{"$f":"'Absorbance Data'!L3202-Calculations!I$1","v":0},{"$f":"'Absorbance Data'!M3202-Calculations!J$1","v":0},{"$f":"'Absorbance Data'!N3202-Calculations!K$1","v":0},{"$f":"'Absorbance Data'!O3202-Calculations!L$1","v":0},{"$f":"'Absorbance Data'!P3202-Calculations!M$1","v":0},{"$f":"'Absorbance Data'!Q3202-Calculations!N$1","v":0},{"$f":"'Absorbance Data'!R3202-Calculations!O$1","v":0},{"$f":"'Absorbance Data'!S3202-Calculations!P$1","v":0},{"$f":"'Absorbance Data'!T3202-Calculations!Q$1","v":0},{"$f":"'Absorbance Data'!U3202-Calculations!R$1","v":0},{"$f":"'Absorbance Data'!V3202-Calculations!S$1","v":0},{"$f":"'Absorbance Data'!W3202-Calculations!T$1","v":0},{"$f":"'Absorbance Data'!X3202-Calculations!U$1","v":0},{"$f":"'Absorbance Data'!Y3202-Calculations!V$1","v":0},{"$f":"'Absorbance Data'!Z3202-Calculations!W$1","v":0}]
[{"$f":"'Absorbance Data'!D3203","v":581.1552734375},{"$f":"'Absorbance Data'!E3203-Calculations!B$1","v":0},{"$f":"'Absorbance Data'!F3203-Calculations!C$1","v":0},{"$f":"'Absorbance Data'!G3203-Calculations!D$1","v":0},{"$f":"'Absorbance Data'!H3203-Calculations!E$1","v":0},{"$f":"'Absorbance Data'!I3203-Calculations!F$1","v":0},{"$f":"'Absorbance Data'!J3203-Calculations!G$1","v":0},{"$f":"'Absorbance Data'!K3203-Calculations!H$1","v":0},{"$f":"'Absorbance Data'!L3203-Calculations!I$1","v":0},{"$f":"'Absorbance Data'!M3203-Calculations!J$1","v":0},{"$f":"'Absorbance Data'!N3203-Calculations!K$1","v":0},{"$f":"'Absorbance Data'!O3203-Calculations!L$1","v":0},{"$f":"'Absorbance Data'!P3203-Calculations!M$1","v":0},{"$f":"'Absorbance Data'!Q3203-Calculations!N$1","v":0},{"$f":"'Absorbance Data'!R3203-Calculations!O$1","v":0},{"$f":"'Absorbance Data'!S3203-Calculations!P$1","v":0},{"$f":"'Absorbance Data'!T3203-Calculations!Q$1","v":0},{"$f":"'Absorbance Data'!U3203-Calculations!R$1","v":0},{"$f":"'Absorbance Data'!V3203-Calculations!S$1","v":0},{"$f":"'Absorbance Data'!W3203-Calculations!T$1","v":0},{"$f":"'Absorbance Data'!X3203-Calculations!U$1","v":0},{"$f":"'Absorbance Data'!Y3203-Calculations!V$1","v":0},{"$f":"'Absorbance Data'!Z3203-Calculations!W$1","v":0}]
[{"$f":"'Absorbance Data'!D3204","v":581.4781494140625},{"$f":"'Absorbance Data'!E3204-Calculations!B$1","v":0},{"$f":"'Absorbance Data'!F3204-Calculations!C$1","v":0},{"$f":"'Absorbance Data'!G3204-Calculations!D$1","v":0},{"$f":"'Absorbance Data'!H3204-Calculations!E$1","v":0},{"$f":"'Absorbance Data'!I3204-Calculations!F$1","v":0},{"$f":"'Absorbance Data'!J3204-Calculations!G$1","v":0},{"$f":"'Absorbance Data'!K3204-Calculations!H$1","v":0},{"$f":"'Absorbance Data'!L3204-Calculations!I$1","v":0},{"$f":"'Absorbance Data'!M3204-Calculations!J$1","v":0},{"$f":"'Absorbance Data'!N3204-Calculations!K$1","v":0},{"$f":"'Absorbance Data'!O3204-Calculations!L$1","v":0},{"$f":"'Absorbance Data'!P3204-Calculations!M$1","v":0},{"$f":"'Absorbance Data'!Q3204-Calculations!N$1","v":0},{"$f":"'Absorbance Data'!R3204-Calculations!O$1","v":0},{"$f":"'Absorbance Data'!S3204-Calculations!P$1","v":0},{"$f":"'Absorbance Data'!T3204-Calculations!Q$1","v":0},{"$f":"'Absorbance Data'!U3204-Calculations!R$1","v":0},{"$f":"'Absorbance Data'!V3204-Calculations!S$1","v":0},{"$f":"'Absorbance Data'!W3204-Calculations!T$1","v":0},{"$f":"'Absorbance Data'!X3204-Calculations!U$1","v":0},{"$f":"'Absorbance Data'!Y3204-Calculations!V$1","v":0},{"$f":"'Absorbance Data'!Z3204-Calculations!W$1","v":0}]
[{"$f":"'Absorbance Data'!D3205","v":581.80096435546875},{"$f":"'Absorbance Data'!E3205-Calculations!B$1","v":0},{"$f":"'Absorbance Data'!F3205-Calculations!C$1","v":0},{"$f":"'Absorbance Data'!G3205-Calculations!D$1","v":0},{"$f":"'Absorbance Data'!H3205-Calculations!E$1","v":0},{"$f":"'Absorbance Data'!I3205-Calculations!F$1","v":0},{"$f":"'Absorbance Data'!J3205-Calculations!G$1","v":0},{"$f":"'Absorbance Data'!K3205-Calculations!H$1","v":0},{"$f":"'Absorbance Data'!L3205-Calculations!I$1","v":0},{"$f":"'Absorbance Data'!M3205-Calculations!J$1","v":0},{"$f":"'Absorbance Data'!N3205-Calculations!K$1","v":0},{"$f":"'Absorbance Data'!O3205-Calculations!L$1","v":0},{"$f":"'Absorbance Data'!P3205-Calculations!M$1","v":0},{"$f":"'Absorbance Data'!Q3205-Calculations!N$1","v":0},{"$f":"'Absorbance Data'!R3205-Calculations!O$1","v":0},{"$f":"'Absorbance Data'!S3205-Calculations!P$1","v":0},{"$f":"'Absorbance Data'!T3205-Calculations!Q$1","v":0},{"$f":"'Absorbance Data'!U3205-Calculations!R$1","v":0},{"$f":"'Absorbance Data'!V3205-Calculations!S$1","v":0},{"$f":"'Absorbance Data'!W3205-Calculations!T$1","v":0},{"$f":"'Absorbance Data'!X3205-Calculations!U$1","v":0},{"$f":"'Absorbance Data'!Y3205-Calculations!V$1","v":0},{"$f":"'Absorbance Data'!Z3205-Calculations!W$1","v":0}]
[{"$f":"'Absorbance Data'!D3206","v":582.123779296875},{"$f":"'Absorbance Data'!E3206-Calculations!B$1","v":0},{"$f":"'Absorbance Data'!F3206-Calculations!C$1","v":0},{"$f":"'Absorbance Data'!G3206-Calculations!D$1","v":0},{"$f":"'Absorbance Data'!H3206-Calculations!E$1","v":0},{"$f":"'Absorbance Data'!I3206-Calculations!F$1","v":0},{"$f":"'Absorbance Data'!J3206-Calculations!G$1","v":0},{"$f":"'Absorbance Data'!K3206-Calculations!H$1","v":0},{"$f":"'Absorbance Data'!L3206-Calculations!I$1","v":0},{"$f":"'Absorbance Data'!M3206-Calculations!J$1","v":0},{"$f":"'Absorbance Data'!N3206-Calculations!K$1","v":0},{"$f":"'Absorbance Data'!O3206-Calculations!L$1","v":0},{"$f":"'Absorbance Data'!P3206-Calculations!M$1","v":0},{"$f":"'Absorbance Data'!Q3206-Calculations!N$1","v":0},{"$f":"'Absorbance Data'!R3206-Calculations!O$1","v":0},{"$f":"'Absorbance Data'!S3206-Calculations!P$1","v":0},{"$f":"'Absorbance Data'!T3206-Calculations!Q$1","v":0},{"$f":"'Absorbance Data'!U3206-Calculations!R$1","v":0},{"$f":"'Absorbance Data'!V3206-Calculations!S$1","v":0},{"$f":"'Absorbance Data'!W3206-Calculations!T$1","v":0},{"$f":"'Absorbance Data'!X3206-Calculations!U$1","v":0},{"$f":"'Absorbance Data'!Y3206-Calculations!V$1","v":0},{"$f":"'Absorbance Data'!Z3206-Calculations!W$1","v":0}]
[{"$f":"'Absorbance Data'!D3207","v":582.446533203125},{"$f":"'Absorbance Data'!E3207-Calculations!B$1","v":0},{"$f":"'Absorbance Data'!F3207-Calculations!C$1","v":0},{"$f":"'Absorbance Data'!G3207-Calculations!D$1","v":0},{"$f":"'Absorbance Data'!H3207-Calculations!E$1","v":0},{"$f":"'Absorbance Data'!I3207-Calculations!F$1","v":0},{"$f":"'Absorbance Data'!J3207-Calculations!G$1","v":0},{"$f":"'Absorbance Data'!K3207-Calculations!H$1","v":0},{"$f":"'Absorbance Data'!L3207-Calculations!I$1","v":0},{"$f":"'Absorbance Data'!M3207-Calculations!J$1","v":0},{"$f":"'Absorbance Data'!N3207-Calculations!K$1","v":0},{"$f":"'Absorbance Data'!O3207-Calculations!L$1","v":0},{"$f":"'Absorbance Data'!P3207-Calculations!M$1","v":0},{"$f":"'Absorbance Data'!Q3207-Calculations!N$1","v":0},{"$f":"'Absorbance Data'!R3207-Calculations!O$1","v":0},{"$f":"'Absorbance Data'!S3207-Calculations!P$1","v":0},{"$f":"'Absorbance Data'!T3207-Calculations!Q$1","v":0},{"$f":"'Absorbance Data'!U3207-Calculations!R$1","v":0},{"$f":"'Absorbance Data'!V3207-Calculations!S$1","v":0},{"$f":"'Absorbance Data'!W3207-Calculations!T$1","v":0},{"$f":"'Absorbance Data'!X3207-Calculations!U$1","v":0},{"$f":"'Absorbance Data'!Y3207-Calculations!V$1","v":0},{"$f":"'Absorbance Data'!Z3207-Calculations!W$1","v":0}]
[{"$f":"'Absorbance Data'!D3208","v":582.76922607421875},{"$f":"'Absorbance Data'!E3208-Calculations!B$1","v":0},{"$f":"'Absorbance Data'!F3208-Calculations!C$1","v":0},{"$f":"'Absorbance Data'!G3208-Calculations!D$1","v":0},{"$f":"'Absorbance Data'!H3208-Calculations!E$1","v":0},{"$f":"'Absorbance Data'!I3208-Calculations!F$1","v":0},{"$f":"'Absorbance Data'!J3208-Calculations!G$1","v":0},{"$f":"'Absorbance Data'!K3208-Calculations!H$1","v":0},{"$f":"'Absorbance Data'!L3208-Calculations!I$1","v":0},{"$f":"'Absorbance Data'!M3208-Calculations!J$1","v":0},{"$f":"'Absorbance Data'!N3208-Calculations!K$1","v":0},{"$f":"'Absorbance Data'!O3208-Calculations!L$1","v":0},{"$f":"'Absorbance Data'!P3208-Calculations!M$1","v":0},{"$f":"'Absorbance Data'!Q3208-Calculations!N$1","v":0},{"$f":"'Absorbance Data'!R3208-Calculations!O$1","v":0},{"$f":"'Absorbance Data'!S3208-Calculations!P$1","v":0},{"$f":"'Absorbance Data'!T3208-Calculations!Q$1","v":0},{"$f":"'Absorbance Data'!U3208-Calculations!R$1","v":0},{"$f":"'Absorbance Data'!V3208-Calculations!S$1","v":0},{"$f":"'Absorbance Data'!W3208-Calculations!T$1","v":0},{"$f":"'Absorbance Data'!X3208-Calculations!U$1","v":0},{"$f":"'Absorbance Data'!Y3208-Calculations!V$1","v":0},{"$f":"'Absorbance Data'!Z3208-Calculations!W$1","v":0}]
[{"$f":"'Absorbance Data'!D3209","v":583.09185791015625},{"$f":"'Absorbance Data'!E3209-Calculations!B$1","v":0},{"$f":"'Absorbance Data'!F3209-Calculations!C$1","v":0},{"$f":"'Absorbance Data'!G3209-Calculations!D$1","v":0},{"$f":"'Absorbance Data'!H3209-Calculations!E$1","v":0},{"$f":"'Absorbance Data'!I3209-Calculations!F$1","v":0},{"$f":"'Absorbance Data'!J3209-Calculations!G$1","v":0},{"$f":"'Absorbance Data'!K3209-Calculations!H$1","v":0},{"$f":"'Absorbance Data'!L3209-Calculations!I$1","v":0},{"$f":"'Absorbance Data'!M3209-Calculations!J$1","v":0},{"$f":"'Absorbance Data'!N3209-Calculations!K$1","v":0},{"$f":"'Absorbance Data'!O3209-Calculations!L$1","v":0},{"$f":"'Absorbance Data'!P3209-Calculations!M$1","v":0},{"$f":"'Absorbance Data'!Q3209-Calculations!N$1","v":0},{"$f":"'Absorbance Data'!R3209-Calculations!O$1","v":0},{"$f":"'Absorbance Data'!S3209-Calculations!P$1","v":0},{"$f":"'Absorbance Data'!T3209-Calculations!Q$1","v":0},{"$f":"'Absorbance Data'!U3209-Calculations!R$1","v":0},{"$f":"'Absorbance Data'!V3209-Calculations!S$1","v":0},{"$f":"'Absorbance Data'!W3209-Calculations!T$1","v":0},{"$f":"'Absorbance Data'!X3209-Calculations!U$1","v":0},{"$f":"'Absorbance Data'!Y3209-Calculations!V$1","v":0},{"$f":"'Absorbance Data'!Z3209-Calculations!W$1","v":0}]
[{"$f":"'Absorbance Data'!D3210","v":583.41455078125},{"$f":"'Absorbance Data'!E3210-Calculations!B$1","v":0},{"$f":"'Absorbance Data'!F3210-Calculations!C$1","v":0},{"$f":"'Absorbance Data'!G3210-Calculations!D$1","v":0},{"$f":"'Absorbance Data'!H3210-Calculations!E$1","v":0},{"$f":"'Absorbance Data'!I3210-Calculations!F$1","v":0},{"$f":"'Absorbance Data'!J3210-Calculations!G$1","v":0},{"$f":"'Absorbance Data'!K3210-Calculations!H$1","v":0},{"$f":"'Absorbance Data'!L3210-Calculations!I$1","v":0},{"$f":"'Absorbance Data'!M3210-Calculations!J$1","v":0},{"$f":"'Absorbance Data'!N3210-Calculations!K$1","v":0},{"$f":"'Absorbance Data'!O3210-Calculations!L$1","v":0},{"$f":"'Absorbance Data'!P3210-Calculations!M$1","v":0},{"$f":"'Absorbance Data'!Q3210-Calculations!N$1","v":0},{"$f":"'Absorbance Data'!R3210-Calculations!O$1","v":0},{"$f":"'Absorbance Data'!S3210-Calculations!P$1","v":0},{"$f":"'Absorbance Data'!T3210-Calculations!Q$1","v":0},{"$f":"'Absorbance Data'!U3210-Calculations!R$1","v":0},{"$f":"'Absorbance Data'!V3210-Calculations!S$1","v":0},{"$f":"'Absorbance Data'!W3210-Calculations!T$1","v":0},{"$f":"'Absorbance Data'!X3210-Calculations!U$1","v":0},{"$f":"'Absorbance Data'!Y3210-Calculations!V$1","v":0},{"$f":"'Absorbance Data'!Z3210-Calculations!W$1","v":0}]
[{"$f":"'Absorbance Data'!D3211","v":583.7371826171875},{"$f":"'Absorbance Data'!E3211-Calculations!B$1","v":0},{"$f":"'Absorbance Data'!F3211-Calculations!C$1","v":0},{"$f":"'Absorbance Data'!G3211-Calculations!D$1","v":0},{"$f":"'Absorbance Data'!H3211-Calculations!E$1","v":0},{"$f":"'Absorbance Data'!I3211-Calculations!F$1","v":0},{"$f":"'Absorbance Data'!J3211-Calculations!G$1","v":0},{"$f":"'Absorbance Data'!K3211-Calculations!H$1","v":0},{"$f":"'Absorbance Data'!L3211-Calculations!I$1","v":0},{"$f":"'Absorbance Data'!M3211-Calculations!J$1","v":0},{"$f":"'Absorbance Data'!N3211-Calculations!K$1","v":0},{"$f":"'Absorbance Data'!O3211-Calculations!L$1","v":0},{"$f":"'Absorbance Data'!P3211-Calculations!M$1","v":0},{"$f":"'Absorbance Data'!Q3211-Calculations!N$1","v":0},{"$f":"'Absorbance Data'!R3211-Calculations!O$1","v":0},{"$f":"'Absorbance Data'!S3211-Calculations!P$1","v":0},{"$f":"'Absorbance Data'!T3211-Calculations!Q$1","v":0},{"$f":"'Absorbance Data'!U3211-Calculations!R$1","v":0},{"$f":"'Absorbance Data'!V3211-Calculations!S$1","v":0},{"$f":"'Absorbance Data'!W3211-Calculations!T$1","v":0},{"$f":"'Absorbance Data'!X3211-Calculations!U$1","v":0},{"$f":"'Absorbance Data'!Y3211-Calculations!V$1","v":0},{"$f":"'Absorbance Data'!Z3211-Calculations!W$1","v":0}]
[{"$f":"'Absorbance Data'!D3212","v":584.0596923828125},{"$f":"'Absorbance Data'!E3212-Calculations!B$1","v":0},{"$f":"'Absorbance Data'!F3212-Calculations!C$1","v":0},{"$f":"'Absorbance Data'!G3212-Calculations!D$1","v":0},{"$f":"'Absorbance Data'!H3212-Calculations!E$1","v":0},{"$f":"'Absorbance Data'!I3212-Calculations!F$1","v":0},{"$f":"'Absorbance Data'!J3212-Calculations!G$1","v":0},{"$f":"'Absorbance Data'!K3212-Calculations!H$1","v":0},{"$f":"'Absorbance Data'!L3212-Calculations!I$1","v":0},{"$f":"'Absorbance Data'!M3212-Calculations!J$1","v":0},{"$f":"'Absorbance Data'!N3212-Calculations!K$1","v":0},{"$f":"'Absorbance Data'!O3212-Calculations!L$1","v":0},{"$f":"'Absorbance Data'!P3212-Calculations!M$1","v":0},{"$f":"'Absorbance Data'!Q3212-Calculations!N$1","v":0},{"$f":"'Absorbance Data'!R3212-Calculations!O$1","v":0},{"$f":"'Absorbance Data'!S3212-Calculations!P$1","v":0},{"$f":"'Absorbance Data'!T3212-Calculations!Q$1","v":0},{"$f":"'Absorbance Data'!U3212-Calculations!R$1","v":0},{"$f":"'Absorbance Data'!V3212-Calculations!S$1","v":0},{"$f":"'Absorbance Data'!W3212-Calculations!T$1","v":0},{"$f":"'Absorbance Data'!X3212-Calculations!U$1","v":0},{"$f":"'Absorbance Data'!Y3212-Calculations!V$1","v":0},{"$f":"'Absorbance Data'!Z3212-Calculations!W$1","v":0}]
[{"$f":"'Absorbance Data'!D3213","v":584.38214111328125},{"$f":"'Absorbance Data'!E3213-Calculations!B$1","v":0},{"$f":"'Absorbance Data'!F3213-Calculations!C$1","v":0},{"$f":"'Absorbance Data'!G3213-Calculations!D$1","v":0},{"$f":"'Absorbance Data'!H3213-Calculations!E$1","v":0},{"$f":"'Absorbance Data'!I3213-Calculations!F$1","v":0},{"$f":"'Absorbance Data'!J3213-Calculations!G$1","v":0},{"$f":"'Absorbance Data'!K3213-Calculations!H$1","v":0},{"$f":"'Absorbance Data'!L3213-Calculations!I$1","v":0},{"$f":"'Absorbance Data'!M3213-Calculations!J$1","v":0},{"$f":"'Absorbance Data'!N3213-Calculations!K$1","v":0},{"$f":"'Absorbance Data'!O3213-Calculations!L$1","v":0},{"$f":"'Absorbance Data'!P3213-Calculations!M$1","v":0},{"$f":"'Absorbance Data'!Q3213-Calculations!N$1","v":0},{"$f":"'Absorbance Data'!R3213-Calculations!O$1","v":0},{"$f":"'Absorbance Data'!S3213-Calculations!P$1","v":0},{"$f":"'Absorbance Data'!T3213-Calculations!Q$1","v":0},{"$f":"'Absorbance Data'!U3213-Calculations!R$1","v":0},{"$f":"'Absorbance Data'!V3213-Calculations!S$1","v":0},{"$f":"'Absorbance Data'!W3213-Calculations!T$1","v":0},{"$f":"'Absorbance Data'!X3213-Calculations!U$1","v":0},{"$f":"'Absorbance Data'!Y3213-Calculations!V$1","v":0},{"$f":"'Absorbance Data'!Z3213-Calculations!W$1","v":0}]
[{"$f":"'Absorbance Data'!D3214","v":584.70465087890625},{"$f":"'Absorbance Data'!E3214-Calculations!B$1","v":0},{"$f":"'Absorbance Data'!F3214-Calculations!C$1","v":0},{"$f":"'Absorbance Data'!G3214-Calculations!D$1","v":0},{"$f":"'Absorbance Data'!H3214-Calculations!E$1","v":0},{"$f":"'Absorbance Data'!I3214-Calculations!F$1","v":0},{"$f":"'Absorbance Data'!J3214-Calculations!G$1","v":0},{"$f":"'Absorbance Data'!K3214-Calculations!H$1","v":0},{"$f":"'Absorbance Data'!L3214-Calculations!I$1","v":0},{"$f":"'Absorbance Data'!M3214-Calculations!J$1","v":0},{"$f":"'Absorbance Data'!N3214-Calculations!K$1","v":0},{"$f":"'Absorbance Data'!O3214-Calculations!L$1","v":0},{"$f":"'Absorbance Data'!P3214-Calculations!M$1","v":0},{"$f":"'Absorbance Data'!Q3214-Calculations!N$1","v":0},{"$f":"'Absorbance Data'!R3214-Calculations!O$1","v":0},{"$f":"'Absorbance Data'!S3214-Calculations!P$1","v":0},{"$f":"'Absorbance Data'!T3214-Calculations!Q$1","v":0},{"$f":"'Absorbance Data'!U3214-Calculations!R$1","v":0},{"$f":"'Absorbance Data'!V3214-Calculations!S$1","v":0},{"$f":"'Absorbance Data'!W3214-Calculations!T$1","v":0},{"$f":"'Absorbance Data'!X3214-Calculations!U$1","v":0},{"$f":"'Absorbance Data'!Y3214-Calculations!V$1","v":0},{"$f":"'Absorbance Data'!Z3214-Calculations!W$1","v":0}]
[{"$f":"'Absorbance Data'!D3215","v":585.027099609375},{"$f":"'Absorbance Data'!E3215-Calculations!B$1","v":0},{"$f":"'Absorbance Data'!F3215-Calculations!C$1","v":0},{"$f":"'Absorbance Data'!G3215-Calculations!D$1","v":0},{"$f":"'Absorbance Data'!H3215-Calculations!E$1","v":0},{"$f":"'Absorbance Data'!I3215-Calculations!F$1","v":0},{"$f":"'Absorbance Data'!J3215-Calculations!G$1","v":0},{"$f":"'Absorbance Data'!K3215-Calculations!H$1","v":0},{"$f":"'Absorbance Data'!L3215-Calculations!I$1","v":0},{"$f":"'Absorbance Data'!M3215-Calculations!J$1","v":0},{"$f":"'Absorbance Data'!N3215-Calculations!K$1","v":0},{"$f":"'Absorbance Data'!O3215-Calculations!L$1","v":0},{"$f":"'Absorbance Data'!P3215-Calculations!M$1","v":0},{"$f":"'Absorbance Data'!Q3215-Calculations!N$1","v":0},{"$f":"'Absorbance Data'!R3215-Calculations!O$1","v":0},{"$f":"'Absorbance Data'!S3215-Calculations!P$1","v":0},{"$f":"'Absorbance Data'!T3215-Calculations!Q$1","v":0},{"$f":"'Absorbance Data'!U3215-Calculations!R$1","v":0},{"$f":"'Absorbance Data'!V3215-Calculations!S$1","v":0},{"$f":"'Absorbance Data'!W3215-Calculations!T$1","v":0},{"$f":"'Absorbance Data'!X3215-Calculations!U$1","v":0},{"$f":"'Absorbance Data'!Y3215-Calculations!V$1","v":0},{"$f":"'Absorbance Data'!Z3215-Calculations!W$1","v":0}]
[{"$f":"'Absorbance Data'!D3216","v":585.3494873046875},{"$f":"'Absorbance Data'!E3216-Calculations!B$1","v":0},{"$f":"'Absorbance Data'!F3216-Calculations!C$1","v":0},{"$f":"'Absorbance Data'!G3216-Calculations!D$1","v":0},{"$f":"'Absorbance Data'!H3216-Calculations!E$1","v":0},{"$f":"'Absorbance Data'!I3216-Calculations!F$1","v":0},{"$f":"'Absorbance Data'!J3216-Calculations!G$1","v":0},{"$f":"'Absorbance Data'!K3216-Calculations!H$1","v":0},{"$f":"'Absorbance Data'!L3216-Calculations!I$1","v":0},{"$f":"'Absorbance Data'!M3216-Calculations!J$1","v":0},{"$f":"'Absorbance Data'!N3216-Calculations!K$1","v":0},{"$f":"'Absorbance Data'!O3216-Calculations!L$1","v":0},{"$f":"'Absorbance Data'!P3216-Calculations!M$1","v":0},{"$f":"'Absorbance Data'!Q3216-Calculations!N$1","v":0},{"$f":"'Absorbance Data'!R3216-Calculations!O$1","v":0},{"$f":"'Absorbance Data'!S3216-Calculations!P$1","v":0},{"$f":"'Absorbance Data'!T3216-Calculations!Q$1","v":0},{"$f":"'Absorbance Data'!U3216-Calculations!R$1","v":0},{"$f":"'Absorbance Data'!V3216-Calculations!S$1","v":0},{"$f":"'Absorbance Data'!W3216-Calculations!T$1","v":0},{"$f":"'Absorbance Data'!X3216-Calculations!U$1","v":0},{"$f":"'Absorbance Data'!Y3216-Calculations!V$1","v":0},{"$f":"'Absorbance Data'!Z3216-Calculations!W$1","v":0}]
[{"$f":"'Absorbance Data'!D3217","v":585.67181396484375},{"$f":"'Absorbance Data'!E3217-Calculations!B$1","v":0},{"$f":"'Absorbance Data'!F3217-Calculations!C$1","v":0},{"$f":"'Absorbance Data'!G3217-Calculations!D$1","v":0},{"$f":"'Absorbance Data'!H3217-Calculations!E$1","v":0},{"$f":"'Absorbance Data'!I3217-Calculations!F$1","v":0},{"$f":"'Absorbance Data'!J3217-Calculations!G$1","v":0},{"$f":"'Absorbance Data'!K3217-Calculations!H$1","v":0},{"$f":"'Absorbance Data'!L3217-Calculations!I$1","v":0},{"$f":"'Absorbance Data'!M3217-Calculations!J$1","v":0},{"$f":"'Absorbance Data'!N3217-Calculations!K$1","v":0},{"$f":"'Absorbance Data'!O3217-Calculations!L$1","v":0},{"$f":"'Absorbance Data'!P3217-Calculations!M$1","v":0},{"$f":"'Absorbance Data'!Q3217-Calculations!N$1","v":0},{"$f":"'Absorbance Data'!R3217-Calculations!O$1","v":0},{"$f":"'Absorbance Data'!S3217-Calculations!P$1","v":0},{"$f":"'Absorbance Data'!T3217-Calculations!Q$1","v":0},{"$f":"'Absorbance Data'!U3217-Calculations!R$1","v":0},{"$f":"'Absorbance Data'!V3217-Calculations!S$1","v":0},{"$f":"'Absorbance Data'!W3217-Calculations!T$1","v":0},{"$f":"'Absorbance Data'!X3217-Calculations!U$1","v":0},{"$f":"'Absorbance Data'!Y3217-Calculations!V$1","v":0},{"$f":"'Absorbance Data'!Z3217-Calculations!W$1","v":0}]
[{"$f":"'Absorbance Data'!D3218","v":585.994140625},{"$f":"'Absorbance Data'!E3218-Calculations!B$1","v":0},{"$f":"'Absorbance Data'!F3218-Calculations!C$1","v":0},{"$f":"'Absorbance Data'!G3218-Calculations!D$1","v":0},{"$f":"'Absorbance Data'!H3218-Calculations!E$1","v":0},{"$f":"'Absorbance Data'!I3218-Calculations!F$1","v":0},{"$f":"'Absorbance Data'!J3218-Calculations!G$1","v":0},{"$f":"'Absorbance Data'!K3218-Calculations!H$1","v":0},{"$f":"'Absorbance Data'!L3218-Calculations!I$1","v":0},{"$f":"'Absorbance Data'!M3218-Calculations!J$1","v":0},{"$f":"'Absorbance Data'!N3218-Calculations!K$1","v":0},{"$f":"'Absorbance Data'!O3218-Calculations!L$1","v":0},{"$f":"'Absorbance Data'!P3218-Calculations!M$1","v":0},{"$f":"'Absorbance Data'!Q3218-Calculations!N$1","v":0},{"$f":"'Absorbance Data'!R3218-Calculations!O$1","v":0},{"$f":"'Absorbance Data'!S3218-Calculations!P$1","v":0},{"$f":"'Absorbance Data'!T3218-Calculations!Q$1","v":0},{"$f":"'Absorbance Data'!U3218-Calculations!R$1","v":0},{"$f":"'Absorbance Data'!V3218-Calculations!S$1","v":0},{"$f":"'Absorbance Data'!W3218-Calculations!T$1","v":0},{"$f":"'Absorbance Data'!X3218-Calculations!U$1","v":0},{"$f":"'Absorbance Data'!Y3218-Calculations!V$1","v":0},{"$f":"'Absorbance Data'!Z3218-Calculations!W$1","v":0}]
[{"$f":"'Absorbance Data'!D3219","v":586.31640625},{"$f":"'Absorbance Data'!E3219-Calculations!B$1","v":0},{"$f":"'Absorbance Data'!F3219-Calculations!C$1","v":0},{"$f":"'Absorbance Data'!G3219-Calculations!D$1","v":0},{"$f":"'Absorbance Data'!H3219-Calculations!E$1","v":0},{"$f":"'Absorbance Data'!I3219-Calculations!F$1","v":0},{"$f":"'Absorbance Data'!J3219-Calculations!G$1","v":0},{"$f":"'Absorbance Data'!K3219-Calculations!H$1","v":0},{"$f":"'Absorbance Data'!L3219-Calculations!I$1","v":0},{"$f":"'Absorbance Data'!M3219-Calculations!J$1","v":0},{"$f":"'Absorbance Data'!N3219-Calculations!K$1","v":0},{"$f":"'Absorbance Data'!O3219-Calculations!L$1","v":0},{"$f":"'Absorbance Data'!P3219-Calculations!M$1","v":0},{"$f":"'Absorbance Data'!Q3219-Calculations!N$1","v":0},{"$f":"'Absorbance Data'!R3219-Calculations!O$1","v":0},{"$f":"'Absorbance Data'!S3219-Calculations!P$1","v":0},{"$f":"'Absorbance Data'!T3219-Calculations!Q$1","v":0},{"$f":"'Absorbance Data'!U3219-Calculations!R$1","v":0},{"$f":"'Absorbance Data'!V3219-Calculations!S$1","v":0},{"$f":"'Absorbance Data'!W3219-Calculations!T$1","v":0},{"$f":"'Absorbance Data'!X3219-Calculations!U$1","v":0},{"$f":"'Absorbance Data'!Y3219-Calculations!V$1","v":0},{"$f":"'Absorbance Data'!Z3219-Calculations!W$1","v":0}]
[{"$f":"'Absorbance Data'!D3220","v":586.63861083984375},{"$f":"'Absorbance Data'!E3220-Calculations!B$1","v":0},{"$f":"'Absorbance Data'!F3220-Calculations!C$1","v":0},{"$f":"'Absorbance Data'!G3220-Calculations!D$1","v":0},{"$f":"'Absorbance Data'!H3220-Calculations!E$1","v":0},{"$f":"'Absorbance Data'!I3220-Calculations!F$1","v":0},{"$f":"'Absorbance Data'!J3220-Calculations!G$1","v":0},{"$f":"'Absorbance Data'!K3220-Calculations!H$1","v":0},{"$f":"'Absorbance Data'!L3220-Calculations!I$1","v":0},{"$f":"'Absorbance Data'!M3220-Calculations!J$1","v":0},{"$f":"'Absorbance Data'!N3220-Calculations!K$1","v":0},{"$f":"'Absorbance Data'!O3220-Calculations!L$1","v":0},{"$f":"'Absorbance Data'!P3220-Calculations!M$1","v":0},{"$f":"'Absorbance Data'!Q3220-Calculations!N$1","v":0},{"$f":"'Absorbance Data'!R3220-Calculations!O$1","v":0},{"$f":"'Absorbance Data'!S3220-Calculations!P$1","v":0},{"$f":"'Absorbance Data'!T3220-Calculations!Q$1","v":0},{"$f":"'Absorbance Data'!U3220-Calculations!R$1","v":0},{"$f":"'Absorbance Data'!V3220-Calculations!S$1","v":0},{"$f":"'Absorbance Data'!W3220-Calculations!T$1","v":0},{"$f":"'Absorbance Data'!X3220-Calculations!U$1","v":0},{"$f":"'Absorbance Data'!Y3220-Calculations!V$1","v":0},{"$f":"'Absorbance Data'!Z3220-Calculations!W$1","v":0}]
[{"$f":"'Absorbance Data'!D3221","v":586.9608154296875},{"$f":"'Absorbance Data'!E3221-Calculations!B$1","v":0},{"$f":"'Absorbance Data'!F3221-Calculations!C$1","v":0},{"$f":"'Absorbance Data'!G3221-Calculations!D$1","v":0},{"$f":"'Absorbance Data'!H3221-Calculations!E$1","v":0},{"$f":"'Absorbance Data'!I3221-Calculations!F$1","v":0},{"$f":"'Absorbance Data'!J3221-Calculations!G$1","v":0},{"$f":"'Absorbance Data'!K3221-Calculations!H$1","v":0},{"$f":"'Absorbance Data'!L3221-Calculations!I$1","v":0},{"$f":"'Absorbance Data'!M3221-Calculations!J$1","v":0},{"$f":"'Absorbance Data'!N3221-Calculations!K$1","v":0},{"$f":"'Absorbance Data'!O3221-Calculations!L$1","v":0},{"$f":"'Absorbance Data'!P3221-Calculations!M$1","v":0},{"$f":"'Absorbance Data'!Q3221-Calculations!N$1","v":0},{"$f":"'Absorbance Data'!R3221-Calculations!O$1","v":0},{"$f":"'Absorbance Data'!S3221-Calculations!P$1","v":0},{"$f":"'Absorbance Data'!T3221-Calculations!Q$1","v":0},{"$f":"'Absorbance Data'!U3221-Calculations!R$1","v":0},{"$f":"'Absorbance Data'!V3221-Calculations!S$1","v":0},{"$f":"'Absorbance Data'!W3221-Calculations!T$1","v":0},{"$f":"'Absorbance Data'!X3221-Calculations!U$1","v":0},{"$f":"'Absorbance Data'!Y3221-Calculations!V$1","v":0},{"$f":"'Absorbance Data'!Z3221-Calculations!W$1","v":0}]
[{"$f":"'Absorbance Data'!D3222","v":587.28302001953125},{"$f":"'Absorbance Data'!E3222-Calculations!B$1","v":0},{"$f":"'Absorbance Data'!F3222-Calculations!C$1","v":0},{"$f":"'Absorbance Data'!G3222-Calculations!D$1","v":0},{"$f":"'Absorbance Data'!H3222-Calculations!E$1","v":0},{"$f":"'Absorbance Data'!I3222-Calculations!F$1","v":0},{"$f":"'Absorbance Data'!J3222-Calculations!G$1","v":0},{"$f":"'Absorbance Data'!K3222-Calculations!H$1","v":0},{"$f":"'Absorbance Data'!L3222-Calculations!I$1","v":0},{"$f":"'Absorbance Data'!M3222-Calculations!J$1","v":0},{"$f":"'Absorbance Data'!N3222-Calculations!K$1","v":0},{"$f":"'Absorbance Data'!O3222-Calculations!L$1","v":0},{"$f":"'Absorbance Data'!P3222-Calculations!M$1","v":0},{"$f":"'Absorbance Data'!Q3222-Calculations!N$1","v":0},{"$f":"'Absorbance Data'!R3222-Calculations!O$1","v":0},{"$f":"'Absorbance Data'!S3222-Calculations!P$1","v":0},{"$f":"'Absorbance Data'!T3222-Calculations!Q$1","v":0},{"$f":"'Absorbance Data'!U3222-Calculations!R$1","v":0},{"$f":"'Absorbance Data'!V3222-Calculations!S$1","v":0},{"$f":"'Absorbance Data'!W3222-Calculations!T$1","v":0},{"$f":"'Absorbance Data'!X3222-Calculations!U$1","v":0},{"$f":"'Absorbance Data'!Y3222-Calculations!V$1","v":0},{"$f":"'Absorbance Data'!Z3222-Calculations!W$1","v":0}]
[{"$f":"'Absorbance Data'!D3223","v":587.60516357421875},{"$f":"'Absorbance Data'!E3223-Calculations!B$1","v":0},{"$f":"'Absorbance Data'!F3223-Calculations!C$1","v":0},{"$f":"'Absorbance Data'!G3223-Calculations!D$1","v":0},{"$f":"'Absorbance Data'!H3223-Calculations!E$1","v":0},{"$f":"'Absorbance Data'!I3223-Calculations!F$1","v":0},{"$f":"'Absorbance Data'!J3223-Calculations!G$1","v":0},{"$f":"'Absorbance Data'!K3223-Calculations!H$1","v":0},{"$f":"'Absorbance Data'!L3223-Calculations!I$1","v":0},{"$f":"'Absorbance Data'!M3223-Calculations!J$1","v":0},{"$f":"'Absorbance Data'!N3223-Calculations!K$1","v":0},{"$f":"'Absorbance Data'!O3223-Calculations!L$1","v":0},{"$f":"'Absorbance Data'!P3223-Calculations!M$1","v":0},{"$f":"'Absorbance Data'!Q3223-Calculations!N$1","v":0},{"$f":"'Absorbance Data'!R3223-Calculations!O$1","v":0},{"$f":"'Absorbance Data'!S3223-Calculations!P$1","v":0},{"$f":"'Absorbance Data'!T3223-Calculations!Q$1","v":0},{"$f":"'Absorbance Data'!U3223-Calculations!R$1","v":0},{"$f":"'Absorbance Data'!V3223-Calculations!S$1","v":0},{"$f":"'Absorbance Data'!W3223-Calculations!T$1","v":0},{"$f":"'Absorbance Data'!X3223-Calculations!U$1","v":0},{"$f":"'Absorbance Data'!Y3223-Calculations!V$1","v":0},{"$f":"'Absorbance Data'!Z3223-Calculations!W$1","v":0}]
[{"$f":"'Absorbance Data'!D3224","v":587.92724609375},{"$f":"'Absorbance Data'!E3224-Calculations!B$1","v":0},{"$f":"'Absorbance Data'!F3224-Calculations!C$1","v":0},{"$f":"'Absorbance Data'!G3224-Calculations!D$1","v":0},{"$f":"'Absorbance Data'!H3224-Calculations!E$1","v":0},{"$f":"'Absorbance Data'!I3224-Calculations!F$1","v":0},{"$f":"'Absorbance Data'!J3224-Calculations!G$1","v":0},{"$f":"'Absorbance Data'!K3224-Calculations!H$1","v":0},{"$f":"'Absorbance Data'!L3224-Calculations!I$1","v":0},{"$f":"'Absorbance Data'!M3224-Calculations!J$1","v":0},{"$f":"'Absorbance Data'!N3224-Calculations!K$1","v":0},{"$f":"'Absorbance Data'!O3224-Calculations!L$1","v":0},{"$f":"'Absorbance Data'!P3224-Calculations!M$1","v":0},{"$f":"'Absorbance Data'!Q3224-Calculations!N$1","v":0},{"$f":"'Absorbance Data'!R3224-Calculations!O$1","v":0},{"$f":"'Absorbance Data'!S3224-Calculations!P$1","v":0},{"$f":"'Absorbance Data'!T3224-Calculations!Q$1","v":0},{"$f":"'Absorbance Data'!U3224-Calculations!R$1","v":0},{"$f":"'Absorbance Data'!V3224-Calculations!S$1","v":0},{"$f":"'Absorbance Data'!W3224-Calculations!T$1","v":0},{"$f":"'Absorbance Data'!X3224-Calculations!U$1","v":0},{"$f":"'Absorbance Data'!Y3224-Calculations!V$1","v":0},{"$f":"'Absorbance Data'!Z3224-Calculations!W$1","v":0}]
[{"$f":"'Absorbance Data'!D3225","v":588.249267578125},{"$f":"'Absorbance Data'!E3225-Calculations!B$1","v":0},{"$f":"'Absorbance Data'!F3225-Calculations!C$1","v":0},{"$f":"'Absorbance Data'!G3225-Calculations!D$1","v":0},{"$f":"'Absorbance Data'!H3225-Calculations!E$1","v":0},{"$f":"'Absorbance Data'!I3225-Calculations!F$1","v":0},{"$f":"'Absorbance Data'!J3225-Calculations!G$1","v":0},{"$f":"'Absorbance Data'!K3225-Calculations!H$1","v":0},{"$f":"'Absorbance Data'!L3225-Calculations!I$1","v":0},{"$f":"'Absorbance Data'!M3225-Calculations!J$1","v":0},{"$f":"'Absorbance Data'!N3225-Calculations!K$1","v":0},{"$f":"'Absorbance Data'!O3225-Calculations!L$1","v":0},{"$f":"'Absorbance Data'!P3225-Calculations!M$1","v":0},{"$f":"'Absorbance Data'!Q3225-Calculations!N$1","v":0},{"$f":"'Absorbance Data'!R3225-Calculations!O$1","v":0},{"$f":"'Absorbance Data'!S3225-Calculations!P$1","v":0},{"$f":"'Absorbance Data'!T3225-Calculations!Q$1","v":0},{"$f":"'Absorbance Data'!U3225-Calculations!R$1","v":0},{"$f":"'Absorbance Data'!V3225-Calculations!S$1","v":0},{"$f":"'Absorbance Data'!W3225-Calculations!T$1","v":0},{"$f":"'Absorbance Data'!X3225-Calculations!U$1","v":0},{"$f":"'Absorbance Data'!Y3225-Calculations!V$1","v":0},{"$f":"'Absorbance Data'!Z3225-Calculations!W$1","v":0}]
[{"$f":"'Absorbance Data'!D3226","v":588.5711669921875},{"$f":"'Absorbance Data'!E3226-Calculations!B$1","v":0},{"$f":"'Absorbance Data'!F3226-Calculations!C$1","v":0},{"$f":"'Absorbance Data'!G3226-Calculations!D$1","v":0},{"$f":"'Absorbance Data'!H3226-Calculations!E$1","v":0},{"$f":"'Absorbance Data'!I3226-Calculations!F$1","v":0},{"$f":"'Absorbance Data'!J3226-Calculations!G$1","v":0},{"$f":"'Absorbance Data'!K3226-Calculations!H$1","v":0},{"$f":"'Absorbance Data'!L3226-Calculations!I$1","v":0},{"$f":"'Absorbance Data'!M3226-Calculations!J$1","v":0},{"$f":"'Absorbance Data'!N3226-Calculations!K$1","v":0},{"$f":"'Absorbance Data'!O3226-Calculations!L$1","v":0},{"$f":"'Absorbance Data'!P3226-Calculations!M$1","v":0},{"$f":"'Absorbance Data'!Q3226-Calculations!N$1","v":0},{"$f":"'Absorbance Data'!R3226-Calculations!O$1","v":0},{"$f":"'Absorbance Data'!S3226-Calculations!P$1","v":0},{"$f":"'Absorbance Data'!T3226-Calculations!Q$1","v":0},{"$f":"'Absorbance Data'!U3226-Calculations!R$1","v":0},{"$f":"'Absorbance Data'!V3226-Calculations!S$1","v":0},{"$f":"'Absorbance Data'!W3226-Calculations!T$1","v":0},{"$f":"'Absorbance Data'!X3226-Calculations!U$1","v":0},{"$f":"'Absorbance Data'!Y3226-Calculations!V$1","v":0},{"$f":"'Absorbance Data'!Z3226-Calculations!W$1","v":0}]
[{"$f":"'Absorbance Data'!D3227","v":588.8931884765625},{"$f":"'Absorbance Data'!E3227-Calculations!B$1","v":0},{"$f":"'Absorbance Data'!F3227-Calculations!C$1","v":0},{"$f":"'Absorbance Data'!G3227-Calculations!D$1","v":0},{"$f":"'Absorbance Data'!H3227-Calculations!E$1","v":0},{"$f":"'Absorbance Data'!I3227-Calculations!F$1","v":0},{"$f":"'Absorbance Data'!J3227-Calculations!G$1","v":0},{"$f":"'Absorbance Data'!K3227-Calculations!H$1","v":0},{"$f":"'Absorbance Data'!L3227-Calculations!I$1","v":0},{"$f":"'Absorbance Data'!M3227-Calculations!J$1","v":0},{"$f":"'Absorbance Data'!N3227-Calculations!K$1","v":0},{"$f":"'Absorbance Data'!O3227-Calculations!L$1","v":0},{"$f":"'Absorbance Data'!P3227-Calculations!M$1","v":0},{"$f":"'Absorbance Data'!Q3227-Calculations!N$1","v":0},{"$f":"'Absorbance Data'!R3227-Calculations!O$1","v":0},{"$f":"'Absorbance Data'!S3227-Calculations!P$1","v":0},{"$f":"'Absorbance Data'!T3227-Calculations!Q$1","v":0},{"$f":"'Absorbance Data'!U3227-Calculations!R$1","v":0},{"$f":"'Absorbance Data'!V3227-Calculations!S$1","v":0},{"$f":"'Absorbance Data'!W3227-Calculations!T$1","v":0},{"$f":"'Absorbance Data'!X3227-Calculations!U$1","v":0},{"$f":"'Absorbance Data'!Y3227-Calculations!V$1","v":0},{"$f":"'Absorbance Data'!Z3227-Calculations!W$1","v":0}]
[{"$f":"'Absorbance Data'!D3228","v":589.21514892578125},{"$f":"'Absorbance Data'!E3228-Calculations!B$1","v":0},{"$f":"'Absorbance Data'!F3228-Calculations!C$1","v":0},{"$f":"'Absorbance Data'!G3228-Calculations!D$1","v":0},{"$f":"'Absorbance Data'!H3228-Calculations!E$1","v":0},{"$f":"'Absorbance Data'!I3228-Calculations!F$1","v":0},{"$f":"'Absorbance Data'!J3228-Calculations!G$1","v":0},{"$f":"'Absorbance Data'!K3228-Calculations!H$1","v":0},{"$f":"'Absorbance Data'!L3228-Calculations!I$1","v":0},{"$f":"'Absorbance Data'!M3228-Calculations!J$1","v":0},{"$f":"'Absorbance Data'!N3228-Calculations!K$1","v":0},{"$f":"'Absorbance Data'!O3228-Calculations!L$1","v":0},{"$f":"'Absorbance Data'!P3228-Calculations!M$1","v":0},{"$f":"'Absorbance Data'!Q3228-Calculations!N$1","v":0},{"$f":"'Absorbance Data'!R3228-Calculations!O$1","v":0},{"$f":"'Absorbance Data'!S3228-Calculations!P$1","v":0},{"$f":"'Absorbance Data'!T3228-Calculations!Q$1","v":0},{"$f":"'Absorbance Data'!U3228-Calculations!R$1","v":0},{"$f":"'Absorbance Data'!V3228-Calculations!S$1","v":0},{"$f":"'Absorbance Data'!W3228-Calculations!T$1","v":0},{"$f":"'Absorbance Data'!X3228-Calculations!U$1","v":0},{"$f":"'Absorbance Data'!Y3228-Calculations!V$1","v":0},{"$f":"'Absorbance Data'!Z3228-Calculations!W$1","v":0}]
[{"$f":"'Absorbance Data'!D3229","v":589.53692626953125},{"$f":"'Absorbance Data'!E3229-Calculations!B$1","v":0},{"$f":"'Absorbance Data'!F3229-Calculations!C$1","v":0},{"$f":"'Absorbance Data'!G3229-Calculations!D$1","v":0},{"$f":"'Absorbance Data'!H3229-Calculations!E$1","v":0},{"$f":"'Absorbance Data'!I3229-Calculations!F$1","v":0},{"$f":"'Absorbance Data'!J3229-Calculations!G$1","v":0},{"$f":"'Absorbance Data'!K3229-Calculations!H$1","v":0},{"$f":"'Absorbance Data'!L3229-Calculations!I$1","v":0},{"$f":"'Absorbance Data'!M3229-Calculations!J$1","v":0},{"$f":"'Absorbance Data'!N3229-Calculations!K$1","v":0},{"$f":"'Absorbance Data'!O3229-Calculations!L$1","v":0},{"$f":"'Absorbance Data'!P3229-Calculations!M$1","v":0},{"$f":"'Absorbance Data'!Q3229-Calculations!N$1","v":0},{"$f":"'Absorbance Data'!R3229-Calculations!O$1","v":0},{"$f":"'Absorbance Data'!S3229-Calculations!P$1","v":0},{"$f":"'Absorbance Data'!T3229-Calculations!Q$1","v":0},{"$f":"'Absorbance Data'!U3229-Calculations!R$1","v":0},{"$f":"'Absorbance Data'!V3229-Calculations!S$1","v":0},{"$f":"'Absorbance Data'!W3229-Calculations!T$1","v":0},{"$f":"'Absorbance Data'!X3229-Calculations!U$1","v":0},{"$f":"'Absorbance Data'!Y3229-Calculations!V$1","v":0},{"$f":"'Absorbance Data'!Z3229-Calculations!W$1","v":0}]
[{"$f":"'Absorbance Data'!D3230","v":589.8587646484375},{"$f":"'Absorbance Data'!E3230-Calculations!B$1","v":0},{"$f":"'Absorbance Data'!F3230-Calculations!C$1","v":0},{"$f":"'Absorbance Data'!G3230-Calculations!D$1","v":0},{"$f":"'Absorbance Data'!H3230-Calculations!E$1","v":0},{"$f":"'Absorbance Data'!I3230-Calculations!F$1","v":0},{"$f":"'Absorbance Data'!J3230-Calculations!G$1","v":0},{"$f":"'Absorbance Data'!K3230-Calculations!H$1","v":0},{"$f":"'Absorbance Data'!L3230-Calculations!I$1","v":0},{"$f":"'Absorbance Data'!M3230-Calculations!J$1","v":0},{"$f":"'Absorbance Data'!N3230-Calculations!K$1","v":0},{"$f":"'Absorbance Data'!O3230-Calculations!L$1","v":0},{"$f":"'Absorbance Data'!P3230-Calculations!M$1","v":0},{"$f":"'Absorbance Data'!Q3230-Calculations!N$1","v":0},{"$f":"'Absorbance Data'!R3230-Calculations!O$1","v":0},{"$f":"'Absorbance Data'!S3230-Calculations!P$1","v":0},{"$f":"'Absorbance Data'!T3230-Calculations!Q$1","v":0},{"$f":"'Absorbance Data'!U3230-Calculations!R$1","v":0},{"$f":"'Absorbance Data'!V3230-Calculations!S$1","v":0},{"$f":"'Absorbance Data'!W3230-Calculations!T$1","v":0},{"$f":"'Absorbance Data'!X3230-Calculations!U$1","v":0},{"$f":"'Absorbance Data'!Y3230-Calculations!V$1","v":0},{"$f":"'Absorbance Data'!Z3230-Calculations!W$1","v":0}]
[{"$f":"'Absorbance Data'!D3231","v":590.18060302734375},{"$f":"'Absorbance Data'!E3231-Calculations!B$1","v":0},{"$f":"'Absorbance Data'!F3231-Calculations!C$1","v":0},{"$f":"'Absorbance Data'!G3231-Calculations!D$1","v":0},{"$f":"'Absorbance Data'!H3231-Calculations!E$1","v":0},{"$f":"'Absorbance Data'!I3231-Calculations!F$1","v":0},{"$f":"'Absorbance Data'!J3231-Calculations!G$1","v":0},{"$f":"'Absorbance Data'!K3231-Calculations!H$1","v":0},{"$f":"'Absorbance Data'!L3231-Calculations!I$1","v":0},{"$f":"'Absorbance Data'!M3231-Calculations!J$1","v":0},{"$f":"'Absorbance Data'!N3231-Calculations!K$1","v":0},{"$f":"'Absorbance Data'!O3231-Calculations!L$1","v":0},{"$f":"'Absorbance Data'!P3231-Calculations!M$1","v":0},{"$f":"'Absorbance Data'!Q3231-Calculations!N$1","v":0},{"$f":"'Absorbance Data'!R3231-Calculations!O$1","v":0},{"$f":"'Absorbance Data'!S3231-Calculations!P$1","v":0},{"$f":"'Absorbance Data'!T3231-Calculations!Q$1","v":0},{"$f":"'Absorbance Data'!U3231-Calculations!R$1","v":0},{"$f":"'Absorbance Data'!V3231-Calculations!S$1","v":0},{"$f":"'Absorbance Data'!W3231-Calculations!T$1","v":0},{"$f":"'Absorbance Data'!X3231-Calculations!U$1","v":0},{"$f":"'Absorbance Data'!Y3231-Calculations!V$1","v":0},{"$f":"'Absorbance Data'!Z3231-Calculations!W$1","v":0}]
[{"$f":"'Absorbance Data'!D3232","v":590.50238037109375},{"$f":"'Absorbance Data'!E3232-Calculations!B$1","v":0},{"$f":"'Absorbance Data'!F3232-Calculations!C$1","v":0},{"$f":"'Absorbance Data'!G3232-Calculations!D$1","v":0},{"$f":"'Absorbance Data'!H3232-Calculations!E$1","v":0},{"$f":"'Absorbance Data'!I3232-Calculations!F$1","v":0},{"$f":"'Absorbance Data'!J3232-Calculations!G$1","v":0},{"$f":"'Absorbance Data'!K3232-Calculations!H$1","v":0},{"$f":"'Absorbance Data'!L3232-Calculations!I$1","v":0},{"$f":"'Absorbance Data'!M3232-Calculations!J$1","v":0},{"$f":"'Absorbance Data'!N3232-Calculations!K$1","v":0},{"$f":"'Absorbance Data'!O3232-Calculations!L$1","v":0},{"$f":"'Absorbance Data'!P3232-Calculations!M$1","v":0},{"$f":"'Absorbance Data'!Q3232-Calculations!N$1","v":0},{"$f":"'Absorbance Data'!R3232-Calculations!O$1","v":0},{"$f":"'Absorbance Data'!S3232-Calculations!P$1","v":0},{"$f":"'Absorbance Data'!T3232-Calculations!Q$1","v":0},{"$f":"'Absorbance Data'!U3232-Calculations!R$1","v":0},{"$f":"'Absorbance Data'!V3232-Calculations!S$1","v":0},{"$f":"'Absorbance Data'!W3232-Calculations!T$1","v":0},{"$f":"'Absorbance Data'!X3232-Calculations!U$1","v":0},{"$f":"'Absorbance Data'!Y3232-Calculations!V$1","v":0},{"$f":"'Absorbance Data'!Z3232-Calculations!W$1","v":0}]
[{"$f":"'Absorbance Data'!D3233","v":590.82403564453125},{"$f":"'Absorbance Data'!E3233-Calculations!B$1","v":0},{"$f":"'Absorbance Data'!F3233-Calculations!C$1","v":0},{"$f":"'Absorbance Data'!G3233-Calculations!D$1","v":0},{"$f":"'Absorbance Data'!H3233-Calculations!E$1","v":0},{"$f":"'Absorbance Data'!I3233-Calculations!F$1","v":0},{"$f":"'Absorbance Data'!J3233-Calculations!G$1","v":0},{"$f":"'Absorbance Data'!K3233-Calculations!H$1","v":0},{"$f":"'Absorbance Data'!L3233-Calculations!I$1","v":0},{"$f":"'Absorbance Data'!M3233-Calculations!J$1","v":0},{"$f":"'Absorbance Data'!N3233-Calculations!K$1","v":0},{"$f":"'Absorbance Data'!O3233-Calculations!L$1","v":0},{"$f":"'Absorbance Data'!P3233-Calculations!M$1","v":0},{"$f":"'Absorbance Data'!Q3233-Calculations!N$1","v":0},{"$f":"'Absorbance Data'!R3233-Calculations!O$1","v":0},{"$f":"'Absorbance Data'!S3233-Calculations!P$1","v":0},{"$f":"'Absorbance Data'!T3233-Calculations!Q$1","v":0},{"$f":"'Absorbance Data'!U3233-Calculations!R$1","v":0},{"$f":"'Absorbance Data'!V3233-Calculations!S$1","v":0},{"$f":"'Absorbance Data'!W3233-Calculations!T$1","v":0},{"$f":"'Absorbance Data'!X3233-Calculations!U$1","v":0},{"$f":"'Absorbance Data'!Y3233-Calculations!V$1","v":0},{"$f":"'Absorbance Data'!Z3233-Calculations!W$1","v":0}]
[{"$f":"'Absorbance Data'!D3234","v":591.14569091796875},{"$f":"'Absorbance Data'!E3234-Calculations!B$1","v":0},{"$f":"'Absorbance Data'!F3234-Calculations!C$1","v":0},{"$f":"'Absorbance Data'!G3234-Calculations!D$1","v":0},{"$f":"'Absorbance Data'!H3234-Calculations!E$1","v":0},{"$f":"'Absorbance Data'!I3234-Calculations!F$1","v":0},{"$f":"'Absorbance Data'!J3234-Calculations!G$1","v":0},{"$f":"'Absorbance Data'!K3234-Calculations!H$1","v":0},{"$f":"'Absorbance Data'!L3234-Calculations!I$1","v":0},{"$f":"'Absorbance Data'!M3234-Calculations!J$1","v":0},{"$f":"'Absorbance Data'!N3234-Calculations!K$1","v":0},{"$f":"'Absorbance Data'!O3234-Calculations!L$1","v":0},{"$f":"'Absorbance Data'!P3234-Calculations!M$1","v":0},{"$f":"'Absorbance Data'!Q3234-Calculations!N$1","v":0},{"$f":"'Absorbance Data'!R3234-Calculations!O$1","v":0},{"$f":"'Absorbance Data'!S3234-Calculations!P$1","v":0},{"$f":"'Absorbance Data'!T3234-Calculations!Q$1","v":0},{"$f":"'Absorbance Data'!U3234-Calculations!R$1","v":0},{"$f":"'Absorbance Data'!V3234-Calculations!S$1","v":0},{"$f":"'Absorbance Data'!W3234-Calculations!T$1","v":0},{"$f":"'Absorbance Data'!X3234-Calculations!U$1","v":0},{"$f":"'Absorbance Data'!Y3234-Calculations!V$1","v":0},{"$f":"'Absorbance Data'!Z3234-Calculations!W$1","v":0}]
[{"$f":"'Absorbance Data'!D3235","v":591.46734619140625},{"$f":"'Absorbance Data'!E3235-Calculations!B$1","v":0},{"$f":"'Absorbance Data'!F3235-Calculations!C$1","v":0},{"$f":"'Absorbance Data'!G3235-Calculations!D$1","v":0},{"$f":"'Absorbance Data'!H3235-Calculations!E$1","v":0},{"$f":"'Absorbance Data'!I3235-Calculations!F$1","v":0},{"$f":"'Absorbance Data'!J3235-Calculations!G$1","v":0},{"$f":"'Absorbance Data'!K3235-Calculations!H$1","v":0},{"$f":"'Absorbance Data'!L3235-Calculations!I$1","v":0},{"$f":"'Absorbance Data'!M3235-Calculations!J$1","v":0},{"$f":"'Absorbance Data'!N3235-Calculations!K$1","v":0},{"$f":"'Absorbance Data'!O3235-Calculations!L$1","v":0},{"$f":"'Absorbance Data'!P3235-Calculations!M$1","v":0},{"$f":"'Absorbance Data'!Q3235-Calculations!N$1","v":0},{"$f":"'Absorbance Data'!R3235-Calculations!O$1","v":0},{"$f":"'Absorbance Data'!S3235-Calculations!P$1","v":0},{"$f":"'Absorbance Data'!T3235-Calculations!Q$1","v":0},{"$f":"'Absorbance Data'!U3235-Calculations!R$1","v":0},{"$f":"'Absorbance Data'!V3235-Calculations!S$1","v":0},{"$f":"'Absorbance Data'!W3235-Calculations!T$1","v":0},{"$f":"'Absorbance Data'!X3235-Calculations!U$1","v":0},{"$f":"'Absorbance Data'!Y3235-Calculations!V$1","v":0},{"$f":"'Absorbance Data'!Z3235-Calculations!W$1","v":0}]
[{"$f":"'Absorbance Data'!D3236","v":591.7889404296875},{"$f":"'Absorbance Data'!E3236-Calculations!B$1","v":0},{"$f":"'Absorbance Data'!F3236-Calculations!C$1","v":0},{"$f":"'Absorbance Data'!G3236-Calculations!D$1","v":0},{"$f":"'Absorbance Data'!H3236-Calculations!E$1","v":0},{"$f":"'Absorbance Data'!I3236-Calculations!F$1","v":0},{"$f":"'Absorbance Data'!J3236-Calculations!G$1","v":0},{"$f":"'Absorbance Data'!K3236-Calculations!H$1","v":0},{"$f":"'Absorbance Data'!L3236-Calculations!I$1","v":0},{"$f":"'Absorbance Data'!M3236-Calculations!J$1","v":0},{"$f":"'Absorbance Data'!N3236-Calculations!K$1","v":0},{"$f":"'Absorbance Data'!O3236-Calculations!L$1","v":0},{"$f":"'Absorbance Data'!P3236-Calculations!M$1","v":0},{"$f":"'Absorbance Data'!Q3236-Calculations!N$1","v":0},{"$f":"'Absorbance Data'!R3236-Calculations!O$1","v":0},{"$f":"'Absorbance Data'!S3236-Calculations!P$1","v":0},{"$f":"'Absorbance Data'!T3236-Calculations!Q$1","v":0},{"$f":"'Absorbance Data'!U3236-Calculations!R$1","v":0},{"$f":"'Absorbance Data'!V3236-Calculations!S$1","v":0},{"$f":"'Absorbance Data'!W3236-Calculations!T$1","v":0},{"$f":"'Absorbance Data'!X3236-Calculations!U$1","v":0},{"$f":"'Absorbance Data'!Y3236-Calculations!V$1","v":0},{"$f":"'Absorbance Data'!Z3236-Calculations!W$1","v":0}]
[{"$f":"'Absorbance Data'!D3237","v":592.1104736328125},{"$f":"'Absorbance Data'!E3237-Calculations!B$1","v":0},{"$f":"'Absorbance Data'!F3237-Calculations!C$1","v":0},{"$f":"'Absorbance Data'!G3237-Calculations!D$1","v":0},{"$f":"'Absorbance Data'!H3237-Calculations!E$1","v":0},{"$f":"'Absorbance Data'!I3237-Calculations!F$1","v":0},{"$f":"'Absorbance Data'!J3237-Calculations!G$1","v":0},{"$f":"'Absorbance Data'!K3237-Calculations!H$1","v":0},{"$f":"'Absorbance Data'!L3237-Calculations!I$1","v":0},{"$f":"'Absorbance Data'!M3237-Calculations!J$1","v":0},{"$f":"'Absorbance Data'!N3237-Calculations!K$1","v":0},{"$f":"'Absorbance Data'!O3237-Calculations!L$1","v":0},{"$f":"'Absorbance Data'!P3237-Calculations!M$1","v":0},{"$f":"'Absorbance Data'!Q3237-Calculations!N$1","v":0},{"$f":"'Absorbance Data'!R3237-Calculations!O$1","v":0},{"$f":"'Absorbance Data'!S3237-Calculations!P$1","v":0},{"$f":"'Absorbance Data'!T3237-Calculations!Q$1","v":0},{"$f":"'Absorbance Data'!U3237-Calculations!R$1","v":0},{"$f":"'Absorbance Data'!V3237-Calculations!S$1","v":0},{"$f":"'Absorbance Data'!W3237-Calculations!T$1","v":0},{"$f":"'Absorbance Data'!X3237-Calculations!U$1","v":0},{"$f":"'Absorbance Data'!Y3237-Calculations!V$1","v":0},{"$f":"'Absorbance Data'!Z3237-Calculations!W$1","v":0}]
[{"$f":"'Absorbance Data'!D3238","v":592.4320068359375},{"$f":"'Absorbance Data'!E3238-Calculations!B$1","v":0},{"$f":"'Absorbance Data'!F3238-Calculations!C$1","v":0},{"$f":"'Absorbance Data'!G3238-Calculations!D$1","v":0},{"$f":"'Absorbance Data'!H3238-Calculations!E$1","v":0},{"$f":"'Absorbance Data'!I3238-Calculations!F$1","v":0},{"$f":"'Absorbance Data'!J3238-Calculations!G$1","v":0},{"$f":"'Absorbance Data'!K3238-Calculations!H$1","v":0},{"$f":"'Absorbance Data'!L3238-Calculations!I$1","v":0},{"$f":"'Absorbance Data'!M3238-Calculations!J$1","v":0},{"$f":"'Absorbance Data'!N3238-Calculations!K$1","v":0},{"$f":"'Absorbance Data'!O3238-Calculations!L$1","v":0},{"$f":"'Absorbance Data'!P3238-Calculations!M$1","v":0},{"$f":"'Absorbance Data'!Q3238-Calculations!N$1","v":0},{"$f":"'Absorbance Data'!R3238-Calculations!O$1","v":0},{"$f":"'Absorbance Data'!S3238-Calculations!P$1","v":0},{"$f":"'Absorbance Data'!T3238-Calculations!Q$1","v":0},{"$f":"'Absorbance Data'!U3238-Calculations!R$1","v":0},{"$f":"'Absorbance Data'!V3238-Calculations!S$1","v":0},{"$f":"'Absorbance Data'!W3238-Calculations!T$1","v":0},{"$f":"'Absorbance Data'!X3238-Calculations!U$1","v":0},{"$f":"'Absorbance Data'!Y3238-Calculations!V$1","v":0},{"$f":"'Absorbance Data'!Z3238-Calculations!W$1","v":0}]
[{"$f":"'Absorbance Data'!D3239","v":592.75347900390625},{"$f":"'Absorbance Data'!E3239-Calculations!B$1","v":0},{"$f":"'Absorbance Data'!F3239-Calculations!C$1","v":0},{"$f":"'Absorbance Data'!G3239-Calculations!D$1","v":0},{"$f":"'Absorbance Data'!H3239-Calculations!E$1","v":0},{"$f":"'Absorbance Data'!I3239-Calculations!F$1","v":0},{"$f":"'Absorbance Data'!J3239-Calculations!G$1","v":0},{"$f":"'Absorbance Data'!K3239-Calculations!H$1","v":0},{"$f":"'Absorbance Data'!L3239-Calculations!I$1","v":0},{"$f":"'Absorbance Data'!M3239-Calculations!J$1","v":0},{"$f":"'Absorbance Data'!N3239-Calculations!K$1","v":0},{"$f":"'Absorbance Data'!O3239-Calculations!L$1","v":0},{"$f":"'Absorbance Data'!P3239-Calculations!M$1","v":0},{"$f":"'Absorbance Data'!Q3239-Calculations!N$1","v":0},{"$f":"'Absorbance Data'!R3239-Calculations!O$1","v":0},{"$f":"'Absorbance Data'!S3239-Calculations!P$1","v":0},{"$f":"'Absorbance Data'!T3239-Calculations!Q$1","v":0},{"$f":"'Absorbance Data'!U3239-Calculations!R$1","v":0},{"$f":"'Absorbance Data'!V3239-Calculations!S$1","v":0},{"$f":"'Absorbance Data'!W3239-Calculations!T$1","v":0},{"$f":"'Absorbance Data'!X3239-Calculations!U$1","v":0},{"$f":"'Absorbance Data'!Y3239-Calculations!V$1","v":0},{"$f":"'Absorbance Data'!Z3239-Calculations!W$1","v":0}]
[{"$f":"'Absorbance Data'!D3240","v":593.07489013671875},{"$f":"'Absorbance Data'!E3240-Calculations!B$1","v":0},{"$f":"'Absorbance Data'!F3240-Calculations!C$1","v":0},{"$f":"'Absorbance Data'!G3240-Calculations!D$1","v":0},{"$f":"'Absorbance Data'!H3240-Calculations!E$1","v":0},{"$f":"'Absorbance Data'!I3240-Calculations!F$1","v":0},{"$f":"'Absorbance Data'!J3240-Calculations!G$1","v":0},{"$f":"'Absorbance Data'!K3240-Calculations!H$1","v":0},{"$f":"'Absorbance Data'!L3240-Calculations!I$1","v":0},{"$f":"'Absorbance Data'!M3240-Calculations!J$1","v":0},{"$f":"'Absorbance Data'!N3240-Calculations!K$1","v":0},{"$f":"'Absorbance Data'!O3240-Calculations!L$1","v":0},{"$f":"'Absorbance Data'!P3240-Calculations!M$1","v":0},{"$f":"'Absorbance Data'!Q3240-Calculations!N$1","v":0},{"$f":"'Absorbance Data'!R3240-Calculations!O$1","v":0},{"$f":"'Absorbance Data'!S3240-Calculations!P$1","v":0},{"$f":"'Absorbance Data'!T3240-Calculations!Q$1","v":0},{"$f":"'Absorbance Data'!U3240-Calculations!R$1","v":0},{"$f":"'Absorbance Data'!V3240-Calculations!S$1","v":0},{"$f":"'Absorbance Data'!W3240-Calculations!T$1","v":0},{"$f":"'Absorbance Data'!X3240-Calculations!U$1","v":0},{"$f":"'Absorbance Data'!Y3240-Calculations!V$1","v":0},{"$f":"'Absorbance Data'!Z3240-Calculations!W$1","v":0}]
[{"$f":"'Absorbance Data'!D3241","v":593.39630126953125},{"$f":"'Absorbance Data'!E3241-Calculations!B$1","v":0},{"$f":"'Absorbance Data'!F3241-Calculations!C$1","v":0},{"$f":"'Absorbance Data'!G3241-Calculations!D$1","v":0},{"$f":"'Absorbance Data'!H3241-Calculations!E$1","v":0},{"$f":"'Absorbance Data'!I3241-Calculations!F$1","v":0},{"$f":"'Absorbance Data'!J3241-Calculations!G$1","v":0},{"$f":"'Absorbance Data'!K3241-Calculations!H$1","v":0},{"$f":"'Absorbance Data'!L3241-Calculations!I$1","v":0},{"$f":"'Absorbance Data'!M3241-Calculations!J$1","v":0},{"$f":"'Absorbance Data'!N3241-Calculations!K$1","v":0},{"$f":"'Absorbance Data'!O3241-Calculations!L$1","v":0},{"$f":"'Absorbance Data'!P3241-Calculations!M$1","v":0},{"$f":"'Absorbance Data'!Q3241-Calculations!N$1","v":0},{"$f":"'Absorbance Data'!R3241-Calculations!O$1","v":0},{"$f":"'Absorbance Data'!S3241-Calculations!P$1","v":0},{"$f":"'Absorbance Data'!T3241-Calculations!Q$1","v":0},{"$f":"'Absorbance Data'!U3241-Calculations!R$1","v":0},{"$f":"'Absorbance Data'!V3241-Calculations!S$1","v":0},{"$f":"'Absorbance Data'!W3241-Calculations!T$1","v":0},{"$f":"'Absorbance Data'!X3241-Calculations!U$1","v":0},{"$f":"'Absorbance Data'!Y3241-Calculations!V$1","v":0},{"$f":"'Absorbance Data'!Z3241-Calculations!W$1","v":0}]
[{"$f":"'Absorbance Data'!D3242","v":593.71759033203125},{"$f":"'Absorbance Data'!E3242-Calculations!B$1","v":0},{"$f":"'Absorbance Data'!F3242-Calculations!C$1","v":0},{"$f":"'Absorbance Data'!G3242-Calculations!D$1","v":0},{"$f":"'Absorbance Data'!H3242-Calculations!E$1","v":0},{"$f":"'Absorbance Data'!I3242-Calculations!F$1","v":0},{"$f":"'Absorbance Data'!J3242-Calculations!G$1","v":0},{"$f":"'Absorbance Data'!K3242-Calculations!H$1","v":0},{"$f":"'Absorbance Data'!L3242-Calculations!I$1","v":0},{"$f":"'Absorbance Data'!M3242-Calculations!J$1","v":0},{"$f":"'Absorbance Data'!N3242-Calculations!K$1","v":0},{"$f":"'Absorbance Data'!O3242-Calculations!L$1","v":0},{"$f":"'Absorbance Data'!P3242-Calculations!M$1","v":0},{"$f":"'Absorbance Data'!Q3242-Calculations!N$1","v":0},{"$f":"'Absorbance Data'!R3242-Calculations!O$1","v":0},{"$f":"'Absorbance Data'!S3242-Calculations!P$1","v":0},{"$f":"'Absorbance Data'!T3242-Calculations!Q$1","v":0},{"$f":"'Absorbance Data'!U3242-Calculations!R$1","v":0},{"$f":"'Absorbance Data'!V3242-Calculations!S$1","v":0},{"$f":"'Absorbance Data'!W3242-Calculations!T$1","v":0},{"$f":"'Absorbance Data'!X3242-Calculations!U$1","v":0},{"$f":"'Absorbance Data'!Y3242-Calculations!V$1","v":0},{"$f":"'Absorbance Data'!Z3242-Calculations!W$1","v":0}]
[{"$f":"'Absorbance Data'!D3243","v":594.03900146484375},{"$f":"'Absorbance Data'!E3243-Calculations!B$1","v":0},{"$f":"'Absorbance Data'!F3243-Calculations!C$1","v":0},{"$f":"'Absorbance Data'!G3243-Calculations!D$1","v":0},{"$f":"'Absorbance Data'!H3243-Calculations!E$1","v":0},{"$f":"'Absorbance Data'!I3243-Calculations!F$1","v":0},{"$f":"'Absorbance Data'!J3243-Calculations!G$1","v":0},{"$f":"'Absorbance Data'!K3243-Calculations!H$1","v":0},{"$f":"'Absorbance Data'!L3243-Calculations!I$1","v":0},{"$f":"'Absorbance Data'!M3243-Calculations!J$1","v":0},{"$f":"'Absorbance Data'!N3243-Calculations!K$1","v":0},{"$f":"'Absorbance Data'!O3243-Calculations!L$1","v":0},{"$f":"'Absorbance Data'!P3243-Calculations!M$1","v":0},{"$f":"'Absorbance Data'!Q3243-Calculations!N$1","v":0},{"$f":"'Absorbance Data'!R3243-Calculations!O$1","v":0},{"$f":"'Absorbance Data'!S3243-Calculations!P$1","v":0},{"$f":"'Absorbance Data'!T3243-Calculations!Q$1","v":0},{"$f":"'Absorbance Data'!U3243-Calculations!R$1","v":0},{"$f":"'Absorbance Data'!V3243-Calculations!S$1","v":0},{"$f":"'Absorbance Data'!W3243-Calculations!T$1","v":0},{"$f":"'Absorbance Data'!X3243-Calculations!U$1","v":0},{"$f":"'Absorbance Data'!Y3243-Calculations!V$1","v":0},{"$f":"'Absorbance Data'!Z3243-Calculations!W$1","v":0}]
[{"$f":"'Absorbance Data'!D3244","v":594.36029052734375},{"$f":"'Absorbance Data'!E3244-Calculations!B$1","v":0},{"$f":"'Absorbance Data'!F3244-Calculations!C$1","v":0},{"$f":"'Absorbance Data'!G3244-Calculations!D$1","v":0},{"$f":"'Absorbance Data'!H3244-Calculations!E$1","v":0},{"$f":"'Absorbance Data'!I3244-Calculations!F$1","v":0},{"$f":"'Absorbance Data'!J3244-Calculations!G$1","v":0},{"$f":"'Absorbance Data'!K3244-Calculations!H$1","v":0},{"$f":"'Absorbance Data'!L3244-Calculations!I$1","v":0},{"$f":"'Absorbance Data'!M3244-Calculations!J$1","v":0},{"$f":"'Absorbance Data'!N3244-Calculations!K$1","v":0},{"$f":"'Absorbance Data'!O3244-Calculations!L$1","v":0},{"$f":"'Absorbance Data'!P3244-Calculations!M$1","v":0},{"$f":"'Absorbance Data'!Q3244-Calculations!N$1","v":0},{"$f":"'Absorbance Data'!R3244-Calculations!O$1","v":0},{"$f":"'Absorbance Data'!S3244-Calculations!P$1","v":0},{"$f":"'Absorbance Data'!T3244-Calculations!Q$1","v":0},{"$f":"'Absorbance Data'!U3244-Calculations!R$1","v":0},{"$f":"'Absorbance Data'!V3244-Calculations!S$1","v":0},{"$f":"'Absorbance Data'!W3244-Calculations!T$1","v":0},{"$f":"'Absorbance Data'!X3244-Calculations!U$1","v":0},{"$f":"'Absorbance Data'!Y3244-Calculations!V$1","v":0},{"$f":"'Absorbance Data'!Z3244-Calculations!W$1","v":0}]
[{"$f":"'Absorbance Data'!D3245","v":594.68145751953125},{"$f":"'Absorbance Data'!E3245-Calculations!B$1","v":0},{"$f":"'Absorbance Data'!F3245-Calculations!C$1","v":0},{"$f":"'Absorbance Data'!G3245-Calculations!D$1","v":0},{"$f":"'Absorbance Data'!H3245-Calculations!E$1","v":0},{"$f":"'Absorbance Data'!I3245-Calculations!F$1","v":0},{"$f":"'Absorbance Data'!J3245-Calculations!G$1","v":0},{"$f":"'Absorbance Data'!K3245-Calculations!H$1","v":0},{"$f":"'Absorbance Data'!L3245-Calculations!I$1","v":0},{"$f":"'Absorbance Data'!M3245-Calculations!J$1","v":0},{"$f":"'Absorbance Data'!N3245-Calculations!K$1","v":0},{"$f":"'Absorbance Data'!O3245-Calculations!L$1","v":0},{"$f":"'Absorbance Data'!P3245-Calculations!M$1","v":0},{"$f":"'Absorbance Data'!Q3245-Calculations!N$1","v":0},{"$f":"'Absorbance Data'!R3245-Calculations!O$1","v":0},{"$f":"'Absorbance Data'!S3245-Calculations!P$1","v":0},{"$f":"'Absorbance Data'!T3245-Calculations!Q$1","v":0},{"$f":"'Absorbance Data'!U3245-Calculations!R$1","v":0},{"$f":"'Absorbance Data'!V3245-Calculations!S$1","v":0},{"$f":"'Absorbance Data'!W3245-Calculations!T$1","v":0},{"$f":"'Absorbance Data'!X3245-Calculations!U$1","v":0},{"$f":"'Absorbance Data'!Y3245-Calculations!V$1","v":0},{"$f":"'Absorbance Data'!Z3245-Calculations!W$1","v":0}]
[{"$f":"'Absorbance Data'!D3246","v":595.0025634765625},{"$f":"'Absorbance Data'!E3246-Calculations!B$1","v":0},{"$f":"'Absorbance Data'!F3246-Calculations!C$1","v":0},{"$f":"'Absorbance Data'!G3246-Calculations!D$1","v":0},{"$f":"'Absorbance Data'!H3246-Calculations!E$1","v":0},{"$f":"'Absorbance Data'!I3246-Calculations!F$1","v":0},{"$f":"'Absorbance Data'!J3246-Calculations!G$1","v":0},{"$f":"'Absorbance Data'!K3246-Calculations!H$1","v":0},{"$f":"'Absorbance Data'!L3246-Calculations!I$1","v":0},{"$f":"'Absorbance Data'!M3246-Calculations!J$1","v":0},{"$f":"'Absorbance Data'!N3246-Calculations!K$1","v":0},{"$f":"'Absorbance Data'!O3246-Calculations!L$1","v":0},{"$f":"'Absorbance Data'!P3246-Calculations!M$1","v":0},{"$f":"'Absorbance Data'!Q3246-Calculations!N$1","v":0},{"$f":"'Absorbance Data'!R3246-Calculations!O$1","v":0},{"$f":"'Absorbance Data'!S3246-Calculations!P$1","v":0},{"$f":"'Absorbance Data'!T3246-Calculations!Q$1","v":0},{"$f":"'Absorbance Data'!U3246-Calculations!R$1","v":0},{"$f":"'Absorbance Data'!V3246-Calculations!S$1","v":0},{"$f":"'Absorbance Data'!W3246-Calculations!T$1","v":0},{"$f":"'Absorbance Data'!X3246-Calculations!U$1","v":0},{"$f":"'Absorbance Data'!Y3246-Calculations!V$1","v":0},{"$f":"'Absorbance Data'!Z3246-Calculations!W$1","v":0}]
[{"$f":"'Absorbance Data'!D3247","v":595.32379150390625},{"$f":"'Absorbance Data'!E3247-Calculations!B$1","v":0},{"$f":"'Absorbance Data'!F3247-Calculations!C$1","v":0},{"$f":"'Absorbance Data'!G3247-Calculations!D$1","v":0},{"$f":"'Absorbance Data'!H3247-Calculations!E$1","v":0},{"$f":"'Absorbance Data'!I3247-Calculations!F$1","v":0},{"$f":"'Absorbance Data'!J3247-Calculations!G$1","v":0},{"$f":"'Absorbance Data'!K3247-Calculations!H$1","v":0},{"$f":"'Absorbance Data'!L3247-Calculations!I$1","v":0},{"$f":"'Absorbance Data'!M3247-Calculations!J$1","v":0},{"$f":"'Absorbance Data'!N3247-Calculations!K$1","v":0},{"$f":"'Absorbance Data'!O3247-Calculations!L$1","v":0},{"$f":"'Absorbance Data'!P3247-Calculations!M$1","v":0},{"$f":"'Absorbance Data'!Q3247-Calculations!N$1","v":0},{"$f":"'Absorbance Data'!R3247-Calculations!O$1","v":0},{"$f":"'Absorbance Data'!S3247-Calculations!P$1","v":0},{"$f":"'Absorbance Data'!T3247-Calculations!Q$1","v":0},{"$f":"'Absorbance Data'!U3247-Calculations!R$1","v":0},{"$f":"'Absorbance Data'!V3247-Calculations!S$1","v":0},{"$f":"'Absorbance Data'!W3247-Calculations!T$1","v":0},{"$f":"'Absorbance Data'!X3247-Calculations!U$1","v":0},{"$f":"'Absorbance Data'!Y3247-Calculations!V$1","v":0},{"$f":"'Absorbance Data'!Z3247-Calculations!W$1","v":0}]
[{"$f":"'Absorbance Data'!D3248","v":595.64495849609375},{"$f":"'Absorbance Data'!E3248-Calculations!B$1","v":0},{"$f":"'Absorbance Data'!F3248-Calculations!C$1","v":0},{"$f":"'Absorbance Data'!G3248-Calculations!D$1","v":0},{"$f":"'Absorbance Data'!H3248-Calculations!E$1","v":0},{"$f":"'Absorbance Data'!I3248-Calculations!F$1","v":0},{"$f":"'Absorbance Data'!J3248-Calculations!G$1","v":0},{"$f":"'Absorbance Data'!K3248-Calculations!H$1","v":0},{"$f":"'Absorbance Data'!L3248-Calculations!I$1","v":0},{"$f":"'Absorbance Data'!M3248-Calculations!J$1","v":0},{"$f":"'Absorbance Data'!N3248-Calculations!K$1","v":0},{"$f":"'Absorbance Data'!O3248-Calculations!L$1","v":0},{"$f":"'Absorbance Data'!P3248-Calculations!M$1","v":0},{"$f":"'Absorbance Data'!Q3248-Calculations!N$1","v":0},{"$f":"'Absorbance Data'!R3248-Calculations!O$1","v":0},{"$f":"'Absorbance Data'!S3248-Calculations!P$1","v":0},{"$f":"'Absorbance Data'!T3248-Calculations!Q$1","v":0},{"$f":"'Absorbance Data'!U3248-Calculations!R$1","v":0},{"$f":"'Absorbance Data'!V3248-Calculations!S$1","v":0},{"$f":"'Absorbance Data'!W3248-Calculations!T$1","v":0},{"$f":"'Absorbance Data'!X3248-Calculations!U$1","v":0},{"$f":"'Absorbance Data'!Y3248-Calculations!V$1","v":0},{"$f":"'Absorbance Data'!Z3248-Calculations!W$1","v":0}]
[{"$f":"'Absorbance Data'!D3249","v":595.9659423828125},{"$f":"'Absorbance Data'!E3249-Calculations!B$1","v":0},{"$f":"'Absorbance Data'!F3249-Calculations!C$1","v":0},{"$f":"'Absorbance Data'!G3249-Calculations!D$1","v":0},{"$f":"'Absorbance Data'!H3249-Calculations!E$1","v":0},{"$f":"'Absorbance Data'!I3249-Calculations!F$1","v":0},{"$f":"'Absorbance Data'!J3249-Calculations!G$1","v":0},{"$f":"'Absorbance Data'!K3249-Calculations!H$1","v":0},{"$f":"'Absorbance Data'!L3249-Calculations!I$1","v":0},{"$f":"'Absorbance Data'!M3249-Calculations!J$1","v":0},{"$f":"'Absorbance Data'!N3249-Calculations!K$1","v":0},{"$f":"'Absorbance Data'!O3249-Calculations!L$1","v":0},{"$f":"'Absorbance Data'!P3249-Calculations!M$1","v":0},{"$f":"'Absorbance Data'!Q3249-Calculations!N$1","v":0},{"$f":"'Absorbance Data'!R3249-Calculations!O$1","v":0},{"$f":"'Absorbance Data'!S3249-Calculations!P$1","v":0},{"$f":"'Absorbance Data'!T3249-Calculations!Q$1","v":0},{"$f":"'Absorbance Data'!U3249-Calculations!R$1","v":0},{"$f":"'Absorbance Data'!V3249-Calculations!S$1","v":0},{"$f":"'Absorbance Data'!W3249-Calculations!T$1","v":0},{"$f":"'Absorbance Data'!X3249-Calculations!U$1","v":0},{"$f":"'Absorbance Data'!Y3249-Calculations!V$1","v":0},{"$f":"'Absorbance Data'!Z3249-Calculations!W$1","v":0}]
[{"$f":"'Absorbance Data'!D3250","v":596.2869873046875},{"$f":"'Absorbance Data'!E3250-Calculations!B$1","v":0},{"$f":"'Absorbance Data'!F3250-Calculations!C$1","v":0},{"$f":"'Absorbance Data'!G3250-Calculations!D$1","v":0},{"$f":"'Absorbance Data'!H3250-Calculations!E$1","v":0},{"$f":"'Absorbance Data'!I3250-Calculations!F$1","v":0},{"$f":"'Absorbance Data'!J3250-Calculations!G$1","v":0},{"$f":"'Absorbance Data'!K3250-Calculations!H$1","v":0},{"$f":"'Absorbance Data'!L3250-Calculations!I$1","v":0},{"$f":"'Absorbance Data'!M3250-Calculations!J$1","v":0},{"$f":"'Absorbance Data'!N3250-Calculations!K$1","v":0},{"$f":"'Absorbance Data'!O3250-Calculations!L$1","v":0},{"$f":"'Absorbance Data'!P3250-Calculations!M$1","v":0},{"$f":"'Absorbance Data'!Q3250-Calculations!N$1","v":0},{"$f":"'Absorbance Data'!R3250-Calculations!O$1","v":0},{"$f":"'Absorbance Data'!S3250-Calculations!P$1","v":0},{"$f":"'Absorbance Data'!T3250-Calculations!Q$1","v":0},{"$f":"'Absorbance Data'!U3250-Calculations!R$1","v":0},{"$f":"'Absorbance Data'!V3250-Calculations!S$1","v":0},{"$f":"'Absorbance Data'!W3250-Calculations!T$1","v":0},{"$f":"'Absorbance Data'!X3250-Calculations!U$1","v":0},{"$f":"'Absorbance Data'!Y3250-Calculations!V$1","v":0},{"$f":"'Absorbance Data'!Z3250-Calculations!W$1","v":0}]
[{"$f":"'Absorbance Data'!D3251","v":596.60797119140625},{"$f":"'Absorbance Data'!E3251-Calculations!B$1","v":0},{"$f":"'Absorbance Data'!F3251-Calculations!C$1","v":0},{"$f":"'Absorbance Data'!G3251-Calculations!D$1","v":0},{"$f":"'Absorbance Data'!H3251-Calculations!E$1","v":0},{"$f":"'Absorbance Data'!I3251-Calculations!F$1","v":0},{"$f":"'Absorbance Data'!J3251-Calculations!G$1","v":0},{"$f":"'Absorbance Data'!K3251-Calculations!H$1","v":0},{"$f":"'Absorbance Data'!L3251-Calculations!I$1","v":0},{"$f":"'Absorbance Data'!M3251-Calculations!J$1","v":0},{"$f":"'Absorbance Data'!N3251-Calculations!K$1","v":0},{"$f":"'Absorbance Data'!O3251-Calculations!L$1","v":0},{"$f":"'Absorbance Data'!P3251-Calculations!M$1","v":0},{"$f":"'Absorbance Data'!Q3251-Calculations!N$1","v":0},{"$f":"'Absorbance Data'!R3251-Calculations!O$1","v":0},{"$f":"'Absorbance Data'!S3251-Calculations!P$1","v":0},{"$f":"'Absorbance Data'!T3251-Calculations!Q$1","v":0},{"$f":"'Absorbance Data'!U3251-Calculations!R$1","v":0},{"$f":"'Absorbance Data'!V3251-Calculations!S$1","v":0},{"$f":"'Absorbance Data'!W3251-Calculations!T$1","v":0},{"$f":"'Absorbance Data'!X3251-Calculations!U$1","v":0},{"$f":"'Absorbance Data'!Y3251-Calculations!V$1","v":0},{"$f":"'Absorbance Data'!Z3251-Calculations!W$1","v":0}]
[{"$f":"'Absorbance Data'!D3252","v":596.928955078125},{"$f":"'Absorbance Data'!E3252-Calculations!B$1","v":0},{"$f":"'Absorbance Data'!F3252-Calculations!C$1","v":0},{"$f":"'Absorbance Data'!G3252-Calculations!D$1","v":0},{"$f":"'Absorbance Data'!H3252-Calculations!E$1","v":0},{"$f":"'Absorbance Data'!I3252-Calculations!F$1","v":0},{"$f":"'Absorbance Data'!J3252-Calculations!G$1","v":0},{"$f":"'Absorbance Data'!K3252-Calculations!H$1","v":0},{"$f":"'Absorbance Data'!L3252-Calculations!I$1","v":0},{"$f":"'Absorbance Data'!M3252-Calculations!J$1","v":0},{"$f":"'Absorbance Data'!N3252-Calculations!K$1","v":0},{"$f":"'Absorbance Data'!O3252-Calculations!L$1","v":0},{"$f":"'Absorbance Data'!P3252-Calculations!M$1","v":0},{"$f":"'Absorbance Data'!Q3252-Calculations!N$1","v":0},{"$f":"'Absorbance Data'!R3252-Calculations!O$1","v":0},{"$f":"'Absorbance Data'!S3252-Calculations!P$1","v":0},{"$f":"'Absorbance Data'!T3252-Calculations!Q$1","v":0},{"$f":"'Absorbance Data'!U3252-Calculations!R$1","v":0},{"$f":"'Absorbance Data'!V3252-Calculations!S$1","v":0},{"$f":"'Absorbance Data'!W3252-Calculations!T$1","v":0},{"$f":"'Absorbance Data'!X3252-Calculations!U$1","v":0},{"$f":"'Absorbance Data'!Y3252-Calculations!V$1","v":0},{"$f":"'Absorbance Data'!Z3252-Calculations!W$1","v":0}]
[{"$f":"'Absorbance Data'!D3253","v":597.2498779296875},{"$f":"'Absorbance Data'!E3253-Calculations!B$1","v":0},{"$f":"'Absorbance Data'!F3253-Calculations!C$1","v":0},{"$f":"'Absorbance Data'!G3253-Calculations!D$1","v":0},{"$f":"'Absorbance Data'!H3253-Calculations!E$1","v":0},{"$f":"'Absorbance Data'!I3253-Calculations!F$1","v":0},{"$f":"'Absorbance Data'!J3253-Calculations!G$1","v":0},{"$f":"'Absorbance Data'!K3253-Calculations!H$1","v":0},{"$f":"'Absorbance Data'!L3253-Calculations!I$1","v":0},{"$f":"'Absorbance Data'!M3253-Calculations!J$1","v":0},{"$f":"'Absorbance Data'!N3253-Calculations!K$1","v":0},{"$f":"'Absorbance Data'!O3253-Calculations!L$1","v":0},{"$f":"'Absorbance Data'!P3253-Calculations!M$1","v":0},{"$f":"'Absorbance Data'!Q3253-Calculations!N$1","v":0},{"$f":"'Absorbance Data'!R3253-Calculations!O$1","v":0},{"$f":"'Absorbance Data'!S3253-Calculations!P$1","v":0},{"$f":"'Absorbance Data'!T3253-Calculations!Q$1","v":0},{"$f":"'Absorbance Data'!U3253-Calculations!R$1","v":0},{"$f":"'Absorbance Data'!V3253-Calculations!S$1","v":0},{"$f":"'Absorbance Data'!W3253-Calculations!T$1","v":0},{"$f":"'Absorbance Data'!X3253-Calculations!U$1","v":0},{"$f":"'Absorbance Data'!Y3253-Calculations!V$1","v":0},{"$f":"'Absorbance Data'!Z3253-Calculations!W$1","v":0}]
[{"$f":"'Absorbance Data'!D3254","v":597.57073974609375},{"$f":"'Absorbance Data'!E3254-Calculations!B$1","v":0},{"$f":"'Absorbance Data'!F3254-Calculations!C$1","v":0},{"$f":"'Absorbance Data'!G3254-Calculations!D$1","v":0},{"$f":"'Absorbance Data'!H3254-Calculations!E$1","v":0},{"$f":"'Absorbance Data'!I3254-Calculations!F$1","v":0},{"$f":"'Absorbance Data'!J3254-Calculations!G$1","v":0},{"$f":"'Absorbance Data'!K3254-Calculations!H$1","v":0},{"$f":"'Absorbance Data'!L3254-Calculations!I$1","v":0},{"$f":"'Absorbance Data'!M3254-Calculations!J$1","v":0},{"$f":"'Absorbance Data'!N3254-Calculations!K$1","v":0},{"$f":"'Absorbance Data'!O3254-Calculations!L$1","v":0},{"$f":"'Absorbance Data'!P3254-Calculations!M$1","v":0},{"$f":"'Absorbance Data'!Q3254-Calculations!N$1","v":0},{"$f":"'Absorbance Data'!R3254-Calculations!O$1","v":0},{"$f":"'Absorbance Data'!S3254-Calculations!P$1","v":0},{"$f":"'Absorbance Data'!T3254-Calculations!Q$1","v":0},{"$f":"'Absorbance Data'!U3254-Calculations!R$1","v":0},{"$f":"'Absorbance Data'!V3254-Calculations!S$1","v":0},{"$f":"'Absorbance Data'!W3254-Calculations!T$1","v":0},{"$f":"'Absorbance Data'!X3254-Calculations!U$1","v":0},{"$f":"'Absorbance Data'!Y3254-Calculations!V$1","v":0},{"$f":"'Absorbance Data'!Z3254-Calculations!W$1","v":0}]
[{"$f":"'Absorbance Data'!D3255","v":597.89154052734375},{"$f":"'Absorbance Data'!E3255-Calculations!B$1","v":0},{"$f":"'Absorbance Data'!F3255-Calculations!C$1","v":0},{"$f":"'Absorbance Data'!G3255-Calculations!D$1","v":0},{"$f":"'Absorbance Data'!H3255-Calculations!E$1","v":0},{"$f":"'Absorbance Data'!I3255-Calculations!F$1","v":0},{"$f":"'Absorbance Data'!J3255-Calculations!G$1","v":0},{"$f":"'Absorbance Data'!K3255-Calculations!H$1","v":0},{"$f":"'Absorbance Data'!L3255-Calculations!I$1","v":0},{"$f":"'Absorbance Data'!M3255-Calculations!J$1","v":0},{"$f":"'Absorbance Data'!N3255-Calculations!K$1","v":0},{"$f":"'Absorbance Data'!O3255-Calculations!L$1","v":0},{"$f":"'Absorbance Data'!P3255-Calculations!M$1","v":0},{"$f":"'Absorbance Data'!Q3255-Calculations!N$1","v":0},{"$f":"'Absorbance Data'!R3255-Calculations!O$1","v":0},{"$f":"'Absorbance Data'!S3255-Calculations!P$1","v":0},{"$f":"'Absorbance Data'!T3255-Calculations!Q$1","v":0},{"$f":"'Absorbance Data'!U3255-Calculations!R$1","v":0},{"$f":"'Absorbance Data'!V3255-Calculations!S$1","v":0},{"$f":"'Absorbance Data'!W3255-Calculations!T$1","v":0},{"$f":"'Absorbance Data'!X3255-Calculations!U$1","v":0},{"$f":"'Absorbance Data'!Y3255-Calculations!V$1","v":0},{"$f":"'Absorbance Data'!Z3255-Calculations!W$1","v":0}]
[{"$f":"'Absorbance Data'!D3256","v":598.21234130859375},{"$f":"'Absorbance Data'!E3256-Calculations!B$1","v":0},{"$f":"'Absorbance Data'!F3256-Calculations!C$1","v":0},{"$f":"'Absorbance Data'!G3256-Calculations!D$1","v":0},{"$f":"'Absorbance Data'!H3256-Calculations!E$1","v":0},{"$f":"'Absorbance Data'!I3256-Calculations!F$1","v":0},{"$f":"'Absorbance Data'!J3256-Calculations!G$1","v":0},{"$f":"'Absorbance Data'!K3256-Calculations!H$1","v":0},{"$f":"'Absorbance Data'!L3256-Calculations!I$1","v":0},{"$f":"'Absorbance Data'!M3256-Calculations!J$1","v":0},{"$f":"'Absorbance Data'!N3256-Calculations!K$1","v":0},{"$f":"'Absorbance Data'!O3256-Calculations!L$1","v":0},{"$f":"'Absorbance Data'!P3256-Calculations!M$1","v":0},{"$f":"'Absorbance Data'!Q3256-Calculations!N$1","v":0},{"$f":"'Absorbance Data'!R3256-Calculations!O$1","v":0},{"$f":"'Absorbance Data'!S3256-Calculations!P$1","v":0},{"$f":"'Absorbance Data'!T3256-Calculations!Q$1","v":0},{"$f":"'Absorbance Data'!U3256-Calculations!R$1","v":0},{"$f":"'Absorbance Data'!V3256-Calculations!S$1","v":0},{"$f":"'Absorbance Data'!W3256-Calculations!T$1","v":0},{"$f":"'Absorbance Data'!X3256-Calculations!U$1","v":0},{"$f":"'Absorbance Data'!Y3256-Calculations!V$1","v":0},{"$f":"'Absorbance Data'!Z3256-Calculations!W$1","v":0}]
[{"$f":"'Absorbance Data'!D3257","v":598.53314208984375},{"$f":"'Absorbance Data'!E3257-Calculations!B$1","v":0},{"$f":"'Absorbance Data'!F3257-Calculations!C$1","v":0},{"$f":"'Absorbance Data'!G3257-Calculations!D$1","v":0},{"$f":"'Absorbance Data'!H3257-Calculations!E$1","v":0},{"$f":"'Absorbance Data'!I3257-Calculations!F$1","v":0},{"$f":"'Absorbance Data'!J3257-Calculations!G$1","v":0},{"$f":"'Absorbance Data'!K3257-Calculations!H$1","v":0},{"$f":"'Absorbance Data'!L3257-Calculations!I$1","v":0},{"$f":"'Absorbance Data'!M3257-Calculations!J$1","v":0},{"$f":"'Absorbance Data'!N3257-Calculations!K$1","v":0},{"$f":"'Absorbance Data'!O3257-Calculations!L$1","v":0},{"$f":"'Absorbance Data'!P3257-Calculations!M$1","v":0},{"$f":"'Absorbance Data'!Q3257-Calculations!N$1","v":0},{"$f":"'Absorbance Data'!R3257-Calculations!O$1","v":0},{"$f":"'Absorbance Data'!S3257-Calculations!P$1","v":0},{"$f":"'Absorbance Data'!T3257-Calculations!Q$1","v":0},{"$f":"'Absorbance Data'!U3257-Calculations!R$1","v":0},{"$f":"'Absorbance Data'!V3257-Calculations!S$1","v":0},{"$f":"'Absorbance Data'!W3257-Calculations!T$1","v":0},{"$f":"'Absorbance Data'!X3257-Calculations!U$1","v":0},{"$f":"'Absorbance Data'!Y3257-Calculations!V$1","v":0},{"$f":"'Absorbance Data'!Z3257-Calculations!W$1","v":0}]
[{"$f":"'Absorbance Data'!D3258","v":598.85382080078125},{"$f":"'Absorbance Data'!E3258-Calculations!B$1","v":0},{"$f":"'Absorbance Data'!F3258-Calculations!C$1","v":0},{"$f":"'Absorbance Data'!G3258-Calculations!D$1","v":0},{"$f":"'Absorbance Data'!H3258-Calculations!E$1","v":0},{"$f":"'Absorbance Data'!I3258-Calculations!F$1","v":0},{"$f":"'Absorbance Data'!J3258-Calculations!G$1","v":0},{"$f":"'Absorbance Data'!K3258-Calculations!H$1","v":0},{"$f":"'Absorbance Data'!L3258-Calculations!I$1","v":0},{"$f":"'Absorbance Data'!M3258-Calculations!J$1","v":0},{"$f":"'Absorbance Data'!N3258-Calculations!K$1","v":0},{"$f":"'Absorbance Data'!O3258-Calculations!L$1","v":0},{"$f":"'Absorbance Data'!P3258-Calculations!M$1","v":0},{"$f":"'Absorbance Data'!Q3258-Calculations!N$1","v":0},{"$f":"'Absorbance Data'!R3258-Calculations!O$1","v":0},{"$f":"'Absorbance Data'!S3258-Calculations!P$1","v":0},{"$f":"'Absorbance Data'!T3258-Calculations!Q$1","v":0},{"$f":"'Absorbance Data'!U3258-Calculations!R$1","v":0},{"$f":"'Absorbance Data'!V3258-Calculations!S$1","v":0},{"$f":"'Absorbance Data'!W3258-Calculations!T$1","v":0},{"$f":"'Absorbance Data'!X3258-Calculations!U$1","v":0},{"$f":"'Absorbance Data'!Y3258-Calculations!V$1","v":0},{"$f":"'Absorbance Data'!Z3258-Calculations!W$1","v":0}]
[{"$f":"'Absorbance Data'!D3259","v":599.17437744140625},{"$f":"'Absorbance Data'!E3259-Calculations!B$1","v":0},{"$f":"'Absorbance Data'!F3259-Calculations!C$1","v":0},{"$f":"'Absorbance Data'!G3259-Calculations!D$1","v":0},{"$f":"'Absorbance Data'!H3259-Calculations!E$1","v":0},{"$f":"'Absorbance Data'!I3259-Calculations!F$1","v":0},{"$f":"'Absorbance Data'!J3259-Calculations!G$1","v":0},{"$f":"'Absorbance Data'!K3259-Calculations!H$1","v":0},{"$f":"'Absorbance Data'!L3259-Calculations!I$1","v":0},{"$f":"'Absorbance Data'!M3259-Calculations!J$1","v":0},{"$f":"'Absorbance Data'!N3259-Calculations!K$1","v":0},{"$f":"'Absorbance Data'!O3259-Calculations!L$1","v":0},{"$f":"'Absorbance Data'!P3259-Calculations!M$1","v":0},{"$f":"'Absorbance Data'!Q3259-Calculations!N$1","v":0},{"$f":"'Absorbance Data'!R3259-Calculations!O$1","v":0},{"$f":"'Absorbance Data'!S3259-Calculations!P$1","v":0},{"$f":"'Absorbance Data'!T3259-Calculations!Q$1","v":0},{"$f":"'Absorbance Data'!U3259-Calculations!R$1","v":0},{"$f":"'Absorbance Data'!V3259-Calculations!S$1","v":0},{"$f":"'Absorbance Data'!W3259-Calculations!T$1","v":0},{"$f":"'Absorbance Data'!X3259-Calculations!U$1","v":0},{"$f":"'Absorbance Data'!Y3259-Calculations!V$1","v":0},{"$f":"'Absorbance Data'!Z3259-Calculations!W$1","v":0}]
[{"$f":"'Absorbance Data'!D3260","v":599.4951171875},{"$f":"'Absorbance Data'!E3260-Calculations!B$1","v":0},{"$f":"'Absorbance Data'!F3260-Calculations!C$1","v":0},{"$f":"'Absorbance Data'!G3260-Calculations!D$1","v":0},{"$f":"'Absorbance Data'!H3260-Calculations!E$1","v":0},{"$f":"'Absorbance Data'!I3260-Calculations!F$1","v":0},{"$f":"'Absorbance Data'!J3260-Calculations!G$1","v":0},{"$f":"'Absorbance Data'!K3260-Calculations!H$1","v":0},{"$f":"'Absorbance Data'!L3260-Calculations!I$1","v":0},{"$f":"'Absorbance Data'!M3260-Calculations!J$1","v":0},{"$f":"'Absorbance Data'!N3260-Calculations!K$1","v":0},{"$f":"'Absorbance Data'!O3260-Calculations!L$1","v":0},{"$f":"'Absorbance Data'!P3260-Calculations!M$1","v":0},{"$f":"'Absorbance Data'!Q3260-Calculations!N$1","v":0},{"$f":"'Absorbance Data'!R3260-Calculations!O$1","v":0},{"$f":"'Absorbance Data'!S3260-Calculations!P$1","v":0},{"$f":"'Absorbance Data'!T3260-Calculations!Q$1","v":0},{"$f":"'Absorbance Data'!U3260-Calculations!R$1","v":0},{"$f":"'Absorbance Data'!V3260-Calculations!S$1","v":0},{"$f":"'Absorbance Data'!W3260-Calculations!T$1","v":0},{"$f":"'Absorbance Data'!X3260-Calculations!U$1","v":0},{"$f":"'Absorbance Data'!Y3260-Calculations!V$1","v":0},{"$f":"'Absorbance Data'!Z3260-Calculations!W$1","v":0}]
[{"$f":"'Absorbance Data'!D3261","v":599.81573486328125},{"$f":"'Absorbance Data'!E3261-Calculations!B$1","v":0},{"$f":"'Absorbance Data'!F3261-Calculations!C$1","v":0},{"$f":"'Absorbance Data'!G3261-Calculations!D$1","v":0},{"$f":"'Absorbance Data'!H3261-Calculations!E$1","v":0},{"$f":"'Absorbance Data'!I3261-Calculations!F$1","v":0},{"$f":"'Absorbance Data'!J3261-Calculations!G$1","v":0},{"$f":"'Absorbance Data'!K3261-Calculations!H$1","v":0},{"$f":"'Absorbance Data'!L3261-Calculations!I$1","v":0},{"$f":"'Absorbance Data'!M3261-Calculations!J$1","v":0},{"$f":"'Absorbance Data'!N3261-Calculations!K$1","v":0},{"$f":"'Absorbance Data'!O3261-Calculations!L$1","v":0},{"$f":"'Absorbance Data'!P3261-Calculations!M$1","v":0},{"$f":"'Absorbance Data'!Q3261-Calculations!N$1","v":0},{"$f":"'Absorbance Data'!R3261-Calculations!O$1","v":0},{"$f":"'Absorbance Data'!S3261-Calculations!P$1","v":0},{"$f":"'Absorbance Data'!T3261-Calculations!Q$1","v":0},{"$f":"'Absorbance Data'!U3261-Calculations!R$1","v":0},{"$f":"'Absorbance Data'!V3261-Calculations!S$1","v":0},{"$f":"'Absorbance Data'!W3261-Calculations!T$1","v":0},{"$f":"'Absorbance Data'!X3261-Calculations!U$1","v":0},{"$f":"'Absorbance Data'!Y3261-Calculations!V$1","v":0},{"$f":"'Absorbance Data'!Z3261-Calculations!W$1","v":0}]
[{"$f":"'Absorbance Data'!D3262","v":600.13616943359375},{"$f":"'Absorbance Data'!E3262-Calculations!B$1","v":0},{"$f":"'Absorbance Data'!F3262-Calculations!C$1","v":0},{"$f":"'Absorbance Data'!G3262-Calculations!D$1","v":0},{"$f":"'Absorbance Data'!H3262-Calculations!E$1","v":0},{"$f":"'Absorbance Data'!I3262-Calculations!F$1","v":0},{"$f":"'Absorbance Data'!J3262-Calculations!G$1","v":0},{"$f":"'Absorbance Data'!K3262-Calculations!H$1","v":0},{"$f":"'Absorbance Data'!L3262-Calculations!I$1","v":0},{"$f":"'Absorbance Data'!M3262-Calculations!J$1","v":0},{"$f":"'Absorbance Data'!N3262-Calculations!K$1","v":0},{"$f":"'Absorbance Data'!O3262-Calculations!L$1","v":0},{"$f":"'Absorbance Data'!P3262-Calculations!M$1","v":0},{"$f":"'Absorbance Data'!Q3262-Calculations!N$1","v":0},{"$f":"'Absorbance Data'!R3262-Calculations!O$1","v":0},{"$f":"'Absorbance Data'!S3262-Calculations!P$1","v":0},{"$f":"'Absorbance Data'!T3262-Calculations!Q$1","v":0},{"$f":"'Absorbance Data'!U3262-Calculations!R$1","v":0},{"$f":"'Absorbance Data'!V3262-Calculations!S$1","v":0},{"$f":"'Absorbance Data'!W3262-Calculations!T$1","v":0},{"$f":"'Absorbance Data'!X3262-Calculations!U$1","v":0},{"$f":"'Absorbance Data'!Y3262-Calculations!V$1","v":0},{"$f":"'Absorbance Data'!Z3262-Calculations!W$1","v":0}]
[{"$f":"'Absorbance Data'!D3263","v":600.4566650390625},{"$f":"'Absorbance Data'!E3263-Calculations!B$1","v":0},{"$f":"'Absorbance Data'!F3263-Calculations!C$1","v":0},{"$f":"'Absorbance Data'!G3263-Calculations!D$1","v":0},{"$f":"'Absorbance Data'!H3263-Calculations!E$1","v":0},{"$f":"'Absorbance Data'!I3263-Calculations!F$1","v":0},{"$f":"'Absorbance Data'!J3263-Calculations!G$1","v":0},{"$f":"'Absorbance Data'!K3263-Calculations!H$1","v":0},{"$f":"'Absorbance Data'!L3263-Calculations!I$1","v":0},{"$f":"'Absorbance Data'!M3263-Calculations!J$1","v":0},{"$f":"'Absorbance Data'!N3263-Calculations!K$1","v":0},{"$f":"'Absorbance Data'!O3263-Calculations!L$1","v":0},{"$f":"'Absorbance Data'!P3263-Calculations!M$1","v":0},{"$f":"'Absorbance Data'!Q3263-Calculations!N$1","v":0},{"$f":"'Absorbance Data'!R3263-Calculations!O$1","v":0},{"$f":"'Absorbance Data'!S3263-Calculations!P$1","v":0},{"$f":"'Absorbance Data'!T3263-Calculations!Q$1","v":0},{"$f":"'Absorbance Data'!U3263-Calculations!R$1","v":0},{"$f":"'Absorbance Data'!V3263-Calculations!S$1","v":0},{"$f":"'Absorbance Data'!W3263-Calculations!T$1","v":0},{"$f":"'Absorbance Data'!X3263-Calculations!U$1","v":0},{"$f":"'Absorbance Data'!Y3263-Calculations!V$1","v":0},{"$f":"'Absorbance Data'!Z3263-Calculations!W$1","v":0}]
[{"$f":"'Absorbance Data'!D3264","v":600.77716064453125},{"$f":"'Absorbance Data'!E3264-Calculations!B$1","v":0},{"$f":"'Absorbance Data'!F3264-Calculations!C$1","v":0},{"$f":"'Absorbance Data'!G3264-Calculations!D$1","v":0},{"$f":"'Absorbance Data'!H3264-Calculations!E$1","v":0},{"$f":"'Absorbance Data'!I3264-Calculations!F$1","v":0},{"$f":"'Absorbance Data'!J3264-Calculations!G$1","v":0},{"$f":"'Absorbance Data'!K3264-Calculations!H$1","v":0},{"$f":"'Absorbance Data'!L3264-Calculations!I$1","v":0},{"$f":"'Absorbance Data'!M3264-Calculations!J$1","v":0},{"$f":"'Absorbance Data'!N3264-Calculations!K$1","v":0},{"$f":"'Absorbance Data'!O3264-Calculations!L$1","v":0},{"$f":"'Absorbance Data'!P3264-Calculations!M$1","v":0},{"$f":"'Absorbance Data'!Q3264-Calculations!N$1","v":0},{"$f":"'Absorbance Data'!R3264-Calculations!O$1","v":0},{"$f":"'Absorbance Data'!S3264-Calculations!P$1","v":0},{"$f":"'Absorbance Data'!T3264-Calculations!Q$1","v":0},{"$f":"'Absorbance Data'!U3264-Calculations!R$1","v":0},{"$f":"'Absorbance Data'!V3264-Calculations!S$1","v":0},{"$f":"'Absorbance Data'!W3264-Calculations!T$1","v":0},{"$f":"'Absorbance Data'!X3264-Calculations!U$1","v":0},{"$f":"'Absorbance Data'!Y3264-Calculations!V$1","v":0},{"$f":"'Absorbance Data'!Z3264-Calculations!W$1","v":0}]
[{"$f":"'Absorbance Data'!D3265","v":601.09759521484375},{"$f":"'Absorbance Data'!E3265-Calculations!B$1","v":0},{"$f":"'Absorbance Data'!F3265-Calculations!C$1","v":0},{"$f":"'Absorbance Data'!G3265-Calculations!D$1","v":0},{"$f":"'Absorbance Data'!H3265-Calculations!E$1","v":0},{"$f":"'Absorbance Data'!I3265-Calculations!F$1","v":0},{"$f":"'Absorbance Data'!J3265-Calculations!G$1","v":0},{"$f":"'Absorbance Data'!K3265-Calculations!H$1","v":0},{"$f":"'Absorbance Data'!L3265-Calculations!I$1","v":0},{"$f":"'Absorbance Data'!M3265-Calculations!J$1","v":0},{"$f":"'Absorbance Data'!N3265-Calculations!K$1","v":0},{"$f":"'Absorbance Data'!O3265-Calculations!L$1","v":0},{"$f":"'Absorbance Data'!P3265-Calculations!M$1","v":0},{"$f":"'Absorbance Data'!Q3265-Calculations!N$1","v":0},{"$f":"'Absorbance Data'!R3265-Calculations!O$1","v":0},{"$f":"'Absorbance Data'!S3265-Calculations!P$1","v":0},{"$f":"'Absorbance Data'!T3265-Calculations!Q$1","v":0},{"$f":"'Absorbance Data'!U3265-Calculations!R$1","v":0},{"$f":"'Absorbance Data'!V3265-Calculations!S$1","v":0},{"$f":"'Absorbance Data'!W3265-Calculations!T$1","v":0},{"$f":"'Absorbance Data'!X3265-Calculations!U$1","v":0},{"$f":"'Absorbance Data'!Y3265-Calculations!V$1","v":0},{"$f":"'Absorbance Data'!Z3265-Calculations!W$1","v":0}]
[{"$f":"'Absorbance Data'!D3266","v":601.41796875},{"$f":"'Absorbance Data'!E3266-Calculations!B$1","v":0},{"$f":"'Absorbance Data'!F3266-Calculations!C$1","v":0},{"$f":"'Absorbance Data'!G3266-Calculations!D$1","v":0},{"$f":"'Absorbance Data'!H3266-Calculations!E$1","v":0},{"$f":"'Absorbance Data'!I3266-Calculations!F$1","v":0},{"$f":"'Absorbance Data'!J3266-Calculations!G$1","v":0},{"$f":"'Absorbance Data'!K3266-Calculations!H$1","v":0},{"$f":"'Absorbance Data'!L3266-Calculations!I$1","v":0},{"$f":"'Absorbance Data'!M3266-Calculations!J$1","v":0},{"$f":"'Absorbance Data'!N3266-Calculations!K$1","v":0},{"$f":"'Absorbance Data'!O3266-Calculations!L$1","v":0},{"$f":"'Absorbance Data'!P3266-Calculations!M$1","v":0},{"$f":"'Absorbance Data'!Q3266-Calculations!N$1","v":0},{"$f":"'Absorbance Data'!R3266-Calculations!O$1","v":0},{"$f":"'Absorbance Data'!S3266-Calculations!P$1","v":0},{"$f":"'Absorbance Data'!T3266-Calculations!Q$1","v":0},{"$f":"'Absorbance Data'!U3266-Calculations!R$1","v":0},{"$f":"'Absorbance Data'!V3266-Calculations!S$1","v":0},{"$f":"'Absorbance Data'!W3266-Calculations!T$1","v":0},{"$f":"'Absorbance Data'!X3266-Calculations!U$1","v":0},{"$f":"'Absorbance Data'!Y3266-Calculations!V$1","v":0},{"$f":"'Absorbance Data'!Z3266-Calculations!W$1","v":0}]
[{"$f":"'Absorbance Data'!D3267","v":601.73828125},{"$f":"'Absorbance Data'!E3267-Calculations!B$1","v":0},{"$f":"'Absorbance Data'!F3267-Calculations!C$1","v":0},{"$f":"'Absorbance Data'!G3267-Calculations!D$1","v":0},{"$f":"'Absorbance Data'!H3267-Calculations!E$1","v":0},{"$f":"'Absorbance Data'!I3267-Calculations!F$1","v":0},{"$f":"'Absorbance Data'!J3267-Calculations!G$1","v":0},{"$f":"'Absorbance Data'!K3267-Calculations!H$1","v":0},{"$f":"'Absorbance Data'!L3267-Calculations!I$1","v":0},{"$f":"'Absorbance Data'!M3267-Calculations!J$1","v":0},{"$f":"'Absorbance Data'!N3267-Calculations!K$1","v":0},{"$f":"'Absorbance Data'!O3267-Calculations!L$1","v":0},{"$f":"'Absorbance Data'!P3267-Calculations!M$1","v":0},{"$f":"'Absorbance Data'!Q3267-Calculations!N$1","v":0},{"$f":"'Absorbance Data'!R3267-Calculations!O$1","v":0},{"$f":"'Absorbance Data'!S3267-Calculations!P$1","v":0},{"$f":"'Absorbance Data'!T3267-Calculations!Q$1","v":0},{"$f":"'Absorbance Data'!U3267-Calculations!R$1","v":0},{"$f":"'Absorbance Data'!V3267-Calculations!S$1","v":0},{"$f":"'Absorbance Data'!W3267-Calculations!T$1","v":0},{"$f":"'Absorbance Data'!X3267-Calculations!U$1","v":0},{"$f":"'Absorbance Data'!Y3267-Calculations!V$1","v":0},{"$f":"'Absorbance Data'!Z3267-Calculations!W$1","v":0}]
[{"$f":"'Absorbance Data'!D3268","v":602.05859375},{"$f":"'Absorbance Data'!E3268-Calculations!B$1","v":0},{"$f":"'Absorbance Data'!F3268-Calculations!C$1","v":0},{"$f":"'Absorbance Data'!G3268-Calculations!D$1","v":0},{"$f":"'Absorbance Data'!H3268-Calculations!E$1","v":0},{"$f":"'Absorbance Data'!I3268-Calculations!F$1","v":0},{"$f":"'Absorbance Data'!J3268-Calculations!G$1","v":0},{"$f":"'Absorbance Data'!K3268-Calculations!H$1","v":0},{"$f":"'Absorbance Data'!L3268-Calculations!I$1","v":0},{"$f":"'Absorbance Data'!M3268-Calculations!J$1","v":0},{"$f":"'Absorbance Data'!N3268-Calculations!K$1","v":0},{"$f":"'Absorbance Data'!O3268-Calculations!L$1","v":0},{"$f":"'Absorbance Data'!P3268-Calculations!M$1","v":0},{"$f":"'Absorbance Data'!Q3268-Calculations!N$1","v":0},{"$f":"'Absorbance Data'!R3268-Calculations!O$1","v":0},{"$f":"'Absorbance Data'!S3268-Calculations!P$1","v":0},{"$f":"'Absorbance Data'!T3268-Calculations!Q$1","v":0},{"$f":"'Absorbance Data'!U3268-Calculations!R$1","v":0},{"$f":"'Absorbance Data'!V3268-Calculations!S$1","v":0},{"$f":"'Absorbance Data'!W3268-Calculations!T$1","v":0},{"$f":"'Absorbance Data'!X3268-Calculations!U$1","v":0},{"$f":"'Absorbance Data'!Y3268-Calculations!V$1","v":0},{"$f":"'Absorbance Data'!Z3268-Calculations!W$1","v":0}]
[{"$f":"'Absorbance Data'!D3269","v":602.37890625},{"$f":"'Absorbance Data'!E3269-Calculations!B$1","v":0},{"$f":"'Absorbance Data'!F3269-Calculations!C$1","v":0},{"$f":"'Absorbance Data'!G3269-Calculations!D$1","v":0},{"$f":"'Absorbance Data'!H3269-Calculations!E$1","v":0},{"$f":"'Absorbance Data'!I3269-Calculations!F$1","v":0},{"$f":"'Absorbance Data'!J3269-Calculations!G$1","v":0},{"$f":"'Absorbance Data'!K3269-Calculations!H$1","v":0},{"$f":"'Absorbance Data'!L3269-Calculations!I$1","v":0},{"$f":"'Absorbance Data'!M3269-Calculations!J$1","v":0},{"$f":"'Absorbance Data'!N3269-Calculations!K$1","v":0},{"$f":"'Absorbance Data'!O3269-Calculations!L$1","v":0},{"$f":"'Absorbance Data'!P3269-Calculations!M$1","v":0},{"$f":"'Absorbance Data'!Q3269-Calculations!N$1","v":0},{"$f":"'Absorbance Data'!R3269-Calculations!O$1","v":0},{"$f":"'Absorbance Data'!S3269-Calculations!P$1","v":0},{"$f":"'Absorbance Data'!T3269-Calculations!Q$1","v":0},{"$f":"'Absorbance Data'!U3269-Calculations!R$1","v":0},{"$f":"'Absorbance Data'!V3269-Calculations!S$1","v":0},{"$f":"'Absorbance Data'!W3269-Calculations!T$1","v":0},{"$f":"'Absorbance Data'!X3269-Calculations!U$1","v":0},{"$f":"'Absorbance Data'!Y3269-Calculations!V$1","v":0},{"$f":"'Absorbance Data'!Z3269-Calculations!W$1","v":0}]
[{"$f":"'Absorbance Data'!D3270","v":602.6990966796875},{"$f":"'Absorbance Data'!E3270-Calculations!B$1","v":0},{"$f":"'Absorbance Data'!F3270-Calculations!C$1","v":0},{"$f":"'Absorbance Data'!G3270-Calculations!D$1","v":0},{"$f":"'Absorbance Data'!H3270-Calculations!E$1","v":0},{"$f":"'Absorbance Data'!I3270-Calculations!F$1","v":0},{"$f":"'Absorbance Data'!J3270-Calculations!G$1","v":0},{"$f":"'Absorbance Data'!K3270-Calculations!H$1","v":0},{"$f":"'Absorbance Data'!L3270-Calculations!I$1","v":0},{"$f":"'Absorbance Data'!M3270-Calculations!J$1","v":0},{"$f":"'Absorbance Data'!N3270-Calculations!K$1","v":0},{"$f":"'Absorbance Data'!O3270-Calculations!L$1","v":0},{"$f":"'Absorbance Data'!P3270-Calculations!M$1","v":0},{"$f":"'Absorbance Data'!Q3270-Calculations!N$1","v":0},{"$f":"'Absorbance Data'!R3270-Calculations!O$1","v":0},{"$f":"'Absorbance Data'!S3270-Calculations!P$1","v":0},{"$f":"'Absorbance Data'!T3270-Calculations!Q$1","v":0},{"$f":"'Absorbance Data'!U3270-Calculations!R$1","v":0},{"$f":"'Absorbance Data'!V3270-Calculations!S$1","v":0},{"$f":"'Absorbance Data'!W3270-Calculations!T$1","v":0},{"$f":"'Absorbance Data'!X3270-Calculations!U$1","v":0},{"$f":"'Absorbance Data'!Y3270-Calculations!V$1","v":0},{"$f":"'Absorbance Data'!Z3270-Calculations!W$1","v":0}]
[{"$f":"'Absorbance Data'!D3271","v":603.01922607421875},{"$f":"'Absorbance Data'!E3271-Calculations!B$1","v":0},{"$f":"'Absorbance Data'!F3271-Calculations!C$1","v":0},{"$f":"'Absorbance Data'!G3271-Calculations!D$1","v":0},{"$f":"'Absorbance Data'!H3271-Calculations!E$1","v":0},{"$f":"'Absorbance Data'!I3271-Calculations!F$1","v":0},{"$f":"'Absorbance Data'!J3271-Calculations!G$1","v":0},{"$f":"'Absorbance Data'!K3271-Calculations!H$1","v":0},{"$f":"'Absorbance Data'!L3271-Calculations!I$1","v":0},{"$f":"'Absorbance Data'!M3271-Calculations!J$1","v":0},{"$f":"'Absorbance Data'!N3271-Calculations!K$1","v":0},{"$f":"'Absorbance Data'!O3271-Calculations!L$1","v":0},{"$f":"'Absorbance Data'!P3271-Calculations!M$1","v":0},{"$f":"'Absorbance Data'!Q3271-Calculations!N$1","v":0},{"$f":"'Absorbance Data'!R3271-Calculations!O$1","v":0},{"$f":"'Absorbance Data'!S3271-Calculations!P$1","v":0},{"$f":"'Absorbance Data'!T3271-Calculations!Q$1","v":0},{"$f":"'Absorbance Data'!U3271-Calculations!R$1","v":0},{"$f":"'Absorbance Data'!V3271-Calculations!S$1","v":0},{"$f":"'Absorbance Data'!W3271-Calculations!T$1","v":0},{"$f":"'Absorbance Data'!X3271-Calculations!U$1","v":0},{"$f":"'Absorbance Data'!Y3271-Calculations!V$1","v":0},{"$f":"'Absorbance Data'!Z3271-Calculations!W$1","v":0}]
[{"$f":"'Absorbance Data'!D3272","v":603.33941650390625},{"$f":"'Absorbance Data'!E3272-Calculations!B$1","v":0},{"$f":"'Absorbance Data'!F3272-Calculations!C$1","v":0},{"$f":"'Absorbance Data'!G3272-Calculations!D$1","v":0},{"$f":"'Absorbance Data'!H3272-Calculations!E$1","v":0},{"$f":"'Absorbance Data'!I3272-Calculations!F$1","v":0},{"$f":"'Absorbance Data'!J3272-Calculations!G$1","v":0},{"$f":"'Absorbance Data'!K3272-Calculations!H$1","v":0},{"$f":"'Absorbance Data'!L3272-Calculations!I$1","v":0},{"$f":"'Absorbance Data'!M3272-Calculations!J$1","v":0},{"$f":"'Absorbance Data'!N3272-Calculations!K$1","v":0},{"$f":"'Absorbance Data'!O3272-Calculations!L$1","v":0},{"$f":"'Absorbance Data'!P3272-Calculations!M$1","v":0},{"$f":"'Absorbance Data'!Q3272-Calculations!N$1","v":0},{"$f":"'Absorbance Data'!R3272-Calculations!O$1","v":0},{"$f":"'Absorbance Data'!S3272-Calculations!P$1","v":0},{"$f":"'Absorbance Data'!T3272-Calculations!Q$1","v":0},{"$f":"'Absorbance Data'!U3272-Calculations!R$1","v":0},{"$f":"'Absorbance Data'!V3272-Calculations!S$1","v":0},{"$f":"'Absorbance Data'!W3272-Calculations!T$1","v":0},{"$f":"'Absorbance Data'!X3272-Calculations!U$1","v":0},{"$f":"'Absorbance Data'!Y3272-Calculations!V$1","v":0},{"$f":"'Absorbance Data'!Z3272-Calculations!W$1","v":0}]
[{"$f":"'Absorbance Data'!D3273","v":603.6595458984375},{"$f":"'Absorbance Data'!E3273-Calculations!B$1","v":0},{"$f":"'Absorbance Data'!F3273-Calculations!C$1","v":0},{"$f":"'Absorbance Data'!G3273-Calculations!D$1","v":0},{"$f":"'Absorbance Data'!H3273-Calculations!E$1","v":0},{"$f":"'Absorbance Data'!I3273-Calculations!F$1","v":0},{"$f":"'Absorbance Data'!J3273-Calculations!G$1","v":0},{"$f":"'Absorbance Data'!K3273-Calculations!H$1","v":0},{"$f":"'Absorbance Data'!L3273-Calculations!I$1","v":0},{"$f":"'Absorbance Data'!M3273-Calculations!J$1","v":0},{"$f":"'Absorbance Data'!N3273-Calculations!K$1","v":0},{"$f":"'Absorbance Data'!O3273-Calculations!L$1","v":0},{"$f":"'Absorbance Data'!P3273-Calculations!M$1","v":0},{"$f":"'Absorbance Data'!Q3273-Calculations!N$1","v":0},{"$f":"'Absorbance Data'!R3273-Calculations!O$1","v":0},{"$f":"'Absorbance Data'!S3273-Calculations!P$1","v":0},{"$f":"'Absorbance Data'!T3273-Calculations!Q$1","v":0},{"$f":"'Absorbance Data'!U3273-Calculations!R$1","v":0},{"$f":"'Absorbance Data'!V3273-Calculations!S$1","v":0},{"$f":"'Absorbance Data'!W3273-Calculations!T$1","v":0},{"$f":"'Absorbance Data'!X3273-Calculations!U$1","v":0},{"$f":"'Absorbance Data'!Y3273-Calculations!V$1","v":0},{"$f":"'Absorbance Data'!Z3273-Calculations!W$1","v":0}]
[{"$f":"'Absorbance Data'!D3274","v":603.9794921875},{"$f":"'Absorbance Data'!E3274-Calculations!B$1","v":0},{"$f":"'Absorbance Data'!F3274-Calculations!C$1","v":0},{"$f":"'Absorbance Data'!G3274-Calculations!D$1","v":0},{"$f":"'Absorbance Data'!H3274-Calculations!E$1","v":0},{"$f":"'Absorbance Data'!I3274-Calculations!F$1","v":0},{"$f":"'Absorbance Data'!J3274-Calculations!G$1","v":0},{"$f":"'Absorbance Data'!K3274-Calculations!H$1","v":0},{"$f":"'Absorbance Data'!L3274-Calculations!I$1","v":0},{"$f":"'Absorbance Data'!M3274-Calculations!J$1","v":0},{"$f":"'Absorbance Data'!N3274-Calculations!K$1","v":0},{"$f":"'Absorbance Data'!O3274-Calculations!L$1","v":0},{"$f":"'Absorbance Data'!P3274-Calculations!M$1","v":0},{"$f":"'Absorbance Data'!Q3274-Calculations!N$1","v":0},{"$f":"'Absorbance Data'!R3274-Calculations!O$1","v":0},{"$f":"'Absorbance Data'!S3274-Calculations!P$1","v":0},{"$f":"'Absorbance Data'!T3274-Calculations!Q$1","v":0},{"$f":"'Absorbance Data'!U3274-Calculations!R$1","v":0},{"$f":"'Absorbance Data'!V3274-Calculations!S$1","v":0},{"$f":"'Absorbance Data'!W3274-Calculations!T$1","v":0},{"$f":"'Absorbance Data'!X3274-Calculations!U$1","v":0},{"$f":"'Absorbance Data'!Y3274-Calculations!V$1","v":0},{"$f":"'Absorbance Data'!Z3274-Calculations!W$1","v":0}]
[{"$f":"'Absorbance Data'!D3275","v":604.299560546875},{"$f":"'Absorbance Data'!E3275-Calculations!B$1","v":0},{"$f":"'Absorbance Data'!F3275-Calculations!C$1","v":0},{"$f":"'Absorbance Data'!G3275-Calculations!D$1","v":0},{"$f":"'Absorbance Data'!H3275-Calculations!E$1","v":0},{"$f":"'Absorbance Data'!I3275-Calculations!F$1","v":0},{"$f":"'Absorbance Data'!J3275-Calculations!G$1","v":0},{"$f":"'Absorbance Data'!K3275-Calculations!H$1","v":0},{"$f":"'Absorbance Data'!L3275-Calculations!I$1","v":0},{"$f":"'Absorbance Data'!M3275-Calculations!J$1","v":0},{"$f":"'Absorbance Data'!N3275-Calculations!K$1","v":0},{"$f":"'Absorbance Data'!O3275-Calculations!L$1","v":0},{"$f":"'Absorbance Data'!P3275-Calculations!M$1","v":0},{"$f":"'Absorbance Data'!Q3275-Calculations!N$1","v":0},{"$f":"'Absorbance Data'!R3275-Calculations!O$1","v":0},{"$f":"'Absorbance Data'!S3275-Calculations!P$1","v":0},{"$f":"'Absorbance Data'!T3275-Calculations!Q$1","v":0},{"$f":"'Absorbance Data'!U3275-Calculations!R$1","v":0},{"$f":"'Absorbance Data'!V3275-Calculations!S$1","v":0},{"$f":"'Absorbance Data'!W3275-Calculations!T$1","v":0},{"$f":"'Absorbance Data'!X3275-Calculations!U$1","v":0},{"$f":"'Absorbance Data'!Y3275-Calculations!V$1","v":0},{"$f":"'Absorbance Data'!Z3275-Calculations!W$1","v":0}]
[{"$f":"'Absorbance Data'!D3276","v":604.6195068359375},{"$f":"'Absorbance Data'!E3276-Calculations!B$1","v":0},{"$f":"'Absorbance Data'!F3276-Calculations!C$1","v":0},{"$f":"'Absorbance Data'!G3276-Calculations!D$1","v":0},{"$f":"'Absorbance Data'!H3276-Calculations!E$1","v":0},{"$f":"'Absorbance Data'!I3276-Calculations!F$1","v":0},{"$f":"'Absorbance Data'!J3276-Calculations!G$1","v":0},{"$f":"'Absorbance Data'!K3276-Calculations!H$1","v":0},{"$f":"'Absorbance Data'!L3276-Calculations!I$1","v":0},{"$f":"'Absorbance Data'!M3276-Calculations!J$1","v":0},{"$f":"'Absorbance Data'!N3276-Calculations!K$1","v":0},{"$f":"'Absorbance Data'!O3276-Calculations!L$1","v":0},{"$f":"'Absorbance Data'!P3276-Calculations!M$1","v":0},{"$f":"'Absorbance Data'!Q3276-Calculations!N$1","v":0},{"$f":"'Absorbance Data'!R3276-Calculations!O$1","v":0},{"$f":"'Absorbance Data'!S3276-Calculations!P$1","v":0},{"$f":"'Absorbance Data'!T3276-Calculations!Q$1","v":0},{"$f":"'Absorbance Data'!U3276-Calculations!R$1","v":0},{"$f":"'Absorbance Data'!V3276-Calculations!S$1","v":0},{"$f":"'Absorbance Data'!W3276-Calculations!T$1","v":0},{"$f":"'Absorbance Data'!X3276-Calculations!U$1","v":0},{"$f":"'Absorbance Data'!Y3276-Calculations!V$1","v":0},{"$f":"'Absorbance Data'!Z3276-Calculations!W$1","v":0}]
[{"$f":"'Absorbance Data'!D3277","v":604.939453125},{"$f":"'Absorbance Data'!E3277-Calculations!B$1","v":0},{"$f":"'Absorbance Data'!F3277-Calculations!C$1","v":0},{"$f":"'Absorbance Data'!G3277-Calculations!D$1","v":0},{"$f":"'Absorbance Data'!H3277-Calculations!E$1","v":0},{"$f":"'Absorbance Data'!I3277-Calculations!F$1","v":0},{"$f":"'Absorbance Data'!J3277-Calculations!G$1","v":0},{"$f":"'Absorbance Data'!K3277-Calculations!H$1","v":0},{"$f":"'Absorbance Data'!L3277-Calculations!I$1","v":0},{"$f":"'Absorbance Data'!M3277-Calculations!J$1","v":0},{"$f":"'Absorbance Data'!N3277-Calculations!K$1","v":0},{"$f":"'Absorbance Data'!O3277-Calculations!L$1","v":0},{"$f":"'Absorbance Data'!P3277-Calculations!M$1","v":0},{"$f":"'Absorbance Data'!Q3277-Calculations!N$1","v":0},{"$f":"'Absorbance Data'!R3277-Calculations!O$1","v":0},{"$f":"'Absorbance Data'!S3277-Calculations!P$1","v":0},{"$f":"'Absorbance Data'!T3277-Calculations!Q$1","v":0},{"$f":"'Absorbance Data'!U3277-Calculations!R$1","v":0},{"$f":"'Absorbance Data'!V3277-Calculations!S$1","v":0},{"$f":"'Absorbance Data'!W3277-Calculations!T$1","v":0},{"$f":"'Absorbance Data'!X3277-Calculations!U$1","v":0},{"$f":"'Absorbance Data'!Y3277-Calculations!V$1","v":0},{"$f":"'Absorbance Data'!Z3277-Calculations!W$1","v":0}]
[{"$f":"'Absorbance Data'!D3278","v":605.25933837890625},{"$f":"'Absorbance Data'!E3278-Calculations!B$1","v":0},{"$f":"'Absorbance Data'!F3278-Calculations!C$1","v":0},{"$f":"'Absorbance Data'!G3278-Calculations!D$1","v":0},{"$f":"'Absorbance Data'!H3278-Calculations!E$1","v":0},{"$f":"'Absorbance Data'!I3278-Calculations!F$1","v":0},{"$f":"'Absorbance Data'!J3278-Calculations!G$1","v":0},{"$f":"'Absorbance Data'!K3278-Calculations!H$1","v":0},{"$f":"'Absorbance Data'!L3278-Calculations!I$1","v":0},{"$f":"'Absorbance Data'!M3278-Calculations!J$1","v":0},{"$f":"'Absorbance Data'!N3278-Calculations!K$1","v":0},{"$f":"'Absorbance Data'!O3278-Calculations!L$1","v":0},{"$f":"'Absorbance Data'!P3278-Calculations!M$1","v":0},{"$f":"'Absorbance Data'!Q3278-Calculations!N$1","v":0},{"$f":"'Absorbance Data'!R3278-Calculations!O$1","v":0},{"$f":"'Absorbance Data'!S3278-Calculations!P$1","v":0},{"$f":"'Absorbance Data'!T3278-Calculations!Q$1","v":0},{"$f":"'Absorbance Data'!U3278-Calculations!R$1","v":0},{"$f":"'Absorbance Data'!V3278-Calculations!S$1","v":0},{"$f":"'Absorbance Data'!W3278-Calculations!T$1","v":0},{"$f":"'Absorbance Data'!X3278-Calculations!U$1","v":0},{"$f":"'Absorbance Data'!Y3278-Calculations!V$1","v":0},{"$f":"'Absorbance Data'!Z3278-Calculations!W$1","v":0}]
[{"$f":"'Absorbance Data'!D3279","v":605.5792236328125},{"$f":"'Absorbance Data'!E3279-Calculations!B$1","v":0},{"$f":"'Absorbance Data'!F3279-Calculations!C$1","v":0},{"$f":"'Absorbance Data'!G3279-Calculations!D$1","v":0},{"$f":"'Absorbance Data'!H3279-Calculations!E$1","v":0},{"$f":"'Absorbance Data'!I3279-Calculations!F$1","v":0},{"$f":"'Absorbance Data'!J3279-Calculations!G$1","v":0},{"$f":"'Absorbance Data'!K3279-Calculations!H$1","v":0},{"$f":"'Absorbance Data'!L3279-Calculations!I$1","v":0},{"$f":"'Absorbance Data'!M3279-Calculations!J$1","v":0},{"$f":"'Absorbance Data'!N3279-Calculations!K$1","v":0},{"$f":"'Absorbance Data'!O3279-Calculations!L$1","v":0},{"$f":"'Absorbance Data'!P3279-Calculations!M$1","v":0},{"$f":"'Absorbance Data'!Q3279-Calculations!N$1","v":0},{"$f":"'Absorbance Data'!R3279-Calculations!O$1","v":0},{"$f":"'Absorbance Data'!S3279-Calculations!P$1","v":0},{"$f":"'Absorbance Data'!T3279-Calculations!Q$1","v":0},{"$f":"'Absorbance Data'!U3279-Calculations!R$1","v":0},{"$f":"'Absorbance Data'!V3279-Calculations!S$1","v":0},{"$f":"'Absorbance Data'!W3279-Calculations!T$1","v":0},{"$f":"'Absorbance Data'!X3279-Calculations!U$1","v":0},{"$f":"'Absorbance Data'!Y3279-Calculations!V$1","v":0},{"$f":"'Absorbance Data'!Z3279-Calculations!W$1","v":0}]
[{"$f":"'Absorbance Data'!D3280","v":605.8990478515625},{"$f":"'Absorbance Data'!E3280-Calculations!B$1","v":0},{"$f":"'Absorbance Data'!F3280-Calculations!C$1","v":0},{"$f":"'Absorbance Data'!G3280-Calculations!D$1","v":0},{"$f":"'Absorbance Data'!H3280-Calculations!E$1","v":0},{"$f":"'Absorbance Data'!I3280-Calculations!F$1","v":0},{"$f":"'Absorbance Data'!J3280-Calculations!G$1","v":0},{"$f":"'Absorbance Data'!K3280-Calculations!H$1","v":0},{"$f":"'Absorbance Data'!L3280-Calculations!I$1","v":0},{"$f":"'Absorbance Data'!M3280-Calculations!J$1","v":0},{"$f":"'Absorbance Data'!N3280-Calculations!K$1","v":0},{"$f":"'Absorbance Data'!O3280-Calculations!L$1","v":0},{"$f":"'Absorbance Data'!P3280-Calculations!M$1","v":0},{"$f":"'Absorbance Data'!Q3280-Calculations!N$1","v":0},{"$f":"'Absorbance Data'!R3280-Calculations!O$1","v":0},{"$f":"'Absorbance Data'!S3280-Calculations!P$1","v":0},{"$f":"'Absorbance Data'!T3280-Calculations!Q$1","v":0},{"$f":"'Absorbance Data'!U3280-Calculations!R$1","v":0},{"$f":"'Absorbance Data'!V3280-Calculations!S$1","v":0},{"$f":"'Absorbance Data'!W3280-Calculations!T$1","v":0},{"$f":"'Absorbance Data'!X3280-Calculations!U$1","v":0},{"$f":"'Absorbance Data'!Y3280-Calculations!V$1","v":0},{"$f":"'Absorbance Data'!Z3280-Calculations!W$1","v":0}]
[{"$f":"'Absorbance Data'!D3281","v":606.21881103515625},{"$f":"'Absorbance Data'!E3281-Calculations!B$1","v":0},{"$f":"'Absorbance Data'!F3281-Calculations!C$1","v":0},{"$f":"'Absorbance Data'!G3281-Calculations!D$1","v":0},{"$f":"'Absorbance Data'!H3281-Calculations!E$1","v":0},{"$f":"'Absorbance Data'!I3281-Calculations!F$1","v":0},{"$f":"'Absorbance Data'!J3281-Calculations!G$1","v":0},{"$f":"'Absorbance Data'!K3281-Calculations!H$1","v":0},{"$f":"'Absorbance Data'!L3281-Calculations!I$1","v":0},{"$f":"'Absorbance Data'!M3281-Calculations!J$1","v":0},{"$f":"'Absorbance Data'!N3281-Calculations!K$1","v":0},{"$f":"'Absorbance Data'!O3281-Calculations!L$1","v":0},{"$f":"'Absorbance Data'!P3281-Calculations!M$1","v":0},{"$f":"'Absorbance Data'!Q3281-Calculations!N$1","v":0},{"$f":"'Absorbance Data'!R3281-Calculations!O$1","v":0},{"$f":"'Absorbance Data'!S3281-Calculations!P$1","v":0},{"$f":"'Absorbance Data'!T3281-Calculations!Q$1","v":0},{"$f":"'Absorbance Data'!U3281-Calculations!R$1","v":0},{"$f":"'Absorbance Data'!V3281-Calculations!S$1","v":0},{"$f":"'Absorbance Data'!W3281-Calculations!T$1","v":0},{"$f":"'Absorbance Data'!X3281-Calculations!U$1","v":0},{"$f":"'Absorbance Data'!Y3281-Calculations!V$1","v":0},{"$f":"'Absorbance Data'!Z3281-Calculations!W$1","v":0}]
[{"$f":"'Absorbance Data'!D3282","v":606.53857421875},{"$f":"'Absorbance Data'!E3282-Calculations!B$1","v":0},{"$f":"'Absorbance Data'!F3282-Calculations!C$1","v":0},{"$f":"'Absorbance Data'!G3282-Calculations!D$1","v":0},{"$f":"'Absorbance Data'!H3282-Calculations!E$1","v":0},{"$f":"'Absorbance Data'!I3282-Calculations!F$1","v":0},{"$f":"'Absorbance Data'!J3282-Calculations!G$1","v":0},{"$f":"'Absorbance Data'!K3282-Calculations!H$1","v":0},{"$f":"'Absorbance Data'!L3282-Calculations!I$1","v":0},{"$f":"'Absorbance Data'!M3282-Calculations!J$1","v":0},{"$f":"'Absorbance Data'!N3282-Calculations!K$1","v":0},{"$f":"'Absorbance Data'!O3282-Calculations!L$1","v":0},{"$f":"'Absorbance Data'!P3282-Calculations!M$1","v":0},{"$f":"'Absorbance Data'!Q3282-Calculations!N$1","v":0},{"$f":"'Absorbance Data'!R3282-Calculations!O$1","v":0},{"$f":"'Absorbance Data'!S3282-Calculations!P$1","v":0},{"$f":"'Absorbance Data'!T3282-Calculations!Q$1","v":0},{"$f":"'Absorbance Data'!U3282-Calculations!R$1","v":0},{"$f":"'Absorbance Data'!V3282-Calculations!S$1","v":0},{"$f":"'Absorbance Data'!W3282-Calculations!T$1","v":0},{"$f":"'Absorbance Data'!X3282-Calculations!U$1","v":0},{"$f":"'Absorbance Data'!Y3282-Calculations!V$1","v":0},{"$f":"'Absorbance Data'!Z3282-Calculations!W$1","v":0}]
[{"$f":"'Absorbance Data'!D3283","v":606.85821533203125},{"$f":"'Absorbance Data'!E3283-Calculations!B$1","v":0},{"$f":"'Absorbance Data'!F3283-Calculations!C$1","v":0},{"$f":"'Absorbance Data'!G3283-Calculations!D$1","v":0},{"$f":"'Absorbance Data'!H3283-Calculations!E$1","v":0},{"$f":"'Absorbance Data'!I3283-Calculations!F$1","v":0},{"$f":"'Absorbance Data'!J3283-Calculations!G$1","v":0},{"$f":"'Absorbance Data'!K3283-Calculations!H$1","v":0},{"$f":"'Absorbance Data'!L3283-Calculations!I$1","v":0},{"$f":"'Absorbance Data'!M3283-Calculations!J$1","v":0},{"$f":"'Absorbance Data'!N3283-Calculations!K$1","v":0},{"$f":"'Absorbance Data'!O3283-Calculations!L$1","v":0},{"$f":"'Absorbance Data'!P3283-Calculations!M$1","v":0},{"$f":"'Absorbance Data'!Q3283-Calculations!N$1","v":0},{"$f":"'Absorbance Data'!R3283-Calculations!O$1","v":0},{"$f":"'Absorbance Data'!S3283-Calculations!P$1","v":0},{"$f":"'Absorbance Data'!T3283-Calculations!Q$1","v":0},{"$f":"'Absorbance Data'!U3283-Calculations!R$1","v":0},{"$f":"'Absorbance Data'!V3283-Calculations!S$1","v":0},{"$f":"'Absorbance Data'!W3283-Calculations!T$1","v":0},{"$f":"'Absorbance Data'!X3283-Calculations!U$1","v":0},{"$f":"'Absorbance Data'!Y3283-Calculations!V$1","v":0},{"$f":"'Absorbance Data'!Z3283-Calculations!W$1","v":0}]
[{"$f":"'Absorbance Data'!D3284","v":607.1778564453125},{"$f":"'Absorbance Data'!E3284-Calculations!B$1","v":0},{"$f":"'Absorbance Data'!F3284-Calculations!C$1","v":0},{"$f":"'Absorbance Data'!G3284-Calculations!D$1","v":0},{"$f":"'Absorbance Data'!H3284-Calculations!E$1","v":0},{"$f":"'Absorbance Data'!I3284-Calculations!F$1","v":0},{"$f":"'Absorbance Data'!J3284-Calculations!G$1","v":0},{"$f":"'Absorbance Data'!K3284-Calculations!H$1","v":0},{"$f":"'Absorbance Data'!L3284-Calculations!I$1","v":0},{"$f":"'Absorbance Data'!M3284-Calculations!J$1","v":0},{"$f":"'Absorbance Data'!N3284-Calculations!K$1","v":0},{"$f":"'Absorbance Data'!O3284-Calculations!L$1","v":0},{"$f":"'Absorbance Data'!P3284-Calculations!M$1","v":0},{"$f":"'Absorbance Data'!Q3284-Calculations!N$1","v":0},{"$f":"'Absorbance Data'!R3284-Calculations!O$1","v":0},{"$f":"'Absorbance Data'!S3284-Calculations!P$1","v":0},{"$f":"'Absorbance Data'!T3284-Calculations!Q$1","v":0},{"$f":"'Absorbance Data'!U3284-Calculations!R$1","v":0},{"$f":"'Absorbance Data'!V3284-Calculations!S$1","v":0},{"$f":"'Absorbance Data'!W3284-Calculations!T$1","v":0},{"$f":"'Absorbance Data'!X3284-Calculations!U$1","v":0},{"$f":"'Absorbance Data'!Y3284-Calculations!V$1","v":0},{"$f":"'Absorbance Data'!Z3284-Calculations!W$1","v":0}]
[{"$f":"'Absorbance Data'!D3285","v":607.49749755859375},{"$f":"'Absorbance Data'!E3285-Calculations!B$1","v":0},{"$f":"'Absorbance Data'!F3285-Calculations!C$1","v":0},{"$f":"'Absorbance Data'!G3285-Calculations!D$1","v":0},{"$f":"'Absorbance Data'!H3285-Calculations!E$1","v":0},{"$f":"'Absorbance Data'!I3285-Calculations!F$1","v":0},{"$f":"'Absorbance Data'!J3285-Calculations!G$1","v":0},{"$f":"'Absorbance Data'!K3285-Calculations!H$1","v":0},{"$f":"'Absorbance Data'!L3285-Calculations!I$1","v":0},{"$f":"'Absorbance Data'!M3285-Calculations!J$1","v":0},{"$f":"'Absorbance Data'!N3285-Calculations!K$1","v":0},{"$f":"'Absorbance Data'!O3285-Calculations!L$1","v":0},{"$f":"'Absorbance Data'!P3285-Calculations!M$1","v":0},{"$f":"'Absorbance Data'!Q3285-Calculations!N$1","v":0},{"$f":"'Absorbance Data'!R3285-Calculations!O$1","v":0},{"$f":"'Absorbance Data'!S3285-Calculations!P$1","v":0},{"$f":"'Absorbance Data'!T3285-Calculations!Q$1","v":0},{"$f":"'Absorbance Data'!U3285-Calculations!R$1","v":0},{"$f":"'Absorbance Data'!V3285-Calculations!S$1","v":0},{"$f":"'Absorbance Data'!W3285-Calculations!T$1","v":0},{"$f":"'Absorbance Data'!X3285-Calculations!U$1","v":0},{"$f":"'Absorbance Data'!Y3285-Calculations!V$1","v":0},{"$f":"'Absorbance Data'!Z3285-Calculations!W$1","v":0}]
[{"$f":"'Absorbance Data'!D3286","v":607.81707763671875},{"$f":"'Absorbance Data'!E3286-Calculations!B$1","v":0},{"$f":"'Absorbance Data'!F3286-Calculations!C$1","v":0},{"$f":"'Absorbance Data'!G3286-Calculations!D$1","v":0},{"$f":"'Absorbance Data'!H3286-Calculations!E$1","v":0},{"$f":"'Absorbance Data'!I3286-Calculations!F$1","v":0},{"$f":"'Absorbance Data'!J3286-Calculations!G$1","v":0},{"$f":"'Absorbance Data'!K3286-Calculations!H$1","v":0},{"$f":"'Absorbance Data'!L3286-Calculations!I$1","v":0},{"$f":"'Absorbance Data'!M3286-Calculations!J$1","v":0},{"$f":"'Absorbance Data'!N3286-Calculations!K$1","v":0},{"$f":"'Absorbance Data'!O3286-Calculations!L$1","v":0},{"$f":"'Absorbance Data'!P3286-Calculations!M$1","v":0},{"$f":"'Absorbance Data'!Q3286-Calculations!N$1","v":0},{"$f":"'Absorbance Data'!R3286-Calculations!O$1","v":0},{"$f":"'Absorbance Data'!S3286-Calculations!P$1","v":0},{"$f":"'Absorbance Data'!T3286-Calculations!Q$1","v":0},{"$f":"'Absorbance Data'!U3286-Calculations!R$1","v":0},{"$f":"'Absorbance Data'!V3286-Calculations!S$1","v":0},{"$f":"'Absorbance Data'!W3286-Calculations!T$1","v":0},{"$f":"'Absorbance Data'!X3286-Calculations!U$1","v":0},{"$f":"'Absorbance Data'!Y3286-Calculations!V$1","v":0},{"$f":"'Absorbance Data'!Z3286-Calculations!W$1","v":0}]
[{"$f":"'Absorbance Data'!D3287","v":608.1365966796875},{"$f":"'Absorbance Data'!E3287-Calculations!B$1","v":0},{"$f":"'Absorbance Data'!F3287-Calculations!C$1","v":0},{"$f":"'Absorbance Data'!G3287-Calculations!D$1","v":0},{"$f":"'Absorbance Data'!H3287-Calculations!E$1","v":0},{"$f":"'Absorbance Data'!I3287-Calculations!F$1","v":0},{"$f":"'Absorbance Data'!J3287-Calculations!G$1","v":0},{"$f":"'Absorbance Data'!K3287-Calculations!H$1","v":0},{"$f":"'Absorbance Data'!L3287-Calculations!I$1","v":0},{"$f":"'Absorbance Data'!M3287-Calculations!J$1","v":0},{"$f":"'Absorbance Data'!N3287-Calculations!K$1","v":0},{"$f":"'Absorbance Data'!O3287-Calculations!L$1","v":0},{"$f":"'Absorbance Data'!P3287-Calculations!M$1","v":0},{"$f":"'Absorbance Data'!Q3287-Calculations!N$1","v":0},{"$f":"'Absorbance Data'!R3287-Calculations!O$1","v":0},{"$f":"'Absorbance Data'!S3287-Calculations!P$1","v":0},{"$f":"'Absorbance Data'!T3287-Calculations!Q$1","v":0},{"$f":"'Absorbance Data'!U3287-Calculations!R$1","v":0},{"$f":"'Absorbance Data'!V3287-Calculations!S$1","v":0},{"$f":"'Absorbance Data'!W3287-Calculations!T$1","v":0},{"$f":"'Absorbance Data'!X3287-Calculations!U$1","v":0},{"$f":"'Absorbance Data'!Y3287-Calculations!V$1","v":0},{"$f":"'Absorbance Data'!Z3287-Calculations!W$1","v":0}]
[{"$f":"'Absorbance Data'!D3288","v":608.4560546875},{"$f":"'Absorbance Data'!E3288-Calculations!B$1","v":0},{"$f":"'Absorbance Data'!F3288-Calculations!C$1","v":0},{"$f":"'Absorbance Data'!G3288-Calculations!D$1","v":0},{"$f":"'Absorbance Data'!H3288-Calculations!E$1","v":0},{"$f":"'Absorbance Data'!I3288-Calculations!F$1","v":0},{"$f":"'Absorbance Data'!J3288-Calculations!G$1","v":0},{"$f":"'Absorbance Data'!K3288-Calculations!H$1","v":0},{"$f":"'Absorbance Data'!L3288-Calculations!I$1","v":0},{"$f":"'Absorbance Data'!M3288-Calculations!J$1","v":0},{"$f":"'Absorbance Data'!N3288-Calculations!K$1","v":0},{"$f":"'Absorbance Data'!O3288-Calculations!L$1","v":0},{"$f":"'Absorbance Data'!P3288-Calculations!M$1","v":0},{"$f":"'Absorbance Data'!Q3288-Calculations!N$1","v":0},{"$f":"'Absorbance Data'!R3288-Calculations!O$1","v":0},{"$f":"'Absorbance Data'!S3288-Calculations!P$1","v":0},{"$f":"'Absorbance Data'!T3288-Calculations!Q$1","v":0},{"$f":"'Absorbance Data'!U3288-Calculations!R$1","v":0},{"$f":"'Absorbance Data'!V3288-Calculations!S$1","v":0},{"$f":"'Absorbance Data'!W3288-Calculations!T$1","v":0},{"$f":"'Absorbance Data'!X3288-Calculations!U$1","v":0},{"$f":"'Absorbance Data'!Y3288-Calculations!V$1","v":0},{"$f":"'Absorbance Data'!Z3288-Calculations!W$1","v":0}]
[{"$f":"'Absorbance Data'!D3289","v":608.7755126953125},{"$f":"'Absorbance Data'!E3289-Calculations!B$1","v":0},{"$f":"'Absorbance Data'!F3289-Calculations!C$1","v":0},{"$f":"'Absorbance Data'!G3289-Calculations!D$1","v":0},{"$f":"'Absorbance Data'!H3289-Calculations!E$1","v":0},{"$f":"'Absorbance Data'!I3289-Calculations!F$1","v":0},{"$f":"'Absorbance Data'!J3289-Calculations!G$1","v":0},{"$f":"'Absorbance Data'!K3289-Calculations!H$1","v":0},{"$f":"'Absorbance Data'!L3289-Calculations!I$1","v":0},{"$f":"'Absorbance Data'!M3289-Calculations!J$1","v":0},{"$f":"'Absorbance Data'!N3289-Calculations!K$1","v":0},{"$f":"'Absorbance Data'!O3289-Calculations!L$1","v":0},{"$f":"'Absorbance Data'!P3289-Calculations!M$1","v":0},{"$f":"'Absorbance Data'!Q3289-Calculations!N$1","v":0},{"$f":"'Absorbance Data'!R3289-Calculations!O$1","v":0},{"$f":"'Absorbance Data'!S3289-Calculations!P$1","v":0},{"$f":"'Absorbance Data'!T3289-Calculations!Q$1","v":0},{"$f":"'Absorbance Data'!U3289-Calculations!R$1","v":0},{"$f":"'Absorbance Data'!V3289-Calculations!S$1","v":0},{"$f":"'Absorbance Data'!W3289-Calculations!T$1","v":0},{"$f":"'Absorbance Data'!X3289-Calculations!U$1","v":0},{"$f":"'Absorbance Data'!Y3289-Calculations!V$1","v":0},{"$f":"'Absorbance Data'!Z3289-Calculations!W$1","v":0}]
[{"$f":"'Absorbance Data'!D3290","v":609.094970703125},{"$f":"'Absorbance Data'!E3290-Calculations!B$1","v":0},{"$f":"'Absorbance Data'!F3290-Calculations!C$1","v":0},{"$f":"'Absorbance Data'!G3290-Calculations!D$1","v":0},{"$f":"'Absorbance Data'!H3290-Calculations!E$1","v":0},{"$f":"'Absorbance Data'!I3290-Calculations!F$1","v":0},{"$f":"'Absorbance Data'!J3290-Calculations!G$1","v":0},{"$f":"'Absorbance Data'!K3290-Calculations!H$1","v":0},{"$f":"'Absorbance Data'!L3290-Calculations!I$1","v":0},{"$f":"'Absorbance Data'!M3290-Calculations!J$1","v":0},{"$f":"'Absorbance Data'!N3290-Calculations!K$1","v":0},{"$f":"'Absorbance Data'!O3290-Calculations!L$1","v":0},{"$f":"'Absorbance Data'!P3290-Calculations!M$1","v":0},{"$f":"'Absorbance Data'!Q3290-Calculations!N$1","v":0},{"$f":"'Absorbance Data'!R3290-Calculations!O$1","v":0},{"$f":"'Absorbance Data'!S3290-Calculations!P$1","v":0},{"$f":"'Absorbance Data'!T3290-Calculations!Q$1","v":0},{"$f":"'Absorbance Data'!U3290-Calculations!R$1","v":0},{"$f":"'Absorbance Data'!V3290-Calculations!S$1","v":0},{"$f":"'Absorbance Data'!W3290-Calculations!T$1","v":0},{"$f":"'Absorbance Data'!X3290-Calculations!U$1","v":0},{"$f":"'Absorbance Data'!Y3290-Calculations!V$1","v":0},{"$f":"'Absorbance Data'!Z3290-Calculations!W$1","v":0}]
[{"$f":"'Absorbance Data'!D3291","v":609.414306640625},{"$f":"'Absorbance Data'!E3291-Calculations!B$1","v":0},{"$f":"'Absorbance Data'!F3291-Calculations!C$1","v":0},{"$f":"'Absorbance Data'!G3291-Calculations!D$1","v":0},{"$f":"'Absorbance Data'!H3291-Calculations!E$1","v":0},{"$f":"'Absorbance Data'!I3291-Calculations!F$1","v":0},{"$f":"'Absorbance Data'!J3291-Calculations!G$1","v":0},{"$f":"'Absorbance Data'!K3291-Calculations!H$1","v":0},{"$f":"'Absorbance Data'!L3291-Calculations!I$1","v":0},{"$f":"'Absorbance Data'!M3291-Calculations!J$1","v":0},{"$f":"'Absorbance Data'!N3291-Calculations!K$1","v":0},{"$f":"'Absorbance Data'!O3291-Calculations!L$1","v":0},{"$f":"'Absorbance Data'!P3291-Calculations!M$1","v":0},{"$f":"'Absorbance Data'!Q3291-Calculations!N$1","v":0},{"$f":"'Absorbance Data'!R3291-Calculations!O$1","v":0},{"$f":"'Absorbance Data'!S3291-Calculations!P$1","v":0},{"$f":"'Absorbance Data'!T3291-Calculations!Q$1","v":0},{"$f":"'Absorbance Data'!U3291-Calculations!R$1","v":0},{"$f":"'Absorbance Data'!V3291-Calculations!S$1","v":0},{"$f":"'Absorbance Data'!W3291-Calculations!T$1","v":0},{"$f":"'Absorbance Data'!X3291-Calculations!U$1","v":0},{"$f":"'Absorbance Data'!Y3291-Calculations!V$1","v":0},{"$f":"'Absorbance Data'!Z3291-Calculations!W$1","v":0}]
[{"$f":"'Absorbance Data'!D3292","v":609.73358154296875},{"$f":"'Absorbance Data'!E3292-Calculations!B$1","v":0},{"$f":"'Absorbance Data'!F3292-Calculations!C$1","v":0},{"$f":"'Absorbance Data'!G3292-Calculations!D$1","v":0},{"$f":"'Absorbance Data'!H3292-Calculations!E$1","v":0},{"$f":"'Absorbance Data'!I3292-Calculations!F$1","v":0},{"$f":"'Absorbance Data'!J3292-Calculations!G$1","v":0},{"$f":"'Absorbance Data'!K3292-Calculations!H$1","v":0},{"$f":"'Absorbance Data'!L3292-Calculations!I$1","v":0},{"$f":"'Absorbance Data'!M3292-Calculations!J$1","v":0},{"$f":"'Absorbance Data'!N3292-Calculations!K$1","v":0},{"$f":"'Absorbance Data'!O3292-Calculations!L$1","v":0},{"$f":"'Absorbance Data'!P3292-Calculations!M$1","v":0},{"$f":"'Absorbance Data'!Q3292-Calculations!N$1","v":0},{"$f":"'Absorbance Data'!R3292-Calculations!O$1","v":0},{"$f":"'Absorbance Data'!S3292-Calculations!P$1","v":0},{"$f":"'Absorbance Data'!T3292-Calculations!Q$1","v":0},{"$f":"'Absorbance Data'!U3292-Calculations!R$1","v":0},{"$f":"'Absorbance Data'!V3292-Calculations!S$1","v":0},{"$f":"'Absorbance Data'!W3292-Calculations!T$1","v":0},{"$f":"'Absorbance Data'!X3292-Calculations!U$1","v":0},{"$f":"'Absorbance Data'!Y3292-Calculations!V$1","v":0},{"$f":"'Absorbance Data'!Z3292-Calculations!W$1","v":0}]
[{"$f":"'Absorbance Data'!D3293","v":610.05291748046875},{"$f":"'Absorbance Data'!E3293-Calculations!B$1","v":0},{"$f":"'Absorbance Data'!F3293-Calculations!C$1","v":0},{"$f":"'Absorbance Data'!G3293-Calculations!D$1","v":0},{"$f":"'Absorbance Data'!H3293-Calculations!E$1","v":0},{"$f":"'Absorbance Data'!I3293-Calculations!F$1","v":0},{"$f":"'Absorbance Data'!J3293-Calculations!G$1","v":0},{"$f":"'Absorbance Data'!K3293-Calculations!H$1","v":0},{"$f":"'Absorbance Data'!L3293-Calculations!I$1","v":0},{"$f":"'Absorbance Data'!M3293-Calculations!J$1","v":0},{"$f":"'Absorbance Data'!N3293-Calculations!K$1","v":0},{"$f":"'Absorbance Data'!O3293-Calculations!L$1","v":0},{"$f":"'Absorbance Data'!P3293-Calculations!M$1","v":0},{"$f":"'Absorbance Data'!Q3293-Calculations!N$1","v":0},{"$f":"'Absorbance Data'!R3293-Calculations!O$1","v":0},{"$f":"'Absorbance Data'!S3293-Calculations!P$1","v":0},{"$f":"'Absorbance Data'!T3293-Calculations!Q$1","v":0},{"$f":"'Absorbance Data'!U3293-Calculations!R$1","v":0},{"$f":"'Absorbance Data'!V3293-Calculations!S$1","v":0},{"$f":"'Absorbance Data'!W3293-Calculations!T$1","v":0},{"$f":"'Absorbance Data'!X3293-Calculations!U$1","v":0},{"$f":"'Absorbance Data'!Y3293-Calculations!V$1","v":0},{"$f":"'Absorbance Data'!Z3293-Calculations!W$1","v":0}]
[{"$f":"'Absorbance Data'!D3294","v":610.3721923828125},{"$f":"'Absorbance Data'!E3294-Calculations!B$1","v":0},{"$f":"'Absorbance Data'!F3294-Calculations!C$1","v":0},{"$f":"'Absorbance Data'!G3294-Calculations!D$1","v":0},{"$f":"'Absorbance Data'!H3294-Calculations!E$1","v":0},{"$f":"'Absorbance Data'!I3294-Calculations!F$1","v":0},{"$f":"'Absorbance Data'!J3294-Calculations!G$1","v":0},{"$f":"'Absorbance Data'!K3294-Calculations!H$1","v":0},{"$f":"'Absorbance Data'!L3294-Calculations!I$1","v":0},{"$f":"'Absorbance Data'!M3294-Calculations!J$1","v":0},{"$f":"'Absorbance Data'!N3294-Calculations!K$1","v":0},{"$f":"'Absorbance Data'!O3294-Calculations!L$1","v":0},{"$f":"'Absorbance Data'!P3294-Calculations!M$1","v":0},{"$f":"'Absorbance Data'!Q3294-Calculations!N$1","v":0},{"$f":"'Absorbance Data'!R3294-Calculations!O$1","v":0},{"$f":"'Absorbance Data'!S3294-Calculations!P$1","v":0},{"$f":"'Absorbance Data'!T3294-Calculations!Q$1","v":0},{"$f":"'Absorbance Data'!U3294-Calculations!R$1","v":0},{"$f":"'Absorbance Data'!V3294-Calculations!S$1","v":0},{"$f":"'Absorbance Data'!W3294-Calculations!T$1","v":0},{"$f":"'Absorbance Data'!X3294-Calculations!U$1","v":0},{"$f":"'Absorbance Data'!Y3294-Calculations!V$1","v":0},{"$f":"'Absorbance Data'!Z3294-Calculations!W$1","v":0}]
[{"$f":"'Absorbance Data'!D3295","v":610.6912841796875},{"$f":"'Absorbance Data'!E3295-Calculations!B$1","v":0},{"$f":"'Absorbance Data'!F3295-Calculations!C$1","v":0},{"$f":"'Absorbance Data'!G3295-Calculations!D$1","v":0},{"$f":"'Absorbance Data'!H3295-Calculations!E$1","v":0},{"$f":"'Absorbance Data'!I3295-Calculations!F$1","v":0},{"$f":"'Absorbance Data'!J3295-Calculations!G$1","v":0},{"$f":"'Absorbance Data'!K3295-Calculations!H$1","v":0},{"$f":"'Absorbance Data'!L3295-Calculations!I$1","v":0},{"$f":"'Absorbance Data'!M3295-Calculations!J$1","v":0},{"$f":"'Absorbance Data'!N3295-Calculations!K$1","v":0},{"$f":"'Absorbance Data'!O3295-Calculations!L$1","v":0},{"$f":"'Absorbance Data'!P3295-Calculations!M$1","v":0},{"$f":"'Absorbance Data'!Q3295-Calculations!N$1","v":0},{"$f":"'Absorbance Data'!R3295-Calculations!O$1","v":0},{"$f":"'Absorbance Data'!S3295-Calculations!P$1","v":0},{"$f":"'Absorbance Data'!T3295-Calculations!Q$1","v":0},{"$f":"'Absorbance Data'!U3295-Calculations!R$1","v":0},{"$f":"'Absorbance Data'!V3295-Calculations!S$1","v":0},{"$f":"'Absorbance Data'!W3295-Calculations!T$1","v":0},{"$f":"'Absorbance Data'!X3295-Calculations!U$1","v":0},{"$f":"'Absorbance Data'!Y3295-Calculations!V$1","v":0},{"$f":"'Absorbance Data'!Z3295-Calculations!W$1","v":0}]
[{"$f":"'Absorbance Data'!D3296","v":611.01043701171875},{"$f":"'Absorbance Data'!E3296-Calculations!B$1","v":0},{"$f":"'Absorbance Data'!F3296-Calculations!C$1","v":0},{"$f":"'Absorbance Data'!G3296-Calculations!D$1","v":0},{"$f":"'Absorbance Data'!H3296-Calculations!E$1","v":0},{"$f":"'Absorbance Data'!I3296-Calculations!F$1","v":0},{"$f":"'Absorbance Data'!J3296-Calculations!G$1","v":0},{"$f":"'Absorbance Data'!K3296-Calculations!H$1","v":0},{"$f":"'Absorbance Data'!L3296-Calculations!I$1","v":0},{"$f":"'Absorbance Data'!M3296-Calculations!J$1","v":0},{"$f":"'Absorbance Data'!N3296-Calculations!K$1","v":0},{"$f":"'Absorbance Data'!O3296-Calculations!L$1","v":0},{"$f":"'Absorbance Data'!P3296-Calculations!M$1","v":0},{"$f":"'Absorbance Data'!Q3296-Calculations!N$1","v":0},{"$f":"'Absorbance Data'!R3296-Calculations!O$1","v":0},{"$f":"'Absorbance Data'!S3296-Calculations!P$1","v":0},{"$f":"'Absorbance Data'!T3296-Calculations!Q$1","v":0},{"$f":"'Absorbance Data'!U3296-Calculations!R$1","v":0},{"$f":"'Absorbance Data'!V3296-Calculations!S$1","v":0},{"$f":"'Absorbance Data'!W3296-Calculations!T$1","v":0},{"$f":"'Absorbance Data'!X3296-Calculations!U$1","v":0},{"$f":"'Absorbance Data'!Y3296-Calculations!V$1","v":0},{"$f":"'Absorbance Data'!Z3296-Calculations!W$1","v":0}]
[{"$f":"'Absorbance Data'!D3297","v":611.32958984375},{"$f":"'Absorbance Data'!E3297-Calculations!B$1","v":0},{"$f":"'Absorbance Data'!F3297-Calculations!C$1","v":0},{"$f":"'Absorbance Data'!G3297-Calculations!D$1","v":0},{"$f":"'Absorbance Data'!H3297-Calculations!E$1","v":0},{"$f":"'Absorbance Data'!I3297-Calculations!F$1","v":0},{"$f":"'Absorbance Data'!J3297-Calculations!G$1","v":0},{"$f":"'Absorbance Data'!K3297-Calculations!H$1","v":0},{"$f":"'Absorbance Data'!L3297-Calculations!I$1","v":0},{"$f":"'Absorbance Data'!M3297-Calculations!J$1","v":0},{"$f":"'Absorbance Data'!N3297-Calculations!K$1","v":0},{"$f":"'Absorbance Data'!O3297-Calculations!L$1","v":0},{"$f":"'Absorbance Data'!P3297-Calculations!M$1","v":0},{"$f":"'Absorbance Data'!Q3297-Calculations!N$1","v":0},{"$f":"'Absorbance Data'!R3297-Calculations!O$1","v":0},{"$f":"'Absorbance Data'!S3297-Calculations!P$1","v":0},{"$f":"'Absorbance Data'!T3297-Calculations!Q$1","v":0},{"$f":"'Absorbance Data'!U3297-Calculations!R$1","v":0},{"$f":"'Absorbance Data'!V3297-Calculations!S$1","v":0},{"$f":"'Absorbance Data'!W3297-Calculations!T$1","v":0},{"$f":"'Absorbance Data'!X3297-Calculations!U$1","v":0},{"$f":"'Absorbance Data'!Y3297-Calculations!V$1","v":0},{"$f":"'Absorbance Data'!Z3297-Calculations!W$1","v":0}]
[{"$f":"'Absorbance Data'!D3298","v":611.648681640625},{"$f":"'Absorbance Data'!E3298-Calculations!B$1","v":0},{"$f":"'Absorbance Data'!F3298-Calculations!C$1","v":0},{"$f":"'Absorbance Data'!G3298-Calculations!D$1","v":0},{"$f":"'Absorbance Data'!H3298-Calculations!E$1","v":0},{"$f":"'Absorbance Data'!I3298-Calculations!F$1","v":0},{"$f":"'Absorbance Data'!J3298-Calculations!G$1","v":0},{"$f":"'Absorbance Data'!K3298-Calculations!H$1","v":0},{"$f":"'Absorbance Data'!L3298-Calculations!I$1","v":0},{"$f":"'Absorbance Data'!M3298-Calculations!J$1","v":0},{"$f":"'Absorbance Data'!N3298-Calculations!K$1","v":0},{"$f":"'Absorbance Data'!O3298-Calculations!L$1","v":0},{"$f":"'Absorbance Data'!P3298-Calculations!M$1","v":0},{"$f":"'Absorbance Data'!Q3298-Calculations!N$1","v":0},{"$f":"'Absorbance Data'!R3298-Calculations!O$1","v":0},{"$f":"'Absorbance Data'!S3298-Calculations!P$1","v":0},{"$f":"'Absorbance Data'!T3298-Calculations!Q$1","v":0},{"$f":"'Absorbance Data'!U3298-Calculations!R$1","v":0},{"$f":"'Absorbance Data'!V3298-Calculations!S$1","v":0},{"$f":"'Absorbance Data'!W3298-Calculations!T$1","v":0},{"$f":"'Absorbance Data'!X3298-Calculations!U$1","v":0},{"$f":"'Absorbance Data'!Y3298-Calculations!V$1","v":0},{"$f":"'Absorbance Data'!Z3298-Calculations!W$1","v":0}]
[{"$f":"'Absorbance Data'!D3299","v":611.96771240234375},{"$f":"'Absorbance Data'!E3299-Calculations!B$1","v":0},{"$f":"'Absorbance Data'!F3299-Calculations!C$1","v":0},{"$f":"'Absorbance Data'!G3299-Calculations!D$1","v":0},{"$f":"'Absorbance Data'!H3299-Calculations!E$1","v":0},{"$f":"'Absorbance Data'!I3299-Calculations!F$1","v":0},{"$f":"'Absorbance Data'!J3299-Calculations!G$1","v":0},{"$f":"'Absorbance Data'!K3299-Calculations!H$1","v":0},{"$f":"'Absorbance Data'!L3299-Calculations!I$1","v":0},{"$f":"'Absorbance Data'!M3299-Calculations!J$1","v":0},{"$f":"'Absorbance Data'!N3299-Calculations!K$1","v":0},{"$f":"'Absorbance Data'!O3299-Calculations!L$1","v":0},{"$f":"'Absorbance Data'!P3299-Calculations!M$1","v":0},{"$f":"'Absorbance Data'!Q3299-Calculations!N$1","v":0},{"$f":"'Absorbance Data'!R3299-Calculations!O$1","v":0},{"$f":"'Absorbance Data'!S3299-Calculations!P$1","v":0},{"$f":"'Absorbance Data'!T3299-Calculations!Q$1","v":0},{"$f":"'Absorbance Data'!U3299-Calculations!R$1","v":0},{"$f":"'Absorbance Data'!V3299-Calculations!S$1","v":0},{"$f":"'Absorbance Data'!W3299-Calculations!T$1","v":0},{"$f":"'Absorbance Data'!X3299-Calculations!U$1","v":0},{"$f":"'Absorbance Data'!Y3299-Calculations!V$1","v":0},{"$f":"'Absorbance Data'!Z3299-Calculations!W$1","v":0}]
[{"$f":"'Absorbance Data'!D3300","v":612.28668212890625},{"$f":"'Absorbance Data'!E3300-Calculations!B$1","v":0},{"$f":"'Absorbance Data'!F3300-Calculations!C$1","v":0},{"$f":"'Absorbance Data'!G3300-Calculations!D$1","v":0},{"$f":"'Absorbance Data'!H3300-Calculations!E$1","v":0},{"$f":"'Absorbance Data'!I3300-Calculations!F$1","v":0},{"$f":"'Absorbance Data'!J3300-Calculations!G$1","v":0},{"$f":"'Absorbance Data'!K3300-Calculations!H$1","v":0},{"$f":"'Absorbance Data'!L3300-Calculations!I$1","v":0},{"$f":"'Absorbance Data'!M3300-Calculations!J$1","v":0},{"$f":"'Absorbance Data'!N3300-Calculations!K$1","v":0},{"$f":"'Absorbance Data'!O3300-Calculations!L$1","v":0},{"$f":"'Absorbance Data'!P3300-Calculations!M$1","v":0},{"$f":"'Absorbance Data'!Q3300-Calculations!N$1","v":0},{"$f":"'Absorbance Data'!R3300-Calculations!O$1","v":0},{"$f":"'Absorbance Data'!S3300-Calculations!P$1","v":0},{"$f":"'Absorbance Data'!T3300-Calculations!Q$1","v":0},{"$f":"'Absorbance Data'!U3300-Calculations!R$1","v":0},{"$f":"'Absorbance Data'!V3300-Calculations!S$1","v":0},{"$f":"'Absorbance Data'!W3300-Calculations!T$1","v":0},{"$f":"'Absorbance Data'!X3300-Calculations!U$1","v":0},{"$f":"'Absorbance Data'!Y3300-Calculations!V$1","v":0},{"$f":"'Absorbance Data'!Z3300-Calculations!W$1","v":0}]
[{"$f":"'Absorbance Data'!D3301","v":612.60565185546875},{"$f":"'Absorbance Data'!E3301-Calculations!B$1","v":0},{"$f":"'Absorbance Data'!F3301-Calculations!C$1","v":0},{"$f":"'Absorbance Data'!G3301-Calculations!D$1","v":0},{"$f":"'Absorbance Data'!H3301-Calculations!E$1","v":0},{"$f":"'Absorbance Data'!I3301-Calculations!F$1","v":0},{"$f":"'Absorbance Data'!J3301-Calculations!G$1","v":0},{"$f":"'Absorbance Data'!K3301-Calculations!H$1","v":0},{"$f":"'Absorbance Data'!L3301-Calculations!I$1","v":0},{"$f":"'Absorbance Data'!M3301-Calculations!J$1","v":0},{"$f":"'Absorbance Data'!N3301-Calculations!K$1","v":0},{"$f":"'Absorbance Data'!O3301-Calculations!L$1","v":0},{"$f":"'Absorbance Data'!P3301-Calculations!M$1","v":0},{"$f":"'Absorbance Data'!Q3301-Calculations!N$1","v":0},{"$f":"'Absorbance Data'!R3301-Calculations!O$1","v":0},{"$f":"'Absorbance Data'!S3301-Calculations!P$1","v":0},{"$f":"'Absorbance Data'!T3301-Calculations!Q$1","v":0},{"$f":"'Absorbance Data'!U3301-Calculations!R$1","v":0},{"$f":"'Absorbance Data'!V3301-Calculations!S$1","v":0},{"$f":"'Absorbance Data'!W3301-Calculations!T$1","v":0},{"$f":"'Absorbance Data'!X3301-Calculations!U$1","v":0},{"$f":"'Absorbance Data'!Y3301-Calculations!V$1","v":0},{"$f":"'Absorbance Data'!Z3301-Calculations!W$1","v":0}]
[{"$f":"'Absorbance Data'!D3302","v":612.92462158203125},{"$f":"'Absorbance Data'!E3302-Calculations!B$1","v":0},{"$f":"'Absorbance Data'!F3302-Calculations!C$1","v":0},{"$f":"'Absorbance Data'!G3302-Calculations!D$1","v":0},{"$f":"'Absorbance Data'!H3302-Calculations!E$1","v":0},{"$f":"'Absorbance Data'!I3302-Calculations!F$1","v":0},{"$f":"'Absorbance Data'!J3302-Calculations!G$1","v":0},{"$f":"'Absorbance Data'!K3302-Calculations!H$1","v":0},{"$f":"'Absorbance Data'!L3302-Calculations!I$1","v":0},{"$f":"'Absorbance Data'!M3302-Calculations!J$1","v":0},{"$f":"'Absorbance Data'!N3302-Calculations!K$1","v":0},{"$f":"'Absorbance Data'!O3302-Calculations!L$1","v":0},{"$f":"'Absorbance Data'!P3302-Calculations!M$1","v":0},{"$f":"'Absorbance Data'!Q3302-Calculations!N$1","v":0},{"$f":"'Absorbance Data'!R3302-Calculations!O$1","v":0},{"$f":"'Absorbance Data'!S3302-Calculations!P$1","v":0},{"$f":"'Absorbance Data'!T3302-Calculations!Q$1","v":0},{"$f":"'Absorbance Data'!U3302-Calculations!R$1","v":0},{"$f":"'Absorbance Data'!V3302-Calculations!S$1","v":0},{"$f":"'Absorbance Data'!W3302-Calculations!T$1","v":0},{"$f":"'Absorbance Data'!X3302-Calculations!U$1","v":0},{"$f":"'Absorbance Data'!Y3302-Calculations!V$1","v":0},{"$f":"'Absorbance Data'!Z3302-Calculations!W$1","v":0}]
[{"$f":"'Absorbance Data'!D3303","v":613.243408203125},{"$f":"'Absorbance Data'!E3303-Calculations!B$1","v":0},{"$f":"'Absorbance Data'!F3303-Calculations!C$1","v":0},{"$f":"'Absorbance Data'!G3303-Calculations!D$1","v":0},{"$f":"'Absorbance Data'!H3303-Calculations!E$1","v":0},{"$f":"'Absorbance Data'!I3303-Calculations!F$1","v":0},{"$f":"'Absorbance Data'!J3303-Calculations!G$1","v":0},{"$f":"'Absorbance Data'!K3303-Calculations!H$1","v":0},{"$f":"'Absorbance Data'!L3303-Calculations!I$1","v":0},{"$f":"'Absorbance Data'!M3303-Calculations!J$1","v":0},{"$f":"'Absorbance Data'!N3303-Calculations!K$1","v":0},{"$f":"'Absorbance Data'!O3303-Calculations!L$1","v":0},{"$f":"'Absorbance Data'!P3303-Calculations!M$1","v":0},{"$f":"'Absorbance Data'!Q3303-Calculations!N$1","v":0},{"$f":"'Absorbance Data'!R3303-Calculations!O$1","v":0},{"$f":"'Absorbance Data'!S3303-Calculations!P$1","v":0},{"$f":"'Absorbance Data'!T3303-Calculations!Q$1","v":0},{"$f":"'Absorbance Data'!U3303-Calculations!R$1","v":0},{"$f":"'Absorbance Data'!V3303-Calculations!S$1","v":0},{"$f":"'Absorbance Data'!W3303-Calculations!T$1","v":0},{"$f":"'Absorbance Data'!X3303-Calculations!U$1","v":0},{"$f":"'Absorbance Data'!Y3303-Calculations!V$1","v":0},{"$f":"'Absorbance Data'!Z3303-Calculations!W$1","v":0}]
[{"$f":"'Absorbance Data'!D3304","v":613.56219482421875},{"$f":"'Absorbance Data'!E3304-Calculations!B$1","v":0},{"$f":"'Absorbance Data'!F3304-Calculations!C$1","v":0},{"$f":"'Absorbance Data'!G3304-Calculations!D$1","v":0},{"$f":"'Absorbance Data'!H3304-Calculations!E$1","v":0},{"$f":"'Absorbance Data'!I3304-Calculations!F$1","v":0},{"$f":"'Absorbance Data'!J3304-Calculations!G$1","v":0},{"$f":"'Absorbance Data'!K3304-Calculations!H$1","v":0},{"$f":"'Absorbance Data'!L3304-Calculations!I$1","v":0},{"$f":"'Absorbance Data'!M3304-Calculations!J$1","v":0},{"$f":"'Absorbance Data'!N3304-Calculations!K$1","v":0},{"$f":"'Absorbance Data'!O3304-Calculations!L$1","v":0},{"$f":"'Absorbance Data'!P3304-Calculations!M$1","v":0},{"$f":"'Absorbance Data'!Q3304-Calculations!N$1","v":0},{"$f":"'Absorbance Data'!R3304-Calculations!O$1","v":0},{"$f":"'Absorbance Data'!S3304-Calculations!P$1","v":0},{"$f":"'Absorbance Data'!T3304-Calculations!Q$1","v":0},{"$f":"'Absorbance Data'!U3304-Calculations!R$1","v":0},{"$f":"'Absorbance Data'!V3304-Calculations!S$1","v":0},{"$f":"'Absorbance Data'!W3304-Calculations!T$1","v":0},{"$f":"'Absorbance Data'!X3304-Calculations!U$1","v":0},{"$f":"'Absorbance Data'!Y3304-Calculations!V$1","v":0},{"$f":"'Absorbance Data'!Z3304-Calculations!W$1","v":0}]
[{"$f":"'Absorbance Data'!D3305","v":613.88104248046875},{"$f":"'Absorbance Data'!E3305-Calculations!B$1","v":0},{"$f":"'Absorbance Data'!F3305-Calculations!C$1","v":0},{"$f":"'Absorbance Data'!G3305-Calculations!D$1","v":0},{"$f":"'Absorbance Data'!H3305-Calculations!E$1","v":0},{"$f":"'Absorbance Data'!I3305-Calculations!F$1","v":0},{"$f":"'Absorbance Data'!J3305-Calculations!G$1","v":0},{"$f":"'Absorbance Data'!K3305-Calculations!H$1","v":0},{"$f":"'Absorbance Data'!L3305-Calculations!I$1","v":0},{"$f":"'Absorbance Data'!M3305-Calculations!J$1","v":0},{"$f":"'Absorbance Data'!N3305-Calculations!K$1","v":0},{"$f":"'Absorbance Data'!O3305-Calculations!L$1","v":0},{"$f":"'Absorbance Data'!P3305-Calculations!M$1","v":0},{"$f":"'Absorbance Data'!Q3305-Calculations!N$1","v":0},{"$f":"'Absorbance Data'!R3305-Calculations!O$1","v":0},{"$f":"'Absorbance Data'!S3305-Calculations!P$1","v":0},{"$f":"'Absorbance Data'!T3305-Calculations!Q$1","v":0},{"$f":"'Absorbance Data'!U3305-Calculations!R$1","v":0},{"$f":"'Absorbance Data'!V3305-Calculations!S$1","v":0},{"$f":"'Absorbance Data'!W3305-Calculations!T$1","v":0},{"$f":"'Absorbance Data'!X3305-Calculations!U$1","v":0},{"$f":"'Absorbance Data'!Y3305-Calculations!V$1","v":0},{"$f":"'Absorbance Data'!Z3305-Calculations!W$1","v":0}]
[{"$f":"'Absorbance Data'!D3306","v":614.1998291015625},{"$f":"'Absorbance Data'!E3306-Calculations!B$1","v":0},{"$f":"'Absorbance Data'!F3306-Calculations!C$1","v":0},{"$f":"'Absorbance Data'!G3306-Calculations!D$1","v":0},{"$f":"'Absorbance Data'!H3306-Calculations!E$1","v":0},{"$f":"'Absorbance Data'!I3306-Calculations!F$1","v":0},{"$f":"'Absorbance Data'!J3306-Calculations!G$1","v":0},{"$f":"'Absorbance Data'!K3306-Calculations!H$1","v":0},{"$f":"'Absorbance Data'!L3306-Calculations!I$1","v":0},{"$f":"'Absorbance Data'!M3306-Calculations!J$1","v":0},{"$f":"'Absorbance Data'!N3306-Calculations!K$1","v":0},{"$f":"'Absorbance Data'!O3306-Calculations!L$1","v":0},{"$f":"'Absorbance Data'!P3306-Calculations!M$1","v":0},{"$f":"'Absorbance Data'!Q3306-Calculations!N$1","v":0},{"$f":"'Absorbance Data'!R3306-Calculations!O$1","v":0},{"$f":"'Absorbance Data'!S3306-Calculations!P$1","v":0},{"$f":"'Absorbance Data'!T3306-Calculations!Q$1","v":0},{"$f":"'Absorbance Data'!U3306-Calculations!R$1","v":0},{"$f":"'Absorbance Data'!V3306-Calculations!S$1","v":0},{"$f":"'Absorbance Data'!W3306-Calculations!T$1","v":0},{"$f":"'Absorbance Data'!X3306-Calculations!U$1","v":0},{"$f":"'Absorbance Data'!Y3306-Calculations!V$1","v":0},{"$f":"'Absorbance Data'!Z3306-Calculations!W$1","v":0}]
[{"$f":"'Absorbance Data'!D3307","v":614.51849365234375},{"$f":"'Absorbance Data'!E3307-Calculations!B$1","v":0},{"$f":"'Absorbance Data'!F3307-Calculations!C$1","v":0},{"$f":"'Absorbance Data'!G3307-Calculations!D$1","v":0},{"$f":"'Absorbance Data'!H3307-Calculations!E$1","v":0},{"$f":"'Absorbance Data'!I3307-Calculations!F$1","v":0},{"$f":"'Absorbance Data'!J3307-Calculations!G$1","v":0},{"$f":"'Absorbance Data'!K3307-Calculations!H$1","v":0},{"$f":"'Absorbance Data'!L3307-Calculations!I$1","v":0},{"$f":"'Absorbance Data'!M3307-Calculations!J$1","v":0},{"$f":"'Absorbance Data'!N3307-Calculations!K$1","v":0},{"$f":"'Absorbance Data'!O3307-Calculations!L$1","v":0},{"$f":"'Absorbance Data'!P3307-Calculations!M$1","v":0},{"$f":"'Absorbance Data'!Q3307-Calculations!N$1","v":0},{"$f":"'Absorbance Data'!R3307-Calculations!O$1","v":0},{"$f":"'Absorbance Data'!S3307-Calculations!P$1","v":0},{"$f":"'Absorbance Data'!T3307-Calculations!Q$1","v":0},{"$f":"'Absorbance Data'!U3307-Calculations!R$1","v":0},{"$f":"'Absorbance Data'!V3307-Calculations!S$1","v":0},{"$f":"'Absorbance Data'!W3307-Calculations!T$1","v":0},{"$f":"'Absorbance Data'!X3307-Calculations!U$1","v":0},{"$f":"'Absorbance Data'!Y3307-Calculations!V$1","v":0},{"$f":"'Absorbance Data'!Z3307-Calculations!W$1","v":0}]
[{"$f":"'Absorbance Data'!D3308","v":614.837158203125},{"$f":"'Absorbance Data'!E3308-Calculations!B$1","v":0},{"$f":"'Absorbance Data'!F3308-Calculations!C$1","v":0},{"$f":"'Absorbance Data'!G3308-Calculations!D$1","v":0},{"$f":"'Absorbance Data'!H3308-Calculations!E$1","v":0},{"$f":"'Absorbance Data'!I3308-Calculations!F$1","v":0},{"$f":"'Absorbance Data'!J3308-Calculations!G$1","v":0},{"$f":"'Absorbance Data'!K3308-Calculations!H$1","v":0},{"$f":"'Absorbance Data'!L3308-Calculations!I$1","v":0},{"$f":"'Absorbance Data'!M3308-Calculations!J$1","v":0},{"$f":"'Absorbance Data'!N3308-Calculations!K$1","v":0},{"$f":"'Absorbance Data'!O3308-Calculations!L$1","v":0},{"$f":"'Absorbance Data'!P3308-Calculations!M$1","v":0},{"$f":"'Absorbance Data'!Q3308-Calculations!N$1","v":0},{"$f":"'Absorbance Data'!R3308-Calculations!O$1","v":0},{"$f":"'Absorbance Data'!S3308-Calculations!P$1","v":0},{"$f":"'Absorbance Data'!T3308-Calculations!Q$1","v":0},{"$f":"'Absorbance Data'!U3308-Calculations!R$1","v":0},{"$f":"'Absorbance Data'!V3308-Calculations!S$1","v":0},{"$f":"'Absorbance Data'!W3308-Calculations!T$1","v":0},{"$f":"'Absorbance Data'!X3308-Calculations!U$1","v":0},{"$f":"'Absorbance Data'!Y3308-Calculations!V$1","v":0},{"$f":"'Absorbance Data'!Z3308-Calculations!W$1","v":0}]
[{"$f":"'Absorbance Data'!D3309","v":615.15582275390625},{"$f":"'Absorbance Data'!E3309-Calculations!B$1","v":0},{"$f":"'Absorbance Data'!F3309-Calculations!C$1","v":0},{"$f":"'Absorbance Data'!G3309-Calculations!D$1","v":0},{"$f":"'Absorbance Data'!H3309-Calculations!E$1","v":0},{"$f":"'Absorbance Data'!I3309-Calculations!F$1","v":0},{"$f":"'Absorbance Data'!J3309-Calculations!G$1","v":0},{"$f":"'Absorbance Data'!K3309-Calculations!H$1","v":0},{"$f":"'Absorbance Data'!L3309-Calculations!I$1","v":0},{"$f":"'Absorbance Data'!M3309-Calculations!J$1","v":0},{"$f":"'Absorbance Data'!N3309-Calculations!K$1","v":0},{"$f":"'Absorbance Data'!O3309-Calculations!L$1","v":0},{"$f":"'Absorbance Data'!P3309-Calculations!M$1","v":0},{"$f":"'Absorbance Data'!Q3309-Calculations!N$1","v":0},{"$f":"'Absorbance Data'!R3309-Calculations!O$1","v":0},{"$f":"'Absorbance Data'!S3309-Calculations!P$1","v":0},{"$f":"'Absorbance Data'!T3309-Calculations!Q$1","v":0},{"$f":"'Absorbance Data'!U3309-Calculations!R$1","v":0},{"$f":"'Absorbance Data'!V3309-Calculations!S$1","v":0},{"$f":"'Absorbance Data'!W3309-Calculations!T$1","v":0},{"$f":"'Absorbance Data'!X3309-Calculations!U$1","v":0},{"$f":"'Absorbance Data'!Y3309-Calculations!V$1","v":0},{"$f":"'Absorbance Data'!Z3309-Calculations!W$1","v":0}]
[{"$f":"'Absorbance Data'!D3310","v":615.47442626953125},{"$f":"'Absorbance Data'!E3310-Calculations!B$1","v":0},{"$f":"'Absorbance Data'!F3310-Calculations!C$1","v":0},{"$f":"'Absorbance Data'!G3310-Calculations!D$1","v":0},{"$f":"'Absorbance Data'!H3310-Calculations!E$1","v":0},{"$f":"'Absorbance Data'!I3310-Calculations!F$1","v":0},{"$f":"'Absorbance Data'!J3310-Calculations!G$1","v":0},{"$f":"'Absorbance Data'!K3310-Calculations!H$1","v":0},{"$f":"'Absorbance Data'!L3310-Calculations!I$1","v":0},{"$f":"'Absorbance Data'!M3310-Calculations!J$1","v":0},{"$f":"'Absorbance Data'!N3310-Calculations!K$1","v":0},{"$f":"'Absorbance Data'!O3310-Calculations!L$1","v":0},{"$f":"'Absorbance Data'!P3310-Calculations!M$1","v":0},{"$f":"'Absorbance Data'!Q3310-Calculations!N$1","v":0},{"$f":"'Absorbance Data'!R3310-Calculations!O$1","v":0},{"$f":"'Absorbance Data'!S3310-Calculations!P$1","v":0},{"$f":"'Absorbance Data'!T3310-Calculations!Q$1","v":0},{"$f":"'Absorbance Data'!U3310-Calculations!R$1","v":0},{"$f":"'Absorbance Data'!V3310-Calculations!S$1","v":0},{"$f":"'Absorbance Data'!W3310-Calculations!T$1","v":0},{"$f":"'Absorbance Data'!X3310-Calculations!U$1","v":0},{"$f":"'Absorbance Data'!Y3310-Calculations!V$1","v":0},{"$f":"'Absorbance Data'!Z3310-Calculations!W$1","v":0}]
[{"$f":"'Absorbance Data'!D3311","v":615.79296875},{"$f":"'Absorbance Data'!E3311-Calculations!B$1","v":0},{"$f":"'Absorbance Data'!F3311-Calculations!C$1","v":0},{"$f":"'Absorbance Data'!G3311-Calculations!D$1","v":0},{"$f":"'Absorbance Data'!H3311-Calculations!E$1","v":0},{"$f":"'Absorbance Data'!I3311-Calculations!F$1","v":0},{"$f":"'Absorbance Data'!J3311-Calculations!G$1","v":0},{"$f":"'Absorbance Data'!K3311-Calculations!H$1","v":0},{"$f":"'Absorbance Data'!L3311-Calculations!I$1","v":0},{"$f":"'Absorbance Data'!M3311-Calculations!J$1","v":0},{"$f":"'Absorbance Data'!N3311-Calculations!K$1","v":0},{"$f":"'Absorbance Data'!O3311-Calculations!L$1","v":0},{"$f":"'Absorbance Data'!P3311-Calculations!M$1","v":0},{"$f":"'Absorbance Data'!Q3311-Calculations!N$1","v":0},{"$f":"'Absorbance Data'!R3311-Calculations!O$1","v":0},{"$f":"'Absorbance Data'!S3311-Calculations!P$1","v":0},{"$f":"'Absorbance Data'!T3311-Calculations!Q$1","v":0},{"$f":"'Absorbance Data'!U3311-Calculations!R$1","v":0},{"$f":"'Absorbance Data'!V3311-Calculations!S$1","v":0},{"$f":"'Absorbance Data'!W3311-Calculations!T$1","v":0},{"$f":"'Absorbance Data'!X3311-Calculations!U$1","v":0},{"$f":"'Absorbance Data'!Y3311-Calculations!V$1","v":0},{"$f":"'Absorbance Data'!Z3311-Calculations!W$1","v":0}]
[{"$f":"'Absorbance Data'!D3312","v":616.1114501953125},{"$f":"'Absorbance Data'!E3312-Calculations!B$1","v":0},{"$f":"'Absorbance Data'!F3312-Calculations!C$1","v":0},{"$f":"'Absorbance Data'!G3312-Calculations!D$1","v":0},{"$f":"'Absorbance Data'!H3312-Calculations!E$1","v":0},{"$f":"'Absorbance Data'!I3312-Calculations!F$1","v":0},{"$f":"'Absorbance Data'!J3312-Calculations!G$1","v":0},{"$f":"'Absorbance Data'!K3312-Calculations!H$1","v":0},{"$f":"'Absorbance Data'!L3312-Calculations!I$1","v":0},{"$f":"'Absorbance Data'!M3312-Calculations!J$1","v":0},{"$f":"'Absorbance Data'!N3312-Calculations!K$1","v":0},{"$f":"'Absorbance Data'!O3312-Calculations!L$1","v":0},{"$f":"'Absorbance Data'!P3312-Calculations!M$1","v":0},{"$f":"'Absorbance Data'!Q3312-Calculations!N$1","v":0},{"$f":"'Absorbance Data'!R3312-Calculations!O$1","v":0},{"$f":"'Absorbance Data'!S3312-Calculations!P$1","v":0},{"$f":"'Absorbance Data'!T3312-Calculations!Q$1","v":0},{"$f":"'Absorbance Data'!U3312-Calculations!R$1","v":0},{"$f":"'Absorbance Data'!V3312-Calculations!S$1","v":0},{"$f":"'Absorbance Data'!W3312-Calculations!T$1","v":0},{"$f":"'Absorbance Data'!X3312-Calculations!U$1","v":0},{"$f":"'Absorbance Data'!Y3312-Calculations!V$1","v":0},{"$f":"'Absorbance Data'!Z3312-Calculations!W$1","v":0}]
[{"$f":"'Absorbance Data'!D3313","v":616.429931640625},{"$f":"'Absorbance Data'!E3313-Calculations!B$1","v":0},{"$f":"'Absorbance Data'!F3313-Calculations!C$1","v":0},{"$f":"'Absorbance Data'!G3313-Calculations!D$1","v":0},{"$f":"'Absorbance Data'!H3313-Calculations!E$1","v":0},{"$f":"'Absorbance Data'!I3313-Calculations!F$1","v":0},{"$f":"'Absorbance Data'!J3313-Calculations!G$1","v":0},{"$f":"'Absorbance Data'!K3313-Calculations!H$1","v":0},{"$f":"'Absorbance Data'!L3313-Calculations!I$1","v":0},{"$f":"'Absorbance Data'!M3313-Calculations!J$1","v":0},{"$f":"'Absorbance Data'!N3313-Calculations!K$1","v":0},{"$f":"'Absorbance Data'!O3313-Calculations!L$1","v":0},{"$f":"'Absorbance Data'!P3313-Calculations!M$1","v":0},{"$f":"'Absorbance Data'!Q3313-Calculations!N$1","v":0},{"$f":"'Absorbance Data'!R3313-Calculations!O$1","v":0},{"$f":"'Absorbance Data'!S3313-Calculations!P$1","v":0},{"$f":"'Absorbance Data'!T3313-Calculations!Q$1","v":0},{"$f":"'Absorbance Data'!U3313-Calculations!R$1","v":0},{"$f":"'Absorbance Data'!V3313-Calculations!S$1","v":0},{"$f":"'Absorbance Data'!W3313-Calculations!T$1","v":0},{"$f":"'Absorbance Data'!X3313-Calculations!U$1","v":0},{"$f":"'Absorbance Data'!Y3313-Calculations!V$1","v":0},{"$f":"'Absorbance Data'!Z3313-Calculations!W$1","v":0}]
[{"$f":"'Absorbance Data'!D3314","v":616.748291015625},{"$f":"'Absorbance Data'!E3314-Calculations!B$1","v":0},{"$f":"'Absorbance Data'!F3314-Calculations!C$1","v":0},{"$f":"'Absorbance Data'!G3314-Calculations!D$1","v":0},{"$f":"'Absorbance Data'!H3314-Calculations!E$1","v":0},{"$f":"'Absorbance Data'!I3314-Calculations!F$1","v":0},{"$f":"'Absorbance Data'!J3314-Calculations!G$1","v":0},{"$f":"'Absorbance Data'!K3314-Calculations!H$1","v":0},{"$f":"'Absorbance Data'!L3314-Calculations!I$1","v":0},{"$f":"'Absorbance Data'!M3314-Calculations!J$1","v":0},{"$f":"'Absorbance Data'!N3314-Calculations!K$1","v":0},{"$f":"'Absorbance Data'!O3314-Calculations!L$1","v":0},{"$f":"'Absorbance Data'!P3314-Calculations!M$1","v":0},{"$f":"'Absorbance Data'!Q3314-Calculations!N$1","v":0},{"$f":"'Absorbance Data'!R3314-Calculations!O$1","v":0},{"$f":"'Absorbance Data'!S3314-Calculations!P$1","v":0},{"$f":"'Absorbance Data'!T3314-Calculations!Q$1","v":0},{"$f":"'Absorbance Data'!U3314-Calculations!R$1","v":0},{"$f":"'Absorbance Data'!V3314-Calculations!S$1","v":0},{"$f":"'Absorbance Data'!W3314-Calculations!T$1","v":0},{"$f":"'Absorbance Data'!X3314-Calculations!U$1","v":0},{"$f":"'Absorbance Data'!Y3314-Calculations!V$1","v":0},{"$f":"'Absorbance Data'!Z3314-Calculations!W$1","v":0}]
[{"$f":"'Absorbance Data'!D3315","v":617.0667724609375},{"$f":"'Absorbance Data'!E3315-Calculations!B$1","v":0},{"$f":"'Absorbance Data'!F3315-Calculations!C$1","v":0},{"$f":"'Absorbance Data'!G3315-Calculations!D$1","v":0},{"$f":"'Absorbance Data'!H3315-Calculations!E$1","v":0},{"$f":"'Absorbance Data'!I3315-Calculations!F$1","v":0},{"$f":"'Absorbance Data'!J3315-Calculations!G$1","v":0},{"$f":"'Absorbance Data'!K3315-Calculations!H$1","v":0},{"$f":"'Absorbance Data'!L3315-Calculations!I$1","v":0},{"$f":"'Absorbance Data'!M3315-Calculations!J$1","v":0},{"$f":"'Absorbance Data'!N3315-Calculations!K$1","v":0},{"$f":"'Absorbance Data'!O3315-Calculations!L$1","v":0},{"$f":"'Absorbance Data'!P3315-Calculations!M$1","v":0},{"$f":"'Absorbance Data'!Q3315-Calculations!N$1","v":0},{"$f":"'Absorbance Data'!R3315-Calculations!O$1","v":0},{"$f":"'Absorbance Data'!S3315-Calculations!P$1","v":0},{"$f":"'Absorbance Data'!T3315-Calculations!Q$1","v":0},{"$f":"'Absorbance Data'!U3315-Calculations!R$1","v":0},{"$f":"'Absorbance Data'!V3315-Calculations!S$1","v":0},{"$f":"'Absorbance Data'!W3315-Calculations!T$1","v":0},{"$f":"'Absorbance Data'!X3315-Calculations!U$1","v":0},{"$f":"'Absorbance Data'!Y3315-Calculations!V$1","v":0},{"$f":"'Absorbance Data'!Z3315-Calculations!W$1","v":0}]
[{"$f":"'Absorbance Data'!D3316","v":617.38507080078125},{"$f":"'Absorbance Data'!E3316-Calculations!B$1","v":0},{"$f":"'Absorbance Data'!F3316-Calculations!C$1","v":0},{"$f":"'Absorbance Data'!G3316-Calculations!D$1","v":0},{"$f":"'Absorbance Data'!H3316-Calculations!E$1","v":0},{"$f":"'Absorbance Data'!I3316-Calculations!F$1","v":0},{"$f":"'Absorbance Data'!J3316-Calculations!G$1","v":0},{"$f":"'Absorbance Data'!K3316-Calculations!H$1","v":0},{"$f":"'Absorbance Data'!L3316-Calculations!I$1","v":0},{"$f":"'Absorbance Data'!M3316-Calculations!J$1","v":0},{"$f":"'Absorbance Data'!N3316-Calculations!K$1","v":0},{"$f":"'Absorbance Data'!O3316-Calculations!L$1","v":0},{"$f":"'Absorbance Data'!P3316-Calculations!M$1","v":0},{"$f":"'Absorbance Data'!Q3316-Calculations!N$1","v":0},{"$f":"'Absorbance Data'!R3316-Calculations!O$1","v":0},{"$f":"'Absorbance Data'!S3316-Calculations!P$1","v":0},{"$f":"'Absorbance Data'!T3316-Calculations!Q$1","v":0},{"$f":"'Absorbance Data'!U3316-Calculations!R$1","v":0},{"$f":"'Absorbance Data'!V3316-Calculations!S$1","v":0},{"$f":"'Absorbance Data'!W3316-Calculations!T$1","v":0},{"$f":"'Absorbance Data'!X3316-Calculations!U$1","v":0},{"$f":"'Absorbance Data'!Y3316-Calculations!V$1","v":0},{"$f":"'Absorbance Data'!Z3316-Calculations!W$1","v":0}]
[{"$f":"'Absorbance Data'!D3317","v":617.70330810546875},{"$f":"'Absorbance Data'!E3317-Calculations!B$1","v":0},{"$f":"'Absorbance Data'!F3317-Calculations!C$1","v":0},{"$f":"'Absorbance Data'!G3317-Calculations!D$1","v":0},{"$f":"'Absorbance Data'!H3317-Calculations!E$1","v":0},{"$f":"'Absorbance Data'!I3317-Calculations!F$1","v":0},{"$f":"'Absorbance Data'!J3317-Calculations!G$1","v":0},{"$f":"'Absorbance Data'!K3317-Calculations!H$1","v":0},{"$f":"'Absorbance Data'!L3317-Calculations!I$1","v":0},{"$f":"'Absorbance Data'!M3317-Calculations!J$1","v":0},{"$f":"'Absorbance Data'!N3317-Calculations!K$1","v":0},{"$f":"'Absorbance Data'!O3317-Calculations!L$1","v":0},{"$f":"'Absorbance Data'!P3317-Calculations!M$1","v":0},{"$f":"'Absorbance Data'!Q3317-Calculations!N$1","v":0},{"$f":"'Absorbance Data'!R3317-Calculations!O$1","v":0},{"$f":"'Absorbance Data'!S3317-Calculations!P$1","v":0},{"$f":"'Absorbance Data'!T3317-Calculations!Q$1","v":0},{"$f":"'Absorbance Data'!U3317-Calculations!R$1","v":0},{"$f":"'Absorbance Data'!V3317-Calculations!S$1","v":0},{"$f":"'Absorbance Data'!W3317-Calculations!T$1","v":0},{"$f":"'Absorbance Data'!X3317-Calculations!U$1","v":0},{"$f":"'Absorbance Data'!Y3317-Calculations!V$1","v":0},{"$f":"'Absorbance Data'!Z3317-Calculations!W$1","v":0}]
[{"$f":"'Absorbance Data'!D3318","v":618.02154541015625},{"$f":"'Absorbance Data'!E3318-Calculations!B$1","v":0},{"$f":"'Absorbance Data'!F3318-Calculations!C$1","v":0},{"$f":"'Absorbance Data'!G3318-Calculations!D$1","v":0},{"$f":"'Absorbance Data'!H3318-Calculations!E$1","v":0},{"$f":"'Absorbance Data'!I3318-Calculations!F$1","v":0},{"$f":"'Absorbance Data'!J3318-Calculations!G$1","v":0},{"$f":"'Absorbance Data'!K3318-Calculations!H$1","v":0},{"$f":"'Absorbance Data'!L3318-Calculations!I$1","v":0},{"$f":"'Absorbance Data'!M3318-Calculations!J$1","v":0},{"$f":"'Absorbance Data'!N3318-Calculations!K$1","v":0},{"$f":"'Absorbance Data'!O3318-Calculations!L$1","v":0},{"$f":"'Absorbance Data'!P3318-Calculations!M$1","v":0},{"$f":"'Absorbance Data'!Q3318-Calculations!N$1","v":0},{"$f":"'Absorbance Data'!R3318-Calculations!O$1","v":0},{"$f":"'Absorbance Data'!S3318-Calculations!P$1","v":0},{"$f":"'Absorbance Data'!T3318-Calculations!Q$1","v":0},{"$f":"'Absorbance Data'!U3318-Calculations!R$1","v":0},{"$f":"'Absorbance Data'!V3318-Calculations!S$1","v":0},{"$f":"'Absorbance Data'!W3318-Calculations!T$1","v":0},{"$f":"'Absorbance Data'!X3318-Calculations!U$1","v":0},{"$f":"'Absorbance Data'!Y3318-Calculations!V$1","v":0},{"$f":"'Absorbance Data'!Z3318-Calculations!W$1","v":0}]
[{"$f":"'Absorbance Data'!D3319","v":618.33984375},{"$f":"'Absorbance Data'!E3319-Calculations!B$1","v":0},{"$f":"'Absorbance Data'!F3319-Calculations!C$1","v":0},{"$f":"'Absorbance Data'!G3319-Calculations!D$1","v":0},{"$f":"'Absorbance Data'!H3319-Calculations!E$1","v":0},{"$f":"'Absorbance Data'!I3319-Calculations!F$1","v":0},{"$f":"'Absorbance Data'!J3319-Calculations!G$1","v":0},{"$f":"'Absorbance Data'!K3319-Calculations!H$1","v":0},{"$f":"'Absorbance Data'!L3319-Calculations!I$1","v":0},{"$f":"'Absorbance Data'!M3319-Calculations!J$1","v":0},{"$f":"'Absorbance Data'!N3319-Calculations!K$1","v":0},{"$f":"'Absorbance Data'!O3319-Calculations!L$1","v":0},{"$f":"'Absorbance Data'!P3319-Calculations!M$1","v":0},{"$f":"'Absorbance Data'!Q3319-Calculations!N$1","v":0},{"$f":"'Absorbance Data'!R3319-Calculations!O$1","v":0},{"$f":"'Absorbance Data'!S3319-Calculations!P$1","v":0},{"$f":"'Absorbance Data'!T3319-Calculations!Q$1","v":0},{"$f":"'Absorbance Data'!U3319-Calculations!R$1","v":0},{"$f":"'Absorbance Data'!V3319-Calculations!S$1","v":0},{"$f":"'Absorbance Data'!W3319-Calculations!T$1","v":0},{"$f":"'Absorbance Data'!X3319-Calculations!U$1","v":0},{"$f":"'Absorbance Data'!Y3319-Calculations!V$1","v":0},{"$f":"'Absorbance Data'!Z3319-Calculations!W$1","v":0}]
[{"$f":"'Absorbance Data'!D3320","v":618.65802001953125},{"$f":"'Absorbance Data'!E3320-Calculations!B$1","v":0},{"$f":"'Absorbance Data'!F3320-Calculations!C$1","v":0},{"$f":"'Absorbance Data'!G3320-Calculations!D$1","v":0},{"$f":"'Absorbance Data'!H3320-Calculations!E$1","v":0},{"$f":"'Absorbance Data'!I3320-Calculations!F$1","v":0},{"$f":"'Absorbance Data'!J3320-Calculations!G$1","v":0},{"$f":"'Absorbance Data'!K3320-Calculations!H$1","v":0},{"$f":"'Absorbance Data'!L3320-Calculations!I$1","v":0},{"$f":"'Absorbance Data'!M3320-Calculations!J$1","v":0},{"$f":"'Absorbance Data'!N3320-Calculations!K$1","v":0},{"$f":"'Absorbance Data'!O3320-Calculations!L$1","v":0},{"$f":"'Absorbance Data'!P3320-Calculations!M$1","v":0},{"$f":"'Absorbance Data'!Q3320-Calculations!N$1","v":0},{"$f":"'Absorbance Data'!R3320-Calculations!O$1","v":0},{"$f":"'Absorbance Data'!S3320-Calculations!P$1","v":0},{"$f":"'Absorbance Data'!T3320-Calculations!Q$1","v":0},{"$f":"'Absorbance Data'!U3320-Calculations!R$1","v":0},{"$f":"'Absorbance Data'!V3320-Calculations!S$1","v":0},{"$f":"'Absorbance Data'!W3320-Calculations!T$1","v":0},{"$f":"'Absorbance Data'!X3320-Calculations!U$1","v":0},{"$f":"'Absorbance Data'!Y3320-Calculations!V$1","v":0},{"$f":"'Absorbance Data'!Z3320-Calculations!W$1","v":0}]
[{"$f":"'Absorbance Data'!D3321","v":618.97613525390625},{"$f":"'Absorbance Data'!E3321-Calculations!B$1","v":0},{"$f":"'Absorbance Data'!F3321-Calculations!C$1","v":0},{"$f":"'Absorbance Data'!G3321-Calculations!D$1","v":0},{"$f":"'Absorbance Data'!H3321-Calculations!E$1","v":0},{"$f":"'Absorbance Data'!I3321-Calculations!F$1","v":0},{"$f":"'Absorbance Data'!J3321-Calculations!G$1","v":0},{"$f":"'Absorbance Data'!K3321-Calculations!H$1","v":0},{"$f":"'Absorbance Data'!L3321-Calculations!I$1","v":0},{"$f":"'Absorbance Data'!M3321-Calculations!J$1","v":0},{"$f":"'Absorbance Data'!N3321-Calculations!K$1","v":0},{"$f":"'Absorbance Data'!O3321-Calculations!L$1","v":0},{"$f":"'Absorbance Data'!P3321-Calculations!M$1","v":0},{"$f":"'Absorbance Data'!Q3321-Calculations!N$1","v":0},{"$f":"'Absorbance Data'!R3321-Calculations!O$1","v":0},{"$f":"'Absorbance Data'!S3321-Calculations!P$1","v":0},{"$f":"'Absorbance Data'!T3321-Calculations!Q$1","v":0},{"$f":"'Absorbance Data'!U3321-Calculations!R$1","v":0},{"$f":"'Absorbance Data'!V3321-Calculations!S$1","v":0},{"$f":"'Absorbance Data'!W3321-Calculations!T$1","v":0},{"$f":"'Absorbance Data'!X3321-Calculations!U$1","v":0},{"$f":"'Absorbance Data'!Y3321-Calculations!V$1","v":0},{"$f":"'Absorbance Data'!Z3321-Calculations!W$1","v":0}]
[{"$f":"'Absorbance Data'!D3322","v":619.294189453125},{"$f":"'Absorbance Data'!E3322-Calculations!B$1","v":0},{"$f":"'Absorbance Data'!F3322-Calculations!C$1","v":0},{"$f":"'Absorbance Data'!G3322-Calculations!D$1","v":0},{"$f":"'Absorbance Data'!H3322-Calculations!E$1","v":0},{"$f":"'Absorbance Data'!I3322-Calculations!F$1","v":0},{"$f":"'Absorbance Data'!J3322-Calculations!G$1","v":0},{"$f":"'Absorbance Data'!K3322-Calculations!H$1","v":0},{"$f":"'Absorbance Data'!L3322-Calculations!I$1","v":0},{"$f":"'Absorbance Data'!M3322-Calculations!J$1","v":0},{"$f":"'Absorbance Data'!N3322-Calculations!K$1","v":0},{"$f":"'Absorbance Data'!O3322-Calculations!L$1","v":0},{"$f":"'Absorbance Data'!P3322-Calculations!M$1","v":0},{"$f":"'Absorbance Data'!Q3322-Calculations!N$1","v":0},{"$f":"'Absorbance Data'!R3322-Calculations!O$1","v":0},{"$f":"'Absorbance Data'!S3322-Calculations!P$1","v":0},{"$f":"'Absorbance Data'!T3322-Calculations!Q$1","v":0},{"$f":"'Absorbance Data'!U3322-Calculations!R$1","v":0},{"$f":"'Absorbance Data'!V3322-Calculations!S$1","v":0},{"$f":"'Absorbance Data'!W3322-Calculations!T$1","v":0},{"$f":"'Absorbance Data'!X3322-Calculations!U$1","v":0},{"$f":"'Absorbance Data'!Y3322-Calculations!V$1","v":0},{"$f":"'Absorbance Data'!Z3322-Calculations!W$1","v":0}]
[{"$f":"'Absorbance Data'!D3323","v":619.6123046875},{"$f":"'Absorbance Data'!E3323-Calculations!B$1","v":0},{"$f":"'Absorbance Data'!F3323-Calculations!C$1","v":0},{"$f":"'Absorbance Data'!G3323-Calculations!D$1","v":0},{"$f":"'Absorbance Data'!H3323-Calculations!E$1","v":0},{"$f":"'Absorbance Data'!I3323-Calculations!F$1","v":0},{"$f":"'Absorbance Data'!J3323-Calculations!G$1","v":0},{"$f":"'Absorbance Data'!K3323-Calculations!H$1","v":0},{"$f":"'Absorbance Data'!L3323-Calculations!I$1","v":0},{"$f":"'Absorbance Data'!M3323-Calculations!J$1","v":0},{"$f":"'Absorbance Data'!N3323-Calculations!K$1","v":0},{"$f":"'Absorbance Data'!O3323-Calculations!L$1","v":0},{"$f":"'Absorbance Data'!P3323-Calculations!M$1","v":0},{"$f":"'Absorbance Data'!Q3323-Calculations!N$1","v":0},{"$f":"'Absorbance Data'!R3323-Calculations!O$1","v":0},{"$f":"'Absorbance Data'!S3323-Calculations!P$1","v":0},{"$f":"'Absorbance Data'!T3323-Calculations!Q$1","v":0},{"$f":"'Absorbance Data'!U3323-Calculations!R$1","v":0},{"$f":"'Absorbance Data'!V3323-Calculations!S$1","v":0},{"$f":"'Absorbance Data'!W3323-Calculations!T$1","v":0},{"$f":"'Absorbance Data'!X3323-Calculations!U$1","v":0},{"$f":"'Absorbance Data'!Y3323-Calculations!V$1","v":0},{"$f":"'Absorbance Data'!Z3323-Calculations!W$1","v":0}]
[{"$f":"'Absorbance Data'!D3324","v":619.9302978515625},{"$f":"'Absorbance Data'!E3324-Calculations!B$1","v":0},{"$f":"'Absorbance Data'!F3324-Calculations!C$1","v":0},{"$f":"'Absorbance Data'!G3324-Calculations!D$1","v":0},{"$f":"'Absorbance Data'!H3324-Calculations!E$1","v":0},{"$f":"'Absorbance Data'!I3324-Calculations!F$1","v":0},{"$f":"'Absorbance Data'!J3324-Calculations!G$1","v":0},{"$f":"'Absorbance Data'!K3324-Calculations!H$1","v":0},{"$f":"'Absorbance Data'!L3324-Calculations!I$1","v":0},{"$f":"'Absorbance Data'!M3324-Calculations!J$1","v":0},{"$f":"'Absorbance Data'!N3324-Calculations!K$1","v":0},{"$f":"'Absorbance Data'!O3324-Calculations!L$1","v":0},{"$f":"'Absorbance Data'!P3324-Calculations!M$1","v":0},{"$f":"'Absorbance Data'!Q3324-Calculations!N$1","v":0},{"$f":"'Absorbance Data'!R3324-Calculations!O$1","v":0},{"$f":"'Absorbance Data'!S3324-Calculations!P$1","v":0},{"$f":"'Absorbance Data'!T3324-Calculations!Q$1","v":0},{"$f":"'Absorbance Data'!U3324-Calculations!R$1","v":0},{"$f":"'Absorbance Data'!V3324-Calculations!S$1","v":0},{"$f":"'Absorbance Data'!W3324-Calculations!T$1","v":0},{"$f":"'Absorbance Data'!X3324-Calculations!U$1","v":0},{"$f":"'Absorbance Data'!Y3324-Calculations!V$1","v":0},{"$f":"'Absorbance Data'!Z3324-Calculations!W$1","v":0}]
[{"$f":"'Absorbance Data'!D3325","v":620.2481689453125},{"$f":"'Absorbance Data'!E3325-Calculations!B$1","v":0},{"$f":"'Absorbance Data'!F3325-Calculations!C$1","v":0},{"$f":"'Absorbance Data'!G3325-Calculations!D$1","v":0},{"$f":"'Absorbance Data'!H3325-Calculations!E$1","v":0},{"$f":"'Absorbance Data'!I3325-Calculations!F$1","v":0},{"$f":"'Absorbance Data'!J3325-Calculations!G$1","v":0},{"$f":"'Absorbance Data'!K3325-Calculations!H$1","v":0},{"$f":"'Absorbance Data'!L3325-Calculations!I$1","v":0},{"$f":"'Absorbance Data'!M3325-Calculations!J$1","v":0},{"$f":"'Absorbance Data'!N3325-Calculations!K$1","v":0},{"$f":"'Absorbance Data'!O3325-Calculations!L$1","v":0},{"$f":"'Absorbance Data'!P3325-Calculations!M$1","v":0},{"$f":"'Absorbance Data'!Q3325-Calculations!N$1","v":0},{"$f":"'Absorbance Data'!R3325-Calculations!O$1","v":0},{"$f":"'Absorbance Data'!S3325-Calculations!P$1","v":0},{"$f":"'Absorbance Data'!T3325-Calculations!Q$1","v":0},{"$f":"'Absorbance Data'!U3325-Calculations!R$1","v":0},{"$f":"'Absorbance Data'!V3325-Calculations!S$1","v":0},{"$f":"'Absorbance Data'!W3325-Calculations!T$1","v":0},{"$f":"'Absorbance Data'!X3325-Calculations!U$1","v":0},{"$f":"'Absorbance Data'!Y3325-Calculations!V$1","v":0},{"$f":"'Absorbance Data'!Z3325-Calculations!W$1","v":0}]
[{"$f":"'Absorbance Data'!D3326","v":620.566162109375},{"$f":"'Absorbance Data'!E3326-Calculations!B$1","v":0},{"$f":"'Absorbance Data'!F3326-Calculations!C$1","v":0},{"$f":"'Absorbance Data'!G3326-Calculations!D$1","v":0},{"$f":"'Absorbance Data'!H3326-Calculations!E$1","v":0},{"$f":"'Absorbance Data'!I3326-Calculations!F$1","v":0},{"$f":"'Absorbance Data'!J3326-Calculations!G$1","v":0},{"$f":"'Absorbance Data'!K3326-Calculations!H$1","v":0},{"$f":"'Absorbance Data'!L3326-Calculations!I$1","v":0},{"$f":"'Absorbance Data'!M3326-Calculations!J$1","v":0},{"$f":"'Absorbance Data'!N3326-Calculations!K$1","v":0},{"$f":"'Absorbance Data'!O3326-Calculations!L$1","v":0},{"$f":"'Absorbance Data'!P3326-Calculations!M$1","v":0},{"$f":"'Absorbance Data'!Q3326-Calculations!N$1","v":0},{"$f":"'Absorbance Data'!R3326-Calculations!O$1","v":0},{"$f":"'Absorbance Data'!S3326-Calculations!P$1","v":0},{"$f":"'Absorbance Data'!T3326-Calculations!Q$1","v":0},{"$f":"'Absorbance Data'!U3326-Calculations!R$1","v":0},{"$f":"'Absorbance Data'!V3326-Calculations!S$1","v":0},{"$f":"'Absorbance Data'!W3326-Calculations!T$1","v":0},{"$f":"'Absorbance Data'!X3326-Calculations!U$1","v":0},{"$f":"'Absorbance Data'!Y3326-Calculations!V$1","v":0},{"$f":"'Absorbance Data'!Z3326-Calculations!W$1","v":0}]
[{"$f":"'Absorbance Data'!D3327","v":620.884033203125},{"$f":"'Absorbance Data'!E3327-Calculations!B$1","v":0},{"$f":"'Absorbance Data'!F3327-Calculations!C$1","v":0},{"$f":"'Absorbance Data'!G3327-Calculations!D$1","v":0},{"$f":"'Absorbance Data'!H3327-Calculations!E$1","v":0},{"$f":"'Absorbance Data'!I3327-Calculations!F$1","v":0},{"$f":"'Absorbance Data'!J3327-Calculations!G$1","v":0},{"$f":"'Absorbance Data'!K3327-Calculations!H$1","v":0},{"$f":"'Absorbance Data'!L3327-Calculations!I$1","v":0},{"$f":"'Absorbance Data'!M3327-Calculations!J$1","v":0},{"$f":"'Absorbance Data'!N3327-Calculations!K$1","v":0},{"$f":"'Absorbance Data'!O3327-Calculations!L$1","v":0},{"$f":"'Absorbance Data'!P3327-Calculations!M$1","v":0},{"$f":"'Absorbance Data'!Q3327-Calculations!N$1","v":0},{"$f":"'Absorbance Data'!R3327-Calculations!O$1","v":0},{"$f":"'Absorbance Data'!S3327-Calculations!P$1","v":0},{"$f":"'Absorbance Data'!T3327-Calculations!Q$1","v":0},{"$f":"'Absorbance Data'!U3327-Calculations!R$1","v":0},{"$f":"'Absorbance Data'!V3327-Calculations!S$1","v":0},{"$f":"'Absorbance Data'!W3327-Calculations!T$1","v":0},{"$f":"'Absorbance Data'!X3327-Calculations!U$1","v":0},{"$f":"'Absorbance Data'!Y3327-Calculations!V$1","v":0},{"$f":"'Absorbance Data'!Z3327-Calculations!W$1","v":0}]
[{"$f":"'Absorbance Data'!D3328","v":621.20184326171875},{"$f":"'Absorbance Data'!E3328-Calculations!B$1","v":0},{"$f":"'Absorbance Data'!F3328-Calculations!C$1","v":0},{"$f":"'Absorbance Data'!G3328-Calculations!D$1","v":0},{"$f":"'Absorbance Data'!H3328-Calculations!E$1","v":0},{"$f":"'Absorbance Data'!I3328-Calculations!F$1","v":0},{"$f":"'Absorbance Data'!J3328-Calculations!G$1","v":0},{"$f":"'Absorbance Data'!K3328-Calculations!H$1","v":0},{"$f":"'Absorbance Data'!L3328-Calculations!I$1","v":0},{"$f":"'Absorbance Data'!M3328-Calculations!J$1","v":0},{"$f":"'Absorbance Data'!N3328-Calculations!K$1","v":0},{"$f":"'Absorbance Data'!O3328-Calculations!L$1","v":0},{"$f":"'Absorbance Data'!P3328-Calculations!M$1","v":0},{"$f":"'Absorbance Data'!Q3328-Calculations!N$1","v":0},{"$f":"'Absorbance Data'!R3328-Calculations!O$1","v":0},{"$f":"'Absorbance Data'!S3328-Calculations!P$1","v":0},{"$f":"'Absorbance Data'!T3328-Calculations!Q$1","v":0},{"$f":"'Absorbance Data'!U3328-Calculations!R$1","v":0},{"$f":"'Absorbance Data'!V3328-Calculations!S$1","v":0},{"$f":"'Absorbance Data'!W3328-Calculations!T$1","v":0},{"$f":"'Absorbance Data'!X3328-Calculations!U$1","v":0},{"$f":"'Absorbance Data'!Y3328-Calculations!V$1","v":0},{"$f":"'Absorbance Data'!Z3328-Calculations!W$1","v":0}]
[{"$f":"'Absorbance Data'!D3329","v":621.5196533203125},{"$f":"'Absorbance Data'!E3329-Calculations!B$1","v":0},{"$f":"'Absorbance Data'!F3329-Calculations!C$1","v":0},{"$f":"'Absorbance Data'!G3329-Calculations!D$1","v":0},{"$f":"'Absorbance Data'!H3329-Calculations!E$1","v":0},{"$f":"'Absorbance Data'!I3329-Calculations!F$1","v":0},{"$f":"'Absorbance Data'!J3329-Calculations!G$1","v":0},{"$f":"'Absorbance Data'!K3329-Calculations!H$1","v":0},{"$f":"'Absorbance Data'!L3329-Calculations!I$1","v":0},{"$f":"'Absorbance Data'!M3329-Calculations!J$1","v":0},{"$f":"'Absorbance Data'!N3329-Calculations!K$1","v":0},{"$f":"'Absorbance Data'!O3329-Calculations!L$1","v":0},{"$f":"'Absorbance Data'!P3329-Calculations!M$1","v":0},{"$f":"'Absorbance Data'!Q3329-Calculations!N$1","v":0},{"$f":"'Absorbance Data'!R3329-Calculations!O$1","v":0},{"$f":"'Absorbance Data'!S3329-Calculations!P$1","v":0},{"$f":"'Absorbance Data'!T3329-Calculations!Q$1","v":0},{"$f":"'Absorbance Data'!U3329-Calculations!R$1","v":0},{"$f":"'Absorbance Data'!V3329-Calculations!S$1","v":0},{"$f":"'Absorbance Data'!W3329-Calculations!T$1","v":0},{"$f":"'Absorbance Data'!X3329-Calculations!U$1","v":0},{"$f":"'Absorbance Data'!Y3329-Calculations!V$1","v":0},{"$f":"'Absorbance Data'!Z3329-Calculations!W$1","v":0}]
[{"$f":"'Absorbance Data'!D3330","v":621.83746337890625},{"$f":"'Absorbance Data'!E3330-Calculations!B$1","v":0},{"$f":"'Absorbance Data'!F3330-Calculations!C$1","v":0},{"$f":"'Absorbance Data'!G3330-Calculations!D$1","v":0},{"$f":"'Absorbance Data'!H3330-Calculations!E$1","v":0},{"$f":"'Absorbance Data'!I3330-Calculations!F$1","v":0},{"$f":"'Absorbance Data'!J3330-Calculations!G$1","v":0},{"$f":"'Absorbance Data'!K3330-Calculations!H$1","v":0},{"$f":"'Absorbance Data'!L3330-Calculations!I$1","v":0},{"$f":"'Absorbance Data'!M3330-Calculations!J$1","v":0},{"$f":"'Absorbance Data'!N3330-Calculations!K$1","v":0},{"$f":"'Absorbance Data'!O3330-Calculations!L$1","v":0},{"$f":"'Absorbance Data'!P3330-Calculations!M$1","v":0},{"$f":"'Absorbance Data'!Q3330-Calculations!N$1","v":0},{"$f":"'Absorbance Data'!R3330-Calculations!O$1","v":0},{"$f":"'Absorbance Data'!S3330-Calculations!P$1","v":0},{"$f":"'Absorbance Data'!T3330-Calculations!Q$1","v":0},{"$f":"'Absorbance Data'!U3330-Calculations!R$1","v":0},{"$f":"'Absorbance Data'!V3330-Calculations!S$1","v":0},{"$f":"'Absorbance Data'!W3330-Calculations!T$1","v":0},{"$f":"'Absorbance Data'!X3330-Calculations!U$1","v":0},{"$f":"'Absorbance Data'!Y3330-Calculations!V$1","v":0},{"$f":"'Absorbance Data'!Z3330-Calculations!W$1","v":0}]
[{"$f":"'Absorbance Data'!D3331","v":622.15521240234375},{"$f":"'Absorbance Data'!E3331-Calculations!B$1","v":0},{"$f":"'Absorbance Data'!F3331-Calculations!C$1","v":0},{"$f":"'Absorbance Data'!G3331-Calculations!D$1","v":0},{"$f":"'Absorbance Data'!H3331-Calculations!E$1","v":0},{"$f":"'Absorbance Data'!I3331-Calculations!F$1","v":0},{"$f":"'Absorbance Data'!J3331-Calculations!G$1","v":0},{"$f":"'Absorbance Data'!K3331-Calculations!H$1","v":0},{"$f":"'Absorbance Data'!L3331-Calculations!I$1","v":0},{"$f":"'Absorbance Data'!M3331-Calculations!J$1","v":0},{"$f":"'Absorbance Data'!N3331-Calculations!K$1","v":0},{"$f":"'Absorbance Data'!O3331-Calculations!L$1","v":0},{"$f":"'Absorbance Data'!P3331-Calculations!M$1","v":0},{"$f":"'Absorbance Data'!Q3331-Calculations!N$1","v":0},{"$f":"'Absorbance Data'!R3331-Calculations!O$1","v":0},{"$f":"'Absorbance Data'!S3331-Calculations!P$1","v":0},{"$f":"'Absorbance Data'!T3331-Calculations!Q$1","v":0},{"$f":"'Absorbance Data'!U3331-Calculations!R$1","v":0},{"$f":"'Absorbance Data'!V3331-Calculations!S$1","v":0},{"$f":"'Absorbance Data'!W3331-Calculations!T$1","v":0},{"$f":"'Absorbance Data'!X3331-Calculations!U$1","v":0},{"$f":"'Absorbance Data'!Y3331-Calculations!V$1","v":0},{"$f":"'Absorbance Data'!Z3331-Calculations!W$1","v":0}]
[{"$f":"'Absorbance Data'!D3332","v":622.47283935546875},{"$f":"'Absorbance Data'!E3332-Calculations!B$1","v":0},{"$f":"'Absorbance Data'!F3332-Calculations!C$1","v":0},{"$f":"'Absorbance Data'!G3332-Calculations!D$1","v":0},{"$f":"'Absorbance Data'!H3332-Calculations!E$1","v":0},{"$f":"'Absorbance Data'!I3332-Calculations!F$1","v":0},{"$f":"'Absorbance Data'!J3332-Calculations!G$1","v":0},{"$f":"'Absorbance Data'!K3332-Calculations!H$1","v":0},{"$f":"'Absorbance Data'!L3332-Calculations!I$1","v":0},{"$f":"'Absorbance Data'!M3332-Calculations!J$1","v":0},{"$f":"'Absorbance Data'!N3332-Calculations!K$1","v":0},{"$f":"'Absorbance Data'!O3332-Calculations!L$1","v":0},{"$f":"'Absorbance Data'!P3332-Calculations!M$1","v":0},{"$f":"'Absorbance Data'!Q3332-Calculations!N$1","v":0},{"$f":"'Absorbance Data'!R3332-Calculations!O$1","v":0},{"$f":"'Absorbance Data'!S3332-Calculations!P$1","v":0},{"$f":"'Absorbance Data'!T3332-Calculations!Q$1","v":0},{"$f":"'Absorbance Data'!U3332-Calculations!R$1","v":0},{"$f":"'Absorbance Data'!V3332-Calculations!S$1","v":0},{"$f":"'Absorbance Data'!W3332-Calculations!T$1","v":0},{"$f":"'Absorbance Data'!X3332-Calculations!U$1","v":0},{"$f":"'Absorbance Data'!Y3332-Calculations!V$1","v":0},{"$f":"'Absorbance Data'!Z3332-Calculations!W$1","v":0}]
[{"$f":"'Absorbance Data'!D3333","v":622.7904052734375},{"$f":"'Absorbance Data'!E3333-Calculations!B$1","v":0},{"$f":"'Absorbance Data'!F3333-Calculations!C$1","v":0},{"$f":"'Absorbance Data'!G3333-Calculations!D$1","v":0},{"$f":"'Absorbance Data'!H3333-Calculations!E$1","v":0},{"$f":"'Absorbance Data'!I3333-Calculations!F$1","v":0},{"$f":"'Absorbance Data'!J3333-Calculations!G$1","v":0},{"$f":"'Absorbance Data'!K3333-Calculations!H$1","v":0},{"$f":"'Absorbance Data'!L3333-Calculations!I$1","v":0},{"$f":"'Absorbance Data'!M3333-Calculations!J$1","v":0},{"$f":"'Absorbance Data'!N3333-Calculations!K$1","v":0},{"$f":"'Absorbance Data'!O3333-Calculations!L$1","v":0},{"$f":"'Absorbance Data'!P3333-Calculations!M$1","v":0},{"$f":"'Absorbance Data'!Q3333-Calculations!N$1","v":0},{"$f":"'Absorbance Data'!R3333-Calculations!O$1","v":0},{"$f":"'Absorbance Data'!S3333-Calculations!P$1","v":0},{"$f":"'Absorbance Data'!T3333-Calculations!Q$1","v":0},{"$f":"'Absorbance Data'!U3333-Calculations!R$1","v":0},{"$f":"'Absorbance Data'!V3333-Calculations!S$1","v":0},{"$f":"'Absorbance Data'!W3333-Calculations!T$1","v":0},{"$f":"'Absorbance Data'!X3333-Calculations!U$1","v":0},{"$f":"'Absorbance Data'!Y3333-Calculations!V$1","v":0},{"$f":"'Absorbance Data'!Z3333-Calculations!W$1","v":0}]
[{"$f":"'Absorbance Data'!D3334","v":623.1080322265625},{"$f":"'Absorbance Data'!E3334-Calculations!B$1","v":0},{"$f":"'Absorbance Data'!F3334-Calculations!C$1","v":0},{"$f":"'Absorbance Data'!G3334-Calculations!D$1","v":0},{"$f":"'Absorbance Data'!H3334-Calculations!E$1","v":0},{"$f":"'Absorbance Data'!I3334-Calculations!F$1","v":0},{"$f":"'Absorbance Data'!J3334-Calculations!G$1","v":0},{"$f":"'Absorbance Data'!K3334-Calculations!H$1","v":0},{"$f":"'Absorbance Data'!L3334-Calculations!I$1","v":0},{"$f":"'Absorbance Data'!M3334-Calculations!J$1","v":0},{"$f":"'Absorbance Data'!N3334-Calculations!K$1","v":0},{"$f":"'Absorbance Data'!O3334-Calculations!L$1","v":0},{"$f":"'Absorbance Data'!P3334-Calculations!M$1","v":0},{"$f":"'Absorbance Data'!Q3334-Calculations!N$1","v":0},{"$f":"'Absorbance Data'!R3334-Calculations!O$1","v":0},{"$f":"'Absorbance Data'!S3334-Calculations!P$1","v":0},{"$f":"'Absorbance Data'!T3334-Calculations!Q$1","v":0},{"$f":"'Absorbance Data'!U3334-Calculations!R$1","v":0},{"$f":"'Absorbance Data'!V3334-Calculations!S$1","v":0},{"$f":"'Absorbance Data'!W3334-Calculations!T$1","v":0},{"$f":"'Absorbance Data'!X3334-Calculations!U$1","v":0},{"$f":"'Absorbance Data'!Y3334-Calculations!V$1","v":0},{"$f":"'Absorbance Data'!Z3334-Calculations!W$1","v":0}]
[{"$f":"'Absorbance Data'!D3335","v":623.4256591796875},{"$f":"'Absorbance Data'!E3335-Calculations!B$1","v":0},{"$f":"'Absorbance Data'!F3335-Calculations!C$1","v":0},{"$f":"'Absorbance Data'!G3335-Calculations!D$1","v":0},{"$f":"'Absorbance Data'!H3335-Calculations!E$1","v":0},{"$f":"'Absorbance Data'!I3335-Calculations!F$1","v":0},{"$f":"'Absorbance Data'!J3335-Calculations!G$1","v":0},{"$f":"'Absorbance Data'!K3335-Calculations!H$1","v":0},{"$f":"'Absorbance Data'!L3335-Calculations!I$1","v":0},{"$f":"'Absorbance Data'!M3335-Calculations!J$1","v":0},{"$f":"'Absorbance Data'!N3335-Calculations!K$1","v":0},{"$f":"'Absorbance Data'!O3335-Calculations!L$1","v":0},{"$f":"'Absorbance Data'!P3335-Calculations!M$1","v":0},{"$f":"'Absorbance Data'!Q3335-Calculations!N$1","v":0},{"$f":"'Absorbance Data'!R3335-Calculations!O$1","v":0},{"$f":"'Absorbance Data'!S3335-Calculations!P$1","v":0},{"$f":"'Absorbance Data'!T3335-Calculations!Q$1","v":0},{"$f":"'Absorbance Data'!U3335-Calculations!R$1","v":0},{"$f":"'Absorbance Data'!V3335-Calculations!S$1","v":0},{"$f":"'Absorbance Data'!W3335-Calculations!T$1","v":0},{"$f":"'Absorbance Data'!X3335-Calculations!U$1","v":0},{"$f":"'Absorbance Data'!Y3335-Calculations!V$1","v":0},{"$f":"'Absorbance Data'!Z3335-Calculations!W$1","v":0}]
[{"$f":"'Absorbance Data'!D3336","v":623.74310302734375},{"$f":"'Absorbance Data'!E3336-Calculations!B$1","v":0},{"$f":"'Absorbance Data'!F3336-Calculations!C$1","v":0},{"$f":"'Absorbance Data'!G3336-Calculations!D$1","v":0},{"$f":"'Absorbance Data'!H3336-Calculations!E$1","v":0},{"$f":"'Absorbance Data'!I3336-Calculations!F$1","v":0},{"$f":"'Absorbance Data'!J3336-Calculations!G$1","v":0},{"$f":"'Absorbance Data'!K3336-Calculations!H$1","v":0},{"$f":"'Absorbance Data'!L3336-Calculations!I$1","v":0},{"$f":"'Absorbance Data'!M3336-Calculations!J$1","v":0},{"$f":"'Absorbance Data'!N3336-Calculations!K$1","v":0},{"$f":"'Absorbance Data'!O3336-Calculations!L$1","v":0},{"$f":"'Absorbance Data'!P3336-Calculations!M$1","v":0},{"$f":"'Absorbance Data'!Q3336-Calculations!N$1","v":0},{"$f":"'Absorbance Data'!R3336-Calculations!O$1","v":0},{"$f":"'Absorbance Data'!S3336-Calculations!P$1","v":0},{"$f":"'Absorbance Data'!T3336-Calculations!Q$1","v":0},{"$f":"'Absorbance Data'!U3336-Calculations!R$1","v":0},{"$f":"'Absorbance Data'!V3336-Calculations!S$1","v":0},{"$f":"'Absorbance Data'!W3336-Calculations!T$1","v":0},{"$f":"'Absorbance Data'!X3336-Calculations!U$1","v":0},{"$f":"'Absorbance Data'!Y3336-Calculations!V$1","v":0},{"$f":"'Absorbance Data'!Z3336-Calculations!W$1","v":0}]
[{"$f":"'Absorbance Data'!D3337","v":624.060546875},{"$f":"'Absorbance Data'!E3337-Calculations!B$1","v":0},{"$f":"'Absorbance Data'!F3337-Calculations!C$1","v":0},{"$f":"'Absorbance Data'!G3337-Calculations!D$1","v":0},{"$f":"'Absorbance Data'!H3337-Calculations!E$1","v":0},{"$f":"'Absorbance Data'!I3337-Calculations!F$1","v":0},{"$f":"'Absorbance Data'!J3337-Calculations!G$1","v":0},{"$f":"'Absorbance Data'!K3337-Calculations!H$1","v":0},{"$f":"'Absorbance Data'!L3337-Calculations!I$1","v":0},{"$f":"'Absorbance Data'!M3337-Calculations!J$1","v":0},{"$f":"'Absorbance Data'!N3337-Calculations!K$1","v":0},{"$f":"'Absorbance Data'!O3337-Calculations!L$1","v":0},{"$f":"'Absorbance Data'!P3337-Calculations!M$1","v":0},{"$f":"'Absorbance Data'!Q3337-Calculations!N$1","v":0},{"$f":"'Absorbance Data'!R3337-Calculations!O$1","v":0},{"$f":"'Absorbance Data'!S3337-Calculations!P$1","v":0},{"$f":"'Absorbance Data'!T3337-Calculations!Q$1","v":0},{"$f":"'Absorbance Data'!U3337-Calculations!R$1","v":0},{"$f":"'Absorbance Data'!V3337-Calculations!S$1","v":0},{"$f":"'Absorbance Data'!W3337-Calculations!T$1","v":0},{"$f":"'Absorbance Data'!X3337-Calculations!U$1","v":0},{"$f":"'Absorbance Data'!Y3337-Calculations!V$1","v":0},{"$f":"'Absorbance Data'!Z3337-Calculations!W$1","v":0}]
[{"$f":"'Absorbance Data'!D3338","v":624.37799072265625},{"$f":"'Absorbance Data'!E3338-Calculations!B$1","v":0},{"$f":"'Absorbance Data'!F3338-Calculations!C$1","v":0},{"$f":"'Absorbance Data'!G3338-Calculations!D$1","v":0},{"$f":"'Absorbance Data'!H3338-Calculations!E$1","v":0},{"$f":"'Absorbance Data'!I3338-Calculations!F$1","v":0},{"$f":"'Absorbance Data'!J3338-Calculations!G$1","v":0},{"$f":"'Absorbance Data'!K3338-Calculations!H$1","v":0},{"$f":"'Absorbance Data'!L3338-Calculations!I$1","v":0},{"$f":"'Absorbance Data'!M3338-Calculations!J$1","v":0},{"$f":"'Absorbance Data'!N3338-Calculations!K$1","v":0},{"$f":"'Absorbance Data'!O3338-Calculations!L$1","v":0},{"$f":"'Absorbance Data'!P3338-Calculations!M$1","v":0},{"$f":"'Absorbance Data'!Q3338-Calculations!N$1","v":0},{"$f":"'Absorbance Data'!R3338-Calculations!O$1","v":0},{"$f":"'Absorbance Data'!S3338-Calculations!P$1","v":0},{"$f":"'Absorbance Data'!T3338-Calculations!Q$1","v":0},{"$f":"'Absorbance Data'!U3338-Calculations!R$1","v":0},{"$f":"'Absorbance Data'!V3338-Calculations!S$1","v":0},{"$f":"'Absorbance Data'!W3338-Calculations!T$1","v":0},{"$f":"'Absorbance Data'!X3338-Calculations!U$1","v":0},{"$f":"'Absorbance Data'!Y3338-Calculations!V$1","v":0},{"$f":"'Absorbance Data'!Z3338-Calculations!W$1","v":0}]
[{"$f":"'Absorbance Data'!D3339","v":624.6954345703125},{"$f":"'Absorbance Data'!E3339-Calculations!B$1","v":0},{"$f":"'Absorbance Data'!F3339-Calculations!C$1","v":0},{"$f":"'Absorbance Data'!G3339-Calculations!D$1","v":0},{"$f":"'Absorbance Data'!H3339-Calculations!E$1","v":0},{"$f":"'Absorbance Data'!I3339-Calculations!F$1","v":0},{"$f":"'Absorbance Data'!J3339-Calculations!G$1","v":0},{"$f":"'Absorbance Data'!K3339-Calculations!H$1","v":0},{"$f":"'Absorbance Data'!L3339-Calculations!I$1","v":0},{"$f":"'Absorbance Data'!M3339-Calculations!J$1","v":0},{"$f":"'Absorbance Data'!N3339-Calculations!K$1","v":0},{"$f":"'Absorbance Data'!O3339-Calculations!L$1","v":0},{"$f":"'Absorbance Data'!P3339-Calculations!M$1","v":0},{"$f":"'Absorbance Data'!Q3339-Calculations!N$1","v":0},{"$f":"'Absorbance Data'!R3339-Calculations!O$1","v":0},{"$f":"'Absorbance Data'!S3339-Calculations!P$1","v":0},{"$f":"'Absorbance Data'!T3339-Calculations!Q$1","v":0},{"$f":"'Absorbance Data'!U3339-Calculations!R$1","v":0},{"$f":"'Absorbance Data'!V3339-Calculations!S$1","v":0},{"$f":"'Absorbance Data'!W3339-Calculations!T$1","v":0},{"$f":"'Absorbance Data'!X3339-Calculations!U$1","v":0},{"$f":"'Absorbance Data'!Y3339-Calculations!V$1","v":0},{"$f":"'Absorbance Data'!Z3339-Calculations!W$1","v":0}]
[{"$f":"'Absorbance Data'!D3340","v":625.01275634765625},{"$f":"'Absorbance Data'!E3340-Calculations!B$1","v":0},{"$f":"'Absorbance Data'!F3340-Calculations!C$1","v":0},{"$f":"'Absorbance Data'!G3340-Calculations!D$1","v":0},{"$f":"'Absorbance Data'!H3340-Calculations!E$1","v":0},{"$f":"'Absorbance Data'!I3340-Calculations!F$1","v":0},{"$f":"'Absorbance Data'!J3340-Calculations!G$1","v":0},{"$f":"'Absorbance Data'!K3340-Calculations!H$1","v":0},{"$f":"'Absorbance Data'!L3340-Calculations!I$1","v":0},{"$f":"'Absorbance Data'!M3340-Calculations!J$1","v":0},{"$f":"'Absorbance Data'!N3340-Calculations!K$1","v":0},{"$f":"'Absorbance Data'!O3340-Calculations!L$1","v":0},{"$f":"'Absorbance Data'!P3340-Calculations!M$1","v":0},{"$f":"'Absorbance Data'!Q3340-Calculations!N$1","v":0},{"$f":"'Absorbance Data'!R3340-Calculations!O$1","v":0},{"$f":"'Absorbance Data'!S3340-Calculations!P$1","v":0},{"$f":"'Absorbance Data'!T3340-Calculations!Q$1","v":0},{"$f":"'Absorbance Data'!U3340-Calculations!R$1","v":0},{"$f":"'Absorbance Data'!V3340-Calculations!S$1","v":0},{"$f":"'Absorbance Data'!W3340-Calculations!T$1","v":0},{"$f":"'Absorbance Data'!X3340-Calculations!U$1","v":0},{"$f":"'Absorbance Data'!Y3340-Calculations!V$1","v":0},{"$f":"'Absorbance Data'!Z3340-Calculations!W$1","v":0}]
[{"$f":"'Absorbance Data'!D3341","v":625.33001708984375},{"$f":"'Absorbance Data'!E3341-Calculations!B$1","v":0},{"$f":"'Absorbance Data'!F3341-Calculations!C$1","v":0},{"$f":"'Absorbance Data'!G3341-Calculations!D$1","v":0},{"$f":"'Absorbance Data'!H3341-Calculations!E$1","v":0},{"$f":"'Absorbance Data'!I3341-Calculations!F$1","v":0},{"$f":"'Absorbance Data'!J3341-Calculations!G$1","v":0},{"$f":"'Absorbance Data'!K3341-Calculations!H$1","v":0},{"$f":"'Absorbance Data'!L3341-Calculations!I$1","v":0},{"$f":"'Absorbance Data'!M3341-Calculations!J$1","v":0},{"$f":"'Absorbance Data'!N3341-Calculations!K$1","v":0},{"$f":"'Absorbance Data'!O3341-Calculations!L$1","v":0},{"$f":"'Absorbance Data'!P3341-Calculations!M$1","v":0},{"$f":"'Absorbance Data'!Q3341-Calculations!N$1","v":0},{"$f":"'Absorbance Data'!R3341-Calculations!O$1","v":0},{"$f":"'Absorbance Data'!S3341-Calculations!P$1","v":0},{"$f":"'Absorbance Data'!T3341-Calculations!Q$1","v":0},{"$f":"'Absorbance Data'!U3341-Calculations!R$1","v":0},{"$f":"'Absorbance Data'!V3341-Calculations!S$1","v":0},{"$f":"'Absorbance Data'!W3341-Calculations!T$1","v":0},{"$f":"'Absorbance Data'!X3341-Calculations!U$1","v":0},{"$f":"'Absorbance Data'!Y3341-Calculations!V$1","v":0},{"$f":"'Absorbance Data'!Z3341-Calculations!W$1","v":0}]
[{"$f":"'Absorbance Data'!D3342","v":625.64727783203125},{"$f":"'Absorbance Data'!E3342-Calculations!B$1","v":0},{"$f":"'Absorbance Data'!F3342-Calculations!C$1","v":0},{"$f":"'Absorbance Data'!G3342-Calculations!D$1","v":0},{"$f":"'Absorbance Data'!H3342-Calculations!E$1","v":0},{"$f":"'Absorbance Data'!I3342-Calculations!F$1","v":0},{"$f":"'Absorbance Data'!J3342-Calculations!G$1","v":0},{"$f":"'Absorbance Data'!K3342-Calculations!H$1","v":0},{"$f":"'Absorbance Data'!L3342-Calculations!I$1","v":0},{"$f":"'Absorbance Data'!M3342-Calculations!J$1","v":0},{"$f":"'Absorbance Data'!N3342-Calculations!K$1","v":0},{"$f":"'Absorbance Data'!O3342-Calculations!L$1","v":0},{"$f":"'Absorbance Data'!P3342-Calculations!M$1","v":0},{"$f":"'Absorbance Data'!Q3342-Calculations!N$1","v":0},{"$f":"'Absorbance Data'!R3342-Calculations!O$1","v":0},{"$f":"'Absorbance Data'!S3342-Calculations!P$1","v":0},{"$f":"'Absorbance Data'!T3342-Calculations!Q$1","v":0},{"$f":"'Absorbance Data'!U3342-Calculations!R$1","v":0},{"$f":"'Absorbance Data'!V3342-Calculations!S$1","v":0},{"$f":"'Absorbance Data'!W3342-Calculations!T$1","v":0},{"$f":"'Absorbance Data'!X3342-Calculations!U$1","v":0},{"$f":"'Absorbance Data'!Y3342-Calculations!V$1","v":0},{"$f":"'Absorbance Data'!Z3342-Calculations!W$1","v":0}]
[{"$f":"'Absorbance Data'!D3343","v":625.96453857421875},{"$f":"'Absorbance Data'!E3343-Calculations!B$1","v":0},{"$f":"'Absorbance Data'!F3343-Calculations!C$1","v":0},{"$f":"'Absorbance Data'!G3343-Calculations!D$1","v":0},{"$f":"'Absorbance Data'!H3343-Calculations!E$1","v":0},{"$f":"'Absorbance Data'!I3343-Calculations!F$1","v":0},{"$f":"'Absorbance Data'!J3343-Calculations!G$1","v":0},{"$f":"'Absorbance Data'!K3343-Calculations!H$1","v":0},{"$f":"'Absorbance Data'!L3343-Calculations!I$1","v":0},{"$f":"'Absorbance Data'!M3343-Calculations!J$1","v":0},{"$f":"'Absorbance Data'!N3343-Calculations!K$1","v":0},{"$f":"'Absorbance Data'!O3343-Calculations!L$1","v":0},{"$f":"'Absorbance Data'!P3343-Calculations!M$1","v":0},{"$f":"'Absorbance Data'!Q3343-Calculations!N$1","v":0},{"$f":"'Absorbance Data'!R3343-Calculations!O$1","v":0},{"$f":"'Absorbance Data'!S3343-Calculations!P$1","v":0},{"$f":"'Absorbance Data'!T3343-Calculations!Q$1","v":0},{"$f":"'Absorbance Data'!U3343-Calculations!R$1","v":0},{"$f":"'Absorbance Data'!V3343-Calculations!S$1","v":0},{"$f":"'Absorbance Data'!W3343-Calculations!T$1","v":0},{"$f":"'Absorbance Data'!X3343-Calculations!U$1","v":0},{"$f":"'Absorbance Data'!Y3343-Calculations!V$1","v":0},{"$f":"'Absorbance Data'!Z3343-Calculations!W$1","v":0}]
[{"$f":"'Absorbance Data'!D3344","v":626.28179931640625},{"$f":"'Absorbance Data'!E3344-Calculations!B$1","v":0},{"$f":"'Absorbance Data'!F3344-Calculations!C$1","v":0},{"$f":"'Absorbance Data'!G3344-Calculations!D$1","v":0},{"$f":"'Absorbance Data'!H3344-Calculations!E$1","v":0},{"$f":"'Absorbance Data'!I3344-Calculations!F$1","v":0},{"$f":"'Absorbance Data'!J3344-Calculations!G$1","v":0},{"$f":"'Absorbance Data'!K3344-Calculations!H$1","v":0},{"$f":"'Absorbance Data'!L3344-Calculations!I$1","v":0},{"$f":"'Absorbance Data'!M3344-Calculations!J$1","v":0},{"$f":"'Absorbance Data'!N3344-Calculations!K$1","v":0},{"$f":"'Absorbance Data'!O3344-Calculations!L$1","v":0},{"$f":"'Absorbance Data'!P3344-Calculations!M$1","v":0},{"$f":"'Absorbance Data'!Q3344-Calculations!N$1","v":0},{"$f":"'Absorbance Data'!R3344-Calculations!O$1","v":0},{"$f":"'Absorbance Data'!S3344-Calculations!P$1","v":0},{"$f":"'Absorbance Data'!T3344-Calculations!Q$1","v":0},{"$f":"'Absorbance Data'!U3344-Calculations!R$1","v":0},{"$f":"'Absorbance Data'!V3344-Calculations!S$1","v":0},{"$f":"'Absorbance Data'!W3344-Calculations!T$1","v":0},{"$f":"'Absorbance Data'!X3344-Calculations!U$1","v":0},{"$f":"'Absorbance Data'!Y3344-Calculations!V$1","v":0},{"$f":"'Absorbance Data'!Z3344-Calculations!W$1","v":0}]
[{"$f":"'Absorbance Data'!D3345","v":626.598876953125},{"$f":"'Absorbance Data'!E3345-Calculations!B$1","v":0},{"$f":"'Absorbance Data'!F3345-Calculations!C$1","v":0},{"$f":"'Absorbance Data'!G3345-Calculations!D$1","v":0},{"$f":"'Absorbance Data'!H3345-Calculations!E$1","v":0},{"$f":"'Absorbance Data'!I3345-Calculations!F$1","v":0},{"$f":"'Absorbance Data'!J3345-Calculations!G$1","v":0},{"$f":"'Absorbance Data'!K3345-Calculations!H$1","v":0},{"$f":"'Absorbance Data'!L3345-Calculations!I$1","v":0},{"$f":"'Absorbance Data'!M3345-Calculations!J$1","v":0},{"$f":"'Absorbance Data'!N3345-Calculations!K$1","v":0},{"$f":"'Absorbance Data'!O3345-Calculations!L$1","v":0},{"$f":"'Absorbance Data'!P3345-Calculations!M$1","v":0},{"$f":"'Absorbance Data'!Q3345-Calculations!N$1","v":0},{"$f":"'Absorbance Data'!R3345-Calculations!O$1","v":0},{"$f":"'Absorbance Data'!S3345-Calculations!P$1","v":0},{"$f":"'Absorbance Data'!T3345-Calculations!Q$1","v":0},{"$f":"'Absorbance Data'!U3345-Calculations!R$1","v":0},{"$f":"'Absorbance Data'!V3345-Calculations!S$1","v":0},{"$f":"'Absorbance Data'!W3345-Calculations!T$1","v":0},{"$f":"'Absorbance Data'!X3345-Calculations!U$1","v":0},{"$f":"'Absorbance Data'!Y3345-Calculations!V$1","v":0},{"$f":"'Absorbance Data'!Z3345-Calculations!W$1","v":0}]
[{"$f":"'Absorbance Data'!D3346","v":626.91595458984375},{"$f":"'Absorbance Data'!E3346-Calculations!B$1","v":0},{"$f":"'Absorbance Data'!F3346-Calculations!C$1","v":0},{"$f":"'Absorbance Data'!G3346-Calculations!D$1","v":0},{"$f":"'Absorbance Data'!H3346-Calculations!E$1","v":0},{"$f":"'Absorbance Data'!I3346-Calculations!F$1","v":0},{"$f":"'Absorbance Data'!J3346-Calculations!G$1","v":0},{"$f":"'Absorbance Data'!K3346-Calculations!H$1","v":0},{"$f":"'Absorbance Data'!L3346-Calculations!I$1","v":0},{"$f":"'Absorbance Data'!M3346-Calculations!J$1","v":0},{"$f":"'Absorbance Data'!N3346-Calculations!K$1","v":0},{"$f":"'Absorbance Data'!O3346-Calculations!L$1","v":0},{"$f":"'Absorbance Data'!P3346-Calculations!M$1","v":0},{"$f":"'Absorbance Data'!Q3346-Calculations!N$1","v":0},{"$f":"'Absorbance Data'!R3346-Calculations!O$1","v":0},{"$f":"'Absorbance Data'!S3346-Calculations!P$1","v":0},{"$f":"'Absorbance Data'!T3346-Calculations!Q$1","v":0},{"$f":"'Absorbance Data'!U3346-Calculations!R$1","v":0},{"$f":"'Absorbance Data'!V3346-Calculations!S$1","v":0},{"$f":"'Absorbance Data'!W3346-Calculations!T$1","v":0},{"$f":"'Absorbance Data'!X3346-Calculations!U$1","v":0},{"$f":"'Absorbance Data'!Y3346-Calculations!V$1","v":0},{"$f":"'Absorbance Data'!Z3346-Calculations!W$1","v":0}]
[{"$f":"'Absorbance Data'!D3347","v":627.2330322265625},{"$f":"'Absorbance Data'!E3347-Calculations!B$1","v":0},{"$f":"'Absorbance Data'!F3347-Calculations!C$1","v":0},{"$f":"'Absorbance Data'!G3347-Calculations!D$1","v":0},{"$f":"'Absorbance Data'!H3347-Calculations!E$1","v":0},{"$f":"'Absorbance Data'!I3347-Calculations!F$1","v":0},{"$f":"'Absorbance Data'!J3347-Calculations!G$1","v":0},{"$f":"'Absorbance Data'!K3347-Calculations!H$1","v":0},{"$f":"'Absorbance Data'!L3347-Calculations!I$1","v":0},{"$f":"'Absorbance Data'!M3347-Calculations!J$1","v":0},{"$f":"'Absorbance Data'!N3347-Calculations!K$1","v":0},{"$f":"'Absorbance Data'!O3347-Calculations!L$1","v":0},{"$f":"'Absorbance Data'!P3347-Calculations!M$1","v":0},{"$f":"'Absorbance Data'!Q3347-Calculations!N$1","v":0},{"$f":"'Absorbance Data'!R3347-Calculations!O$1","v":0},{"$f":"'Absorbance Data'!S3347-Calculations!P$1","v":0},{"$f":"'Absorbance Data'!T3347-Calculations!Q$1","v":0},{"$f":"'Absorbance Data'!U3347-Calculations!R$1","v":0},{"$f":"'Absorbance Data'!V3347-Calculations!S$1","v":0},{"$f":"'Absorbance Data'!W3347-Calculations!T$1","v":0},{"$f":"'Absorbance Data'!X3347-Calculations!U$1","v":0},{"$f":"'Absorbance Data'!Y3347-Calculations!V$1","v":0},{"$f":"'Absorbance Data'!Z3347-Calculations!W$1","v":0}]
[{"$f":"'Absorbance Data'!D3348","v":627.55010986328125},{"$f":"'Absorbance Data'!E3348-Calculations!B$1","v":0},{"$f":"'Absorbance Data'!F3348-Calculations!C$1","v":0},{"$f":"'Absorbance Data'!G3348-Calculations!D$1","v":0},{"$f":"'Absorbance Data'!H3348-Calculations!E$1","v":0},{"$f":"'Absorbance Data'!I3348-Calculations!F$1","v":0},{"$f":"'Absorbance Data'!J3348-Calculations!G$1","v":0},{"$f":"'Absorbance Data'!K3348-Calculations!H$1","v":0},{"$f":"'Absorbance Data'!L3348-Calculations!I$1","v":0},{"$f":"'Absorbance Data'!M3348-Calculations!J$1","v":0},{"$f":"'Absorbance Data'!N3348-Calculations!K$1","v":0},{"$f":"'Absorbance Data'!O3348-Calculations!L$1","v":0},{"$f":"'Absorbance Data'!P3348-Calculations!M$1","v":0},{"$f":"'Absorbance Data'!Q3348-Calculations!N$1","v":0},{"$f":"'Absorbance Data'!R3348-Calculations!O$1","v":0},{"$f":"'Absorbance Data'!S3348-Calculations!P$1","v":0},{"$f":"'Absorbance Data'!T3348-Calculations!Q$1","v":0},{"$f":"'Absorbance Data'!U3348-Calculations!R$1","v":0},{"$f":"'Absorbance Data'!V3348-Calculations!S$1","v":0},{"$f":"'Absorbance Data'!W3348-Calculations!T$1","v":0},{"$f":"'Absorbance Data'!X3348-Calculations!U$1","v":0},{"$f":"'Absorbance Data'!Y3348-Calculations!V$1","v":0},{"$f":"'Absorbance Data'!Z3348-Calculations!W$1","v":0}]
[{"$f":"'Absorbance Data'!D3349","v":627.86700439453125},{"$f":"'Absorbance Data'!E3349-Calculations!B$1","v":0},{"$f":"'Absorbance Data'!F3349-Calculations!C$1","v":0},{"$f":"'Absorbance Data'!G3349-Calculations!D$1","v":0},{"$f":"'Absorbance Data'!H3349-Calculations!E$1","v":0},{"$f":"'Absorbance Data'!I3349-Calculations!F$1","v":0},{"$f":"'Absorbance Data'!J3349-Calculations!G$1","v":0},{"$f":"'Absorbance Data'!K3349-Calculations!H$1","v":0},{"$f":"'Absorbance Data'!L3349-Calculations!I$1","v":0},{"$f":"'Absorbance Data'!M3349-Calculations!J$1","v":0},{"$f":"'Absorbance Data'!N3349-Calculations!K$1","v":0},{"$f":"'Absorbance Data'!O3349-Calculations!L$1","v":0},{"$f":"'Absorbance Data'!P3349-Calculations!M$1","v":0},{"$f":"'Absorbance Data'!Q3349-Calculations!N$1","v":0},{"$f":"'Absorbance Data'!R3349-Calculations!O$1","v":0},{"$f":"'Absorbance Data'!S3349-Calculations!P$1","v":0},{"$f":"'Absorbance Data'!T3349-Calculations!Q$1","v":0},{"$f":"'Absorbance Data'!U3349-Calculations!R$1","v":0},{"$f":"'Absorbance Data'!V3349-Calculations!S$1","v":0},{"$f":"'Absorbance Data'!W3349-Calculations!T$1","v":0},{"$f":"'Absorbance Data'!X3349-Calculations!U$1","v":0},{"$f":"'Absorbance Data'!Y3349-Calculations!V$1","v":0},{"$f":"'Absorbance Data'!Z3349-Calculations!W$1","v":0}]
[{"$f":"'Absorbance Data'!D3350","v":628.18389892578125},{"$f":"'Absorbance Data'!E3350-Calculations!B$1","v":0},{"$f":"'Absorbance Data'!F3350-Calculations!C$1","v":0},{"$f":"'Absorbance Data'!G3350-Calculations!D$1","v":0},{"$f":"'Absorbance Data'!H3350-Calculations!E$1","v":0},{"$f":"'Absorbance Data'!I3350-Calculations!F$1","v":0},{"$f":"'Absorbance Data'!J3350-Calculations!G$1","v":0},{"$f":"'Absorbance Data'!K3350-Calculations!H$1","v":0},{"$f":"'Absorbance Data'!L3350-Calculations!I$1","v":0},{"$f":"'Absorbance Data'!M3350-Calculations!J$1","v":0},{"$f":"'Absorbance Data'!N3350-Calculations!K$1","v":0},{"$f":"'Absorbance Data'!O3350-Calculations!L$1","v":0},{"$f":"'Absorbance Data'!P3350-Calculations!M$1","v":0},{"$f":"'Absorbance Data'!Q3350-Calculations!N$1","v":0},{"$f":"'Absorbance Data'!R3350-Calculations!O$1","v":0},{"$f":"'Absorbance Data'!S3350-Calculations!P$1","v":0},{"$f":"'Absorbance Data'!T3350-Calculations!Q$1","v":0},{"$f":"'Absorbance Data'!U3350-Calculations!R$1","v":0},{"$f":"'Absorbance Data'!V3350-Calculations!S$1","v":0},{"$f":"'Absorbance Data'!W3350-Calculations!T$1","v":0},{"$f":"'Absorbance Data'!X3350-Calculations!U$1","v":0},{"$f":"'Absorbance Data'!Y3350-Calculations!V$1","v":0},{"$f":"'Absorbance Data'!Z3350-Calculations!W$1","v":0}]
[{"$f":"'Absorbance Data'!D3351","v":628.50079345703125},{"$f":"'Absorbance Data'!E3351-Calculations!B$1","v":0},{"$f":"'Absorbance Data'!F3351-Calculations!C$1","v":0},{"$f":"'Absorbance Data'!G3351-Calculations!D$1","v":0},{"$f":"'Absorbance Data'!H3351-Calculations!E$1","v":0},{"$f":"'Absorbance Data'!I3351-Calculations!F$1","v":0},{"$f":"'Absorbance Data'!J3351-Calculations!G$1","v":0},{"$f":"'Absorbance Data'!K3351-Calculations!H$1","v":0},{"$f":"'Absorbance Data'!L3351-Calculations!I$1","v":0},{"$f":"'Absorbance Data'!M3351-Calculations!J$1","v":0},{"$f":"'Absorbance Data'!N3351-Calculations!K$1","v":0},{"$f":"'Absorbance Data'!O3351-Calculations!L$1","v":0},{"$f":"'Absorbance Data'!P3351-Calculations!M$1","v":0},{"$f":"'Absorbance Data'!Q3351-Calculations!N$1","v":0},{"$f":"'Absorbance Data'!R3351-Calculations!O$1","v":0},{"$f":"'Absorbance Data'!S3351-Calculations!P$1","v":0},{"$f":"'Absorbance Data'!T3351-Calculations!Q$1","v":0},{"$f":"'Absorbance Data'!U3351-Calculations!R$1","v":0},{"$f":"'Absorbance Data'!V3351-Calculations!S$1","v":0},{"$f":"'Absorbance Data'!W3351-Calculations!T$1","v":0},{"$f":"'Absorbance Data'!X3351-Calculations!U$1","v":0},{"$f":"'Absorbance Data'!Y3351-Calculations!V$1","v":0},{"$f":"'Absorbance Data'!Z3351-Calculations!W$1","v":0}]
[{"$f":"'Absorbance Data'!D3352","v":628.81768798828125},{"$f":"'Absorbance Data'!E3352-Calculations!B$1","v":0},{"$f":"'Absorbance Data'!F3352-Calculations!C$1","v":0},{"$f":"'Absorbance Data'!G3352-Calculations!D$1","v":0},{"$f":"'Absorbance Data'!H3352-Calculations!E$1","v":0},{"$f":"'Absorbance Data'!I3352-Calculations!F$1","v":0},{"$f":"'Absorbance Data'!J3352-Calculations!G$1","v":0},{"$f":"'Absorbance Data'!K3352-Calculations!H$1","v":0},{"$f":"'Absorbance Data'!L3352-Calculations!I$1","v":0},{"$f":"'Absorbance Data'!M3352-Calculations!J$1","v":0},{"$f":"'Absorbance Data'!N3352-Calculations!K$1","v":0},{"$f":"'Absorbance Data'!O3352-Calculations!L$1","v":0},{"$f":"'Absorbance Data'!P3352-Calculations!M$1","v":0},{"$f":"'Absorbance Data'!Q3352-Calculations!N$1","v":0},{"$f":"'Absorbance Data'!R3352-Calculations!O$1","v":0},{"$f":"'Absorbance Data'!S3352-Calculations!P$1","v":0},{"$f":"'Absorbance Data'!T3352-Calculations!Q$1","v":0},{"$f":"'Absorbance Data'!U3352-Calculations!R$1","v":0},{"$f":"'Absorbance Data'!V3352-Calculations!S$1","v":0},{"$f":"'Absorbance Data'!W3352-Calculations!T$1","v":0},{"$f":"'Absorbance Data'!X3352-Calculations!U$1","v":0},{"$f":"'Absorbance Data'!Y3352-Calculations!V$1","v":0},{"$f":"'Absorbance Data'!Z3352-Calculations!W$1","v":0}]
[{"$f":"'Absorbance Data'!D3353","v":629.134521484375},{"$f":"'Absorbance Data'!E3353-Calculations!B$1","v":0},{"$f":"'Absorbance Data'!F3353-Calculations!C$1","v":0},{"$f":"'Absorbance Data'!G3353-Calculations!D$1","v":0},{"$f":"'Absorbance Data'!H3353-Calculations!E$1","v":0},{"$f":"'Absorbance Data'!I3353-Calculations!F$1","v":0},{"$f":"'Absorbance Data'!J3353-Calculations!G$1","v":0},{"$f":"'Absorbance Data'!K3353-Calculations!H$1","v":0},{"$f":"'Absorbance Data'!L3353-Calculations!I$1","v":0},{"$f":"'Absorbance Data'!M3353-Calculations!J$1","v":0},{"$f":"'Absorbance Data'!N3353-Calculations!K$1","v":0},{"$f":"'Absorbance Data'!O3353-Calculations!L$1","v":0},{"$f":"'Absorbance Data'!P3353-Calculations!M$1","v":0},{"$f":"'Absorbance Data'!Q3353-Calculations!N$1","v":0},{"$f":"'Absorbance Data'!R3353-Calculations!O$1","v":0},{"$f":"'Absorbance Data'!S3353-Calculations!P$1","v":0},{"$f":"'Absorbance Data'!T3353-Calculations!Q$1","v":0},{"$f":"'Absorbance Data'!U3353-Calculations!R$1","v":0},{"$f":"'Absorbance Data'!V3353-Calculations!S$1","v":0},{"$f":"'Absorbance Data'!W3353-Calculations!T$1","v":0},{"$f":"'Absorbance Data'!X3353-Calculations!U$1","v":0},{"$f":"'Absorbance Data'!Y3353-Calculations!V$1","v":0},{"$f":"'Absorbance Data'!Z3353-Calculations!W$1","v":0}]
[{"$f":"'Absorbance Data'!D3354","v":629.45123291015625},{"$f":"'Absorbance Data'!E3354-Calculations!B$1","v":0},{"$f":"'Absorbance Data'!F3354-Calculations!C$1","v":0},{"$f":"'Absorbance Data'!G3354-Calculations!D$1","v":0},{"$f":"'Absorbance Data'!H3354-Calculations!E$1","v":0},{"$f":"'Absorbance Data'!I3354-Calculations!F$1","v":0},{"$f":"'Absorbance Data'!J3354-Calculations!G$1","v":0},{"$f":"'Absorbance Data'!K3354-Calculations!H$1","v":0},{"$f":"'Absorbance Data'!L3354-Calculations!I$1","v":0},{"$f":"'Absorbance Data'!M3354-Calculations!J$1","v":0},{"$f":"'Absorbance Data'!N3354-Calculations!K$1","v":0},{"$f":"'Absorbance Data'!O3354-Calculations!L$1","v":0},{"$f":"'Absorbance Data'!P3354-Calculations!M$1","v":0},{"$f":"'Absorbance Data'!Q3354-Calculations!N$1","v":0},{"$f":"'Absorbance Data'!R3354-Calculations!O$1","v":0},{"$f":"'Absorbance Data'!S3354-Calculations!P$1","v":0},{"$f":"'Absorbance Data'!T3354-Calculations!Q$1","v":0},{"$f":"'Absorbance Data'!U3354-Calculations!R$1","v":0},{"$f":"'Absorbance Data'!V3354-Calculations!S$1","v":0},{"$f":"'Absorbance Data'!W3354-Calculations!T$1","v":0},{"$f":"'Absorbance Data'!X3354-Calculations!U$1","v":0},{"$f":"'Absorbance Data'!Y3354-Calculations!V$1","v":0},{"$f":"'Absorbance Data'!Z3354-Calculations!W$1","v":0}]
[{"$f":"'Absorbance Data'!D3355","v":629.76800537109375},{"$f":"'Absorbance Data'!E3355-Calculations!B$1","v":0},{"$f":"'Absorbance Data'!F3355-Calculations!C$1","v":0},{"$f":"'Absorbance Data'!G3355-Calculations!D$1","v":0},{"$f":"'Absorbance Data'!H3355-Calculations!E$1","v":0},{"$f":"'Absorbance Data'!I3355-Calculations!F$1","v":0},{"$f":"'Absorbance Data'!J3355-Calculations!G$1","v":0},{"$f":"'Absorbance Data'!K3355-Calculations!H$1","v":0},{"$f":"'Absorbance Data'!L3355-Calculations!I$1","v":0},{"$f":"'Absorbance Data'!M3355-Calculations!J$1","v":0},{"$f":"'Absorbance Data'!N3355-Calculations!K$1","v":0},{"$f":"'Absorbance Data'!O3355-Calculations!L$1","v":0},{"$f":"'Absorbance Data'!P3355-Calculations!M$1","v":0},{"$f":"'Absorbance Data'!Q3355-Calculations!N$1","v":0},{"$f":"'Absorbance Data'!R3355-Calculations!O$1","v":0},{"$f":"'Absorbance Data'!S3355-Calculations!P$1","v":0},{"$f":"'Absorbance Data'!T3355-Calculations!Q$1","v":0},{"$f":"'Absorbance Data'!U3355-Calculations!R$1","v":0},{"$f":"'Absorbance Data'!V3355-Calculations!S$1","v":0},{"$f":"'Absorbance Data'!W3355-Calculations!T$1","v":0},{"$f":"'Absorbance Data'!X3355-Calculations!U$1","v":0},{"$f":"'Absorbance Data'!Y3355-Calculations!V$1","v":0},{"$f":"'Absorbance Data'!Z3355-Calculations!W$1","v":0}]
[{"$f":"'Absorbance Data'!D3356","v":630.08465576171875},{"$f":"'Absorbance Data'!E3356-Calculations!B$1","v":0},{"$f":"'Absorbance Data'!F3356-Calculations!C$1","v":0},{"$f":"'Absorbance Data'!G3356-Calculations!D$1","v":0},{"$f":"'Absorbance Data'!H3356-Calculations!E$1","v":0},{"$f":"'Absorbance Data'!I3356-Calculations!F$1","v":0},{"$f":"'Absorbance Data'!J3356-Calculations!G$1","v":0},{"$f":"'Absorbance Data'!K3356-Calculations!H$1","v":0},{"$f":"'Absorbance Data'!L3356-Calculations!I$1","v":0},{"$f":"'Absorbance Data'!M3356-Calculations!J$1","v":0},{"$f":"'Absorbance Data'!N3356-Calculations!K$1","v":0},{"$f":"'Absorbance Data'!O3356-Calculations!L$1","v":0},{"$f":"'Absorbance Data'!P3356-Calculations!M$1","v":0},{"$f":"'Absorbance Data'!Q3356-Calculations!N$1","v":0},{"$f":"'Absorbance Data'!R3356-Calculations!O$1","v":0},{"$f":"'Absorbance Data'!S3356-Calculations!P$1","v":0},{"$f":"'Absorbance Data'!T3356-Calculations!Q$1","v":0},{"$f":"'Absorbance Data'!U3356-Calculations!R$1","v":0},{"$f":"'Absorbance Data'!V3356-Calculations!S$1","v":0},{"$f":"'Absorbance Data'!W3356-Calculations!T$1","v":0},{"$f":"'Absorbance Data'!X3356-Calculations!U$1","v":0},{"$f":"'Absorbance Data'!Y3356-Calculations!V$1","v":0},{"$f":"'Absorbance Data'!Z3356-Calculations!W$1","v":0}]
[{"$f":"'Absorbance Data'!D3357","v":630.40130615234375},{"$f":"'Absorbance Data'!E3357-Calculations!B$1","v":0},{"$f":"'Absorbance Data'!F3357-Calculations!C$1","v":0},{"$f":"'Absorbance Data'!G3357-Calculations!D$1","v":0},{"$f":"'Absorbance Data'!H3357-Calculations!E$1","v":0},{"$f":"'Absorbance Data'!I3357-Calculations!F$1","v":0},{"$f":"'Absorbance Data'!J3357-Calculations!G$1","v":0},{"$f":"'Absorbance Data'!K3357-Calculations!H$1","v":0},{"$f":"'Absorbance Data'!L3357-Calculations!I$1","v":0},{"$f":"'Absorbance Data'!M3357-Calculations!J$1","v":0},{"$f":"'Absorbance Data'!N3357-Calculations!K$1","v":0},{"$f":"'Absorbance Data'!O3357-Calculations!L$1","v":0},{"$f":"'Absorbance Data'!P3357-Calculations!M$1","v":0},{"$f":"'Absorbance Data'!Q3357-Calculations!N$1","v":0},{"$f":"'Absorbance Data'!R3357-Calculations!O$1","v":0},{"$f":"'Absorbance Data'!S3357-Calculations!P$1","v":0},{"$f":"'Absorbance Data'!T3357-Calculations!Q$1","v":0},{"$f":"'Absorbance Data'!U3357-Calculations!R$1","v":0},{"$f":"'Absorbance Data'!V3357-Calculations!S$1","v":0},{"$f":"'Absorbance Data'!W3357-Calculations!T$1","v":0},{"$f":"'Absorbance Data'!X3357-Calculations!U$1","v":0},{"$f":"'Absorbance Data'!Y3357-Calculations!V$1","v":0},{"$f":"'Absorbance Data'!Z3357-Calculations!W$1","v":0}]
[{"$f":"'Absorbance Data'!D3358","v":630.71783447265625},{"$f":"'Absorbance Data'!E3358-Calculations!B$1","v":0},{"$f":"'Absorbance Data'!F3358-Calculations!C$1","v":0},{"$f":"'Absorbance Data'!G3358-Calculations!D$1","v":0},{"$f":"'Absorbance Data'!H3358-Calculations!E$1","v":0},{"$f":"'Absorbance Data'!I3358-Calculations!F$1","v":0},{"$f":"'Absorbance Data'!J3358-Calculations!G$1","v":0},{"$f":"'Absorbance Data'!K3358-Calculations!H$1","v":0},{"$f":"'Absorbance Data'!L3358-Calculations!I$1","v":0},{"$f":"'Absorbance Data'!M3358-Calculations!J$1","v":0},{"$f":"'Absorbance Data'!N3358-Calculations!K$1","v":0},{"$f":"'Absorbance Data'!O3358-Calculations!L$1","v":0},{"$f":"'Absorbance Data'!P3358-Calculations!M$1","v":0},{"$f":"'Absorbance Data'!Q3358-Calculations!N$1","v":0},{"$f":"'Absorbance Data'!R3358-Calculations!O$1","v":0},{"$f":"'Absorbance Data'!S3358-Calculations!P$1","v":0},{"$f":"'Absorbance Data'!T3358-Calculations!Q$1","v":0},{"$f":"'Absorbance Data'!U3358-Calculations!R$1","v":0},{"$f":"'Absorbance Data'!V3358-Calculations!S$1","v":0},{"$f":"'Absorbance Data'!W3358-Calculations!T$1","v":0},{"$f":"'Absorbance Data'!X3358-Calculations!U$1","v":0},{"$f":"'Absorbance Data'!Y3358-Calculations!V$1","v":0},{"$f":"'Absorbance Data'!Z3358-Calculations!W$1","v":0}]
[{"$f":"'Absorbance Data'!D3359","v":631.03448486328125},{"$f":"'Absorbance Data'!E3359-Calculations!B$1","v":0},{"$f":"'Absorbance Data'!F3359-Calculations!C$1","v":0},{"$f":"'Absorbance Data'!G3359-Calculations!D$1","v":0},{"$f":"'Absorbance Data'!H3359-Calculations!E$1","v":0},{"$f":"'Absorbance Data'!I3359-Calculations!F$1","v":0},{"$f":"'Absorbance Data'!J3359-Calculations!G$1","v":0},{"$f":"'Absorbance Data'!K3359-Calculations!H$1","v":0},{"$f":"'Absorbance Data'!L3359-Calculations!I$1","v":0},{"$f":"'Absorbance Data'!M3359-Calculations!J$1","v":0},{"$f":"'Absorbance Data'!N3359-Calculations!K$1","v":0},{"$f":"'Absorbance Data'!O3359-Calculations!L$1","v":0},{"$f":"'Absorbance Data'!P3359-Calculations!M$1","v":0},{"$f":"'Absorbance Data'!Q3359-Calculations!N$1","v":0},{"$f":"'Absorbance Data'!R3359-Calculations!O$1","v":0},{"$f":"'Absorbance Data'!S3359-Calculations!P$1","v":0},{"$f":"'Absorbance Data'!T3359-Calculations!Q$1","v":0},{"$f":"'Absorbance Data'!U3359-Calculations!R$1","v":0},{"$f":"'Absorbance Data'!V3359-Calculations!S$1","v":0},{"$f":"'Absorbance Data'!W3359-Calculations!T$1","v":0},{"$f":"'Absorbance Data'!X3359-Calculations!U$1","v":0},{"$f":"'Absorbance Data'!Y3359-Calculations!V$1","v":0},{"$f":"'Absorbance Data'!Z3359-Calculations!W$1","v":0}]
[{"$f":"'Absorbance Data'!D3360","v":631.3509521484375},{"$f":"'Absorbance Data'!E3360-Calculations!B$1","v":0},{"$f":"'Absorbance Data'!F3360-Calculations!C$1","v":0},{"$f":"'Absorbance Data'!G3360-Calculations!D$1","v":0},{"$f":"'Absorbance Data'!H3360-Calculations!E$1","v":0},{"$f":"'Absorbance Data'!I3360-Calculations!F$1","v":0},{"$f":"'Absorbance Data'!J3360-Calculations!G$1","v":0},{"$f":"'Absorbance Data'!K3360-Calculations!H$1","v":0},{"$f":"'Absorbance Data'!L3360-Calculations!I$1","v":0},{"$f":"'Absorbance Data'!M3360-Calculations!J$1","v":0},{"$f":"'Absorbance Data'!N3360-Calculations!K$1","v":0},{"$f":"'Absorbance Data'!O3360-Calculations!L$1","v":0},{"$f":"'Absorbance Data'!P3360-Calculations!M$1","v":0},{"$f":"'Absorbance Data'!Q3360-Calculations!N$1","v":0},{"$f":"'Absorbance Data'!R3360-Calculations!O$1","v":0},{"$f":"'Absorbance Data'!S3360-Calculations!P$1","v":0},{"$f":"'Absorbance Data'!T3360-Calculations!Q$1","v":0},{"$f":"'Absorbance Data'!U3360-Calculations!R$1","v":0},{"$f":"'Absorbance Data'!V3360-Calculations!S$1","v":0},{"$f":"'Absorbance Data'!W3360-Calculations!T$1","v":0},{"$f":"'Absorbance Data'!X3360-Calculations!U$1","v":0},{"$f":"'Absorbance Data'!Y3360-Calculations!V$1","v":0},{"$f":"'Absorbance Data'!Z3360-Calculations!W$1","v":0}]
[{"$f":"'Absorbance Data'!D3361","v":631.6673583984375},{"$f":"'Absorbance Data'!E3361-Calculations!B$1","v":0},{"$f":"'Absorbance Data'!F3361-Calculations!C$1","v":0},{"$f":"'Absorbance Data'!G3361-Calculations!D$1","v":0},{"$f":"'Absorbance Data'!H3361-Calculations!E$1","v":0},{"$f":"'Absorbance Data'!I3361-Calculations!F$1","v":0},{"$f":"'Absorbance Data'!J3361-Calculations!G$1","v":0},{"$f":"'Absorbance Data'!K3361-Calculations!H$1","v":0},{"$f":"'Absorbance Data'!L3361-Calculations!I$1","v":0},{"$f":"'Absorbance Data'!M3361-Calculations!J$1","v":0},{"$f":"'Absorbance Data'!N3361-Calculations!K$1","v":0},{"$f":"'Absorbance Data'!O3361-Calculations!L$1","v":0},{"$f":"'Absorbance Data'!P3361-Calculations!M$1","v":0},{"$f":"'Absorbance Data'!Q3361-Calculations!N$1","v":0},{"$f":"'Absorbance Data'!R3361-Calculations!O$1","v":0},{"$f":"'Absorbance Data'!S3361-Calculations!P$1","v":0},{"$f":"'Absorbance Data'!T3361-Calculations!Q$1","v":0},{"$f":"'Absorbance Data'!U3361-Calculations!R$1","v":0},{"$f":"'Absorbance Data'!V3361-Calculations!S$1","v":0},{"$f":"'Absorbance Data'!W3361-Calculations!T$1","v":0},{"$f":"'Absorbance Data'!X3361-Calculations!U$1","v":0},{"$f":"'Absorbance Data'!Y3361-Calculations!V$1","v":0},{"$f":"'Absorbance Data'!Z3361-Calculations!W$1","v":0}]
[{"$f":"'Absorbance Data'!D3362","v":631.9837646484375},{"$f":"'Absorbance Data'!E3362-Calculations!B$1","v":0},{"$f":"'Absorbance Data'!F3362-Calculations!C$1","v":0},{"$f":"'Absorbance Data'!G3362-Calculations!D$1","v":0},{"$f":"'Absorbance Data'!H3362-Calculations!E$1","v":0},{"$f":"'Absorbance Data'!I3362-Calculations!F$1","v":0},{"$f":"'Absorbance Data'!J3362-Calculations!G$1","v":0},{"$f":"'Absorbance Data'!K3362-Calculations!H$1","v":0},{"$f":"'Absorbance Data'!L3362-Calculations!I$1","v":0},{"$f":"'Absorbance Data'!M3362-Calculations!J$1","v":0},{"$f":"'Absorbance Data'!N3362-Calculations!K$1","v":0},{"$f":"'Absorbance Data'!O3362-Calculations!L$1","v":0},{"$f":"'Absorbance Data'!P3362-Calculations!M$1","v":0},{"$f":"'Absorbance Data'!Q3362-Calculations!N$1","v":0},{"$f":"'Absorbance Data'!R3362-Calculations!O$1","v":0},{"$f":"'Absorbance Data'!S3362-Calculations!P$1","v":0},{"$f":"'Absorbance Data'!T3362-Calculations!Q$1","v":0},{"$f":"'Absorbance Data'!U3362-Calculations!R$1","v":0},{"$f":"'Absorbance Data'!V3362-Calculations!S$1","v":0},{"$f":"'Absorbance Data'!W3362-Calculations!T$1","v":0},{"$f":"'Absorbance Data'!X3362-Calculations!U$1","v":0},{"$f":"'Absorbance Data'!Y3362-Calculations!V$1","v":0},{"$f":"'Absorbance Data'!Z3362-Calculations!W$1","v":0}]
[{"$f":"'Absorbance Data'!D3363","v":632.30023193359375},{"$f":"'Absorbance Data'!E3363-Calculations!B$1","v":0},{"$f":"'Absorbance Data'!F3363-Calculations!C$1","v":0},{"$f":"'Absorbance Data'!G3363-Calculations!D$1","v":0},{"$f":"'Absorbance Data'!H3363-Calculations!E$1","v":0},{"$f":"'Absorbance Data'!I3363-Calculations!F$1","v":0},{"$f":"'Absorbance Data'!J3363-Calculations!G$1","v":0},{"$f":"'Absorbance Data'!K3363-Calculations!H$1","v":0},{"$f":"'Absorbance Data'!L3363-Calculations!I$1","v":0},{"$f":"'Absorbance Data'!M3363-Calculations!J$1","v":0},{"$f":"'Absorbance Data'!N3363-Calculations!K$1","v":0},{"$f":"'Absorbance Data'!O3363-Calculations!L$1","v":0},{"$f":"'Absorbance Data'!P3363-Calculations!M$1","v":0},{"$f":"'Absorbance Data'!Q3363-Calculations!N$1","v":0},{"$f":"'Absorbance Data'!R3363-Calculations!O$1","v":0},{"$f":"'Absorbance Data'!S3363-Calculations!P$1","v":0},{"$f":"'Absorbance Data'!T3363-Calculations!Q$1","v":0},{"$f":"'Absorbance Data'!U3363-Calculations!R$1","v":0},{"$f":"'Absorbance Data'!V3363-Calculations!S$1","v":0},{"$f":"'Absorbance Data'!W3363-Calculations!T$1","v":0},{"$f":"'Absorbance Data'!X3363-Calculations!U$1","v":0},{"$f":"'Absorbance Data'!Y3363-Calculations!V$1","v":0},{"$f":"'Absorbance Data'!Z3363-Calculations!W$1","v":0}]
[{"$f":"'Absorbance Data'!D3364","v":632.61663818359375},{"$f":"'Absorbance Data'!E3364-Calculations!B$1","v":0},{"$f":"'Absorbance Data'!F3364-Calculations!C$1","v":0},{"$f":"'Absorbance Data'!G3364-Calculations!D$1","v":0},{"$f":"'Absorbance Data'!H3364-Calculations!E$1","v":0},{"$f":"'Absorbance Data'!I3364-Calculations!F$1","v":0},{"$f":"'Absorbance Data'!J3364-Calculations!G$1","v":0},{"$f":"'Absorbance Data'!K3364-Calculations!H$1","v":0},{"$f":"'Absorbance Data'!L3364-Calculations!I$1","v":0},{"$f":"'Absorbance Data'!M3364-Calculations!J$1","v":0},{"$f":"'Absorbance Data'!N3364-Calculations!K$1","v":0},{"$f":"'Absorbance Data'!O3364-Calculations!L$1","v":0},{"$f":"'Absorbance Data'!P3364-Calculations!M$1","v":0},{"$f":"'Absorbance Data'!Q3364-Calculations!N$1","v":0},{"$f":"'Absorbance Data'!R3364-Calculations!O$1","v":0},{"$f":"'Absorbance Data'!S3364-Calculations!P$1","v":0},{"$f":"'Absorbance Data'!T3364-Calculations!Q$1","v":0},{"$f":"'Absorbance Data'!U3364-Calculations!R$1","v":0},{"$f":"'Absorbance Data'!V3364-Calculations!S$1","v":0},{"$f":"'Absorbance Data'!W3364-Calculations!T$1","v":0},{"$f":"'Absorbance Data'!X3364-Calculations!U$1","v":0},{"$f":"'Absorbance Data'!Y3364-Calculations!V$1","v":0},{"$f":"'Absorbance Data'!Z3364-Calculations!W$1","v":0}]
[{"$f":"'Absorbance Data'!D3365","v":632.932861328125},{"$f":"'Absorbance Data'!E3365-Calculations!B$1","v":0},{"$f":"'Absorbance Data'!F3365-Calculations!C$1","v":0},{"$f":"'Absorbance Data'!G3365-Calculations!D$1","v":0},{"$f":"'Absorbance Data'!H3365-Calculations!E$1","v":0},{"$f":"'Absorbance Data'!I3365-Calculations!F$1","v":0},{"$f":"'Absorbance Data'!J3365-Calculations!G$1","v":0},{"$f":"'Absorbance Data'!K3365-Calculations!H$1","v":0},{"$f":"'Absorbance Data'!L3365-Calculations!I$1","v":0},{"$f":"'Absorbance Data'!M3365-Calculations!J$1","v":0},{"$f":"'Absorbance Data'!N3365-Calculations!K$1","v":0},{"$f":"'Absorbance Data'!O3365-Calculations!L$1","v":0},{"$f":"'Absorbance Data'!P3365-Calculations!M$1","v":0},{"$f":"'Absorbance Data'!Q3365-Calculations!N$1","v":0},{"$f":"'Absorbance Data'!R3365-Calculations!O$1","v":0},{"$f":"'Absorbance Data'!S3365-Calculations!P$1","v":0},{"$f":"'Absorbance Data'!T3365-Calculations!Q$1","v":0},{"$f":"'Absorbance Data'!U3365-Calculations!R$1","v":0},{"$f":"'Absorbance Data'!V3365-Calculations!S$1","v":0},{"$f":"'Absorbance Data'!W3365-Calculations!T$1","v":0},{"$f":"'Absorbance Data'!X3365-Calculations!U$1","v":0},{"$f":"'Absorbance Data'!Y3365-Calculations!V$1","v":0},{"$f":"'Absorbance Data'!Z3365-Calculations!W$1","v":0}]
[{"$f":"'Absorbance Data'!D3366","v":633.2491455078125},{"$f":"'Absorbance Data'!E3366-Calculations!B$1","v":0},{"$f":"'Absorbance Data'!F3366-Calculations!C$1","v":0},{"$f":"'Absorbance Data'!G3366-Calculations!D$1","v":0},{"$f":"'Absorbance Data'!H3366-Calculations!E$1","v":0},{"$f":"'Absorbance Data'!I3366-Calculations!F$1","v":0},{"$f":"'Absorbance Data'!J3366-Calculations!G$1","v":0},{"$f":"'Absorbance Data'!K3366-Calculations!H$1","v":0},{"$f":"'Absorbance Data'!L3366-Calculations!I$1","v":0},{"$f":"'Absorbance Data'!M3366-Calculations!J$1","v":0},{"$f":"'Absorbance Data'!N3366-Calculations!K$1","v":0},{"$f":"'Absorbance Data'!O3366-Calculations!L$1","v":0},{"$f":"'Absorbance Data'!P3366-Calculations!M$1","v":0},{"$f":"'Absorbance Data'!Q3366-Calculations!N$1","v":0},{"$f":"'Absorbance Data'!R3366-Calculations!O$1","v":0},{"$f":"'Absorbance Data'!S3366-Calculations!P$1","v":0},{"$f":"'Absorbance Data'!T3366-Calculations!Q$1","v":0},{"$f":"'Absorbance Data'!U3366-Calculations!R$1","v":0},{"$f":"'Absorbance Data'!V3366-Calculations!S$1","v":0},{"$f":"'Absorbance Data'!W3366-Calculations!T$1","v":0},{"$f":"'Absorbance Data'!X3366-Calculations!U$1","v":0},{"$f":"'Absorbance Data'!Y3366-Calculations!V$1","v":0},{"$f":"'Absorbance Data'!Z3366-Calculations!W$1","v":0}]
[{"$f":"'Absorbance Data'!D3367","v":633.56536865234375},{"$f":"'Absorbance Data'!E3367-Calculations!B$1","v":0},{"$f":"'Absorbance Data'!F3367-Calculations!C$1","v":0},{"$f":"'Absorbance Data'!G3367-Calculations!D$1","v":0},{"$f":"'Absorbance Data'!H3367-Calculations!E$1","v":0},{"$f":"'Absorbance Data'!I3367-Calculations!F$1","v":0},{"$f":"'Absorbance Data'!J3367-Calculations!G$1","v":0},{"$f":"'Absorbance Data'!K3367-Calculations!H$1","v":0},{"$f":"'Absorbance Data'!L3367-Calculations!I$1","v":0},{"$f":"'Absorbance Data'!M3367-Calculations!J$1","v":0},{"$f":"'Absorbance Data'!N3367-Calculations!K$1","v":0},{"$f":"'Absorbance Data'!O3367-Calculations!L$1","v":0},{"$f":"'Absorbance Data'!P3367-Calculations!M$1","v":0},{"$f":"'Absorbance Data'!Q3367-Calculations!N$1","v":0},{"$f":"'Absorbance Data'!R3367-Calculations!O$1","v":0},{"$f":"'Absorbance Data'!S3367-Calculations!P$1","v":0},{"$f":"'Absorbance Data'!T3367-Calculations!Q$1","v":0},{"$f":"'Absorbance Data'!U3367-Calculations!R$1","v":0},{"$f":"'Absorbance Data'!V3367-Calculations!S$1","v":0},{"$f":"'Absorbance Data'!W3367-Calculations!T$1","v":0},{"$f":"'Absorbance Data'!X3367-Calculations!U$1","v":0},{"$f":"'Absorbance Data'!Y3367-Calculations!V$1","v":0},{"$f":"'Absorbance Data'!Z3367-Calculations!W$1","v":0}]
[{"$f":"'Absorbance Data'!D3368","v":633.881591796875},{"$f":"'Absorbance Data'!E3368-Calculations!B$1","v":0},{"$f":"'Absorbance Data'!F3368-Calculations!C$1","v":0},{"$f":"'Absorbance Data'!G3368-Calculations!D$1","v":0},{"$f":"'Absorbance Data'!H3368-Calculations!E$1","v":0},{"$f":"'Absorbance Data'!I3368-Calculations!F$1","v":0},{"$f":"'Absorbance Data'!J3368-Calculations!G$1","v":0},{"$f":"'Absorbance Data'!K3368-Calculations!H$1","v":0},{"$f":"'Absorbance Data'!L3368-Calculations!I$1","v":0},{"$f":"'Absorbance Data'!M3368-Calculations!J$1","v":0},{"$f":"'Absorbance Data'!N3368-Calculations!K$1","v":0},{"$f":"'Absorbance Data'!O3368-Calculations!L$1","v":0},{"$f":"'Absorbance Data'!P3368-Calculations!M$1","v":0},{"$f":"'Absorbance Data'!Q3368-Calculations!N$1","v":0},{"$f":"'Absorbance Data'!R3368-Calculations!O$1","v":0},{"$f":"'Absorbance Data'!S3368-Calculations!P$1","v":0},{"$f":"'Absorbance Data'!T3368-Calculations!Q$1","v":0},{"$f":"'Absorbance Data'!U3368-Calculations!R$1","v":0},{"$f":"'Absorbance Data'!V3368-Calculations!S$1","v":0},{"$f":"'Absorbance Data'!W3368-Calculations!T$1","v":0},{"$f":"'Absorbance Data'!X3368-Calculations!U$1","v":0},{"$f":"'Absorbance Data'!Y3368-Calculations!V$1","v":0},{"$f":"'Absorbance Data'!Z3368-Calculations!W$1","v":0}]
[{"$f":"'Absorbance Data'!D3369","v":634.19769287109375},{"$f":"'Absorbance Data'!E3369-Calculations!B$1","v":0},{"$f":"'Absorbance Data'!F3369-Calculations!C$1","v":0},{"$f":"'Absorbance Data'!G3369-Calculations!D$1","v":0},{"$f":"'Absorbance Data'!H3369-Calculations!E$1","v":0},{"$f":"'Absorbance Data'!I3369-Calculations!F$1","v":0},{"$f":"'Absorbance Data'!J3369-Calculations!G$1","v":0},{"$f":"'Absorbance Data'!K3369-Calculations!H$1","v":0},{"$f":"'Absorbance Data'!L3369-Calculations!I$1","v":0},{"$f":"'Absorbance Data'!M3369-Calculations!J$1","v":0},{"$f":"'Absorbance Data'!N3369-Calculations!K$1","v":0},{"$f":"'Absorbance Data'!O3369-Calculations!L$1","v":0},{"$f":"'Absorbance Data'!P3369-Calculations!M$1","v":0},{"$f":"'Absorbance Data'!Q3369-Calculations!N$1","v":0},{"$f":"'Absorbance Data'!R3369-Calculations!O$1","v":0},{"$f":"'Absorbance Data'!S3369-Calculations!P$1","v":0},{"$f":"'Absorbance Data'!T3369-Calculations!Q$1","v":0},{"$f":"'Absorbance Data'!U3369-Calculations!R$1","v":0},{"$f":"'Absorbance Data'!V3369-Calculations!S$1","v":0},{"$f":"'Absorbance Data'!W3369-Calculations!T$1","v":0},{"$f":"'Absorbance Data'!X3369-Calculations!U$1","v":0},{"$f":"'Absorbance Data'!Y3369-Calculations!V$1","v":0},{"$f":"'Absorbance Data'!Z3369-Calculations!W$1","v":0}]
[{"$f":"'Absorbance Data'!D3370","v":634.51373291015625},{"$f":"'Absorbance Data'!E3370-Calculations!B$1","v":0},{"$f":"'Absorbance Data'!F3370-Calculations!C$1","v":0},{"$f":"'Absorbance Data'!G3370-Calculations!D$1","v":0},{"$f":"'Absorbance Data'!H3370-Calculations!E$1","v":0},{"$f":"'Absorbance Data'!I3370-Calculations!F$1","v":0},{"$f":"'Absorbance Data'!J3370-Calculations!G$1","v":0},{"$f":"'Absorbance Data'!K3370-Calculations!H$1","v":0},{"$f":"'Absorbance Data'!L3370-Calculations!I$1","v":0},{"$f":"'Absorbance Data'!M3370-Calculations!J$1","v":0},{"$f":"'Absorbance Data'!N3370-Calculations!K$1","v":0},{"$f":"'Absorbance Data'!O3370-Calculations!L$1","v":0},{"$f":"'Absorbance Data'!P3370-Calculations!M$1","v":0},{"$f":"'Absorbance Data'!Q3370-Calculations!N$1","v":0},{"$f":"'Absorbance Data'!R3370-Calculations!O$1","v":0},{"$f":"'Absorbance Data'!S3370-Calculations!P$1","v":0},{"$f":"'Absorbance Data'!T3370-Calculations!Q$1","v":0},{"$f":"'Absorbance Data'!U3370-Calculations!R$1","v":0},{"$f":"'Absorbance Data'!V3370-Calculations!S$1","v":0},{"$f":"'Absorbance Data'!W3370-Calculations!T$1","v":0},{"$f":"'Absorbance Data'!X3370-Calculations!U$1","v":0},{"$f":"'Absorbance Data'!Y3370-Calculations!V$1","v":0},{"$f":"'Absorbance Data'!Z3370-Calculations!W$1","v":0}]
[{"$f":"'Absorbance Data'!D3371","v":634.829833984375},{"$f":"'Absorbance Data'!E3371-Calculations!B$1","v":0},{"$f":"'Absorbance Data'!F3371-Calculations!C$1","v":0},{"$f":"'Absorbance Data'!G3371-Calculations!D$1","v":0},{"$f":"'Absorbance Data'!H3371-Calculations!E$1","v":0},{"$f":"'Absorbance Data'!I3371-Calculations!F$1","v":0},{"$f":"'Absorbance Data'!J3371-Calculations!G$1","v":0},{"$f":"'Absorbance Data'!K3371-Calculations!H$1","v":0},{"$f":"'Absorbance Data'!L3371-Calculations!I$1","v":0},{"$f":"'Absorbance Data'!M3371-Calculations!J$1","v":0},{"$f":"'Absorbance Data'!N3371-Calculations!K$1","v":0},{"$f":"'Absorbance Data'!O3371-Calculations!L$1","v":0},{"$f":"'Absorbance Data'!P3371-Calculations!M$1","v":0},{"$f":"'Absorbance Data'!Q3371-Calculations!N$1","v":0},{"$f":"'Absorbance Data'!R3371-Calculations!O$1","v":0},{"$f":"'Absorbance Data'!S3371-Calculations!P$1","v":0},{"$f":"'Absorbance Data'!T3371-Calculations!Q$1","v":0},{"$f":"'Absorbance Data'!U3371-Calculations!R$1","v":0},{"$f":"'Absorbance Data'!V3371-Calculations!S$1","v":0},{"$f":"'Absorbance Data'!W3371-Calculations!T$1","v":0},{"$f":"'Absorbance Data'!X3371-Calculations!U$1","v":0},{"$f":"'Absorbance Data'!Y3371-Calculations!V$1","v":0},{"$f":"'Absorbance Data'!Z3371-Calculations!W$1","v":0}]
[{"$f":"'Absorbance Data'!D3372","v":635.1458740234375},{"$f":"'Absorbance Data'!E3372-Calculations!B$1","v":0},{"$f":"'Absorbance Data'!F3372-Calculations!C$1","v":0},{"$f":"'Absorbance Data'!G3372-Calculations!D$1","v":0},{"$f":"'Absorbance Data'!H3372-Calculations!E$1","v":0},{"$f":"'Absorbance Data'!I3372-Calculations!F$1","v":0},{"$f":"'Absorbance Data'!J3372-Calculations!G$1","v":0},{"$f":"'Absorbance Data'!K3372-Calculations!H$1","v":0},{"$f":"'Absorbance Data'!L3372-Calculations!I$1","v":0},{"$f":"'Absorbance Data'!M3372-Calculations!J$1","v":0},{"$f":"'Absorbance Data'!N3372-Calculations!K$1","v":0},{"$f":"'Absorbance Data'!O3372-Calculations!L$1","v":0},{"$f":"'Absorbance Data'!P3372-Calculations!M$1","v":0},{"$f":"'Absorbance Data'!Q3372-Calculations!N$1","v":0},{"$f":"'Absorbance Data'!R3372-Calculations!O$1","v":0},{"$f":"'Absorbance Data'!S3372-Calculations!P$1","v":0},{"$f":"'Absorbance Data'!T3372-Calculations!Q$1","v":0},{"$f":"'Absorbance Data'!U3372-Calculations!R$1","v":0},{"$f":"'Absorbance Data'!V3372-Calculations!S$1","v":0},{"$f":"'Absorbance Data'!W3372-Calculations!T$1","v":0},{"$f":"'Absorbance Data'!X3372-Calculations!U$1","v":0},{"$f":"'Absorbance Data'!Y3372-Calculations!V$1","v":0},{"$f":"'Absorbance Data'!Z3372-Calculations!W$1","v":0}]
[{"$f":"'Absorbance Data'!D3373","v":635.46185302734375},{"$f":"'Absorbance Data'!E3373-Calculations!B$1","v":0},{"$f":"'Absorbance Data'!F3373-Calculations!C$1","v":0},{"$f":"'Absorbance Data'!G3373-Calculations!D$1","v":0},{"$f":"'Absorbance Data'!H3373-Calculations!E$1","v":0},{"$f":"'Absorbance Data'!I3373-Calculations!F$1","v":0},{"$f":"'Absorbance Data'!J3373-Calculations!G$1","v":0},{"$f":"'Absorbance Data'!K3373-Calculations!H$1","v":0},{"$f":"'Absorbance Data'!L3373-Calculations!I$1","v":0},{"$f":"'Absorbance Data'!M3373-Calculations!J$1","v":0},{"$f":"'Absorbance Data'!N3373-Calculations!K$1","v":0},{"$f":"'Absorbance Data'!O3373-Calculations!L$1","v":0},{"$f":"'Absorbance Data'!P3373-Calculations!M$1","v":0},{"$f":"'Absorbance Data'!Q3373-Calculations!N$1","v":0},{"$f":"'Absorbance Data'!R3373-Calculations!O$1","v":0},{"$f":"'Absorbance Data'!S3373-Calculations!P$1","v":0},{"$f":"'Absorbance Data'!T3373-Calculations!Q$1","v":0},{"$f":"'Absorbance Data'!U3373-Calculations!R$1","v":0},{"$f":"'Absorbance Data'!V3373-Calculations!S$1","v":0},{"$f":"'Absorbance Data'!W3373-Calculations!T$1","v":0},{"$f":"'Absorbance Data'!X3373-Calculations!U$1","v":0},{"$f":"'Absorbance Data'!Y3373-Calculations!V$1","v":0},{"$f":"'Absorbance Data'!Z3373-Calculations!W$1","v":0}]
[{"$f":"'Absorbance Data'!D3374","v":635.77777099609375},{"$f":"'Absorbance Data'!E3374-Calculations!B$1","v":0},{"$f":"'Absorbance Data'!F3374-Calculations!C$1","v":0},{"$f":"'Absorbance Data'!G3374-Calculations!D$1","v":0},{"$f":"'Absorbance Data'!H3374-Calculations!E$1","v":0},{"$f":"'Absorbance Data'!I3374-Calculations!F$1","v":0},{"$f":"'Absorbance Data'!J3374-Calculations!G$1","v":0},{"$f":"'Absorbance Data'!K3374-Calculations!H$1","v":0},{"$f":"'Absorbance Data'!L3374-Calculations!I$1","v":0},{"$f":"'Absorbance Data'!M3374-Calculations!J$1","v":0},{"$f":"'Absorbance Data'!N3374-Calculations!K$1","v":0},{"$f":"'Absorbance Data'!O3374-Calculations!L$1","v":0},{"$f":"'Absorbance Data'!P3374-Calculations!M$1","v":0},{"$f":"'Absorbance Data'!Q3374-Calculations!N$1","v":0},{"$f":"'Absorbance Data'!R3374-Calculations!O$1","v":0},{"$f":"'Absorbance Data'!S3374-Calculations!P$1","v":0},{"$f":"'Absorbance Data'!T3374-Calculations!Q$1","v":0},{"$f":"'Absorbance Data'!U3374-Calculations!R$1","v":0},{"$f":"'Absorbance Data'!V3374-Calculations!S$1","v":0},{"$f":"'Absorbance Data'!W3374-Calculations!T$1","v":0},{"$f":"'Absorbance Data'!X3374-Calculations!U$1","v":0},{"$f":"'Absorbance Data'!Y3374-Calculations!V$1","v":0},{"$f":"'Absorbance Data'!Z3374-Calculations!W$1","v":0}]
[{"$f":"'Absorbance Data'!D3375","v":636.09356689453125},{"$f":"'Absorbance Data'!E3375-Calculations!B$1","v":0},{"$f":"'Absorbance Data'!F3375-Calculations!C$1","v":0},{"$f":"'Absorbance Data'!G3375-Calculations!D$1","v":0},{"$f":"'Absorbance Data'!H3375-Calculations!E$1","v":0},{"$f":"'Absorbance Data'!I3375-Calculations!F$1","v":0},{"$f":"'Absorbance Data'!J3375-Calculations!G$1","v":0},{"$f":"'Absorbance Data'!K3375-Calculations!H$1","v":0},{"$f":"'Absorbance Data'!L3375-Calculations!I$1","v":0},{"$f":"'Absorbance Data'!M3375-Calculations!J$1","v":0},{"$f":"'Absorbance Data'!N3375-Calculations!K$1","v":0},{"$f":"'Absorbance Data'!O3375-Calculations!L$1","v":0},{"$f":"'Absorbance Data'!P3375-Calculations!M$1","v":0},{"$f":"'Absorbance Data'!Q3375-Calculations!N$1","v":0},{"$f":"'Absorbance Data'!R3375-Calculations!O$1","v":0},{"$f":"'Absorbance Data'!S3375-Calculations!P$1","v":0},{"$f":"'Absorbance Data'!T3375-Calculations!Q$1","v":0},{"$f":"'Absorbance Data'!U3375-Calculations!R$1","v":0},{"$f":"'Absorbance Data'!V3375-Calculations!S$1","v":0},{"$f":"'Absorbance Data'!W3375-Calculations!T$1","v":0},{"$f":"'Absorbance Data'!X3375-Calculations!U$1","v":0},{"$f":"'Absorbance Data'!Y3375-Calculations!V$1","v":0},{"$f":"'Absorbance Data'!Z3375-Calculations!W$1","v":0}]
[{"$f":"'Absorbance Data'!D3376","v":636.40948486328125},{"$f":"'Absorbance Data'!E3376-Calculations!B$1","v":0},{"$f":"'Absorbance Data'!F3376-Calculations!C$1","v":0},{"$f":"'Absorbance Data'!G3376-Calculations!D$1","v":0},{"$f":"'Absorbance Data'!H3376-Calculations!E$1","v":0},{"$f":"'Absorbance Data'!I3376-Calculations!F$1","v":0},{"$f":"'Absorbance Data'!J3376-Calculations!G$1","v":0},{"$f":"'Absorbance Data'!K3376-Calculations!H$1","v":0},{"$f":"'Absorbance Data'!L3376-Calculations!I$1","v":0},{"$f":"'Absorbance Data'!M3376-Calculations!J$1","v":0},{"$f":"'Absorbance Data'!N3376-Calculations!K$1","v":0},{"$f":"'Absorbance Data'!O3376-Calculations!L$1","v":0},{"$f":"'Absorbance Data'!P3376-Calculations!M$1","v":0},{"$f":"'Absorbance Data'!Q3376-Calculations!N$1","v":0},{"$f":"'Absorbance Data'!R3376-Calculations!O$1","v":0},{"$f":"'Absorbance Data'!S3376-Calculations!P$1","v":0},{"$f":"'Absorbance Data'!T3376-Calculations!Q$1","v":0},{"$f":"'Absorbance Data'!U3376-Calculations!R$1","v":0},{"$f":"'Absorbance Data'!V3376-Calculations!S$1","v":0},{"$f":"'Absorbance Data'!W3376-Calculations!T$1","v":0},{"$f":"'Absorbance Data'!X3376-Calculations!U$1","v":0},{"$f":"'Absorbance Data'!Y3376-Calculations!V$1","v":0},{"$f":"'Absorbance Data'!Z3376-Calculations!W$1","v":0}]
[{"$f":"'Absorbance Data'!D3377","v":636.725341796875},{"$f":"'Absorbance Data'!E3377-Calculations!B$1","v":0},{"$f":"'Absorbance Data'!F3377-Calculations!C$1","v":0},{"$f":"'Absorbance Data'!G3377-Calculations!D$1","v":0},{"$f":"'Absorbance Data'!H3377-Calculations!E$1","v":0},{"$f":"'Absorbance Data'!I3377-Calculations!F$1","v":0},{"$f":"'Absorbance Data'!J3377-Calculations!G$1","v":0},{"$f":"'Absorbance Data'!K3377-Calculations!H$1","v":0},{"$f":"'Absorbance Data'!L3377-Calculations!I$1","v":0},{"$f":"'Absorbance Data'!M3377-Calculations!J$1","v":0},{"$f":"'Absorbance Data'!N3377-Calculations!K$1","v":0},{"$f":"'Absorbance Data'!O3377-Calculations!L$1","v":0},{"$f":"'Absorbance Data'!P3377-Calculations!M$1","v":0},{"$f":"'Absorbance Data'!Q3377-Calculations!N$1","v":0},{"$f":"'Absorbance Data'!R3377-Calculations!O$1","v":0},{"$f":"'Absorbance Data'!S3377-Calculations!P$1","v":0},{"$f":"'Absorbance Data'!T3377-Calculations!Q$1","v":0},{"$f":"'Absorbance Data'!U3377-Calculations!R$1","v":0},{"$f":"'Absorbance Data'!V3377-Calculations!S$1","v":0},{"$f":"'Absorbance Data'!W3377-Calculations!T$1","v":0},{"$f":"'Absorbance Data'!X3377-Calculations!U$1","v":0},{"$f":"'Absorbance Data'!Y3377-Calculations!V$1","v":0},{"$f":"'Absorbance Data'!Z3377-Calculations!W$1","v":0}]
[{"$f":"'Absorbance Data'!D3378","v":637.041015625},{"$f":"'Absorbance Data'!E3378-Calculations!B$1","v":0},{"$f":"'Absorbance Data'!F3378-Calculations!C$1","v":0},{"$f":"'Absorbance Data'!G3378-Calculations!D$1","v":0},{"$f":"'Absorbance Data'!H3378-Calculations!E$1","v":0},{"$f":"'Absorbance Data'!I3378-Calculations!F$1","v":0},{"$f":"'Absorbance Data'!J3378-Calculations!G$1","v":0},{"$f":"'Absorbance Data'!K3378-Calculations!H$1","v":0},{"$f":"'Absorbance Data'!L3378-Calculations!I$1","v":0},{"$f":"'Absorbance Data'!M3378-Calculations!J$1","v":0},{"$f":"'Absorbance Data'!N3378-Calculations!K$1","v":0},{"$f":"'Absorbance Data'!O3378-Calculations!L$1","v":0},{"$f":"'Absorbance Data'!P3378-Calculations!M$1","v":0},{"$f":"'Absorbance Data'!Q3378-Calculations!N$1","v":0},{"$f":"'Absorbance Data'!R3378-Calculations!O$1","v":0},{"$f":"'Absorbance Data'!S3378-Calculations!P$1","v":0},{"$f":"'Absorbance Data'!T3378-Calculations!Q$1","v":0},{"$f":"'Absorbance Data'!U3378-Calculations!R$1","v":0},{"$f":"'Absorbance Data'!V3378-Calculations!S$1","v":0},{"$f":"'Absorbance Data'!W3378-Calculations!T$1","v":0},{"$f":"'Absorbance Data'!X3378-Calculations!U$1","v":0},{"$f":"'Absorbance Data'!Y3378-Calculations!V$1","v":0},{"$f":"'Absorbance Data'!Z3378-Calculations!W$1","v":0}]
[{"$f":"'Absorbance Data'!D3379","v":637.35675048828125},{"$f":"'Absorbance Data'!E3379-Calculations!B$1","v":0},{"$f":"'Absorbance Data'!F3379-Calculations!C$1","v":0},{"$f":"'Absorbance Data'!G3379-Calculations!D$1","v":0},{"$f":"'Absorbance Data'!H3379-Calculations!E$1","v":0},{"$f":"'Absorbance Data'!I3379-Calculations!F$1","v":0},{"$f":"'Absorbance Data'!J3379-Calculations!G$1","v":0},{"$f":"'Absorbance Data'!K3379-Calculations!H$1","v":0},{"$f":"'Absorbance Data'!L3379-Calculations!I$1","v":0},{"$f":"'Absorbance Data'!M3379-Calculations!J$1","v":0},{"$f":"'Absorbance Data'!N3379-Calculations!K$1","v":0},{"$f":"'Absorbance Data'!O3379-Calculations!L$1","v":0},{"$f":"'Absorbance Data'!P3379-Calculations!M$1","v":0},{"$f":"'Absorbance Data'!Q3379-Calculations!N$1","v":0},{"$f":"'Absorbance Data'!R3379-Calculations!O$1","v":0},{"$f":"'Absorbance Data'!S3379-Calculations!P$1","v":0},{"$f":"'Absorbance Data'!T3379-Calculations!Q$1","v":0},{"$f":"'Absorbance Data'!U3379-Calculations!R$1","v":0},{"$f":"'Absorbance Data'!V3379-Calculations!S$1","v":0},{"$f":"'Absorbance Data'!W3379-Calculations!T$1","v":0},{"$f":"'Absorbance Data'!X3379-Calculations!U$1","v":0},{"$f":"'Absorbance Data'!Y3379-Calculations!V$1","v":0},{"$f":"'Absorbance Data'!Z3379-Calculations!W$1","v":0}]
[{"$f":"'Absorbance Data'!D3380","v":637.67242431640625},{"$f":"'Absorbance Data'!E3380-Calculations!B$1","v":0},{"$f":"'Absorbance Data'!F3380-Calculations!C$1","v":0},{"$f":"'Absorbance Data'!G3380-Calculations!D$1","v":0},{"$f":"'Absorbance Data'!H3380-Calculations!E$1","v":0},{"$f":"'Absorbance Data'!I3380-Calculations!F$1","v":0},{"$f":"'Absorbance Data'!J3380-Calculations!G$1","v":0},{"$f":"'Absorbance Data'!K3380-Calculations!H$1","v":0},{"$f":"'Absorbance Data'!L3380-Calculations!I$1","v":0},{"$f":"'Absorbance Data'!M3380-Calculations!J$1","v":0},{"$f":"'Absorbance Data'!N3380-Calculations!K$1","v":0},{"$f":"'Absorbance Data'!O3380-Calculations!L$1","v":0},{"$f":"'Absorbance Data'!P3380-Calculations!M$1","v":0},{"$f":"'Absorbance Data'!Q3380-Calculations!N$1","v":0},{"$f":"'Absorbance Data'!R3380-Calculations!O$1","v":0},{"$f":"'Absorbance Data'!S3380-Calculations!P$1","v":0},{"$f":"'Absorbance Data'!T3380-Calculations!Q$1","v":0},{"$f":"'Absorbance Data'!U3380-Calculations!R$1","v":0},{"$f":"'Absorbance Data'!V3380-Calculations!S$1","v":0},{"$f":"'Absorbance Data'!W3380-Calculations!T$1","v":0},{"$f":"'Absorbance Data'!X3380-Calculations!U$1","v":0},{"$f":"'Absorbance Data'!Y3380-Calculations!V$1","v":0},{"$f":"'Absorbance Data'!Z3380-Calculations!W$1","v":0}]
[{"$f":"'Absorbance Data'!D3381","v":637.98809814453125},{"$f":"'Absorbance Data'!E3381-Calculations!B$1","v":0},{"$f":"'Absorbance Data'!F3381-Calculations!C$1","v":0},{"$f":"'Absorbance Data'!G3381-Calculations!D$1","v":0},{"$f":"'Absorbance Data'!H3381-Calculations!E$1","v":0},{"$f":"'Absorbance Data'!I3381-Calculations!F$1","v":0},{"$f":"'Absorbance Data'!J3381-Calculations!G$1","v":0},{"$f":"'Absorbance Data'!K3381-Calculations!H$1","v":0},{"$f":"'Absorbance Data'!L3381-Calculations!I$1","v":0},{"$f":"'Absorbance Data'!M3381-Calculations!J$1","v":0},{"$f":"'Absorbance Data'!N3381-Calculations!K$1","v":0},{"$f":"'Absorbance Data'!O3381-Calculations!L$1","v":0},{"$f":"'Absorbance Data'!P3381-Calculations!M$1","v":0},{"$f":"'Absorbance Data'!Q3381-Calculations!N$1","v":0},{"$f":"'Absorbance Data'!R3381-Calculations!O$1","v":0},{"$f":"'Absorbance Data'!S3381-Calculations!P$1","v":0},{"$f":"'Absorbance Data'!T3381-Calculations!Q$1","v":0},{"$f":"'Absorbance Data'!U3381-Calculations!R$1","v":0},{"$f":"'Absorbance Data'!V3381-Calculations!S$1","v":0},{"$f":"'Absorbance Data'!W3381-Calculations!T$1","v":0},{"$f":"'Absorbance Data'!X3381-Calculations!U$1","v":0},{"$f":"'Absorbance Data'!Y3381-Calculations!V$1","v":0},{"$f":"'Absorbance Data'!Z3381-Calculations!W$1","v":0}]
[{"$f":"'Absorbance Data'!D3382","v":638.3037109375},{"$f":"'Absorbance Data'!E3382-Calculations!B$1","v":0},{"$f":"'Absorbance Data'!F3382-Calculations!C$1","v":0},{"$f":"'Absorbance Data'!G3382-Calculations!D$1","v":0},{"$f":"'Absorbance Data'!H3382-Calculations!E$1","v":0},{"$f":"'Absorbance Data'!I3382-Calculations!F$1","v":0},{"$f":"'Absorbance Data'!J3382-Calculations!G$1","v":0},{"$f":"'Absorbance Data'!K3382-Calculations!H$1","v":0},{"$f":"'Absorbance Data'!L3382-Calculations!I$1","v":0},{"$f":"'Absorbance Data'!M3382-Calculations!J$1","v":0},{"$f":"'Absorbance Data'!N3382-Calculations!K$1","v":0},{"$f":"'Absorbance Data'!O3382-Calculations!L$1","v":0},{"$f":"'Absorbance Data'!P3382-Calculations!M$1","v":0},{"$f":"'Absorbance Data'!Q3382-Calculations!N$1","v":0},{"$f":"'Absorbance Data'!R3382-Calculations!O$1","v":0},{"$f":"'Absorbance Data'!S3382-Calculations!P$1","v":0},{"$f":"'Absorbance Data'!T3382-Calculations!Q$1","v":0},{"$f":"'Absorbance Data'!U3382-Calculations!R$1","v":0},{"$f":"'Absorbance Data'!V3382-Calculations!S$1","v":0},{"$f":"'Absorbance Data'!W3382-Calculations!T$1","v":0},{"$f":"'Absorbance Data'!X3382-Calculations!U$1","v":0},{"$f":"'Absorbance Data'!Y3382-Calculations!V$1","v":0},{"$f":"'Absorbance Data'!Z3382-Calculations!W$1","v":0}]
[{"$f":"'Absorbance Data'!D3383","v":638.61920166015625},{"$f":"'Absorbance Data'!E3383-Calculations!B$1","v":0},{"$f":"'Absorbance Data'!F3383-Calculations!C$1","v":0},{"$f":"'Absorbance Data'!G3383-Calculations!D$1","v":0},{"$f":"'Absorbance Data'!H3383-Calculations!E$1","v":0},{"$f":"'Absorbance Data'!I3383-Calculations!F$1","v":0},{"$f":"'Absorbance Data'!J3383-Calculations!G$1","v":0},{"$f":"'Absorbance Data'!K3383-Calculations!H$1","v":0},{"$f":"'Absorbance Data'!L3383-Calculations!I$1","v":0},{"$f":"'Absorbance Data'!M3383-Calculations!J$1","v":0},{"$f":"'Absorbance Data'!N3383-Calculations!K$1","v":0},{"$f":"'Absorbance Data'!O3383-Calculations!L$1","v":0},{"$f":"'Absorbance Data'!P3383-Calculations!M$1","v":0},{"$f":"'Absorbance Data'!Q3383-Calculations!N$1","v":0},{"$f":"'Absorbance Data'!R3383-Calculations!O$1","v":0},{"$f":"'Absorbance Data'!S3383-Calculations!P$1","v":0},{"$f":"'Absorbance Data'!T3383-Calculations!Q$1","v":0},{"$f":"'Absorbance Data'!U3383-Calculations!R$1","v":0},{"$f":"'Absorbance Data'!V3383-Calculations!S$1","v":0},{"$f":"'Absorbance Data'!W3383-Calculations!T$1","v":0},{"$f":"'Absorbance Data'!X3383-Calculations!U$1","v":0},{"$f":"'Absorbance Data'!Y3383-Calculations!V$1","v":0},{"$f":"'Absorbance Data'!Z3383-Calculations!W$1","v":0}]
[{"$f":"'Absorbance Data'!D3384","v":638.9346923828125},{"$f":"'Absorbance Data'!E3384-Calculations!B$1","v":0},{"$f":"'Absorbance Data'!F3384-Calculations!C$1","v":0},{"$f":"'Absorbance Data'!G3384-Calculations!D$1","v":0},{"$f":"'Absorbance Data'!H3384-Calculations!E$1","v":0},{"$f":"'Absorbance Data'!I3384-Calculations!F$1","v":0},{"$f":"'Absorbance Data'!J3384-Calculations!G$1","v":0},{"$f":"'Absorbance Data'!K3384-Calculations!H$1","v":0},{"$f":"'Absorbance Data'!L3384-Calculations!I$1","v":0},{"$f":"'Absorbance Data'!M3384-Calculations!J$1","v":0},{"$f":"'Absorbance Data'!N3384-Calculations!K$1","v":0},{"$f":"'Absorbance Data'!O3384-Calculations!L$1","v":0},{"$f":"'Absorbance Data'!P3384-Calculations!M$1","v":0},{"$f":"'Absorbance Data'!Q3384-Calculations!N$1","v":0},{"$f":"'Absorbance Data'!R3384-Calculations!O$1","v":0},{"$f":"'Absorbance Data'!S3384-Calculations!P$1","v":0},{"$f":"'Absorbance Data'!T3384-Calculations!Q$1","v":0},{"$f":"'Absorbance Data'!U3384-Calculations!R$1","v":0},{"$f":"'Absorbance Data'!V3384-Calculations!S$1","v":0},{"$f":"'Absorbance Data'!W3384-Calculations!T$1","v":0},{"$f":"'Absorbance Data'!X3384-Calculations!U$1","v":0},{"$f":"'Absorbance Data'!Y3384-Calculations!V$1","v":0},{"$f":"'Absorbance Data'!Z3384-Calculations!W$1","v":0}]
[{"$f":"'Absorbance Data'!D3385","v":639.250244140625},{"$f":"'Absorbance Data'!E3385-Calculations!B$1","v":0},{"$f":"'Absorbance Data'!F3385-Calculations!C$1","v":0},{"$f":"'Absorbance Data'!G3385-Calculations!D$1","v":0},{"$f":"'Absorbance Data'!H3385-Calculations!E$1","v":0},{"$f":"'Absorbance Data'!I3385-Calculations!F$1","v":0},{"$f":"'Absorbance Data'!J3385-Calculations!G$1","v":0},{"$f":"'Absorbance Data'!K3385-Calculations!H$1","v":0},{"$f":"'Absorbance Data'!L3385-Calculations!I$1","v":0},{"$f":"'Absorbance Data'!M3385-Calculations!J$1","v":0},{"$f":"'Absorbance Data'!N3385-Calculations!K$1","v":0},{"$f":"'Absorbance Data'!O3385-Calculations!L$1","v":0},{"$f":"'Absorbance Data'!P3385-Calculations!M$1","v":0},{"$f":"'Absorbance Data'!Q3385-Calculations!N$1","v":0},{"$f":"'Absorbance Data'!R3385-Calculations!O$1","v":0},{"$f":"'Absorbance Data'!S3385-Calculations!P$1","v":0},{"$f":"'Absorbance Data'!T3385-Calculations!Q$1","v":0},{"$f":"'Absorbance Data'!U3385-Calculations!R$1","v":0},{"$f":"'Absorbance Data'!V3385-Calculations!S$1","v":0},{"$f":"'Absorbance Data'!W3385-Calculations!T$1","v":0},{"$f":"'Absorbance Data'!X3385-Calculations!U$1","v":0},{"$f":"'Absorbance Data'!Y3385-Calculations!V$1","v":0},{"$f":"'Absorbance Data'!Z3385-Calculations!W$1","v":0}]
[{"$f":"'Absorbance Data'!D3386","v":639.56561279296875},{"$f":"'Absorbance Data'!E3386-Calculations!B$1","v":0},{"$f":"'Absorbance Data'!F3386-Calculations!C$1","v":0},{"$f":"'Absorbance Data'!G3386-Calculations!D$1","v":0},{"$f":"'Absorbance Data'!H3386-Calculations!E$1","v":0},{"$f":"'Absorbance Data'!I3386-Calculations!F$1","v":0},{"$f":"'Absorbance Data'!J3386-Calculations!G$1","v":0},{"$f":"'Absorbance Data'!K3386-Calculations!H$1","v":0},{"$f":"'Absorbance Data'!L3386-Calculations!I$1","v":0},{"$f":"'Absorbance Data'!M3386-Calculations!J$1","v":0},{"$f":"'Absorbance Data'!N3386-Calculations!K$1","v":0},{"$f":"'Absorbance Data'!O3386-Calculations!L$1","v":0},{"$f":"'Absorbance Data'!P3386-Calculations!M$1","v":0},{"$f":"'Absorbance Data'!Q3386-Calculations!N$1","v":0},{"$f":"'Absorbance Data'!R3386-Calculations!O$1","v":0},{"$f":"'Absorbance Data'!S3386-Calculations!P$1","v":0},{"$f":"'Absorbance Data'!T3386-Calculations!Q$1","v":0},{"$f":"'Absorbance Data'!U3386-Calculations!R$1","v":0},{"$f":"'Absorbance Data'!V3386-Calculations!S$1","v":0},{"$f":"'Absorbance Data'!W3386-Calculations!T$1","v":0},{"$f":"'Absorbance Data'!X3386-Calculations!U$1","v":0},{"$f":"'Absorbance Data'!Y3386-Calculations!V$1","v":0},{"$f":"'Absorbance Data'!Z3386-Calculations!W$1","v":0}]
[{"$f":"'Absorbance Data'!D3387","v":639.8809814453125},{"$f":"'Absorbance Data'!E3387-Calculations!B$1","v":0},{"$f":"'Absorbance Data'!F3387-Calculations!C$1","v":0},{"$f":"'Absorbance Data'!G3387-Calculations!D$1","v":0},{"$f":"'Absorbance Data'!H3387-Calculations!E$1","v":0},{"$f":"'Absorbance Data'!I3387-Calculations!F$1","v":0},{"$f":"'Absorbance Data'!J3387-Calculations!G$1","v":0},{"$f":"'Absorbance Data'!K3387-Calculations!H$1","v":0},{"$f":"'Absorbance Data'!L3387-Calculations!I$1","v":0},{"$f":"'Absorbance Data'!M3387-Calculations!J$1","v":0},{"$f":"'Absorbance Data'!N3387-Calculations!K$1","v":0},{"$f":"'Absorbance Data'!O3387-Calculations!L$1","v":0},{"$f":"'Absorbance Data'!P3387-Calculations!M$1","v":0},{"$f":"'Absorbance Data'!Q3387-Calculations!N$1","v":0},{"$f":"'Absorbance Data'!R3387-Calculations!O$1","v":0},{"$f":"'Absorbance Data'!S3387-Calculations!P$1","v":0},{"$f":"'Absorbance Data'!T3387-Calculations!Q$1","v":0},{"$f":"'Absorbance Data'!U3387-Calculations!R$1","v":0},{"$f":"'Absorbance Data'!V3387-Calculations!S$1","v":0},{"$f":"'Absorbance Data'!W3387-Calculations!T$1","v":0},{"$f":"'Absorbance Data'!X3387-Calculations!U$1","v":0},{"$f":"'Absorbance Data'!Y3387-Calculations!V$1","v":0},{"$f":"'Absorbance Data'!Z3387-Calculations!W$1","v":0}]
[{"$f":"'Absorbance Data'!D3388","v":640.19635009765625},{"$f":"'Absorbance Data'!E3388-Calculations!B$1","v":0},{"$f":"'Absorbance Data'!F3388-Calculations!C$1","v":0},{"$f":"'Absorbance Data'!G3388-Calculations!D$1","v":0},{"$f":"'Absorbance Data'!H3388-Calculations!E$1","v":0},{"$f":"'Absorbance Data'!I3388-Calculations!F$1","v":0},{"$f":"'Absorbance Data'!J3388-Calculations!G$1","v":0},{"$f":"'Absorbance Data'!K3388-Calculations!H$1","v":0},{"$f":"'Absorbance Data'!L3388-Calculations!I$1","v":0},{"$f":"'Absorbance Data'!M3388-Calculations!J$1","v":0},{"$f":"'Absorbance Data'!N3388-Calculations!K$1","v":0},{"$f":"'Absorbance Data'!O3388-Calculations!L$1","v":0},{"$f":"'Absorbance Data'!P3388-Calculations!M$1","v":0},{"$f":"'Absorbance Data'!Q3388-Calculations!N$1","v":0},{"$f":"'Absorbance Data'!R3388-Calculations!O$1","v":0},{"$f":"'Absorbance Data'!S3388-Calculations!P$1","v":0},{"$f":"'Absorbance Data'!T3388-Calculations!Q$1","v":0},{"$f":"'Absorbance Data'!U3388-Calculations!R$1","v":0},{"$f":"'Absorbance Data'!V3388-Calculations!S$1","v":0},{"$f":"'Absorbance Data'!W3388-Calculations!T$1","v":0},{"$f":"'Absorbance Data'!X3388-Calculations!U$1","v":0},{"$f":"'Absorbance Data'!Y3388-Calculations!V$1","v":0},{"$f":"'Absorbance Data'!Z3388-Calculations!W$1","v":0}]
[{"$f":"'Absorbance Data'!D3389","v":640.51165771484375},{"$f":"'Absorbance Data'!E3389-Calculations!B$1","v":0},{"$f":"'Absorbance Data'!F3389-Calculations!C$1","v":0},{"$f":"'Absorbance Data'!G3389-Calculations!D$1","v":0},{"$f":"'Absorbance Data'!H3389-Calculations!E$1","v":0},{"$f":"'Absorbance Data'!I3389-Calculations!F$1","v":0},{"$f":"'Absorbance Data'!J3389-Calculations!G$1","v":0},{"$f":"'Absorbance Data'!K3389-Calculations!H$1","v":0},{"$f":"'Absorbance Data'!L3389-Calculations!I$1","v":0},{"$f":"'Absorbance Data'!M3389-Calculations!J$1","v":0},{"$f":"'Absorbance Data'!N3389-Calculations!K$1","v":0},{"$f":"'Absorbance Data'!O3389-Calculations!L$1","v":0},{"$f":"'Absorbance Data'!P3389-Calculations!M$1","v":0},{"$f":"'Absorbance Data'!Q3389-Calculations!N$1","v":0},{"$f":"'Absorbance Data'!R3389-Calculations!O$1","v":0},{"$f":"'Absorbance Data'!S3389-Calculations!P$1","v":0},{"$f":"'Absorbance Data'!T3389-Calculations!Q$1","v":0},{"$f":"'Absorbance Data'!U3389-Calculations!R$1","v":0},{"$f":"'Absorbance Data'!V3389-Calculations!S$1","v":0},{"$f":"'Absorbance Data'!W3389-Calculations!T$1","v":0},{"$f":"'Absorbance Data'!X3389-Calculations!U$1","v":0},{"$f":"'Absorbance Data'!Y3389-Calculations!V$1","v":0},{"$f":"'Absorbance Data'!Z3389-Calculations!W$1","v":0}]
[{"$f":"'Absorbance Data'!D3390","v":640.826904296875},{"$f":"'Absorbance Data'!E3390-Calculations!B$1","v":0},{"$f":"'Absorbance Data'!F3390-Calculations!C$1","v":0},{"$f":"'Absorbance Data'!G3390-Calculations!D$1","v":0},{"$f":"'Absorbance Data'!H3390-Calculations!E$1","v":0},{"$f":"'Absorbance Data'!I3390-Calculations!F$1","v":0},{"$f":"'Absorbance Data'!J3390-Calculations!G$1","v":0},{"$f":"'Absorbance Data'!K3390-Calculations!H$1","v":0},{"$f":"'Absorbance Data'!L3390-Calculations!I$1","v":0},{"$f":"'Absorbance Data'!M3390-Calculations!J$1","v":0},{"$f":"'Absorbance Data'!N3390-Calculations!K$1","v":0},{"$f":"'Absorbance Data'!O3390-Calculations!L$1","v":0},{"$f":"'Absorbance Data'!P3390-Calculations!M$1","v":0},{"$f":"'Absorbance Data'!Q3390-Calculations!N$1","v":0},{"$f":"'Absorbance Data'!R3390-Calculations!O$1","v":0},{"$f":"'Absorbance Data'!S3390-Calculations!P$1","v":0},{"$f":"'Absorbance Data'!T3390-Calculations!Q$1","v":0},{"$f":"'Absorbance Data'!U3390-Calculations!R$1","v":0},{"$f":"'Absorbance Data'!V3390-Calculations!S$1","v":0},{"$f":"'Absorbance Data'!W3390-Calculations!T$1","v":0},{"$f":"'Absorbance Data'!X3390-Calculations!U$1","v":0},{"$f":"'Absorbance Data'!Y3390-Calculations!V$1","v":0},{"$f":"'Absorbance Data'!Z3390-Calculations!W$1","v":0}]
[{"$f":"'Absorbance Data'!D3391","v":641.14202880859375},{"$f":"'Absorbance Data'!E3391-Calculations!B$1","v":0},{"$f":"'Absorbance Data'!F3391-Calculations!C$1","v":0},{"$f":"'Absorbance Data'!G3391-Calculations!D$1","v":0},{"$f":"'Absorbance Data'!H3391-Calculations!E$1","v":0},{"$f":"'Absorbance Data'!I3391-Calculations!F$1","v":0},{"$f":"'Absorbance Data'!J3391-Calculations!G$1","v":0},{"$f":"'Absorbance Data'!K3391-Calculations!H$1","v":0},{"$f":"'Absorbance Data'!L3391-Calculations!I$1","v":0},{"$f":"'Absorbance Data'!M3391-Calculations!J$1","v":0},{"$f":"'Absorbance Data'!N3391-Calculations!K$1","v":0},{"$f":"'Absorbance Data'!O3391-Calculations!L$1","v":0},{"$f":"'Absorbance Data'!P3391-Calculations!M$1","v":0},{"$f":"'Absorbance Data'!Q3391-Calculations!N$1","v":0},{"$f":"'Absorbance Data'!R3391-Calculations!O$1","v":0},{"$f":"'Absorbance Data'!S3391-Calculations!P$1","v":0},{"$f":"'Absorbance Data'!T3391-Calculations!Q$1","v":0},{"$f":"'Absorbance Data'!U3391-Calculations!R$1","v":0},{"$f":"'Absorbance Data'!V3391-Calculations!S$1","v":0},{"$f":"'Absorbance Data'!W3391-Calculations!T$1","v":0},{"$f":"'Absorbance Data'!X3391-Calculations!U$1","v":0},{"$f":"'Absorbance Data'!Y3391-Calculations!V$1","v":0},{"$f":"'Absorbance Data'!Z3391-Calculations!W$1","v":0}]
[{"$f":"'Absorbance Data'!D3392","v":641.457275390625},{"$f":"'Absorbance Data'!E3392-Calculations!B$1","v":0},{"$f":"'Absorbance Data'!F3392-Calculations!C$1","v":0},{"$f":"'Absorbance Data'!G3392-Calculations!D$1","v":0},{"$f":"'Absorbance Data'!H3392-Calculations!E$1","v":0},{"$f":"'Absorbance Data'!I3392-Calculations!F$1","v":0},{"$f":"'Absorbance Data'!J3392-Calculations!G$1","v":0},{"$f":"'Absorbance Data'!K3392-Calculations!H$1","v":0},{"$f":"'Absorbance Data'!L3392-Calculations!I$1","v":0},{"$f":"'Absorbance Data'!M3392-Calculations!J$1","v":0},{"$f":"'Absorbance Data'!N3392-Calculations!K$1","v":0},{"$f":"'Absorbance Data'!O3392-Calculations!L$1","v":0},{"$f":"'Absorbance Data'!P3392-Calculations!M$1","v":0},{"$f":"'Absorbance Data'!Q3392-Calculations!N$1","v":0},{"$f":"'Absorbance Data'!R3392-Calculations!O$1","v":0},{"$f":"'Absorbance Data'!S3392-Calculations!P$1","v":0},{"$f":"'Absorbance Data'!T3392-Calculations!Q$1","v":0},{"$f":"'Absorbance Data'!U3392-Calculations!R$1","v":0},{"$f":"'Absorbance Data'!V3392-Calculations!S$1","v":0},{"$f":"'Absorbance Data'!W3392-Calculations!T$1","v":0},{"$f":"'Absorbance Data'!X3392-Calculations!U$1","v":0},{"$f":"'Absorbance Data'!Y3392-Calculations!V$1","v":0},{"$f":"'Absorbance Data'!Z3392-Calculations!W$1","v":0}]
[{"$f":"'Absorbance Data'!D3393","v":641.7724609375},{"$f":"'Absorbance Data'!E3393-Calculations!B$1","v":0},{"$f":"'Absorbance Data'!F3393-Calculations!C$1","v":0},{"$f":"'Absorbance Data'!G3393-Calculations!D$1","v":0},{"$f":"'Absorbance Data'!H3393-Calculations!E$1","v":0},{"$f":"'Absorbance Data'!I3393-Calculations!F$1","v":0},{"$f":"'Absorbance Data'!J3393-Calculations!G$1","v":0},{"$f":"'Absorbance Data'!K3393-Calculations!H$1","v":0},{"$f":"'Absorbance Data'!L3393-Calculations!I$1","v":0},{"$f":"'Absorbance Data'!M3393-Calculations!J$1","v":0},{"$f":"'Absorbance Data'!N3393-Calculations!K$1","v":0},{"$f":"'Absorbance Data'!O3393-Calculations!L$1","v":0},{"$f":"'Absorbance Data'!P3393-Calculations!M$1","v":0},{"$f":"'Absorbance Data'!Q3393-Calculations!N$1","v":0},{"$f":"'Absorbance Data'!R3393-Calculations!O$1","v":0},{"$f":"'Absorbance Data'!S3393-Calculations!P$1","v":0},{"$f":"'Absorbance Data'!T3393-Calculations!Q$1","v":0},{"$f":"'Absorbance Data'!U3393-Calculations!R$1","v":0},{"$f":"'Absorbance Data'!V3393-Calculations!S$1","v":0},{"$f":"'Absorbance Data'!W3393-Calculations!T$1","v":0},{"$f":"'Absorbance Data'!X3393-Calculations!U$1","v":0},{"$f":"'Absorbance Data'!Y3393-Calculations!V$1","v":0},{"$f":"'Absorbance Data'!Z3393-Calculations!W$1","v":0}]
[{"$f":"'Absorbance Data'!D3394","v":642.08746337890625},{"$f":"'Absorbance Data'!E3394-Calculations!B$1","v":0},{"$f":"'Absorbance Data'!F3394-Calculations!C$1","v":0},{"$f":"'Absorbance Data'!G3394-Calculations!D$1","v":0},{"$f":"'Absorbance Data'!H3394-Calculations!E$1","v":0},{"$f":"'Absorbance Data'!I3394-Calculations!F$1","v":0},{"$f":"'Absorbance Data'!J3394-Calculations!G$1","v":0},{"$f":"'Absorbance Data'!K3394-Calculations!H$1","v":0},{"$f":"'Absorbance Data'!L3394-Calculations!I$1","v":0},{"$f":"'Absorbance Data'!M3394-Calculations!J$1","v":0},{"$f":"'Absorbance Data'!N3394-Calculations!K$1","v":0},{"$f":"'Absorbance Data'!O3394-Calculations!L$1","v":0},{"$f":"'Absorbance Data'!P3394-Calculations!M$1","v":0},{"$f":"'Absorbance Data'!Q3394-Calculations!N$1","v":0},{"$f":"'Absorbance Data'!R3394-Calculations!O$1","v":0},{"$f":"'Absorbance Data'!S3394-Calculations!P$1","v":0},{"$f":"'Absorbance Data'!T3394-Calculations!Q$1","v":0},{"$f":"'Absorbance Data'!U3394-Calculations!R$1","v":0},{"$f":"'Absorbance Data'!V3394-Calculations!S$1","v":0},{"$f":"'Absorbance Data'!W3394-Calculations!T$1","v":0},{"$f":"'Absorbance Data'!X3394-Calculations!U$1","v":0},{"$f":"'Absorbance Data'!Y3394-Calculations!V$1","v":0},{"$f":"'Absorbance Data'!Z3394-Calculations!W$1","v":0}]
[{"$f":"'Absorbance Data'!D3395","v":642.4024658203125},{"$f":"'Absorbance Data'!E3395-Calculations!B$1","v":0},{"$f":"'Absorbance Data'!F3395-Calculations!C$1","v":0},{"$f":"'Absorbance Data'!G3395-Calculations!D$1","v":0},{"$f":"'Absorbance Data'!H3395-Calculations!E$1","v":0},{"$f":"'Absorbance Data'!I3395-Calculations!F$1","v":0},{"$f":"'Absorbance Data'!J3395-Calculations!G$1","v":0},{"$f":"'Absorbance Data'!K3395-Calculations!H$1","v":0},{"$f":"'Absorbance Data'!L3395-Calculations!I$1","v":0},{"$f":"'Absorbance Data'!M3395-Calculations!J$1","v":0},{"$f":"'Absorbance Data'!N3395-Calculations!K$1","v":0},{"$f":"'Absorbance Data'!O3395-Calculations!L$1","v":0},{"$f":"'Absorbance Data'!P3395-Calculations!M$1","v":0},{"$f":"'Absorbance Data'!Q3395-Calculations!N$1","v":0},{"$f":"'Absorbance Data'!R3395-Calculations!O$1","v":0},{"$f":"'Absorbance Data'!S3395-Calculations!P$1","v":0},{"$f":"'Absorbance Data'!T3395-Calculations!Q$1","v":0},{"$f":"'Absorbance Data'!U3395-Calculations!R$1","v":0},{"$f":"'Absorbance Data'!V3395-Calculations!S$1","v":0},{"$f":"'Absorbance Data'!W3395-Calculations!T$1","v":0},{"$f":"'Absorbance Data'!X3395-Calculations!U$1","v":0},{"$f":"'Absorbance Data'!Y3395-Calculations!V$1","v":0},{"$f":"'Absorbance Data'!Z3395-Calculations!W$1","v":0}]
[{"$f":"'Absorbance Data'!D3396","v":642.717529296875},{"$f":"'Absorbance Data'!E3396-Calculations!B$1","v":0},{"$f":"'Absorbance Data'!F3396-Calculations!C$1","v":0},{"$f":"'Absorbance Data'!G3396-Calculations!D$1","v":0},{"$f":"'Absorbance Data'!H3396-Calculations!E$1","v":0},{"$f":"'Absorbance Data'!I3396-Calculations!F$1","v":0},{"$f":"'Absorbance Data'!J3396-Calculations!G$1","v":0},{"$f":"'Absorbance Data'!K3396-Calculations!H$1","v":0},{"$f":"'Absorbance Data'!L3396-Calculations!I$1","v":0},{"$f":"'Absorbance Data'!M3396-Calculations!J$1","v":0},{"$f":"'Absorbance Data'!N3396-Calculations!K$1","v":0},{"$f":"'Absorbance Data'!O3396-Calculations!L$1","v":0},{"$f":"'Absorbance Data'!P3396-Calculations!M$1","v":0},{"$f":"'Absorbance Data'!Q3396-Calculations!N$1","v":0},{"$f":"'Absorbance Data'!R3396-Calculations!O$1","v":0},{"$f":"'Absorbance Data'!S3396-Calculations!P$1","v":0},{"$f":"'Absorbance Data'!T3396-Calculations!Q$1","v":0},{"$f":"'Absorbance Data'!U3396-Calculations!R$1","v":0},{"$f":"'Absorbance Data'!V3396-Calculations!S$1","v":0},{"$f":"'Absorbance Data'!W3396-Calculations!T$1","v":0},{"$f":"'Absorbance Data'!X3396-Calculations!U$1","v":0},{"$f":"'Absorbance Data'!Y3396-Calculations!V$1","v":0},{"$f":"'Absorbance Data'!Z3396-Calculations!W$1","v":0}]
[{"$f":"'Absorbance Data'!D3397","v":643.032470703125},{"$f":"'Absorbance Data'!E3397-Calculations!B$1","v":0},{"$f":"'Absorbance Data'!F3397-Calculations!C$1","v":0},{"$f":"'Absorbance Data'!G3397-Calculations!D$1","v":0},{"$f":"'Absorbance Data'!H3397-Calculations!E$1","v":0},{"$f":"'Absorbance Data'!I3397-Calculations!F$1","v":0},{"$f":"'Absorbance Data'!J3397-Calculations!G$1","v":0},{"$f":"'Absorbance Data'!K3397-Calculations!H$1","v":0},{"$f":"'Absorbance Data'!L3397-Calculations!I$1","v":0},{"$f":"'Absorbance Data'!M3397-Calculations!J$1","v":0},{"$f":"'Absorbance Data'!N3397-Calculations!K$1","v":0},{"$f":"'Absorbance Data'!O3397-Calculations!L$1","v":0},{"$f":"'Absorbance Data'!P3397-Calculations!M$1","v":0},{"$f":"'Absorbance Data'!Q3397-Calculations!N$1","v":0},{"$f":"'Absorbance Data'!R3397-Calculations!O$1","v":0},{"$f":"'Absorbance Data'!S3397-Calculations!P$1","v":0},{"$f":"'Absorbance Data'!T3397-Calculations!Q$1","v":0},{"$f":"'Absorbance Data'!U3397-Calculations!R$1","v":0},{"$f":"'Absorbance Data'!V3397-Calculations!S$1","v":0},{"$f":"'Absorbance Data'!W3397-Calculations!T$1","v":0},{"$f":"'Absorbance Data'!X3397-Calculations!U$1","v":0},{"$f":"'Absorbance Data'!Y3397-Calculations!V$1","v":0},{"$f":"'Absorbance Data'!Z3397-Calculations!W$1","v":0}]
[{"$f":"'Absorbance Data'!D3398","v":643.347412109375},{"$f":"'Absorbance Data'!E3398-Calculations!B$1","v":0},{"$f":"'Absorbance Data'!F3398-Calculations!C$1","v":0},{"$f":"'Absorbance Data'!G3398-Calculations!D$1","v":0},{"$f":"'Absorbance Data'!H3398-Calculations!E$1","v":0},{"$f":"'Absorbance Data'!I3398-Calculations!F$1","v":0},{"$f":"'Absorbance Data'!J3398-Calculations!G$1","v":0},{"$f":"'Absorbance Data'!K3398-Calculations!H$1","v":0},{"$f":"'Absorbance Data'!L3398-Calculations!I$1","v":0},{"$f":"'Absorbance Data'!M3398-Calculations!J$1","v":0},{"$f":"'Absorbance Data'!N3398-Calculations!K$1","v":0},{"$f":"'Absorbance Data'!O3398-Calculations!L$1","v":0},{"$f":"'Absorbance Data'!P3398-Calculations!M$1","v":0},{"$f":"'Absorbance Data'!Q3398-Calculations!N$1","v":0},{"$f":"'Absorbance Data'!R3398-Calculations!O$1","v":0},{"$f":"'Absorbance Data'!S3398-Calculations!P$1","v":0},{"$f":"'Absorbance Data'!T3398-Calculations!Q$1","v":0},{"$f":"'Absorbance Data'!U3398-Calculations!R$1","v":0},{"$f":"'Absorbance Data'!V3398-Calculations!S$1","v":0},{"$f":"'Absorbance Data'!W3398-Calculations!T$1","v":0},{"$f":"'Absorbance Data'!X3398-Calculations!U$1","v":0},{"$f":"'Absorbance Data'!Y3398-Calculations!V$1","v":0},{"$f":"'Absorbance Data'!Z3398-Calculations!W$1","v":0}]
[{"$f":"'Absorbance Data'!D3399","v":643.66229248046875},{"$f":"'Absorbance Data'!E3399-Calculations!B$1","v":0},{"$f":"'Absorbance Data'!F3399-Calculations!C$1","v":0},{"$f":"'Absorbance Data'!G3399-Calculations!D$1","v":0},{"$f":"'Absorbance Data'!H3399-Calculations!E$1","v":0},{"$f":"'Absorbance Data'!I3399-Calculations!F$1","v":0},{"$f":"'Absorbance Data'!J3399-Calculations!G$1","v":0},{"$f":"'Absorbance Data'!K3399-Calculations!H$1","v":0},{"$f":"'Absorbance Data'!L3399-Calculations!I$1","v":0},{"$f":"'Absorbance Data'!M3399-Calculations!J$1","v":0},{"$f":"'Absorbance Data'!N3399-Calculations!K$1","v":0},{"$f":"'Absorbance Data'!O3399-Calculations!L$1","v":0},{"$f":"'Absorbance Data'!P3399-Calculations!M$1","v":0},{"$f":"'Absorbance Data'!Q3399-Calculations!N$1","v":0},{"$f":"'Absorbance Data'!R3399-Calculations!O$1","v":0},{"$f":"'Absorbance Data'!S3399-Calculations!P$1","v":0},{"$f":"'Absorbance Data'!T3399-Calculations!Q$1","v":0},{"$f":"'Absorbance Data'!U3399-Calculations!R$1","v":0},{"$f":"'Absorbance Data'!V3399-Calculations!S$1","v":0},{"$f":"'Absorbance Data'!W3399-Calculations!T$1","v":0},{"$f":"'Absorbance Data'!X3399-Calculations!U$1","v":0},{"$f":"'Absorbance Data'!Y3399-Calculations!V$1","v":0},{"$f":"'Absorbance Data'!Z3399-Calculations!W$1","v":0}]
[{"$f":"'Absorbance Data'!D3400","v":643.97711181640625},{"$f":"'Absorbance Data'!E3400-Calculations!B$1","v":0},{"$f":"'Absorbance Data'!F3400-Calculations!C$1","v":0},{"$f":"'Absorbance Data'!G3400-Calculations!D$1","v":0},{"$f":"'Absorbance Data'!H3400-Calculations!E$1","v":0},{"$f":"'Absorbance Data'!I3400-Calculations!F$1","v":0},{"$f":"'Absorbance Data'!J3400-Calculations!G$1","v":0},{"$f":"'Absorbance Data'!K3400-Calculations!H$1","v":0},{"$f":"'Absorbance Data'!L3400-Calculations!I$1","v":0},{"$f":"'Absorbance Data'!M3400-Calculations!J$1","v":0},{"$f":"'Absorbance Data'!N3400-Calculations!K$1","v":0},{"$f":"'Absorbance Data'!O3400-Calculations!L$1","v":0},{"$f":"'Absorbance Data'!P3400-Calculations!M$1","v":0},{"$f":"'Absorbance Data'!Q3400-Calculations!N$1","v":0},{"$f":"'Absorbance Data'!R3400-Calculations!O$1","v":0},{"$f":"'Absorbance Data'!S3400-Calculations!P$1","v":0},{"$f":"'Absorbance Data'!T3400-Calculations!Q$1","v":0},{"$f":"'Absorbance Data'!U3400-Calculations!R$1","v":0},{"$f":"'Absorbance Data'!V3400-Calculations!S$1","v":0},{"$f":"'Absorbance Data'!W3400-Calculations!T$1","v":0},{"$f":"'Absorbance Data'!X3400-Calculations!U$1","v":0},{"$f":"'Absorbance Data'!Y3400-Calculations!V$1","v":0},{"$f":"'Absorbance Data'!Z3400-Calculations!W$1","v":0}]
[{"$f":"'Absorbance Data'!D3401","v":644.29193115234375},{"$f":"'Absorbance Data'!E3401-Calculations!B$1","v":0},{"$f":"'Absorbance Data'!F3401-Calculations!C$1","v":0},{"$f":"'Absorbance Data'!G3401-Calculations!D$1","v":0},{"$f":"'Absorbance Data'!H3401-Calculations!E$1","v":0},{"$f":"'Absorbance Data'!I3401-Calculations!F$1","v":0},{"$f":"'Absorbance Data'!J3401-Calculations!G$1","v":0},{"$f":"'Absorbance Data'!K3401-Calculations!H$1","v":0},{"$f":"'Absorbance Data'!L3401-Calculations!I$1","v":0},{"$f":"'Absorbance Data'!M3401-Calculations!J$1","v":0},{"$f":"'Absorbance Data'!N3401-Calculations!K$1","v":0},{"$f":"'Absorbance Data'!O3401-Calculations!L$1","v":0},{"$f":"'Absorbance Data'!P3401-Calculations!M$1","v":0},{"$f":"'Absorbance Data'!Q3401-Calculations!N$1","v":0},{"$f":"'Absorbance Data'!R3401-Calculations!O$1","v":0},{"$f":"'Absorbance Data'!S3401-Calculations!P$1","v":0},{"$f":"'Absorbance Data'!T3401-Calculations!Q$1","v":0},{"$f":"'Absorbance Data'!U3401-Calculations!R$1","v":0},{"$f":"'Absorbance Data'!V3401-Calculations!S$1","v":0},{"$f":"'Absorbance Data'!W3401-Calculations!T$1","v":0},{"$f":"'Absorbance Data'!X3401-Calculations!U$1","v":0},{"$f":"'Absorbance Data'!Y3401-Calculations!V$1","v":0},{"$f":"'Absorbance Data'!Z3401-Calculations!W$1","v":0}]
[{"$f":"'Absorbance Data'!D3402","v":644.60662841796875},{"$f":"'Absorbance Data'!E3402-Calculations!B$1","v":0},{"$f":"'Absorbance Data'!F3402-Calculations!C$1","v":0},{"$f":"'Absorbance Data'!G3402-Calculations!D$1","v":0},{"$f":"'Absorbance Data'!H3402-Calculations!E$1","v":0},{"$f":"'Absorbance Data'!I3402-Calculations!F$1","v":0},{"$f":"'Absorbance Data'!J3402-Calculations!G$1","v":0},{"$f":"'Absorbance Data'!K3402-Calculations!H$1","v":0},{"$f":"'Absorbance Data'!L3402-Calculations!I$1","v":0},{"$f":"'Absorbance Data'!M3402-Calculations!J$1","v":0},{"$f":"'Absorbance Data'!N3402-Calculations!K$1","v":0},{"$f":"'Absorbance Data'!O3402-Calculations!L$1","v":0},{"$f":"'Absorbance Data'!P3402-Calculations!M$1","v":0},{"$f":"'Absorbance Data'!Q3402-Calculations!N$1","v":0},{"$f":"'Absorbance Data'!R3402-Calculations!O$1","v":0},{"$f":"'Absorbance Data'!S3402-Calculations!P$1","v":0},{"$f":"'Absorbance Data'!T3402-Calculations!Q$1","v":0},{"$f":"'Absorbance Data'!U3402-Calculations!R$1","v":0},{"$f":"'Absorbance Data'!V3402-Calculations!S$1","v":0},{"$f":"'Absorbance Data'!W3402-Calculations!T$1","v":0},{"$f":"'Absorbance Data'!X3402-Calculations!U$1","v":0},{"$f":"'Absorbance Data'!Y3402-Calculations!V$1","v":0},{"$f":"'Absorbance Data'!Z3402-Calculations!W$1","v":0}]
[{"$f":"'Absorbance Data'!D3403","v":644.92138671875},{"$f":"'Absorbance Data'!E3403-Calculations!B$1","v":0},{"$f":"'Absorbance Data'!F3403-Calculations!C$1","v":0},{"$f":"'Absorbance Data'!G3403-Calculations!D$1","v":0},{"$f":"'Absorbance Data'!H3403-Calculations!E$1","v":0},{"$f":"'Absorbance Data'!I3403-Calculations!F$1","v":0},{"$f":"'Absorbance Data'!J3403-Calculations!G$1","v":0},{"$f":"'Absorbance Data'!K3403-Calculations!H$1","v":0},{"$f":"'Absorbance Data'!L3403-Calculations!I$1","v":0},{"$f":"'Absorbance Data'!M3403-Calculations!J$1","v":0},{"$f":"'Absorbance Data'!N3403-Calculations!K$1","v":0},{"$f":"'Absorbance Data'!O3403-Calculations!L$1","v":0},{"$f":"'Absorbance Data'!P3403-Calculations!M$1","v":0},{"$f":"'Absorbance Data'!Q3403-Calculations!N$1","v":0},{"$f":"'Absorbance Data'!R3403-Calculations!O$1","v":0},{"$f":"'Absorbance Data'!S3403-Calculations!P$1","v":0},{"$f":"'Absorbance Data'!T3403-Calculations!Q$1","v":0},{"$f":"'Absorbance Data'!U3403-Calculations!R$1","v":0},{"$f":"'Absorbance Data'!V3403-Calculations!S$1","v":0},{"$f":"'Absorbance Data'!W3403-Calculations!T$1","v":0},{"$f":"'Absorbance Data'!X3403-Calculations!U$1","v":0},{"$f":"'Absorbance Data'!Y3403-Calculations!V$1","v":0},{"$f":"'Absorbance Data'!Z3403-Calculations!W$1","v":0}]
[{"$f":"'Absorbance Data'!D3404","v":645.23602294921875},{"$f":"'Absorbance Data'!E3404-Calculations!B$1","v":0},{"$f":"'Absorbance Data'!F3404-Calculations!C$1","v":0},{"$f":"'Absorbance Data'!G3404-Calculations!D$1","v":0},{"$f":"'Absorbance Data'!H3404-Calculations!E$1","v":0},{"$f":"'Absorbance Data'!I3404-Calculations!F$1","v":0},{"$f":"'Absorbance Data'!J3404-Calculations!G$1","v":0},{"$f":"'Absorbance Data'!K3404-Calculations!H$1","v":0},{"$f":"'Absorbance Data'!L3404-Calculations!I$1","v":0},{"$f":"'Absorbance Data'!M3404-Calculations!J$1","v":0},{"$f":"'Absorbance Data'!N3404-Calculations!K$1","v":0},{"$f":"'Absorbance Data'!O3404-Calculations!L$1","v":0},{"$f":"'Absorbance Data'!P3404-Calculations!M$1","v":0},{"$f":"'Absorbance Data'!Q3404-Calculations!N$1","v":0},{"$f":"'Absorbance Data'!R3404-Calculations!O$1","v":0},{"$f":"'Absorbance Data'!S3404-Calculations!P$1","v":0},{"$f":"'Absorbance Data'!T3404-Calculations!Q$1","v":0},{"$f":"'Absorbance Data'!U3404-Calculations!R$1","v":0},{"$f":"'Absorbance Data'!V3404-Calculations!S$1","v":0},{"$f":"'Absorbance Data'!W3404-Calculations!T$1","v":0},{"$f":"'Absorbance Data'!X3404-Calculations!U$1","v":0},{"$f":"'Absorbance Data'!Y3404-Calculations!V$1","v":0},{"$f":"'Absorbance Data'!Z3404-Calculations!W$1","v":0}]
[{"$f":"'Absorbance Data'!D3405","v":645.5506591796875},{"$f":"'Absorbance Data'!E3405-Calculations!B$1","v":0},{"$f":"'Absorbance Data'!F3405-Calculations!C$1","v":0},{"$f":"'Absorbance Data'!G3405-Calculations!D$1","v":0},{"$f":"'Absorbance Data'!H3405-Calculations!E$1","v":0},{"$f":"'Absorbance Data'!I3405-Calculations!F$1","v":0},{"$f":"'Absorbance Data'!J3405-Calculations!G$1","v":0},{"$f":"'Absorbance Data'!K3405-Calculations!H$1","v":0},{"$f":"'Absorbance Data'!L3405-Calculations!I$1","v":0},{"$f":"'Absorbance Data'!M3405-Calculations!J$1","v":0},{"$f":"'Absorbance Data'!N3405-Calculations!K$1","v":0},{"$f":"'Absorbance Data'!O3405-Calculations!L$1","v":0},{"$f":"'Absorbance Data'!P3405-Calculations!M$1","v":0},{"$f":"'Absorbance Data'!Q3405-Calculations!N$1","v":0},{"$f":"'Absorbance Data'!R3405-Calculations!O$1","v":0},{"$f":"'Absorbance Data'!S3405-Calculations!P$1","v":0},{"$f":"'Absorbance Data'!T3405-Calculations!Q$1","v":0},{"$f":"'Absorbance Data'!U3405-Calculations!R$1","v":0},{"$f":"'Absorbance Data'!V3405-Calculations!S$1","v":0},{"$f":"'Absorbance Data'!W3405-Calculations!T$1","v":0},{"$f":"'Absorbance Data'!X3405-Calculations!U$1","v":0},{"$f":"'Absorbance Data'!Y3405-Calculations!V$1","v":0},{"$f":"'Absorbance Data'!Z3405-Calculations!W$1","v":0}]
[{"$f":"'Absorbance Data'!D3406","v":645.86529541015625},{"$f":"'Absorbance Data'!E3406-Calculations!B$1","v":0},{"$f":"'Absorbance Data'!F3406-Calculations!C$1","v":0},{"$f":"'Absorbance Data'!G3406-Calculations!D$1","v":0},{"$f":"'Absorbance Data'!H3406-Calculations!E$1","v":0},{"$f":"'Absorbance Data'!I3406-Calculations!F$1","v":0},{"$f":"'Absorbance Data'!J3406-Calculations!G$1","v":0},{"$f":"'Absorbance Data'!K3406-Calculations!H$1","v":0},{"$f":"'Absorbance Data'!L3406-Calculations!I$1","v":0},{"$f":"'Absorbance Data'!M3406-Calculations!J$1","v":0},{"$f":"'Absorbance Data'!N3406-Calculations!K$1","v":0},{"$f":"'Absorbance Data'!O3406-Calculations!L$1","v":0},{"$f":"'Absorbance Data'!P3406-Calculations!M$1","v":0},{"$f":"'Absorbance Data'!Q3406-Calculations!N$1","v":0},{"$f":"'Absorbance Data'!R3406-Calculations!O$1","v":0},{"$f":"'Absorbance Data'!S3406-Calculations!P$1","v":0},{"$f":"'Absorbance Data'!T3406-Calculations!Q$1","v":0},{"$f":"'Absorbance Data'!U3406-Calculations!R$1","v":0},{"$f":"'Absorbance Data'!V3406-Calculations!S$1","v":0},{"$f":"'Absorbance Data'!W3406-Calculations!T$1","v":0},{"$f":"'Absorbance Data'!X3406-Calculations!U$1","v":0},{"$f":"'Absorbance Data'!Y3406-Calculations!V$1","v":0},{"$f":"'Absorbance Data'!Z3406-Calculations!W$1","v":0}]
[{"$f":"'Absorbance Data'!D3407","v":646.1798095703125},{"$f":"'Absorbance Data'!E3407-Calculations!B$1","v":0},{"$f":"'Absorbance Data'!F3407-Calculations!C$1","v":0},{"$f":"'Absorbance Data'!G3407-Calculations!D$1","v":0},{"$f":"'Absorbance Data'!H3407-Calculations!E$1","v":0},{"$f":"'Absorbance Data'!I3407-Calculations!F$1","v":0},{"$f":"'Absorbance Data'!J3407-Calculations!G$1","v":0},{"$f":"'Absorbance Data'!K3407-Calculations!H$1","v":0},{"$f":"'Absorbance Data'!L3407-Calculations!I$1","v":0},{"$f":"'Absorbance Data'!M3407-Calculations!J$1","v":0},{"$f":"'Absorbance Data'!N3407-Calculations!K$1","v":0},{"$f":"'Absorbance Data'!O3407-Calculations!L$1","v":0},{"$f":"'Absorbance Data'!P3407-Calculations!M$1","v":0},{"$f":"'Absorbance Data'!Q3407-Calculations!N$1","v":0},{"$f":"'Absorbance Data'!R3407-Calculations!O$1","v":0},{"$f":"'Absorbance Data'!S3407-Calculations!P$1","v":0},{"$f":"'Absorbance Data'!T3407-Calculations!Q$1","v":0},{"$f":"'Absorbance Data'!U3407-Calculations!R$1","v":0},{"$f":"'Absorbance Data'!V3407-Calculations!S$1","v":0},{"$f":"'Absorbance Data'!W3407-Calculations!T$1","v":0},{"$f":"'Absorbance Data'!X3407-Calculations!U$1","v":0},{"$f":"'Absorbance Data'!Y3407-Calculations!V$1","v":0},{"$f":"'Absorbance Data'!Z3407-Calculations!W$1","v":0}]
[{"$f":"'Absorbance Data'!D3408","v":646.4942626953125},{"$f":"'Absorbance Data'!E3408-Calculations!B$1","v":0},{"$f":"'Absorbance Data'!F3408-Calculations!C$1","v":0},{"$f":"'Absorbance Data'!G3408-Calculations!D$1","v":0},{"$f":"'Absorbance Data'!H3408-Calculations!E$1","v":0},{"$f":"'Absorbance Data'!I3408-Calculations!F$1","v":0},{"$f":"'Absorbance Data'!J3408-Calculations!G$1","v":0},{"$f":"'Absorbance Data'!K3408-Calculations!H$1","v":0},{"$f":"'Absorbance Data'!L3408-Calculations!I$1","v":0},{"$f":"'Absorbance Data'!M3408-Calculations!J$1","v":0},{"$f":"'Absorbance Data'!N3408-Calculations!K$1","v":0},{"$f":"'Absorbance Data'!O3408-Calculations!L$1","v":0},{"$f":"'Absorbance Data'!P3408-Calculations!M$1","v":0},{"$f":"'Absorbance Data'!Q3408-Calculations!N$1","v":0},{"$f":"'Absorbance Data'!R3408-Calculations!O$1","v":0},{"$f":"'Absorbance Data'!S3408-Calculations!P$1","v":0},{"$f":"'Absorbance Data'!T3408-Calculations!Q$1","v":0},{"$f":"'Absorbance Data'!U3408-Calculations!R$1","v":0},{"$f":"'Absorbance Data'!V3408-Calculations!S$1","v":0},{"$f":"'Absorbance Data'!W3408-Calculations!T$1","v":0},{"$f":"'Absorbance Data'!X3408-Calculations!U$1","v":0},{"$f":"'Absorbance Data'!Y3408-Calculations!V$1","v":0},{"$f":"'Absorbance Data'!Z3408-Calculations!W$1","v":0}]
[{"$f":"'Absorbance Data'!D3409","v":646.8087158203125},{"$f":"'Absorbance Data'!E3409-Calculations!B$1","v":0},{"$f":"'Absorbance Data'!F3409-Calculations!C$1","v":0},{"$f":"'Absorbance Data'!G3409-Calculations!D$1","v":0},{"$f":"'Absorbance Data'!H3409-Calculations!E$1","v":0},{"$f":"'Absorbance Data'!I3409-Calculations!F$1","v":0},{"$f":"'Absorbance Data'!J3409-Calculations!G$1","v":0},{"$f":"'Absorbance Data'!K3409-Calculations!H$1","v":0},{"$f":"'Absorbance Data'!L3409-Calculations!I$1","v":0},{"$f":"'Absorbance Data'!M3409-Calculations!J$1","v":0},{"$f":"'Absorbance Data'!N3409-Calculations!K$1","v":0},{"$f":"'Absorbance Data'!O3409-Calculations!L$1","v":0},{"$f":"'Absorbance Data'!P3409-Calculations!M$1","v":0},{"$f":"'Absorbance Data'!Q3409-Calculations!N$1","v":0},{"$f":"'Absorbance Data'!R3409-Calculations!O$1","v":0},{"$f":"'Absorbance Data'!S3409-Calculations!P$1","v":0},{"$f":"'Absorbance Data'!T3409-Calculations!Q$1","v":0},{"$f":"'Absorbance Data'!U3409-Calculations!R$1","v":0},{"$f":"'Absorbance Data'!V3409-Calculations!S$1","v":0},{"$f":"'Absorbance Data'!W3409-Calculations!T$1","v":0},{"$f":"'Absorbance Data'!X3409-Calculations!U$1","v":0},{"$f":"'Absorbance Data'!Y3409-Calculations!V$1","v":0},{"$f":"'Absorbance Data'!Z3409-Calculations!W$1","v":0}]
[{"$f":"'Absorbance Data'!D3410","v":647.1231689453125},{"$f":"'Absorbance Data'!E3410-Calculations!B$1","v":0},{"$f":"'Absorbance Data'!F3410-Calculations!C$1","v":0},{"$f":"'Absorbance Data'!G3410-Calculations!D$1","v":0},{"$f":"'Absorbance Data'!H3410-Calculations!E$1","v":0},{"$f":"'Absorbance Data'!I3410-Calculations!F$1","v":0},{"$f":"'Absorbance Data'!J3410-Calculations!G$1","v":0},{"$f":"'Absorbance Data'!K3410-Calculations!H$1","v":0},{"$f":"'Absorbance Data'!L3410-Calculations!I$1","v":0},{"$f":"'Absorbance Data'!M3410-Calculations!J$1","v":0},{"$f":"'Absorbance Data'!N3410-Calculations!K$1","v":0},{"$f":"'Absorbance Data'!O3410-Calculations!L$1","v":0},{"$f":"'Absorbance Data'!P3410-Calculations!M$1","v":0},{"$f":"'Absorbance Data'!Q3410-Calculations!N$1","v":0},{"$f":"'Absorbance Data'!R3410-Calculations!O$1","v":0},{"$f":"'Absorbance Data'!S3410-Calculations!P$1","v":0},{"$f":"'Absorbance Data'!T3410-Calculations!Q$1","v":0},{"$f":"'Absorbance Data'!U3410-Calculations!R$1","v":0},{"$f":"'Absorbance Data'!V3410-Calculations!S$1","v":0},{"$f":"'Absorbance Data'!W3410-Calculations!T$1","v":0},{"$f":"'Absorbance Data'!X3410-Calculations!U$1","v":0},{"$f":"'Absorbance Data'!Y3410-Calculations!V$1","v":0},{"$f":"'Absorbance Data'!Z3410-Calculations!W$1","v":0}]
[{"$f":"'Absorbance Data'!D3411","v":647.4375},{"$f":"'Absorbance Data'!E3411-Calculations!B$1","v":0},{"$f":"'Absorbance Data'!F3411-Calculations!C$1","v":0},{"$f":"'Absorbance Data'!G3411-Calculations!D$1","v":0},{"$f":"'Absorbance Data'!H3411-Calculations!E$1","v":0},{"$f":"'Absorbance Data'!I3411-Calculations!F$1","v":0},{"$f":"'Absorbance Data'!J3411-Calculations!G$1","v":0},{"$f":"'Absorbance Data'!K3411-Calculations!H$1","v":0},{"$f":"'Absorbance Data'!L3411-Calculations!I$1","v":0},{"$f":"'Absorbance Data'!M3411-Calculations!J$1","v":0},{"$f":"'Absorbance Data'!N3411-Calculations!K$1","v":0},{"$f":"'Absorbance Data'!O3411-Calculations!L$1","v":0},{"$f":"'Absorbance Data'!P3411-Calculations!M$1","v":0},{"$f":"'Absorbance Data'!Q3411-Calculations!N$1","v":0},{"$f":"'Absorbance Data'!R3411-Calculations!O$1","v":0},{"$f":"'Absorbance Data'!S3411-Calculations!P$1","v":0},{"$f":"'Absorbance Data'!T3411-Calculations!Q$1","v":0},{"$f":"'Absorbance Data'!U3411-Calculations!R$1","v":0},{"$f":"'Absorbance Data'!V3411-Calculations!S$1","v":0},{"$f":"'Absorbance Data'!W3411-Calculations!T$1","v":0},{"$f":"'Absorbance Data'!X3411-Calculations!U$1","v":0},{"$f":"'Absorbance Data'!Y3411-Calculations!V$1","v":0},{"$f":"'Absorbance Data'!Z3411-Calculations!W$1","v":0}]
[{"$f":"'Absorbance Data'!D3412","v":647.75177001953125},{"$f":"'Absorbance Data'!E3412-Calculations!B$1","v":0},{"$f":"'Absorbance Data'!F3412-Calculations!C$1","v":0},{"$f":"'Absorbance Data'!G3412-Calculations!D$1","v":0},{"$f":"'Absorbance Data'!H3412-Calculations!E$1","v":0},{"$f":"'Absorbance Data'!I3412-Calculations!F$1","v":0},{"$f":"'Absorbance Data'!J3412-Calculations!G$1","v":0},{"$f":"'Absorbance Data'!K3412-Calculations!H$1","v":0},{"$f":"'Absorbance Data'!L3412-Calculations!I$1","v":0},{"$f":"'Absorbance Data'!M3412-Calculations!J$1","v":0},{"$f":"'Absorbance Data'!N3412-Calculations!K$1","v":0},{"$f":"'Absorbance Data'!O3412-Calculations!L$1","v":0},{"$f":"'Absorbance Data'!P3412-Calculations!M$1","v":0},{"$f":"'Absorbance Data'!Q3412-Calculations!N$1","v":0},{"$f":"'Absorbance Data'!R3412-Calculations!O$1","v":0},{"$f":"'Absorbance Data'!S3412-Calculations!P$1","v":0},{"$f":"'Absorbance Data'!T3412-Calculations!Q$1","v":0},{"$f":"'Absorbance Data'!U3412-Calculations!R$1","v":0},{"$f":"'Absorbance Data'!V3412-Calculations!S$1","v":0},{"$f":"'Absorbance Data'!W3412-Calculations!T$1","v":0},{"$f":"'Absorbance Data'!X3412-Calculations!U$1","v":0},{"$f":"'Absorbance Data'!Y3412-Calculations!V$1","v":0},{"$f":"'Absorbance Data'!Z3412-Calculations!W$1","v":0}]
[{"$f":"'Absorbance Data'!D3413","v":648.066162109375},{"$f":"'Absorbance Data'!E3413-Calculations!B$1","v":0},{"$f":"'Absorbance Data'!F3413-Calculations!C$1","v":0},{"$f":"'Absorbance Data'!G3413-Calculations!D$1","v":0},{"$f":"'Absorbance Data'!H3413-Calculations!E$1","v":0},{"$f":"'Absorbance Data'!I3413-Calculations!F$1","v":0},{"$f":"'Absorbance Data'!J3413-Calculations!G$1","v":0},{"$f":"'Absorbance Data'!K3413-Calculations!H$1","v":0},{"$f":"'Absorbance Data'!L3413-Calculations!I$1","v":0},{"$f":"'Absorbance Data'!M3413-Calculations!J$1","v":0},{"$f":"'Absorbance Data'!N3413-Calculations!K$1","v":0},{"$f":"'Absorbance Data'!O3413-Calculations!L$1","v":0},{"$f":"'Absorbance Data'!P3413-Calculations!M$1","v":0},{"$f":"'Absorbance Data'!Q3413-Calculations!N$1","v":0},{"$f":"'Absorbance Data'!R3413-Calculations!O$1","v":0},{"$f":"'Absorbance Data'!S3413-Calculations!P$1","v":0},{"$f":"'Absorbance Data'!T3413-Calculations!Q$1","v":0},{"$f":"'Absorbance Data'!U3413-Calculations!R$1","v":0},{"$f":"'Absorbance Data'!V3413-Calculations!S$1","v":0},{"$f":"'Absorbance Data'!W3413-Calculations!T$1","v":0},{"$f":"'Absorbance Data'!X3413-Calculations!U$1","v":0},{"$f":"'Absorbance Data'!Y3413-Calculations!V$1","v":0},{"$f":"'Absorbance Data'!Z3413-Calculations!W$1","v":0}]
[{"$f":"'Absorbance Data'!D3414","v":648.38037109375},{"$f":"'Absorbance Data'!E3414-Calculations!B$1","v":0},{"$f":"'Absorbance Data'!F3414-Calculations!C$1","v":0},{"$f":"'Absorbance Data'!G3414-Calculations!D$1","v":0},{"$f":"'Absorbance Data'!H3414-Calculations!E$1","v":0},{"$f":"'Absorbance Data'!I3414-Calculations!F$1","v":0},{"$f":"'Absorbance Data'!J3414-Calculations!G$1","v":0},{"$f":"'Absorbance Data'!K3414-Calculations!H$1","v":0},{"$f":"'Absorbance Data'!L3414-Calculations!I$1","v":0},{"$f":"'Absorbance Data'!M3414-Calculations!J$1","v":0},{"$f":"'Absorbance Data'!N3414-Calculations!K$1","v":0},{"$f":"'Absorbance Data'!O3414-Calculations!L$1","v":0},{"$f":"'Absorbance Data'!P3414-Calculations!M$1","v":0},{"$f":"'Absorbance Data'!Q3414-Calculations!N$1","v":0},{"$f":"'Absorbance Data'!R3414-Calculations!O$1","v":0},{"$f":"'Absorbance Data'!S3414-Calculations!P$1","v":0},{"$f":"'Absorbance Data'!T3414-Calculations!Q$1","v":0},{"$f":"'Absorbance Data'!U3414-Calculations!R$1","v":0},{"$f":"'Absorbance Data'!V3414-Calculations!S$1","v":0},{"$f":"'Absorbance Data'!W3414-Calculations!T$1","v":0},{"$f":"'Absorbance Data'!X3414-Calculations!U$1","v":0},{"$f":"'Absorbance Data'!Y3414-Calculations!V$1","v":0},{"$f":"'Absorbance Data'!Z3414-Calculations!W$1","v":0}]
[{"$f":"'Absorbance Data'!D3415","v":648.694580078125},{"$f":"'Absorbance Data'!E3415-Calculations!B$1","v":0},{"$f":"'Absorbance Data'!F3415-Calculations!C$1","v":0},{"$f":"'Absorbance Data'!G3415-Calculations!D$1","v":0},{"$f":"'Absorbance Data'!H3415-Calculations!E$1","v":0},{"$f":"'Absorbance Data'!I3415-Calculations!F$1","v":0},{"$f":"'Absorbance Data'!J3415-Calculations!G$1","v":0},{"$f":"'Absorbance Data'!K3415-Calculations!H$1","v":0},{"$f":"'Absorbance Data'!L3415-Calculations!I$1","v":0},{"$f":"'Absorbance Data'!M3415-Calculations!J$1","v":0},{"$f":"'Absorbance Data'!N3415-Calculations!K$1","v":0},{"$f":"'Absorbance Data'!O3415-Calculations!L$1","v":0},{"$f":"'Absorbance Data'!P3415-Calculations!M$1","v":0},{"$f":"'Absorbance Data'!Q3415-Calculations!N$1","v":0},{"$f":"'Absorbance Data'!R3415-Calculations!O$1","v":0},{"$f":"'Absorbance Data'!S3415-Calculations!P$1","v":0},{"$f":"'Absorbance Data'!T3415-Calculations!Q$1","v":0},{"$f":"'Absorbance Data'!U3415-Calculations!R$1","v":0},{"$f":"'Absorbance Data'!V3415-Calculations!S$1","v":0},{"$f":"'Absorbance Data'!W3415-Calculations!T$1","v":0},{"$f":"'Absorbance Data'!X3415-Calculations!U$1","v":0},{"$f":"'Absorbance Data'!Y3415-Calculations!V$1","v":0},{"$f":"'Absorbance Data'!Z3415-Calculations!W$1","v":0}]
[{"$f":"'Absorbance Data'!D3416","v":649.0086669921875},{"$f":"'Absorbance Data'!E3416-Calculations!B$1","v":0},{"$f":"'Absorbance Data'!F3416-Calculations!C$1","v":0},{"$f":"'Absorbance Data'!G3416-Calculations!D$1","v":0},{"$f":"'Absorbance Data'!H3416-Calculations!E$1","v":0},{"$f":"'Absorbance Data'!I3416-Calculations!F$1","v":0},{"$f":"'Absorbance Data'!J3416-Calculations!G$1","v":0},{"$f":"'Absorbance Data'!K3416-Calculations!H$1","v":0},{"$f":"'Absorbance Data'!L3416-Calculations!I$1","v":0},{"$f":"'Absorbance Data'!M3416-Calculations!J$1","v":0},{"$f":"'Absorbance Data'!N3416-Calculations!K$1","v":0},{"$f":"'Absorbance Data'!O3416-Calculations!L$1","v":0},{"$f":"'Absorbance Data'!P3416-Calculations!M$1","v":0},{"$f":"'Absorbance Data'!Q3416-Calculations!N$1","v":0},{"$f":"'Absorbance Data'!R3416-Calculations!O$1","v":0},{"$f":"'Absorbance Data'!S3416-Calculations!P$1","v":0},{"$f":"'Absorbance Data'!T3416-Calculations!Q$1","v":0},{"$f":"'Absorbance Data'!U3416-Calculations!R$1","v":0},{"$f":"'Absorbance Data'!V3416-Calculations!S$1","v":0},{"$f":"'Absorbance Data'!W3416-Calculations!T$1","v":0},{"$f":"'Absorbance Data'!X3416-Calculations!U$1","v":0},{"$f":"'Absorbance Data'!Y3416-Calculations!V$1","v":0},{"$f":"'Absorbance Data'!Z3416-Calculations!W$1","v":0}]
[{"$f":"'Absorbance Data'!D3417","v":649.32281494140625},{"$f":"'Absorbance Data'!E3417-Calculations!B$1","v":0},{"$f":"'Absorbance Data'!F3417-Calculations!C$1","v":0},{"$f":"'Absorbance Data'!G3417-Calculations!D$1","v":0},{"$f":"'Absorbance Data'!H3417-Calculations!E$1","v":0},{"$f":"'Absorbance Data'!I3417-Calculations!F$1","v":0},{"$f":"'Absorbance Data'!J3417-Calculations!G$1","v":0},{"$f":"'Absorbance Data'!K3417-Calculations!H$1","v":0},{"$f":"'Absorbance Data'!L3417-Calculations!I$1","v":0},{"$f":"'Absorbance Data'!M3417-Calculations!J$1","v":0},{"$f":"'Absorbance Data'!N3417-Calculations!K$1","v":0},{"$f":"'Absorbance Data'!O3417-Calculations!L$1","v":0},{"$f":"'Absorbance Data'!P3417-Calculations!M$1","v":0},{"$f":"'Absorbance Data'!Q3417-Calculations!N$1","v":0},{"$f":"'Absorbance Data'!R3417-Calculations!O$1","v":0},{"$f":"'Absorbance Data'!S3417-Calculations!P$1","v":0},{"$f":"'Absorbance Data'!T3417-Calculations!Q$1","v":0},{"$f":"'Absorbance Data'!U3417-Calculations!R$1","v":0},{"$f":"'Absorbance Data'!V3417-Calculations!S$1","v":0},{"$f":"'Absorbance Data'!W3417-Calculations!T$1","v":0},{"$f":"'Absorbance Data'!X3417-Calculations!U$1","v":0},{"$f":"'Absorbance Data'!Y3417-Calculations!V$1","v":0},{"$f":"'Absorbance Data'!Z3417-Calculations!W$1","v":0}]
[{"$f":"'Absorbance Data'!D3418","v":649.636962890625},{"$f":"'Absorbance Data'!E3418-Calculations!B$1","v":0},{"$f":"'Absorbance Data'!F3418-Calculations!C$1","v":0},{"$f":"'Absorbance Data'!G3418-Calculations!D$1","v":0},{"$f":"'Absorbance Data'!H3418-Calculations!E$1","v":0},{"$f":"'Absorbance Data'!I3418-Calculations!F$1","v":0},{"$f":"'Absorbance Data'!J3418-Calculations!G$1","v":0},{"$f":"'Absorbance Data'!K3418-Calculations!H$1","v":0},{"$f":"'Absorbance Data'!L3418-Calculations!I$1","v":0},{"$f":"'Absorbance Data'!M3418-Calculations!J$1","v":0},{"$f":"'Absorbance Data'!N3418-Calculations!K$1","v":0},{"$f":"'Absorbance Data'!O3418-Calculations!L$1","v":0},{"$f":"'Absorbance Data'!P3418-Calculations!M$1","v":0},{"$f":"'Absorbance Data'!Q3418-Calculations!N$1","v":0},{"$f":"'Absorbance Data'!R3418-Calculations!O$1","v":0},{"$f":"'Absorbance Data'!S3418-Calculations!P$1","v":0},{"$f":"'Absorbance Data'!T3418-Calculations!Q$1","v":0},{"$f":"'Absorbance Data'!U3418-Calculations!R$1","v":0},{"$f":"'Absorbance Data'!V3418-Calculations!S$1","v":0},{"$f":"'Absorbance Data'!W3418-Calculations!T$1","v":0},{"$f":"'Absorbance Data'!X3418-Calculations!U$1","v":0},{"$f":"'Absorbance Data'!Y3418-Calculations!V$1","v":0},{"$f":"'Absorbance Data'!Z3418-Calculations!W$1","v":0}]
[{"$f":"'Absorbance Data'!D3419","v":649.950927734375},{"$f":"'Absorbance Data'!E3419-Calculations!B$1","v":0},{"$f":"'Absorbance Data'!F3419-Calculations!C$1","v":0},{"$f":"'Absorbance Data'!G3419-Calculations!D$1","v":0},{"$f":"'Absorbance Data'!H3419-Calculations!E$1","v":0},{"$f":"'Absorbance Data'!I3419-Calculations!F$1","v":0},{"$f":"'Absorbance Data'!J3419-Calculations!G$1","v":0},{"$f":"'Absorbance Data'!K3419-Calculations!H$1","v":0},{"$f":"'Absorbance Data'!L3419-Calculations!I$1","v":0},{"$f":"'Absorbance Data'!M3419-Calculations!J$1","v":0},{"$f":"'Absorbance Data'!N3419-Calculations!K$1","v":0},{"$f":"'Absorbance Data'!O3419-Calculations!L$1","v":0},{"$f":"'Absorbance Data'!P3419-Calculations!M$1","v":0},{"$f":"'Absorbance Data'!Q3419-Calculations!N$1","v":0},{"$f":"'Absorbance Data'!R3419-Calculations!O$1","v":0},{"$f":"'Absorbance Data'!S3419-Calculations!P$1","v":0},{"$f":"'Absorbance Data'!T3419-Calculations!Q$1","v":0},{"$f":"'Absorbance Data'!U3419-Calculations!R$1","v":0},{"$f":"'Absorbance Data'!V3419-Calculations!S$1","v":0},{"$f":"'Absorbance Data'!W3419-Calculations!T$1","v":0},{"$f":"'Absorbance Data'!X3419-Calculations!U$1","v":0},{"$f":"'Absorbance Data'!Y3419-Calculations!V$1","v":0},{"$f":"'Absorbance Data'!Z3419-Calculations!W$1","v":0}]
[{"$f":"'Absorbance Data'!D3420","v":650.264892578125},{"$f":"'Absorbance Data'!E3420-Calculations!B$1","v":0},{"$f":"'Absorbance Data'!F3420-Calculations!C$1","v":0},{"$f":"'Absorbance Data'!G3420-Calculations!D$1","v":0},{"$f":"'Absorbance Data'!H3420-Calculations!E$1","v":0},{"$f":"'Absorbance Data'!I3420-Calculations!F$1","v":0},{"$f":"'Absorbance Data'!J3420-Calculations!G$1","v":0},{"$f":"'Absorbance Data'!K3420-Calculations!H$1","v":0},{"$f":"'Absorbance Data'!L3420-Calculations!I$1","v":0},{"$f":"'Absorbance Data'!M3420-Calculations!J$1","v":0},{"$f":"'Absorbance Data'!N3420-Calculations!K$1","v":0},{"$f":"'Absorbance Data'!O3420-Calculations!L$1","v":0},{"$f":"'Absorbance Data'!P3420-Calculations!M$1","v":0},{"$f":"'Absorbance Data'!Q3420-Calculations!N$1","v":0},{"$f":"'Absorbance Data'!R3420-Calculations!O$1","v":0},{"$f":"'Absorbance Data'!S3420-Calculations!P$1","v":0},{"$f":"'Absorbance Data'!T3420-Calculations!Q$1","v":0},{"$f":"'Absorbance Data'!U3420-Calculations!R$1","v":0},{"$f":"'Absorbance Data'!V3420-Calculations!S$1","v":0},{"$f":"'Absorbance Data'!W3420-Calculations!T$1","v":0},{"$f":"'Absorbance Data'!X3420-Calculations!U$1","v":0},{"$f":"'Absorbance Data'!Y3420-Calculations!V$1","v":0},{"$f":"'Absorbance Data'!Z3420-Calculations!W$1","v":0}]
[{"$f":"'Absorbance Data'!D3421","v":650.578857421875},{"$f":"'Absorbance Data'!E3421-Calculations!B$1","v":0},{"$f":"'Absorbance Data'!F3421-Calculations!C$1","v":0},{"$f":"'Absorbance Data'!G3421-Calculations!D$1","v":0},{"$f":"'Absorbance Data'!H3421-Calculations!E$1","v":0},{"$f":"'Absorbance Data'!I3421-Calculations!F$1","v":0},{"$f":"'Absorbance Data'!J3421-Calculations!G$1","v":0},{"$f":"'Absorbance Data'!K3421-Calculations!H$1","v":0},{"$f":"'Absorbance Data'!L3421-Calculations!I$1","v":0},{"$f":"'Absorbance Data'!M3421-Calculations!J$1","v":0},{"$f":"'Absorbance Data'!N3421-Calculations!K$1","v":0},{"$f":"'Absorbance Data'!O3421-Calculations!L$1","v":0},{"$f":"'Absorbance Data'!P3421-Calculations!M$1","v":0},{"$f":"'Absorbance Data'!Q3421-Calculations!N$1","v":0},{"$f":"'Absorbance Data'!R3421-Calculations!O$1","v":0},{"$f":"'Absorbance Data'!S3421-Calculations!P$1","v":0},{"$f":"'Absorbance Data'!T3421-Calculations!Q$1","v":0},{"$f":"'Absorbance Data'!U3421-Calculations!R$1","v":0},{"$f":"'Absorbance Data'!V3421-Calculations!S$1","v":0},{"$f":"'Absorbance Data'!W3421-Calculations!T$1","v":0},{"$f":"'Absorbance Data'!X3421-Calculations!U$1","v":0},{"$f":"'Absorbance Data'!Y3421-Calculations!V$1","v":0},{"$f":"'Absorbance Data'!Z3421-Calculations!W$1","v":0}]
[{"$f":"'Absorbance Data'!D3422","v":650.892822265625},{"$f":"'Absorbance Data'!E3422-Calculations!B$1","v":0},{"$f":"'Absorbance Data'!F3422-Calculations!C$1","v":0},{"$f":"'Absorbance Data'!G3422-Calculations!D$1","v":0},{"$f":"'Absorbance Data'!H3422-Calculations!E$1","v":0},{"$f":"'Absorbance Data'!I3422-Calculations!F$1","v":0},{"$f":"'Absorbance Data'!J3422-Calculations!G$1","v":0},{"$f":"'Absorbance Data'!K3422-Calculations!H$1","v":0},{"$f":"'Absorbance Data'!L3422-Calculations!I$1","v":0},{"$f":"'Absorbance Data'!M3422-Calculations!J$1","v":0},{"$f":"'Absorbance Data'!N3422-Calculations!K$1","v":0},{"$f":"'Absorbance Data'!O3422-Calculations!L$1","v":0},{"$f":"'Absorbance Data'!P3422-Calculations!M$1","v":0},{"$f":"'Absorbance Data'!Q3422-Calculations!N$1","v":0},{"$f":"'Absorbance Data'!R3422-Calculations!O$1","v":0},{"$f":"'Absorbance Data'!S3422-Calculations!P$1","v":0},{"$f":"'Absorbance Data'!T3422-Calculations!Q$1","v":0},{"$f":"'Absorbance Data'!U3422-Calculations!R$1","v":0},{"$f":"'Absorbance Data'!V3422-Calculations!S$1","v":0},{"$f":"'Absorbance Data'!W3422-Calculations!T$1","v":0},{"$f":"'Absorbance Data'!X3422-Calculations!U$1","v":0},{"$f":"'Absorbance Data'!Y3422-Calculations!V$1","v":0},{"$f":"'Absorbance Data'!Z3422-Calculations!W$1","v":0}]
[{"$f":"'Absorbance Data'!D3423","v":651.20660400390625},{"$f":"'Absorbance Data'!E3423-Calculations!B$1","v":0},{"$f":"'Absorbance Data'!F3423-Calculations!C$1","v":0},{"$f":"'Absorbance Data'!G3423-Calculations!D$1","v":0},{"$f":"'Absorbance Data'!H3423-Calculations!E$1","v":0},{"$f":"'Absorbance Data'!I3423-Calculations!F$1","v":0},{"$f":"'Absorbance Data'!J3423-Calculations!G$1","v":0},{"$f":"'Absorbance Data'!K3423-Calculations!H$1","v":0},{"$f":"'Absorbance Data'!L3423-Calculations!I$1","v":0},{"$f":"'Absorbance Data'!M3423-Calculations!J$1","v":0},{"$f":"'Absorbance Data'!N3423-Calculations!K$1","v":0},{"$f":"'Absorbance Data'!O3423-Calculations!L$1","v":0},{"$f":"'Absorbance Data'!P3423-Calculations!M$1","v":0},{"$f":"'Absorbance Data'!Q3423-Calculations!N$1","v":0},{"$f":"'Absorbance Data'!R3423-Calculations!O$1","v":0},{"$f":"'Absorbance Data'!S3423-Calculations!P$1","v":0},{"$f":"'Absorbance Data'!T3423-Calculations!Q$1","v":0},{"$f":"'Absorbance Data'!U3423-Calculations!R$1","v":0},{"$f":"'Absorbance Data'!V3423-Calculations!S$1","v":0},{"$f":"'Absorbance Data'!W3423-Calculations!T$1","v":0},{"$f":"'Absorbance Data'!X3423-Calculations!U$1","v":0},{"$f":"'Absorbance Data'!Y3423-Calculations!V$1","v":0},{"$f":"'Absorbance Data'!Z3423-Calculations!W$1","v":0}]
[{"$f":"'Absorbance Data'!D3424","v":651.5203857421875},{"$f":"'Absorbance Data'!E3424-Calculations!B$1","v":0},{"$f":"'Absorbance Data'!F3424-Calculations!C$1","v":0},{"$f":"'Absorbance Data'!G3424-Calculations!D$1","v":0},{"$f":"'Absorbance Data'!H3424-Calculations!E$1","v":0},{"$f":"'Absorbance Data'!I3424-Calculations!F$1","v":0},{"$f":"'Absorbance Data'!J3424-Calculations!G$1","v":0},{"$f":"'Absorbance Data'!K3424-Calculations!H$1","v":0},{"$f":"'Absorbance Data'!L3424-Calculations!I$1","v":0},{"$f":"'Absorbance Data'!M3424-Calculations!J$1","v":0},{"$f":"'Absorbance Data'!N3424-Calculations!K$1","v":0},{"$f":"'Absorbance Data'!O3424-Calculations!L$1","v":0},{"$f":"'Absorbance Data'!P3424-Calculations!M$1","v":0},{"$f":"'Absorbance Data'!Q3424-Calculations!N$1","v":0},{"$f":"'Absorbance Data'!R3424-Calculations!O$1","v":0},{"$f":"'Absorbance Data'!S3424-Calculations!P$1","v":0},{"$f":"'Absorbance Data'!T3424-Calculations!Q$1","v":0},{"$f":"'Absorbance Data'!U3424-Calculations!R$1","v":0},{"$f":"'Absorbance Data'!V3424-Calculations!S$1","v":0},{"$f":"'Absorbance Data'!W3424-Calculations!T$1","v":0},{"$f":"'Absorbance Data'!X3424-Calculations!U$1","v":0},{"$f":"'Absorbance Data'!Y3424-Calculations!V$1","v":0},{"$f":"'Absorbance Data'!Z3424-Calculations!W$1","v":0}]
[{"$f":"'Absorbance Data'!D3425","v":651.834228515625},{"$f":"'Absorbance Data'!E3425-Calculations!B$1","v":0},{"$f":"'Absorbance Data'!F3425-Calculations!C$1","v":0},{"$f":"'Absorbance Data'!G3425-Calculations!D$1","v":0},{"$f":"'Absorbance Data'!H3425-Calculations!E$1","v":0},{"$f":"'Absorbance Data'!I3425-Calculations!F$1","v":0},{"$f":"'Absorbance Data'!J3425-Calculations!G$1","v":0},{"$f":"'Absorbance Data'!K3425-Calculations!H$1","v":0},{"$f":"'Absorbance Data'!L3425-Calculations!I$1","v":0},{"$f":"'Absorbance Data'!M3425-Calculations!J$1","v":0},{"$f":"'Absorbance Data'!N3425-Calculations!K$1","v":0},{"$f":"'Absorbance Data'!O3425-Calculations!L$1","v":0},{"$f":"'Absorbance Data'!P3425-Calculations!M$1","v":0},{"$f":"'Absorbance Data'!Q3425-Calculations!N$1","v":0},{"$f":"'Absorbance Data'!R3425-Calculations!O$1","v":0},{"$f":"'Absorbance Data'!S3425-Calculations!P$1","v":0},{"$f":"'Absorbance Data'!T3425-Calculations!Q$1","v":0},{"$f":"'Absorbance Data'!U3425-Calculations!R$1","v":0},{"$f":"'Absorbance Data'!V3425-Calculations!S$1","v":0},{"$f":"'Absorbance Data'!W3425-Calculations!T$1","v":0},{"$f":"'Absorbance Data'!X3425-Calculations!U$1","v":0},{"$f":"'Absorbance Data'!Y3425-Calculations!V$1","v":0},{"$f":"'Absorbance Data'!Z3425-Calculations!W$1","v":0}]
[{"$f":"'Absorbance Data'!D3426","v":652.14801025390625},{"$f":"'Absorbance Data'!E3426-Calculations!B$1","v":0},{"$f":"'Absorbance Data'!F3426-Calculations!C$1","v":0},{"$f":"'Absorbance Data'!G3426-Calculations!D$1","v":0},{"$f":"'Absorbance Data'!H3426-Calculations!E$1","v":0},{"$f":"'Absorbance Data'!I3426-Calculations!F$1","v":0},{"$f":"'Absorbance Data'!J3426-Calculations!G$1","v":0},{"$f":"'Absorbance Data'!K3426-Calculations!H$1","v":0},{"$f":"'Absorbance Data'!L3426-Calculations!I$1","v":0},{"$f":"'Absorbance Data'!M3426-Calculations!J$1","v":0},{"$f":"'Absorbance Data'!N3426-Calculations!K$1","v":0},{"$f":"'Absorbance Data'!O3426-Calculations!L$1","v":0},{"$f":"'Absorbance Data'!P3426-Calculations!M$1","v":0},{"$f":"'Absorbance Data'!Q3426-Calculations!N$1","v":0},{"$f":"'Absorbance Data'!R3426-Calculations!O$1","v":0},{"$f":"'Absorbance Data'!S3426-Calculations!P$1","v":0},{"$f":"'Absorbance Data'!T3426-Calculations!Q$1","v":0},{"$f":"'Absorbance Data'!U3426-Calculations!R$1","v":0},{"$f":"'Absorbance Data'!V3426-Calculations!S$1","v":0},{"$f":"'Absorbance Data'!W3426-Calculations!T$1","v":0},{"$f":"'Absorbance Data'!X3426-Calculations!U$1","v":0},{"$f":"'Absorbance Data'!Y3426-Calculations!V$1","v":0},{"$f":"'Absorbance Data'!Z3426-Calculations!W$1","v":0}]
[{"$f":"'Absorbance Data'!D3427","v":652.461669921875},{"$f":"'Absorbance Data'!E3427-Calculations!B$1","v":0},{"$f":"'Absorbance Data'!F3427-Calculations!C$1","v":0},{"$f":"'Absorbance Data'!G3427-Calculations!D$1","v":0},{"$f":"'Absorbance Data'!H3427-Calculations!E$1","v":0},{"$f":"'Absorbance Data'!I3427-Calculations!F$1","v":0},{"$f":"'Absorbance Data'!J3427-Calculations!G$1","v":0},{"$f":"'Absorbance Data'!K3427-Calculations!H$1","v":0},{"$f":"'Absorbance Data'!L3427-Calculations!I$1","v":0},{"$f":"'Absorbance Data'!M3427-Calculations!J$1","v":0},{"$f":"'Absorbance Data'!N3427-Calculations!K$1","v":0},{"$f":"'Absorbance Data'!O3427-Calculations!L$1","v":0},{"$f":"'Absorbance Data'!P3427-Calculations!M$1","v":0},{"$f":"'Absorbance Data'!Q3427-Calculations!N$1","v":0},{"$f":"'Absorbance Data'!R3427-Calculations!O$1","v":0},{"$f":"'Absorbance Data'!S3427-Calculations!P$1","v":0},{"$f":"'Absorbance Data'!T3427-Calculations!Q$1","v":0},{"$f":"'Absorbance Data'!U3427-Calculations!R$1","v":0},{"$f":"'Absorbance Data'!V3427-Calculations!S$1","v":0},{"$f":"'Absorbance Data'!W3427-Calculations!T$1","v":0},{"$f":"'Absorbance Data'!X3427-Calculations!U$1","v":0},{"$f":"'Absorbance Data'!Y3427-Calculations!V$1","v":0},{"$f":"'Absorbance Data'!Z3427-Calculations!W$1","v":0}]
[{"$f":"'Absorbance Data'!D3428","v":652.7752685546875},{"$f":"'Absorbance Data'!E3428-Calculations!B$1","v":0},{"$f":"'Absorbance Data'!F3428-Calculations!C$1","v":0},{"$f":"'Absorbance Data'!G3428-Calculations!D$1","v":0},{"$f":"'Absorbance Data'!H3428-Calculations!E$1","v":0},{"$f":"'Absorbance Data'!I3428-Calculations!F$1","v":0},{"$f":"'Absorbance Data'!J3428-Calculations!G$1","v":0},{"$f":"'Absorbance Data'!K3428-Calculations!H$1","v":0},{"$f":"'Absorbance Data'!L3428-Calculations!I$1","v":0},{"$f":"'Absorbance Data'!M3428-Calculations!J$1","v":0},{"$f":"'Absorbance Data'!N3428-Calculations!K$1","v":0},{"$f":"'Absorbance Data'!O3428-Calculations!L$1","v":0},{"$f":"'Absorbance Data'!P3428-Calculations!M$1","v":0},{"$f":"'Absorbance Data'!Q3428-Calculations!N$1","v":0},{"$f":"'Absorbance Data'!R3428-Calculations!O$1","v":0},{"$f":"'Absorbance Data'!S3428-Calculations!P$1","v":0},{"$f":"'Absorbance Data'!T3428-Calculations!Q$1","v":0},{"$f":"'Absorbance Data'!U3428-Calculations!R$1","v":0},{"$f":"'Absorbance Data'!V3428-Calculations!S$1","v":0},{"$f":"'Absorbance Data'!W3428-Calculations!T$1","v":0},{"$f":"'Absorbance Data'!X3428-Calculations!U$1","v":0},{"$f":"'Absorbance Data'!Y3428-Calculations!V$1","v":0},{"$f":"'Absorbance Data'!Z3428-Calculations!W$1","v":0}]
[{"$f":"'Absorbance Data'!D3429","v":653.0888671875},{"$f":"'Absorbance Data'!E3429-Calculations!B$1","v":0},{"$f":"'Absorbance Data'!F3429-Calculations!C$1","v":0},{"$f":"'Absorbance Data'!G3429-Calculations!D$1","v":0},{"$f":"'Absorbance Data'!H3429-Calculations!E$1","v":0},{"$f":"'Absorbance Data'!I3429-Calculations!F$1","v":0},{"$f":"'Absorbance Data'!J3429-Calculations!G$1","v":0},{"$f":"'Absorbance Data'!K3429-Calculations!H$1","v":0},{"$f":"'Absorbance Data'!L3429-Calculations!I$1","v":0},{"$f":"'Absorbance Data'!M3429-Calculations!J$1","v":0},{"$f":"'Absorbance Data'!N3429-Calculations!K$1","v":0},{"$f":"'Absorbance Data'!O3429-Calculations!L$1","v":0},{"$f":"'Absorbance Data'!P3429-Calculations!M$1","v":0},{"$f":"'Absorbance Data'!Q3429-Calculations!N$1","v":0},{"$f":"'Absorbance Data'!R3429-Calculations!O$1","v":0},{"$f":"'Absorbance Data'!S3429-Calculations!P$1","v":0},{"$f":"'Absorbance Data'!T3429-Calculations!Q$1","v":0},{"$f":"'Absorbance Data'!U3429-Calculations!R$1","v":0},{"$f":"'Absorbance Data'!V3429-Calculations!S$1","v":0},{"$f":"'Absorbance Data'!W3429-Calculations!T$1","v":0},{"$f":"'Absorbance Data'!X3429-Calculations!U$1","v":0},{"$f":"'Absorbance Data'!Y3429-Calculations!V$1","v":0},{"$f":"'Absorbance Data'!Z3429-Calculations!W$1","v":0}]
[{"$f":"'Absorbance Data'!D3430","v":653.4024658203125},{"$f":"'Absorbance Data'!E3430-Calculations!B$1","v":0},{"$f":"'Absorbance Data'!F3430-Calculations!C$1","v":0},{"$f":"'Absorbance Data'!G3430-Calculations!D$1","v":0},{"$f":"'Absorbance Data'!H3430-Calculations!E$1","v":0},{"$f":"'Absorbance Data'!I3430-Calculations!F$1","v":0},{"$f":"'Absorbance Data'!J3430-Calculations!G$1","v":0},{"$f":"'Absorbance Data'!K3430-Calculations!H$1","v":0},{"$f":"'Absorbance Data'!L3430-Calculations!I$1","v":0},{"$f":"'Absorbance Data'!M3430-Calculations!J$1","v":0},{"$f":"'Absorbance Data'!N3430-Calculations!K$1","v":0},{"$f":"'Absorbance Data'!O3430-Calculations!L$1","v":0},{"$f":"'Absorbance Data'!P3430-Calculations!M$1","v":0},{"$f":"'Absorbance Data'!Q3430-Calculations!N$1","v":0},{"$f":"'Absorbance Data'!R3430-Calculations!O$1","v":0},{"$f":"'Absorbance Data'!S3430-Calculations!P$1","v":0},{"$f":"'Absorbance Data'!T3430-Calculations!Q$1","v":0},{"$f":"'Absorbance Data'!U3430-Calculations!R$1","v":0},{"$f":"'Absorbance Data'!V3430-Calculations!S$1","v":0},{"$f":"'Absorbance Data'!W3430-Calculations!T$1","v":0},{"$f":"'Absorbance Data'!X3430-Calculations!U$1","v":0},{"$f":"'Absorbance Data'!Y3430-Calculations!V$1","v":0},{"$f":"'Absorbance Data'!Z3430-Calculations!W$1","v":0}]
[{"$f":"'Absorbance Data'!D3431","v":653.7159423828125},{"$f":"'Absorbance Data'!E3431-Calculations!B$1","v":0},{"$f":"'Absorbance Data'!F3431-Calculations!C$1","v":0},{"$f":"'Absorbance Data'!G3431-Calculations!D$1","v":0},{"$f":"'Absorbance Data'!H3431-Calculations!E$1","v":0},{"$f":"'Absorbance Data'!I3431-Calculations!F$1","v":0},{"$f":"'Absorbance Data'!J3431-Calculations!G$1","v":0},{"$f":"'Absorbance Data'!K3431-Calculations!H$1","v":0},{"$f":"'Absorbance Data'!L3431-Calculations!I$1","v":0},{"$f":"'Absorbance Data'!M3431-Calculations!J$1","v":0},{"$f":"'Absorbance Data'!N3431-Calculations!K$1","v":0},{"$f":"'Absorbance Data'!O3431-Calculations!L$1","v":0},{"$f":"'Absorbance Data'!P3431-Calculations!M$1","v":0},{"$f":"'Absorbance Data'!Q3431-Calculations!N$1","v":0},{"$f":"'Absorbance Data'!R3431-Calculations!O$1","v":0},{"$f":"'Absorbance Data'!S3431-Calculations!P$1","v":0},{"$f":"'Absorbance Data'!T3431-Calculations!Q$1","v":0},{"$f":"'Absorbance Data'!U3431-Calculations!R$1","v":0},{"$f":"'Absorbance Data'!V3431-Calculations!S$1","v":0},{"$f":"'Absorbance Data'!W3431-Calculations!T$1","v":0},{"$f":"'Absorbance Data'!X3431-Calculations!U$1","v":0},{"$f":"'Absorbance Data'!Y3431-Calculations!V$1","v":0},{"$f":"'Absorbance Data'!Z3431-Calculations!W$1","v":0}]
[{"$f":"'Absorbance Data'!D3432","v":654.0294189453125},{"$f":"'Absorbance Data'!E3432-Calculations!B$1","v":0},{"$f":"'Absorbance Data'!F3432-Calculations!C$1","v":0},{"$f":"'Absorbance Data'!G3432-Calculations!D$1","v":0},{"$f":"'Absorbance Data'!H3432-Calculations!E$1","v":0},{"$f":"'Absorbance Data'!I3432-Calculations!F$1","v":0},{"$f":"'Absorbance Data'!J3432-Calculations!G$1","v":0},{"$f":"'Absorbance Data'!K3432-Calculations!H$1","v":0},{"$f":"'Absorbance Data'!L3432-Calculations!I$1","v":0},{"$f":"'Absorbance Data'!M3432-Calculations!J$1","v":0},{"$f":"'Absorbance Data'!N3432-Calculations!K$1","v":0},{"$f":"'Absorbance Data'!O3432-Calculations!L$1","v":0},{"$f":"'Absorbance Data'!P3432-Calculations!M$1","v":0},{"$f":"'Absorbance Data'!Q3432-Calculations!N$1","v":0},{"$f":"'Absorbance Data'!R3432-Calculations!O$1","v":0},{"$f":"'Absorbance Data'!S3432-Calculations!P$1","v":0},{"$f":"'Absorbance Data'!T3432-Calculations!Q$1","v":0},{"$f":"'Absorbance Data'!U3432-Calculations!R$1","v":0},{"$f":"'Absorbance Data'!V3432-Calculations!S$1","v":0},{"$f":"'Absorbance Data'!W3432-Calculations!T$1","v":0},{"$f":"'Absorbance Data'!X3432-Calculations!U$1","v":0},{"$f":"'Absorbance Data'!Y3432-Calculations!V$1","v":0},{"$f":"'Absorbance Data'!Z3432-Calculations!W$1","v":0}]
[{"$f":"'Absorbance Data'!D3433","v":654.34283447265625},{"$f":"'Absorbance Data'!E3433-Calculations!B$1","v":0},{"$f":"'Absorbance Data'!F3433-Calculations!C$1","v":0},{"$f":"'Absorbance Data'!G3433-Calculations!D$1","v":0},{"$f":"'Absorbance Data'!H3433-Calculations!E$1","v":0},{"$f":"'Absorbance Data'!I3433-Calculations!F$1","v":0},{"$f":"'Absorbance Data'!J3433-Calculations!G$1","v":0},{"$f":"'Absorbance Data'!K3433-Calculations!H$1","v":0},{"$f":"'Absorbance Data'!L3433-Calculations!I$1","v":0},{"$f":"'Absorbance Data'!M3433-Calculations!J$1","v":0},{"$f":"'Absorbance Data'!N3433-Calculations!K$1","v":0},{"$f":"'Absorbance Data'!O3433-Calculations!L$1","v":0},{"$f":"'Absorbance Data'!P3433-Calculations!M$1","v":0},{"$f":"'Absorbance Data'!Q3433-Calculations!N$1","v":0},{"$f":"'Absorbance Data'!R3433-Calculations!O$1","v":0},{"$f":"'Absorbance Data'!S3433-Calculations!P$1","v":0},{"$f":"'Absorbance Data'!T3433-Calculations!Q$1","v":0},{"$f":"'Absorbance Data'!U3433-Calculations!R$1","v":0},{"$f":"'Absorbance Data'!V3433-Calculations!S$1","v":0},{"$f":"'Absorbance Data'!W3433-Calculations!T$1","v":0},{"$f":"'Absorbance Data'!X3433-Calculations!U$1","v":0},{"$f":"'Absorbance Data'!Y3433-Calculations!V$1","v":0},{"$f":"'Absorbance Data'!Z3433-Calculations!W$1","v":0}]
[{"$f":"'Absorbance Data'!D3434","v":654.65625},{"$f":"'Absorbance Data'!E3434-Calculations!B$1","v":0},{"$f":"'Absorbance Data'!F3434-Calculations!C$1","v":0},{"$f":"'Absorbance Data'!G3434-Calculations!D$1","v":0},{"$f":"'Absorbance Data'!H3434-Calculations!E$1","v":0},{"$f":"'Absorbance Data'!I3434-Calculations!F$1","v":0},{"$f":"'Absorbance Data'!J3434-Calculations!G$1","v":0},{"$f":"'Absorbance Data'!K3434-Calculations!H$1","v":0},{"$f":"'Absorbance Data'!L3434-Calculations!I$1","v":0},{"$f":"'Absorbance Data'!M3434-Calculations!J$1","v":0},{"$f":"'Absorbance Data'!N3434-Calculations!K$1","v":0},{"$f":"'Absorbance Data'!O3434-Calculations!L$1","v":0},{"$f":"'Absorbance Data'!P3434-Calculations!M$1","v":0},{"$f":"'Absorbance Data'!Q3434-Calculations!N$1","v":0},{"$f":"'Absorbance Data'!R3434-Calculations!O$1","v":0},{"$f":"'Absorbance Data'!S3434-Calculations!P$1","v":0},{"$f":"'Absorbance Data'!T3434-Calculations!Q$1","v":0},{"$f":"'Absorbance Data'!U3434-Calculations!R$1","v":0},{"$f":"'Absorbance Data'!V3434-Calculations!S$1","v":0},{"$f":"'Absorbance Data'!W3434-Calculations!T$1","v":0},{"$f":"'Absorbance Data'!X3434-Calculations!U$1","v":0},{"$f":"'Absorbance Data'!Y3434-Calculations!V$1","v":0},{"$f":"'Absorbance Data'!Z3434-Calculations!W$1","v":0}]
[{"$f":"'Absorbance Data'!D3435","v":654.96966552734375},{"$f":"'Absorbance Data'!E3435-Calculations!B$1","v":0},{"$f":"'Absorbance Data'!F3435-Calculations!C$1","v":0},{"$f":"'Absorbance Data'!G3435-Calculations!D$1","v":0},{"$f":"'Absorbance Data'!H3435-Calculations!E$1","v":0},{"$f":"'Absorbance Data'!I3435-Calculations!F$1","v":0},{"$f":"'Absorbance Data'!J3435-Calculations!G$1","v":0},{"$f":"'Absorbance Data'!K3435-Calculations!H$1","v":0},{"$f":"'Absorbance Data'!L3435-Calculations!I$1","v":0},{"$f":"'Absorbance Data'!M3435-Calculations!J$1","v":0},{"$f":"'Absorbance Data'!N3435-Calculations!K$1","v":0},{"$f":"'Absorbance Data'!O3435-Calculations!L$1","v":0},{"$f":"'Absorbance Data'!P3435-Calculations!M$1","v":0},{"$f":"'Absorbance Data'!Q3435-Calculations!N$1","v":0},{"$f":"'Absorbance Data'!R3435-Calculations!O$1","v":0},{"$f":"'Absorbance Data'!S3435-Calculations!P$1","v":0},{"$f":"'Absorbance Data'!T3435-Calculations!Q$1","v":0},{"$f":"'Absorbance Data'!U3435-Calculations!R$1","v":0},{"$f":"'Absorbance Data'!V3435-Calculations!S$1","v":0},{"$f":"'Absorbance Data'!W3435-Calculations!T$1","v":0},{"$f":"'Absorbance Data'!X3435-Calculations!U$1","v":0},{"$f":"'Absorbance Data'!Y3435-Calculations!V$1","v":0},{"$f":"'Absorbance Data'!Z3435-Calculations!W$1","v":0}]
[{"$f":"'Absorbance Data'!D3436","v":655.282958984375},{"$f":"'Absorbance Data'!E3436-Calculations!B$1","v":0},{"$f":"'Absorbance Data'!F3436-Calculations!C$1","v":0},{"$f":"'Absorbance Data'!G3436-Calculations!D$1","v":0},{"$f":"'Absorbance Data'!H3436-Calculations!E$1","v":0},{"$f":"'Absorbance Data'!I3436-Calculations!F$1","v":0},{"$f":"'Absorbance Data'!J3436-Calculations!G$1","v":0},{"$f":"'Absorbance Data'!K3436-Calculations!H$1","v":0},{"$f":"'Absorbance Data'!L3436-Calculations!I$1","v":0},{"$f":"'Absorbance Data'!M3436-Calculations!J$1","v":0},{"$f":"'Absorbance Data'!N3436-Calculations!K$1","v":0},{"$f":"'Absorbance Data'!O3436-Calculations!L$1","v":0},{"$f":"'Absorbance Data'!P3436-Calculations!M$1","v":0},{"$f":"'Absorbance Data'!Q3436-Calculations!N$1","v":0},{"$f":"'Absorbance Data'!R3436-Calculations!O$1","v":0},{"$f":"'Absorbance Data'!S3436-Calculations!P$1","v":0},{"$f":"'Absorbance Data'!T3436-Calculations!Q$1","v":0},{"$f":"'Absorbance Data'!U3436-Calculations!R$1","v":0},{"$f":"'Absorbance Data'!V3436-Calculations!S$1","v":0},{"$f":"'Absorbance Data'!W3436-Calculations!T$1","v":0},{"$f":"'Absorbance Data'!X3436-Calculations!U$1","v":0},{"$f":"'Absorbance Data'!Y3436-Calculations!V$1","v":0},{"$f":"'Absorbance Data'!Z3436-Calculations!W$1","v":0}]
[{"$f":"'Absorbance Data'!D3437","v":655.59613037109375},{"$f":"'Absorbance Data'!E3437-Calculations!B$1","v":0},{"$f":"'Absorbance Data'!F3437-Calculations!C$1","v":0},{"$f":"'Absorbance Data'!G3437-Calculations!D$1","v":0},{"$f":"'Absorbance Data'!H3437-Calculations!E$1","v":0},{"$f":"'Absorbance Data'!I3437-Calculations!F$1","v":0},{"$f":"'Absorbance Data'!J3437-Calculations!G$1","v":0},{"$f":"'Absorbance Data'!K3437-Calculations!H$1","v":0},{"$f":"'Absorbance Data'!L3437-Calculations!I$1","v":0},{"$f":"'Absorbance Data'!M3437-Calculations!J$1","v":0},{"$f":"'Absorbance Data'!N3437-Calculations!K$1","v":0},{"$f":"'Absorbance Data'!O3437-Calculations!L$1","v":0},{"$f":"'Absorbance Data'!P3437-Calculations!M$1","v":0},{"$f":"'Absorbance Data'!Q3437-Calculations!N$1","v":0},{"$f":"'Absorbance Data'!R3437-Calculations!O$1","v":0},{"$f":"'Absorbance Data'!S3437-Calculations!P$1","v":0},{"$f":"'Absorbance Data'!T3437-Calculations!Q$1","v":0},{"$f":"'Absorbance Data'!U3437-Calculations!R$1","v":0},{"$f":"'Absorbance Data'!V3437-Calculations!S$1","v":0},{"$f":"'Absorbance Data'!W3437-Calculations!T$1","v":0},{"$f":"'Absorbance Data'!X3437-Calculations!U$1","v":0},{"$f":"'Absorbance Data'!Y3437-Calculations!V$1","v":0},{"$f":"'Absorbance Data'!Z3437-Calculations!W$1","v":0}]
[{"$f":"'Absorbance Data'!D3438","v":655.909423828125},{"$f":"'Absorbance Data'!E3438-Calculations!B$1","v":0},{"$f":"'Absorbance Data'!F3438-Calculations!C$1","v":0},{"$f":"'Absorbance Data'!G3438-Calculations!D$1","v":0},{"$f":"'Absorbance Data'!H3438-Calculations!E$1","v":0},{"$f":"'Absorbance Data'!I3438-Calculations!F$1","v":0},{"$f":"'Absorbance Data'!J3438-Calculations!G$1","v":0},{"$f":"'Absorbance Data'!K3438-Calculations!H$1","v":0},{"$f":"'Absorbance Data'!L3438-Calculations!I$1","v":0},{"$f":"'Absorbance Data'!M3438-Calculations!J$1","v":0},{"$f":"'Absorbance Data'!N3438-Calculations!K$1","v":0},{"$f":"'Absorbance Data'!O3438-Calculations!L$1","v":0},{"$f":"'Absorbance Data'!P3438-Calculations!M$1","v":0},{"$f":"'Absorbance Data'!Q3438-Calculations!N$1","v":0},{"$f":"'Absorbance Data'!R3438-Calculations!O$1","v":0},{"$f":"'Absorbance Data'!S3438-Calculations!P$1","v":0},{"$f":"'Absorbance Data'!T3438-Calculations!Q$1","v":0},{"$f":"'Absorbance Data'!U3438-Calculations!R$1","v":0},{"$f":"'Absorbance Data'!V3438-Calculations!S$1","v":0},{"$f":"'Absorbance Data'!W3438-Calculations!T$1","v":0},{"$f":"'Absorbance Data'!X3438-Calculations!U$1","v":0},{"$f":"'Absorbance Data'!Y3438-Calculations!V$1","v":0},{"$f":"'Absorbance Data'!Z3438-Calculations!W$1","v":0}]
[{"$f":"'Absorbance Data'!D3439","v":656.22259521484375},{"$f":"'Absorbance Data'!E3439-Calculations!B$1","v":0},{"$f":"'Absorbance Data'!F3439-Calculations!C$1","v":0},{"$f":"'Absorbance Data'!G3439-Calculations!D$1","v":0},{"$f":"'Absorbance Data'!H3439-Calculations!E$1","v":0},{"$f":"'Absorbance Data'!I3439-Calculations!F$1","v":0},{"$f":"'Absorbance Data'!J3439-Calculations!G$1","v":0},{"$f":"'Absorbance Data'!K3439-Calculations!H$1","v":0},{"$f":"'Absorbance Data'!L3439-Calculations!I$1","v":0},{"$f":"'Absorbance Data'!M3439-Calculations!J$1","v":0},{"$f":"'Absorbance Data'!N3439-Calculations!K$1","v":0},{"$f":"'Absorbance Data'!O3439-Calculations!L$1","v":0},{"$f":"'Absorbance Data'!P3439-Calculations!M$1","v":0},{"$f":"'Absorbance Data'!Q3439-Calculations!N$1","v":0},{"$f":"'Absorbance Data'!R3439-Calculations!O$1","v":0},{"$f":"'Absorbance Data'!S3439-Calculations!P$1","v":0},{"$f":"'Absorbance Data'!T3439-Calculations!Q$1","v":0},{"$f":"'Absorbance Data'!U3439-Calculations!R$1","v":0},{"$f":"'Absorbance Data'!V3439-Calculations!S$1","v":0},{"$f":"'Absorbance Data'!W3439-Calculations!T$1","v":0},{"$f":"'Absorbance Data'!X3439-Calculations!U$1","v":0},{"$f":"'Absorbance Data'!Y3439-Calculations!V$1","v":0},{"$f":"'Absorbance Data'!Z3439-Calculations!W$1","v":0}]
[{"$f":"'Absorbance Data'!D3440","v":656.5357666015625},{"$f":"'Absorbance Data'!E3440-Calculations!B$1","v":0},{"$f":"'Absorbance Data'!F3440-Calculations!C$1","v":0},{"$f":"'Absorbance Data'!G3440-Calculations!D$1","v":0},{"$f":"'Absorbance Data'!H3440-Calculations!E$1","v":0},{"$f":"'Absorbance Data'!I3440-Calculations!F$1","v":0},{"$f":"'Absorbance Data'!J3440-Calculations!G$1","v":0},{"$f":"'Absorbance Data'!K3440-Calculations!H$1","v":0},{"$f":"'Absorbance Data'!L3440-Calculations!I$1","v":0},{"$f":"'Absorbance Data'!M3440-Calculations!J$1","v":0},{"$f":"'Absorbance Data'!N3440-Calculations!K$1","v":0},{"$f":"'Absorbance Data'!O3440-Calculations!L$1","v":0},{"$f":"'Absorbance Data'!P3440-Calculations!M$1","v":0},{"$f":"'Absorbance Data'!Q3440-Calculations!N$1","v":0},{"$f":"'Absorbance Data'!R3440-Calculations!O$1","v":0},{"$f":"'Absorbance Data'!S3440-Calculations!P$1","v":0},{"$f":"'Absorbance Data'!T3440-Calculations!Q$1","v":0},{"$f":"'Absorbance Data'!U3440-Calculations!R$1","v":0},{"$f":"'Absorbance Data'!V3440-Calculations!S$1","v":0},{"$f":"'Absorbance Data'!W3440-Calculations!T$1","v":0},{"$f":"'Absorbance Data'!X3440-Calculations!U$1","v":0},{"$f":"'Absorbance Data'!Y3440-Calculations!V$1","v":0},{"$f":"'Absorbance Data'!Z3440-Calculations!W$1","v":0}]
[{"$f":"'Absorbance Data'!D3441","v":656.84881591796875},{"$f":"'Absorbance Data'!E3441-Calculations!B$1","v":0},{"$f":"'Absorbance Data'!F3441-Calculations!C$1","v":0},{"$f":"'Absorbance Data'!G3441-Calculations!D$1","v":0},{"$f":"'Absorbance Data'!H3441-Calculations!E$1","v":0},{"$f":"'Absorbance Data'!I3441-Calculations!F$1","v":0},{"$f":"'Absorbance Data'!J3441-Calculations!G$1","v":0},{"$f":"'Absorbance Data'!K3441-Calculations!H$1","v":0},{"$f":"'Absorbance Data'!L3441-Calculations!I$1","v":0},{"$f":"'Absorbance Data'!M3441-Calculations!J$1","v":0},{"$f":"'Absorbance Data'!N3441-Calculations!K$1","v":0},{"$f":"'Absorbance Data'!O3441-Calculations!L$1","v":0},{"$f":"'Absorbance Data'!P3441-Calculations!M$1","v":0},{"$f":"'Absorbance Data'!Q3441-Calculations!N$1","v":0},{"$f":"'Absorbance Data'!R3441-Calculations!O$1","v":0},{"$f":"'Absorbance Data'!S3441-Calculations!P$1","v":0},{"$f":"'Absorbance Data'!T3441-Calculations!Q$1","v":0},{"$f":"'Absorbance Data'!U3441-Calculations!R$1","v":0},{"$f":"'Absorbance Data'!V3441-Calculations!S$1","v":0},{"$f":"'Absorbance Data'!W3441-Calculations!T$1","v":0},{"$f":"'Absorbance Data'!X3441-Calculations!U$1","v":0},{"$f":"'Absorbance Data'!Y3441-Calculations!V$1","v":0},{"$f":"'Absorbance Data'!Z3441-Calculations!W$1","v":0}]
[{"$f":"'Absorbance Data'!D3442","v":657.161865234375},{"$f":"'Absorbance Data'!E3442-Calculations!B$1","v":0},{"$f":"'Absorbance Data'!F3442-Calculations!C$1","v":0},{"$f":"'Absorbance Data'!G3442-Calculations!D$1","v":0},{"$f":"'Absorbance Data'!H3442-Calculations!E$1","v":0},{"$f":"'Absorbance Data'!I3442-Calculations!F$1","v":0},{"$f":"'Absorbance Data'!J3442-Calculations!G$1","v":0},{"$f":"'Absorbance Data'!K3442-Calculations!H$1","v":0},{"$f":"'Absorbance Data'!L3442-Calculations!I$1","v":0},{"$f":"'Absorbance Data'!M3442-Calculations!J$1","v":0},{"$f":"'Absorbance Data'!N3442-Calculations!K$1","v":0},{"$f":"'Absorbance Data'!O3442-Calculations!L$1","v":0},{"$f":"'Absorbance Data'!P3442-Calculations!M$1","v":0},{"$f":"'Absorbance Data'!Q3442-Calculations!N$1","v":0},{"$f":"'Absorbance Data'!R3442-Calculations!O$1","v":0},{"$f":"'Absorbance Data'!S3442-Calculations!P$1","v":0},{"$f":"'Absorbance Data'!T3442-Calculations!Q$1","v":0},{"$f":"'Absorbance Data'!U3442-Calculations!R$1","v":0},{"$f":"'Absorbance Data'!V3442-Calculations!S$1","v":0},{"$f":"'Absorbance Data'!W3442-Calculations!T$1","v":0},{"$f":"'Absorbance Data'!X3442-Calculations!U$1","v":0},{"$f":"'Absorbance Data'!Y3442-Calculations!V$1","v":0},{"$f":"'Absorbance Data'!Z3442-Calculations!W$1","v":0}]
[{"$f":"'Absorbance Data'!D3443","v":657.47491455078125},{"$f":"'Absorbance Data'!E3443-Calculations!B$1","v":0},{"$f":"'Absorbance Data'!F3443-Calculations!C$1","v":0},{"$f":"'Absorbance Data'!G3443-Calculations!D$1","v":0},{"$f":"'Absorbance Data'!H3443-Calculations!E$1","v":0},{"$f":"'Absorbance Data'!I3443-Calculations!F$1","v":0},{"$f":"'Absorbance Data'!J3443-Calculations!G$1","v":0},{"$f":"'Absorbance Data'!K3443-Calculations!H$1","v":0},{"$f":"'Absorbance Data'!L3443-Calculations!I$1","v":0},{"$f":"'Absorbance Data'!M3443-Calculations!J$1","v":0},{"$f":"'Absorbance Data'!N3443-Calculations!K$1","v":0},{"$f":"'Absorbance Data'!O3443-Calculations!L$1","v":0},{"$f":"'Absorbance Data'!P3443-Calculations!M$1","v":0},{"$f":"'Absorbance Data'!Q3443-Calculations!N$1","v":0},{"$f":"'Absorbance Data'!R3443-Calculations!O$1","v":0},{"$f":"'Absorbance Data'!S3443-Calculations!P$1","v":0},{"$f":"'Absorbance Data'!T3443-Calculations!Q$1","v":0},{"$f":"'Absorbance Data'!U3443-Calculations!R$1","v":0},{"$f":"'Absorbance Data'!V3443-Calculations!S$1","v":0},{"$f":"'Absorbance Data'!W3443-Calculations!T$1","v":0},{"$f":"'Absorbance Data'!X3443-Calculations!U$1","v":0},{"$f":"'Absorbance Data'!Y3443-Calculations!V$1","v":0},{"$f":"'Absorbance Data'!Z3443-Calculations!W$1","v":0}]
[{"$f":"'Absorbance Data'!D3444","v":657.787841796875},{"$f":"'Absorbance Data'!E3444-Calculations!B$1","v":0},{"$f":"'Absorbance Data'!F3444-Calculations!C$1","v":0},{"$f":"'Absorbance Data'!G3444-Calculations!D$1","v":0},{"$f":"'Absorbance Data'!H3444-Calculations!E$1","v":0},{"$f":"'Absorbance Data'!I3444-Calculations!F$1","v":0},{"$f":"'Absorbance Data'!J3444-Calculations!G$1","v":0},{"$f":"'Absorbance Data'!K3444-Calculations!H$1","v":0},{"$f":"'Absorbance Data'!L3444-Calculations!I$1","v":0},{"$f":"'Absorbance Data'!M3444-Calculations!J$1","v":0},{"$f":"'Absorbance Data'!N3444-Calculations!K$1","v":0},{"$f":"'Absorbance Data'!O3444-Calculations!L$1","v":0},{"$f":"'Absorbance Data'!P3444-Calculations!M$1","v":0},{"$f":"'Absorbance Data'!Q3444-Calculations!N$1","v":0},{"$f":"'Absorbance Data'!R3444-Calculations!O$1","v":0},{"$f":"'Absorbance Data'!S3444-Calculations!P$1","v":0},{"$f":"'Absorbance Data'!T3444-Calculations!Q$1","v":0},{"$f":"'Absorbance Data'!U3444-Calculations!R$1","v":0},{"$f":"'Absorbance Data'!V3444-Calculations!S$1","v":0},{"$f":"'Absorbance Data'!W3444-Calculations!T$1","v":0},{"$f":"'Absorbance Data'!X3444-Calculations!U$1","v":0},{"$f":"'Absorbance Data'!Y3444-Calculations!V$1","v":0},{"$f":"'Absorbance Data'!Z3444-Calculations!W$1","v":0}]
[{"$f":"'Absorbance Data'!D3445","v":658.1007080078125},{"$f":"'Absorbance Data'!E3445-Calculations!B$1","v":0},{"$f":"'Absorbance Data'!F3445-Calculations!C$1","v":0},{"$f":"'Absorbance Data'!G3445-Calculations!D$1","v":0},{"$f":"'Absorbance Data'!H3445-Calculations!E$1","v":0},{"$f":"'Absorbance Data'!I3445-Calculations!F$1","v":0},{"$f":"'Absorbance Data'!J3445-Calculations!G$1","v":0},{"$f":"'Absorbance Data'!K3445-Calculations!H$1","v":0},{"$f":"'Absorbance Data'!L3445-Calculations!I$1","v":0},{"$f":"'Absorbance Data'!M3445-Calculations!J$1","v":0},{"$f":"'Absorbance Data'!N3445-Calculations!K$1","v":0},{"$f":"'Absorbance Data'!O3445-Calculations!L$1","v":0},{"$f":"'Absorbance Data'!P3445-Calculations!M$1","v":0},{"$f":"'Absorbance Data'!Q3445-Calculations!N$1","v":0},{"$f":"'Absorbance Data'!R3445-Calculations!O$1","v":0},{"$f":"'Absorbance Data'!S3445-Calculations!P$1","v":0},{"$f":"'Absorbance Data'!T3445-Calculations!Q$1","v":0},{"$f":"'Absorbance Data'!U3445-Calculations!R$1","v":0},{"$f":"'Absorbance Data'!V3445-Calculations!S$1","v":0},{"$f":"'Absorbance Data'!W3445-Calculations!T$1","v":0},{"$f":"'Absorbance Data'!X3445-Calculations!U$1","v":0},{"$f":"'Absorbance Data'!Y3445-Calculations!V$1","v":0},{"$f":"'Absorbance Data'!Z3445-Calculations!W$1","v":0}]
[{"$f":"'Absorbance Data'!D3446","v":658.41363525390625},{"$f":"'Absorbance Data'!E3446-Calculations!B$1","v":0},{"$f":"'Absorbance Data'!F3446-Calculations!C$1","v":0},{"$f":"'Absorbance Data'!G3446-Calculations!D$1","v":0},{"$f":"'Absorbance Data'!H3446-Calculations!E$1","v":0},{"$f":"'Absorbance Data'!I3446-Calculations!F$1","v":0},{"$f":"'Absorbance Data'!J3446-Calculations!G$1","v":0},{"$f":"'Absorbance Data'!K3446-Calculations!H$1","v":0},{"$f":"'Absorbance Data'!L3446-Calculations!I$1","v":0},{"$f":"'Absorbance Data'!M3446-Calculations!J$1","v":0},{"$f":"'Absorbance Data'!N3446-Calculations!K$1","v":0},{"$f":"'Absorbance Data'!O3446-Calculations!L$1","v":0},{"$f":"'Absorbance Data'!P3446-Calculations!M$1","v":0},{"$f":"'Absorbance Data'!Q3446-Calculations!N$1","v":0},{"$f":"'Absorbance Data'!R3446-Calculations!O$1","v":0},{"$f":"'Absorbance Data'!S3446-Calculations!P$1","v":0},{"$f":"'Absorbance Data'!T3446-Calculations!Q$1","v":0},{"$f":"'Absorbance Data'!U3446-Calculations!R$1","v":0},{"$f":"'Absorbance Data'!V3446-Calculations!S$1","v":0},{"$f":"'Absorbance Data'!W3446-Calculations!T$1","v":0},{"$f":"'Absorbance Data'!X3446-Calculations!U$1","v":0},{"$f":"'Absorbance Data'!Y3446-Calculations!V$1","v":0},{"$f":"'Absorbance Data'!Z3446-Calculations!W$1","v":0}]
[{"$f":"'Absorbance Data'!D3447","v":658.7264404296875},{"$f":"'Absorbance Data'!E3447-Calculations!B$1","v":0},{"$f":"'Absorbance Data'!F3447-Calculations!C$1","v":0},{"$f":"'Absorbance Data'!G3447-Calculations!D$1","v":0},{"$f":"'Absorbance Data'!H3447-Calculations!E$1","v":0},{"$f":"'Absorbance Data'!I3447-Calculations!F$1","v":0},{"$f":"'Absorbance Data'!J3447-Calculations!G$1","v":0},{"$f":"'Absorbance Data'!K3447-Calculations!H$1","v":0},{"$f":"'Absorbance Data'!L3447-Calculations!I$1","v":0},{"$f":"'Absorbance Data'!M3447-Calculations!J$1","v":0},{"$f":"'Absorbance Data'!N3447-Calculations!K$1","v":0},{"$f":"'Absorbance Data'!O3447-Calculations!L$1","v":0},{"$f":"'Absorbance Data'!P3447-Calculations!M$1","v":0},{"$f":"'Absorbance Data'!Q3447-Calculations!N$1","v":0},{"$f":"'Absorbance Data'!R3447-Calculations!O$1","v":0},{"$f":"'Absorbance Data'!S3447-Calculations!P$1","v":0},{"$f":"'Absorbance Data'!T3447-Calculations!Q$1","v":0},{"$f":"'Absorbance Data'!U3447-Calculations!R$1","v":0},{"$f":"'Absorbance Data'!V3447-Calculations!S$1","v":0},{"$f":"'Absorbance Data'!W3447-Calculations!T$1","v":0},{"$f":"'Absorbance Data'!X3447-Calculations!U$1","v":0},{"$f":"'Absorbance Data'!Y3447-Calculations!V$1","v":0},{"$f":"'Absorbance Data'!Z3447-Calculations!W$1","v":0}]
[{"$f":"'Absorbance Data'!D3448","v":659.03924560546875},{"$f":"'Absorbance Data'!E3448-Calculations!B$1","v":0},{"$f":"'Absorbance Data'!F3448-Calculations!C$1","v":0},{"$f":"'Absorbance Data'!G3448-Calculations!D$1","v":0},{"$f":"'Absorbance Data'!H3448-Calculations!E$1","v":0},{"$f":"'Absorbance Data'!I3448-Calculations!F$1","v":0},{"$f":"'Absorbance Data'!J3448-Calculations!G$1","v":0},{"$f":"'Absorbance Data'!K3448-Calculations!H$1","v":0},{"$f":"'Absorbance Data'!L3448-Calculations!I$1","v":0},{"$f":"'Absorbance Data'!M3448-Calculations!J$1","v":0},{"$f":"'Absorbance Data'!N3448-Calculations!K$1","v":0},{"$f":"'Absorbance Data'!O3448-Calculations!L$1","v":0},{"$f":"'Absorbance Data'!P3448-Calculations!M$1","v":0},{"$f":"'Absorbance Data'!Q3448-Calculations!N$1","v":0},{"$f":"'Absorbance Data'!R3448-Calculations!O$1","v":0},{"$f":"'Absorbance Data'!S3448-Calculations!P$1","v":0},{"$f":"'Absorbance Data'!T3448-Calculations!Q$1","v":0},{"$f":"'Absorbance Data'!U3448-Calculations!R$1","v":0},{"$f":"'Absorbance Data'!V3448-Calculations!S$1","v":0},{"$f":"'Absorbance Data'!W3448-Calculations!T$1","v":0},{"$f":"'Absorbance Data'!X3448-Calculations!U$1","v":0},{"$f":"'Absorbance Data'!Y3448-Calculations!V$1","v":0},{"$f":"'Absorbance Data'!Z3448-Calculations!W$1","v":0}]
[{"$f":"'Absorbance Data'!D3449","v":659.35198974609375},{"$f":"'Absorbance Data'!E3449-Calculations!B$1","v":0},{"$f":"'Absorbance Data'!F3449-Calculations!C$1","v":0},{"$f":"'Absorbance Data'!G3449-Calculations!D$1","v":0},{"$f":"'Absorbance Data'!H3449-Calculations!E$1","v":0},{"$f":"'Absorbance Data'!I3449-Calculations!F$1","v":0},{"$f":"'Absorbance Data'!J3449-Calculations!G$1","v":0},{"$f":"'Absorbance Data'!K3449-Calculations!H$1","v":0},{"$f":"'Absorbance Data'!L3449-Calculations!I$1","v":0},{"$f":"'Absorbance Data'!M3449-Calculations!J$1","v":0},{"$f":"'Absorbance Data'!N3449-Calculations!K$1","v":0},{"$f":"'Absorbance Data'!O3449-Calculations!L$1","v":0},{"$f":"'Absorbance Data'!P3449-Calculations!M$1","v":0},{"$f":"'Absorbance Data'!Q3449-Calculations!N$1","v":0},{"$f":"'Absorbance Data'!R3449-Calculations!O$1","v":0},{"$f":"'Absorbance Data'!S3449-Calculations!P$1","v":0},{"$f":"'Absorbance Data'!T3449-Calculations!Q$1","v":0},{"$f":"'Absorbance Data'!U3449-Calculations!R$1","v":0},{"$f":"'Absorbance Data'!V3449-Calculations!S$1","v":0},{"$f":"'Absorbance Data'!W3449-Calculations!T$1","v":0},{"$f":"'Absorbance Data'!X3449-Calculations!U$1","v":0},{"$f":"'Absorbance Data'!Y3449-Calculations!V$1","v":0},{"$f":"'Absorbance Data'!Z3449-Calculations!W$1","v":0}]
[{"$f":"'Absorbance Data'!D3450","v":659.6646728515625},{"$f":"'Absorbance Data'!E3450-Calculations!B$1","v":0},{"$f":"'Absorbance Data'!F3450-Calculations!C$1","v":0},{"$f":"'Absorbance Data'!G3450-Calculations!D$1","v":0},{"$f":"'Absorbance Data'!H3450-Calculations!E$1","v":0},{"$f":"'Absorbance Data'!I3450-Calculations!F$1","v":0},{"$f":"'Absorbance Data'!J3450-Calculations!G$1","v":0},{"$f":"'Absorbance Data'!K3450-Calculations!H$1","v":0},{"$f":"'Absorbance Data'!L3450-Calculations!I$1","v":0},{"$f":"'Absorbance Data'!M3450-Calculations!J$1","v":0},{"$f":"'Absorbance Data'!N3450-Calculations!K$1","v":0},{"$f":"'Absorbance Data'!O3450-Calculations!L$1","v":0},{"$f":"'Absorbance Data'!P3450-Calculations!M$1","v":0},{"$f":"'Absorbance Data'!Q3450-Calculations!N$1","v":0},{"$f":"'Absorbance Data'!R3450-Calculations!O$1","v":0},{"$f":"'Absorbance Data'!S3450-Calculations!P$1","v":0},{"$f":"'Absorbance Data'!T3450-Calculations!Q$1","v":0},{"$f":"'Absorbance Data'!U3450-Calculations!R$1","v":0},{"$f":"'Absorbance Data'!V3450-Calculations!S$1","v":0},{"$f":"'Absorbance Data'!W3450-Calculations!T$1","v":0},{"$f":"'Absorbance Data'!X3450-Calculations!U$1","v":0},{"$f":"'Absorbance Data'!Y3450-Calculations!V$1","v":0},{"$f":"'Absorbance Data'!Z3450-Calculations!W$1","v":0}]
[{"$f":"'Absorbance Data'!D3451","v":659.9774169921875},{"$f":"'Absorbance Data'!E3451-Calculations!B$1","v":0},{"$f":"'Absorbance Data'!F3451-Calculations!C$1","v":0},{"$f":"'Absorbance Data'!G3451-Calculations!D$1","v":0},{"$f":"'Absorbance Data'!H3451-Calculations!E$1","v":0},{"$f":"'Absorbance Data'!I3451-Calculations!F$1","v":0},{"$f":"'Absorbance Data'!J3451-Calculations!G$1","v":0},{"$f":"'Absorbance Data'!K3451-Calculations!H$1","v":0},{"$f":"'Absorbance Data'!L3451-Calculations!I$1","v":0},{"$f":"'Absorbance Data'!M3451-Calculations!J$1","v":0},{"$f":"'Absorbance Data'!N3451-Calculations!K$1","v":0},{"$f":"'Absorbance Data'!O3451-Calculations!L$1","v":0},{"$f":"'Absorbance Data'!P3451-Calculations!M$1","v":0},{"$f":"'Absorbance Data'!Q3451-Calculations!N$1","v":0},{"$f":"'Absorbance Data'!R3451-Calculations!O$1","v":0},{"$f":"'Absorbance Data'!S3451-Calculations!P$1","v":0},{"$f":"'Absorbance Data'!T3451-Calculations!Q$1","v":0},{"$f":"'Absorbance Data'!U3451-Calculations!R$1","v":0},{"$f":"'Absorbance Data'!V3451-Calculations!S$1","v":0},{"$f":"'Absorbance Data'!W3451-Calculations!T$1","v":0},{"$f":"'Absorbance Data'!X3451-Calculations!U$1","v":0},{"$f":"'Absorbance Data'!Y3451-Calculations!V$1","v":0},{"$f":"'Absorbance Data'!Z3451-Calculations!W$1","v":0}]
[{"$f":"'Absorbance Data'!D3452","v":660.28997802734375},{"$f":"'Absorbance Data'!E3452-Calculations!B$1","v":0},{"$f":"'Absorbance Data'!F3452-Calculations!C$1","v":0},{"$f":"'Absorbance Data'!G3452-Calculations!D$1","v":0},{"$f":"'Absorbance Data'!H3452-Calculations!E$1","v":0},{"$f":"'Absorbance Data'!I3452-Calculations!F$1","v":0},{"$f":"'Absorbance Data'!J3452-Calculations!G$1","v":0},{"$f":"'Absorbance Data'!K3452-Calculations!H$1","v":0},{"$f":"'Absorbance Data'!L3452-Calculations!I$1","v":0},{"$f":"'Absorbance Data'!M3452-Calculations!J$1","v":0},{"$f":"'Absorbance Data'!N3452-Calculations!K$1","v":0},{"$f":"'Absorbance Data'!O3452-Calculations!L$1","v":0},{"$f":"'Absorbance Data'!P3452-Calculations!M$1","v":0},{"$f":"'Absorbance Data'!Q3452-Calculations!N$1","v":0},{"$f":"'Absorbance Data'!R3452-Calculations!O$1","v":0},{"$f":"'Absorbance Data'!S3452-Calculations!P$1","v":0},{"$f":"'Absorbance Data'!T3452-Calculations!Q$1","v":0},{"$f":"'Absorbance Data'!U3452-Calculations!R$1","v":0},{"$f":"'Absorbance Data'!V3452-Calculations!S$1","v":0},{"$f":"'Absorbance Data'!W3452-Calculations!T$1","v":0},{"$f":"'Absorbance Data'!X3452-Calculations!U$1","v":0},{"$f":"'Absorbance Data'!Y3452-Calculations!V$1","v":0},{"$f":"'Absorbance Data'!Z3452-Calculations!W$1","v":0}]
[{"$f":"'Absorbance Data'!D3453","v":660.6025390625},{"$f":"'Absorbance Data'!E3453-Calculations!B$1","v":0},{"$f":"'Absorbance Data'!F3453-Calculations!C$1","v":0},{"$f":"'Absorbance Data'!G3453-Calculations!D$1","v":0},{"$f":"'Absorbance Data'!H3453-Calculations!E$1","v":0},{"$f":"'Absorbance Data'!I3453-Calculations!F$1","v":0},{"$f":"'Absorbance Data'!J3453-Calculations!G$1","v":0},{"$f":"'Absorbance Data'!K3453-Calculations!H$1","v":0},{"$f":"'Absorbance Data'!L3453-Calculations!I$1","v":0},{"$f":"'Absorbance Data'!M3453-Calculations!J$1","v":0},{"$f":"'Absorbance Data'!N3453-Calculations!K$1","v":0},{"$f":"'Absorbance Data'!O3453-Calculations!L$1","v":0},{"$f":"'Absorbance Data'!P3453-Calculations!M$1","v":0},{"$f":"'Absorbance Data'!Q3453-Calculations!N$1","v":0},{"$f":"'Absorbance Data'!R3453-Calculations!O$1","v":0},{"$f":"'Absorbance Data'!S3453-Calculations!P$1","v":0},{"$f":"'Absorbance Data'!T3453-Calculations!Q$1","v":0},{"$f":"'Absorbance Data'!U3453-Calculations!R$1","v":0},{"$f":"'Absorbance Data'!V3453-Calculations!S$1","v":0},{"$f":"'Absorbance Data'!W3453-Calculations!T$1","v":0},{"$f":"'Absorbance Data'!X3453-Calculations!U$1","v":0},{"$f":"'Absorbance Data'!Y3453-Calculations!V$1","v":0},{"$f":"'Absorbance Data'!Z3453-Calculations!W$1","v":0}]
[{"$f":"'Absorbance Data'!D3454","v":660.91510009765625},{"$f":"'Absorbance Data'!E3454-Calculations!B$1","v":0},{"$f":"'Absorbance Data'!F3454-Calculations!C$1","v":0},{"$f":"'Absorbance Data'!G3454-Calculations!D$1","v":0},{"$f":"'Absorbance Data'!H3454-Calculations!E$1","v":0},{"$f":"'Absorbance Data'!I3454-Calculations!F$1","v":0},{"$f":"'Absorbance Data'!J3454-Calculations!G$1","v":0},{"$f":"'Absorbance Data'!K3454-Calculations!H$1","v":0},{"$f":"'Absorbance Data'!L3454-Calculations!I$1","v":0},{"$f":"'Absorbance Data'!M3454-Calculations!J$1","v":0},{"$f":"'Absorbance Data'!N3454-Calculations!K$1","v":0},{"$f":"'Absorbance Data'!O3454-Calculations!L$1","v":0},{"$f":"'Absorbance Data'!P3454-Calculations!M$1","v":0},{"$f":"'Absorbance Data'!Q3454-Calculations!N$1","v":0},{"$f":"'Absorbance Data'!R3454-Calculations!O$1","v":0},{"$f":"'Absorbance Data'!S3454-Calculations!P$1","v":0},{"$f":"'Absorbance Data'!T3454-Calculations!Q$1","v":0},{"$f":"'Absorbance Data'!U3454-Calculations!R$1","v":0},{"$f":"'Absorbance Data'!V3454-Calculations!S$1","v":0},{"$f":"'Absorbance Data'!W3454-Calculations!T$1","v":0},{"$f":"'Absorbance Data'!X3454-Calculations!U$1","v":0},{"$f":"'Absorbance Data'!Y3454-Calculations!V$1","v":0},{"$f":"'Absorbance Data'!Z3454-Calculations!W$1","v":0}]
[{"$f":"'Absorbance Data'!D3455","v":661.22760009765625},{"$f":"'Absorbance Data'!E3455-Calculations!B$1","v":0},{"$f":"'Absorbance Data'!F3455-Calculations!C$1","v":0},{"$f":"'Absorbance Data'!G3455-Calculations!D$1","v":0},{"$f":"'Absorbance Data'!H3455-Calculations!E$1","v":0},{"$f":"'Absorbance Data'!I3455-Calculations!F$1","v":0},{"$f":"'Absorbance Data'!J3455-Calculations!G$1","v":0},{"$f":"'Absorbance Data'!K3455-Calculations!H$1","v":0},{"$f":"'Absorbance Data'!L3455-Calculations!I$1","v":0},{"$f":"'Absorbance Data'!M3455-Calculations!J$1","v":0},{"$f":"'Absorbance Data'!N3455-Calculations!K$1","v":0},{"$f":"'Absorbance Data'!O3455-Calculations!L$1","v":0},{"$f":"'Absorbance Data'!P3455-Calculations!M$1","v":0},{"$f":"'Absorbance Data'!Q3455-Calculations!N$1","v":0},{"$f":"'Absorbance Data'!R3455-Calculations!O$1","v":0},{"$f":"'Absorbance Data'!S3455-Calculations!P$1","v":0},{"$f":"'Absorbance Data'!T3455-Calculations!Q$1","v":0},{"$f":"'Absorbance Data'!U3455-Calculations!R$1","v":0},{"$f":"'Absorbance Data'!V3455-Calculations!S$1","v":0},{"$f":"'Absorbance Data'!W3455-Calculations!T$1","v":0},{"$f":"'Absorbance Data'!X3455-Calculations!U$1","v":0},{"$f":"'Absorbance Data'!Y3455-Calculations!V$1","v":0},{"$f":"'Absorbance Data'!Z3455-Calculations!W$1","v":0}]
[{"$f":"'Absorbance Data'!D3456","v":661.5400390625},{"$f":"'Absorbance Data'!E3456-Calculations!B$1","v":0},{"$f":"'Absorbance Data'!F3456-Calculations!C$1","v":0},{"$f":"'Absorbance Data'!G3456-Calculations!D$1","v":0},{"$f":"'Absorbance Data'!H3456-Calculations!E$1","v":0},{"$f":"'Absorbance Data'!I3456-Calculations!F$1","v":0},{"$f":"'Absorbance Data'!J3456-Calculations!G$1","v":0},{"$f":"'Absorbance Data'!K3456-Calculations!H$1","v":0},{"$f":"'Absorbance Data'!L3456-Calculations!I$1","v":0},{"$f":"'Absorbance Data'!M3456-Calculations!J$1","v":0},{"$f":"'Absorbance Data'!N3456-Calculations!K$1","v":0},{"$f":"'Absorbance Data'!O3456-Calculations!L$1","v":0},{"$f":"'Absorbance Data'!P3456-Calculations!M$1","v":0},{"$f":"'Absorbance Data'!Q3456-Calculations!N$1","v":0},{"$f":"'Absorbance Data'!R3456-Calculations!O$1","v":0},{"$f":"'Absorbance Data'!S3456-Calculations!P$1","v":0},{"$f":"'Absorbance Data'!T3456-Calculations!Q$1","v":0},{"$f":"'Absorbance Data'!U3456-Calculations!R$1","v":0},{"$f":"'Absorbance Data'!V3456-Calculations!S$1","v":0},{"$f":"'Absorbance Data'!W3456-Calculations!T$1","v":0},{"$f":"'Absorbance Data'!X3456-Calculations!U$1","v":0},{"$f":"'Absorbance Data'!Y3456-Calculations!V$1","v":0},{"$f":"'Absorbance Data'!Z3456-Calculations!W$1","v":0}]
[{"$f":"'Absorbance Data'!D3457","v":661.8524169921875},{"$f":"'Absorbance Data'!E3457-Calculations!B$1","v":0},{"$f":"'Absorbance Data'!F3457-Calculations!C$1","v":0},{"$f":"'Absorbance Data'!G3457-Calculations!D$1","v":0},{"$f":"'Absorbance Data'!H3457-Calculations!E$1","v":0},{"$f":"'Absorbance Data'!I3457-Calculations!F$1","v":0},{"$f":"'Absorbance Data'!J3457-Calculations!G$1","v":0},{"$f":"'Absorbance Data'!K3457-Calculations!H$1","v":0},{"$f":"'Absorbance Data'!L3457-Calculations!I$1","v":0},{"$f":"'Absorbance Data'!M3457-Calculations!J$1","v":0},{"$f":"'Absorbance Data'!N3457-Calculations!K$1","v":0},{"$f":"'Absorbance Data'!O3457-Calculations!L$1","v":0},{"$f":"'Absorbance Data'!P3457-Calculations!M$1","v":0},{"$f":"'Absorbance Data'!Q3457-Calculations!N$1","v":0},{"$f":"'Absorbance Data'!R3457-Calculations!O$1","v":0},{"$f":"'Absorbance Data'!S3457-Calculations!P$1","v":0},{"$f":"'Absorbance Data'!T3457-Calculations!Q$1","v":0},{"$f":"'Absorbance Data'!U3457-Calculations!R$1","v":0},{"$f":"'Absorbance Data'!V3457-Calculations!S$1","v":0},{"$f":"'Absorbance Data'!W3457-Calculations!T$1","v":0},{"$f":"'Absorbance Data'!X3457-Calculations!U$1","v":0},{"$f":"'Absorbance Data'!Y3457-Calculations!V$1","v":0},{"$f":"'Absorbance Data'!Z3457-Calculations!W$1","v":0}]
[{"$f":"'Absorbance Data'!D3458","v":662.164794921875},{"$f":"'Absorbance Data'!E3458-Calculations!B$1","v":0},{"$f":"'Absorbance Data'!F3458-Calculations!C$1","v":0},{"$f":"'Absorbance Data'!G3458-Calculations!D$1","v":0},{"$f":"'Absorbance Data'!H3458-Calculations!E$1","v":0},{"$f":"'Absorbance Data'!I3458-Calculations!F$1","v":0},{"$f":"'Absorbance Data'!J3458-Calculations!G$1","v":0},{"$f":"'Absorbance Data'!K3458-Calculations!H$1","v":0},{"$f":"'Absorbance Data'!L3458-Calculations!I$1","v":0},{"$f":"'Absorbance Data'!M3458-Calculations!J$1","v":0},{"$f":"'Absorbance Data'!N3458-Calculations!K$1","v":0},{"$f":"'Absorbance Data'!O3458-Calculations!L$1","v":0},{"$f":"'Absorbance Data'!P3458-Calculations!M$1","v":0},{"$f":"'Absorbance Data'!Q3458-Calculations!N$1","v":0},{"$f":"'Absorbance Data'!R3458-Calculations!O$1","v":0},{"$f":"'Absorbance Data'!S3458-Calculations!P$1","v":0},{"$f":"'Absorbance Data'!T3458-Calculations!Q$1","v":0},{"$f":"'Absorbance Data'!U3458-Calculations!R$1","v":0},{"$f":"'Absorbance Data'!V3458-Calculations!S$1","v":0},{"$f":"'Absorbance Data'!W3458-Calculations!T$1","v":0},{"$f":"'Absorbance Data'!X3458-Calculations!U$1","v":0},{"$f":"'Absorbance Data'!Y3458-Calculations!V$1","v":0},{"$f":"'Absorbance Data'!Z3458-Calculations!W$1","v":0}]
[{"$f":"'Absorbance Data'!D3459","v":662.4771728515625},{"$f":"'Absorbance Data'!E3459-Calculations!B$1","v":0},{"$f":"'Absorbance Data'!F3459-Calculations!C$1","v":0},{"$f":"'Absorbance Data'!G3459-Calculations!D$1","v":0},{"$f":"'Absorbance Data'!H3459-Calculations!E$1","v":0},{"$f":"'Absorbance Data'!I3459-Calculations!F$1","v":0},{"$f":"'Absorbance Data'!J3459-Calculations!G$1","v":0},{"$f":"'Absorbance Data'!K3459-Calculations!H$1","v":0},{"$f":"'Absorbance Data'!L3459-Calculations!I$1","v":0},{"$f":"'Absorbance Data'!M3459-Calculations!J$1","v":0},{"$f":"'Absorbance Data'!N3459-Calculations!K$1","v":0},{"$f":"'Absorbance Data'!O3459-Calculations!L$1","v":0},{"$f":"'Absorbance Data'!P3459-Calculations!M$1","v":0},{"$f":"'Absorbance Data'!Q3459-Calculations!N$1","v":0},{"$f":"'Absorbance Data'!R3459-Calculations!O$1","v":0},{"$f":"'Absorbance Data'!S3459-Calculations!P$1","v":0},{"$f":"'Absorbance Data'!T3459-Calculations!Q$1","v":0},{"$f":"'Absorbance Data'!U3459-Calculations!R$1","v":0},{"$f":"'Absorbance Data'!V3459-Calculations!S$1","v":0},{"$f":"'Absorbance Data'!W3459-Calculations!T$1","v":0},{"$f":"'Absorbance Data'!X3459-Calculations!U$1","v":0},{"$f":"'Absorbance Data'!Y3459-Calculations!V$1","v":0},{"$f":"'Absorbance Data'!Z3459-Calculations!W$1","v":0}]
[{"$f":"'Absorbance Data'!D3460","v":662.78936767578125},{"$f":"'Absorbance Data'!E3460-Calculations!B$1","v":0},{"$f":"'Absorbance Data'!F3460-Calculations!C$1","v":0},{"$f":"'Absorbance Data'!G3460-Calculations!D$1","v":0},{"$f":"'Absorbance Data'!H3460-Calculations!E$1","v":0},{"$f":"'Absorbance Data'!I3460-Calculations!F$1","v":0},{"$f":"'Absorbance Data'!J3460-Calculations!G$1","v":0},{"$f":"'Absorbance Data'!K3460-Calculations!H$1","v":0},{"$f":"'Absorbance Data'!L3460-Calculations!I$1","v":0},{"$f":"'Absorbance Data'!M3460-Calculations!J$1","v":0},{"$f":"'Absorbance Data'!N3460-Calculations!K$1","v":0},{"$f":"'Absorbance Data'!O3460-Calculations!L$1","v":0},{"$f":"'Absorbance Data'!P3460-Calculations!M$1","v":0},{"$f":"'Absorbance Data'!Q3460-Calculations!N$1","v":0},{"$f":"'Absorbance Data'!R3460-Calculations!O$1","v":0},{"$f":"'Absorbance Data'!S3460-Calculations!P$1","v":0},{"$f":"'Absorbance Data'!T3460-Calculations!Q$1","v":0},{"$f":"'Absorbance Data'!U3460-Calculations!R$1","v":0},{"$f":"'Absorbance Data'!V3460-Calculations!S$1","v":0},{"$f":"'Absorbance Data'!W3460-Calculations!T$1","v":0},{"$f":"'Absorbance Data'!X3460-Calculations!U$1","v":0},{"$f":"'Absorbance Data'!Y3460-Calculations!V$1","v":0},{"$f":"'Absorbance Data'!Z3460-Calculations!W$1","v":0}]
[{"$f":"'Absorbance Data'!D3461","v":663.10162353515625},{"$f":"'Absorbance Data'!E3461-Calculations!B$1","v":0},{"$f":"'Absorbance Data'!F3461-Calculations!C$1","v":0},{"$f":"'Absorbance Data'!G3461-Calculations!D$1","v":0},{"$f":"'Absorbance Data'!H3461-Calculations!E$1","v":0},{"$f":"'Absorbance Data'!I3461-Calculations!F$1","v":0},{"$f":"'Absorbance Data'!J3461-Calculations!G$1","v":0},{"$f":"'Absorbance Data'!K3461-Calculations!H$1","v":0},{"$f":"'Absorbance Data'!L3461-Calculations!I$1","v":0},{"$f":"'Absorbance Data'!M3461-Calculations!J$1","v":0},{"$f":"'Absorbance Data'!N3461-Calculations!K$1","v":0},{"$f":"'Absorbance Data'!O3461-Calculations!L$1","v":0},{"$f":"'Absorbance Data'!P3461-Calculations!M$1","v":0},{"$f":"'Absorbance Data'!Q3461-Calculations!N$1","v":0},{"$f":"'Absorbance Data'!R3461-Calculations!O$1","v":0},{"$f":"'Absorbance Data'!S3461-Calculations!P$1","v":0},{"$f":"'Absorbance Data'!T3461-Calculations!Q$1","v":0},{"$f":"'Absorbance Data'!U3461-Calculations!R$1","v":0},{"$f":"'Absorbance Data'!V3461-Calculations!S$1","v":0},{"$f":"'Absorbance Data'!W3461-Calculations!T$1","v":0},{"$f":"'Absorbance Data'!X3461-Calculations!U$1","v":0},{"$f":"'Absorbance Data'!Y3461-Calculations!V$1","v":0},{"$f":"'Absorbance Data'!Z3461-Calculations!W$1","v":0}]
[{"$f":"'Absorbance Data'!D3462","v":663.413818359375},{"$f":"'Absorbance Data'!E3462-Calculations!B$1","v":0},{"$f":"'Absorbance Data'!F3462-Calculations!C$1","v":0},{"$f":"'Absorbance Data'!G3462-Calculations!D$1","v":0},{"$f":"'Absorbance Data'!H3462-Calculations!E$1","v":0},{"$f":"'Absorbance Data'!I3462-Calculations!F$1","v":0},{"$f":"'Absorbance Data'!J3462-Calculations!G$1","v":0},{"$f":"'Absorbance Data'!K3462-Calculations!H$1","v":0},{"$f":"'Absorbance Data'!L3462-Calculations!I$1","v":0},{"$f":"'Absorbance Data'!M3462-Calculations!J$1","v":0},{"$f":"'Absorbance Data'!N3462-Calculations!K$1","v":0},{"$f":"'Absorbance Data'!O3462-Calculations!L$1","v":0},{"$f":"'Absorbance Data'!P3462-Calculations!M$1","v":0},{"$f":"'Absorbance Data'!Q3462-Calculations!N$1","v":0},{"$f":"'Absorbance Data'!R3462-Calculations!O$1","v":0},{"$f":"'Absorbance Data'!S3462-Calculations!P$1","v":0},{"$f":"'Absorbance Data'!T3462-Calculations!Q$1","v":0},{"$f":"'Absorbance Data'!U3462-Calculations!R$1","v":0},{"$f":"'Absorbance Data'!V3462-Calculations!S$1","v":0},{"$f":"'Absorbance Data'!W3462-Calculations!T$1","v":0},{"$f":"'Absorbance Data'!X3462-Calculations!U$1","v":0},{"$f":"'Absorbance Data'!Y3462-Calculations!V$1","v":0},{"$f":"'Absorbance Data'!Z3462-Calculations!W$1","v":0}]
[{"$f":"'Absorbance Data'!D3463","v":663.72601318359375},{"$f":"'Absorbance Data'!E3463-Calculations!B$1","v":0},{"$f":"'Absorbance Data'!F3463-Calculations!C$1","v":0},{"$f":"'Absorbance Data'!G3463-Calculations!D$1","v":0},{"$f":"'Absorbance Data'!H3463-Calculations!E$1","v":0},{"$f":"'Absorbance Data'!I3463-Calculations!F$1","v":0},{"$f":"'Absorbance Data'!J3463-Calculations!G$1","v":0},{"$f":"'Absorbance Data'!K3463-Calculations!H$1","v":0},{"$f":"'Absorbance Data'!L3463-Calculations!I$1","v":0},{"$f":"'Absorbance Data'!M3463-Calculations!J$1","v":0},{"$f":"'Absorbance Data'!N3463-Calculations!K$1","v":0},{"$f":"'Absorbance Data'!O3463-Calculations!L$1","v":0},{"$f":"'Absorbance Data'!P3463-Calculations!M$1","v":0},{"$f":"'Absorbance Data'!Q3463-Calculations!N$1","v":0},{"$f":"'Absorbance Data'!R3463-Calculations!O$1","v":0},{"$f":"'Absorbance Data'!S3463-Calculations!P$1","v":0},{"$f":"'Absorbance Data'!T3463-Calculations!Q$1","v":0},{"$f":"'Absorbance Data'!U3463-Calculations!R$1","v":0},{"$f":"'Absorbance Data'!V3463-Calculations!S$1","v":0},{"$f":"'Absorbance Data'!W3463-Calculations!T$1","v":0},{"$f":"'Absorbance Data'!X3463-Calculations!U$1","v":0},{"$f":"'Absorbance Data'!Y3463-Calculations!V$1","v":0},{"$f":"'Absorbance Data'!Z3463-Calculations!W$1","v":0}]
[{"$f":"'Absorbance Data'!D3464","v":664.03814697265625},{"$f":"'Absorbance Data'!E3464-Calculations!B$1","v":0},{"$f":"'Absorbance Data'!F3464-Calculations!C$1","v":0},{"$f":"'Absorbance Data'!G3464-Calculations!D$1","v":0},{"$f":"'Absorbance Data'!H3464-Calculations!E$1","v":0},{"$f":"'Absorbance Data'!I3464-Calculations!F$1","v":0},{"$f":"'Absorbance Data'!J3464-Calculations!G$1","v":0},{"$f":"'Absorbance Data'!K3464-Calculations!H$1","v":0},{"$f":"'Absorbance Data'!L3464-Calculations!I$1","v":0},{"$f":"'Absorbance Data'!M3464-Calculations!J$1","v":0},{"$f":"'Absorbance Data'!N3464-Calculations!K$1","v":0},{"$f":"'Absorbance Data'!O3464-Calculations!L$1","v":0},{"$f":"'Absorbance Data'!P3464-Calculations!M$1","v":0},{"$f":"'Absorbance Data'!Q3464-Calculations!N$1","v":0},{"$f":"'Absorbance Data'!R3464-Calculations!O$1","v":0},{"$f":"'Absorbance Data'!S3464-Calculations!P$1","v":0},{"$f":"'Absorbance Data'!T3464-Calculations!Q$1","v":0},{"$f":"'Absorbance Data'!U3464-Calculations!R$1","v":0},{"$f":"'Absorbance Data'!V3464-Calculations!S$1","v":0},{"$f":"'Absorbance Data'!W3464-Calculations!T$1","v":0},{"$f":"'Absorbance Data'!X3464-Calculations!U$1","v":0},{"$f":"'Absorbance Data'!Y3464-Calculations!V$1","v":0},{"$f":"'Absorbance Data'!Z3464-Calculations!W$1","v":0}]
[{"$f":"'Absorbance Data'!D3465","v":664.35015869140625},{"$f":"'Absorbance Data'!E3465-Calculations!B$1","v":0},{"$f":"'Absorbance Data'!F3465-Calculations!C$1","v":0},{"$f":"'Absorbance Data'!G3465-Calculations!D$1","v":0},{"$f":"'Absorbance Data'!H3465-Calculations!E$1","v":0},{"$f":"'Absorbance Data'!I3465-Calculations!F$1","v":0},{"$f":"'Absorbance Data'!J3465-Calculations!G$1","v":0},{"$f":"'Absorbance Data'!K3465-Calculations!H$1","v":0},{"$f":"'Absorbance Data'!L3465-Calculations!I$1","v":0},{"$f":"'Absorbance Data'!M3465-Calculations!J$1","v":0},{"$f":"'Absorbance Data'!N3465-Calculations!K$1","v":0},{"$f":"'Absorbance Data'!O3465-Calculations!L$1","v":0},{"$f":"'Absorbance Data'!P3465-Calculations!M$1","v":0},{"$f":"'Absorbance Data'!Q3465-Calculations!N$1","v":0},{"$f":"'Absorbance Data'!R3465-Calculations!O$1","v":0},{"$f":"'Absorbance Data'!S3465-Calculations!P$1","v":0},{"$f":"'Absorbance Data'!T3465-Calculations!Q$1","v":0},{"$f":"'Absorbance Data'!U3465-Calculations!R$1","v":0},{"$f":"'Absorbance Data'!V3465-Calculations!S$1","v":0},{"$f":"'Absorbance Data'!W3465-Calculations!T$1","v":0},{"$f":"'Absorbance Data'!X3465-Calculations!U$1","v":0},{"$f":"'Absorbance Data'!Y3465-Calculations!V$1","v":0},{"$f":"'Absorbance Data'!Z3465-Calculations!W$1","v":0}]
[{"$f":"'Absorbance Data'!D3466","v":664.66217041015625},{"$f":"'Absorbance Data'!E3466-Calculations!B$1","v":0},{"$f":"'Absorbance Data'!F3466-Calculations!C$1","v":0},{"$f":"'Absorbance Data'!G3466-Calculations!D$1","v":0},{"$f":"'Absorbance Data'!H3466-Calculations!E$1","v":0},{"$f":"'Absorbance Data'!I3466-Calculations!F$1","v":0},{"$f":"'Absorbance Data'!J3466-Calculations!G$1","v":0},{"$f":"'Absorbance Data'!K3466-Calculations!H$1","v":0},{"$f":"'Absorbance Data'!L3466-Calculations!I$1","v":0},{"$f":"'Absorbance Data'!M3466-Calculations!J$1","v":0},{"$f":"'Absorbance Data'!N3466-Calculations!K$1","v":0},{"$f":"'Absorbance Data'!O3466-Calculations!L$1","v":0},{"$f":"'Absorbance Data'!P3466-Calculations!M$1","v":0},{"$f":"'Absorbance Data'!Q3466-Calculations!N$1","v":0},{"$f":"'Absorbance Data'!R3466-Calculations!O$1","v":0},{"$f":"'Absorbance Data'!S3466-Calculations!P$1","v":0},{"$f":"'Absorbance Data'!T3466-Calculations!Q$1","v":0},{"$f":"'Absorbance Data'!U3466-Calculations!R$1","v":0},{"$f":"'Absorbance Data'!V3466-Calculations!S$1","v":0},{"$f":"'Absorbance Data'!W3466-Calculations!T$1","v":0},{"$f":"'Absorbance Data'!X3466-Calculations!U$1","v":0},{"$f":"'Absorbance Data'!Y3466-Calculations!V$1","v":0},{"$f":"'Absorbance Data'!Z3466-Calculations!W$1","v":0}]
[{"$f":"'Absorbance Data'!D3467","v":664.97418212890625},{"$f":"'Absorbance Data'!E3467-Calculations!B$1","v":0},{"$f":"'Absorbance Data'!F3467-Calculations!C$1","v":0},{"$f":"'Absorbance Data'!G3467-Calculations!D$1","v":0},{"$f":"'Absorbance Data'!H3467-Calculations!E$1","v":0},{"$f":"'Absorbance Data'!I3467-Calculations!F$1","v":0},{"$f":"'Absorbance Data'!J3467-Calculations!G$1","v":0},{"$f":"'Absorbance Data'!K3467-Calculations!H$1","v":0},{"$f":"'Absorbance Data'!L3467-Calculations!I$1","v":0},{"$f":"'Absorbance Data'!M3467-Calculations!J$1","v":0},{"$f":"'Absorbance Data'!N3467-Calculations!K$1","v":0},{"$f":"'Absorbance Data'!O3467-Calculations!L$1","v":0},{"$f":"'Absorbance Data'!P3467-Calculations!M$1","v":0},{"$f":"'Absorbance Data'!Q3467-Calculations!N$1","v":0},{"$f":"'Absorbance Data'!R3467-Calculations!O$1","v":0},{"$f":"'Absorbance Data'!S3467-Calculations!P$1","v":0},{"$f":"'Absorbance Data'!T3467-Calculations!Q$1","v":0},{"$f":"'Absorbance Data'!U3467-Calculations!R$1","v":0},{"$f":"'Absorbance Data'!V3467-Calculations!S$1","v":0},{"$f":"'Absorbance Data'!W3467-Calculations!T$1","v":0},{"$f":"'Absorbance Data'!X3467-Calculations!U$1","v":0},{"$f":"'Absorbance Data'!Y3467-Calculations!V$1","v":0},{"$f":"'Absorbance Data'!Z3467-Calculations!W$1","v":0}]
[{"$f":"'Absorbance Data'!D3468","v":665.2861328125},{"$f":"'Absorbance Data'!E3468-Calculations!B$1","v":0},{"$f":"'Absorbance Data'!F3468-Calculations!C$1","v":0},{"$f":"'Absorbance Data'!G3468-Calculations!D$1","v":0},{"$f":"'Absorbance Data'!H3468-Calculations!E$1","v":0},{"$f":"'Absorbance Data'!I3468-Calculations!F$1","v":0},{"$f":"'Absorbance Data'!J3468-Calculations!G$1","v":0},{"$f":"'Absorbance Data'!K3468-Calculations!H$1","v":0},{"$f":"'Absorbance Data'!L3468-Calculations!I$1","v":0},{"$f":"'Absorbance Data'!M3468-Calculations!J$1","v":0},{"$f":"'Absorbance Data'!N3468-Calculations!K$1","v":0},{"$f":"'Absorbance Data'!O3468-Calculations!L$1","v":0},{"$f":"'Absorbance Data'!P3468-Calculations!M$1","v":0},{"$f":"'Absorbance Data'!Q3468-Calculations!N$1","v":0},{"$f":"'Absorbance Data'!R3468-Calculations!O$1","v":0},{"$f":"'Absorbance Data'!S3468-Calculations!P$1","v":0},{"$f":"'Absorbance Data'!T3468-Calculations!Q$1","v":0},{"$f":"'Absorbance Data'!U3468-Calculations!R$1","v":0},{"$f":"'Absorbance Data'!V3468-Calculations!S$1","v":0},{"$f":"'Absorbance Data'!W3468-Calculations!T$1","v":0},{"$f":"'Absorbance Data'!X3468-Calculations!U$1","v":0},{"$f":"'Absorbance Data'!Y3468-Calculations!V$1","v":0},{"$f":"'Absorbance Data'!Z3468-Calculations!W$1","v":0}]
[{"$f":"'Absorbance Data'!D3469","v":665.5980224609375},{"$f":"'Absorbance Data'!E3469-Calculations!B$1","v":0},{"$f":"'Absorbance Data'!F3469-Calculations!C$1","v":0},{"$f":"'Absorbance Data'!G3469-Calculations!D$1","v":0},{"$f":"'Absorbance Data'!H3469-Calculations!E$1","v":0},{"$f":"'Absorbance Data'!I3469-Calculations!F$1","v":0},{"$f":"'Absorbance Data'!J3469-Calculations!G$1","v":0},{"$f":"'Absorbance Data'!K3469-Calculations!H$1","v":0},{"$f":"'Absorbance Data'!L3469-Calculations!I$1","v":0},{"$f":"'Absorbance Data'!M3469-Calculations!J$1","v":0},{"$f":"'Absorbance Data'!N3469-Calculations!K$1","v":0},{"$f":"'Absorbance Data'!O3469-Calculations!L$1","v":0},{"$f":"'Absorbance Data'!P3469-Calculations!M$1","v":0},{"$f":"'Absorbance Data'!Q3469-Calculations!N$1","v":0},{"$f":"'Absorbance Data'!R3469-Calculations!O$1","v":0},{"$f":"'Absorbance Data'!S3469-Calculations!P$1","v":0},{"$f":"'Absorbance Data'!T3469-Calculations!Q$1","v":0},{"$f":"'Absorbance Data'!U3469-Calculations!R$1","v":0},{"$f":"'Absorbance Data'!V3469-Calculations!S$1","v":0},{"$f":"'Absorbance Data'!W3469-Calculations!T$1","v":0},{"$f":"'Absorbance Data'!X3469-Calculations!U$1","v":0},{"$f":"'Absorbance Data'!Y3469-Calculations!V$1","v":0},{"$f":"'Absorbance Data'!Z3469-Calculations!W$1","v":0}]
[{"$f":"'Absorbance Data'!D3470","v":665.90985107421875},{"$f":"'Absorbance Data'!E3470-Calculations!B$1","v":0},{"$f":"'Absorbance Data'!F3470-Calculations!C$1","v":0},{"$f":"'Absorbance Data'!G3470-Calculations!D$1","v":0},{"$f":"'Absorbance Data'!H3470-Calculations!E$1","v":0},{"$f":"'Absorbance Data'!I3470-Calculations!F$1","v":0},{"$f":"'Absorbance Data'!J3470-Calculations!G$1","v":0},{"$f":"'Absorbance Data'!K3470-Calculations!H$1","v":0},{"$f":"'Absorbance Data'!L3470-Calculations!I$1","v":0},{"$f":"'Absorbance Data'!M3470-Calculations!J$1","v":0},{"$f":"'Absorbance Data'!N3470-Calculations!K$1","v":0},{"$f":"'Absorbance Data'!O3470-Calculations!L$1","v":0},{"$f":"'Absorbance Data'!P3470-Calculations!M$1","v":0},{"$f":"'Absorbance Data'!Q3470-Calculations!N$1","v":0},{"$f":"'Absorbance Data'!R3470-Calculations!O$1","v":0},{"$f":"'Absorbance Data'!S3470-Calculations!P$1","v":0},{"$f":"'Absorbance Data'!T3470-Calculations!Q$1","v":0},{"$f":"'Absorbance Data'!U3470-Calculations!R$1","v":0},{"$f":"'Absorbance Data'!V3470-Calculations!S$1","v":0},{"$f":"'Absorbance Data'!W3470-Calculations!T$1","v":0},{"$f":"'Absorbance Data'!X3470-Calculations!U$1","v":0},{"$f":"'Absorbance Data'!Y3470-Calculations!V$1","v":0},{"$f":"'Absorbance Data'!Z3470-Calculations!W$1","v":0}]
[{"$f":"'Absorbance Data'!D3471","v":666.22161865234375},{"$f":"'Absorbance Data'!E3471-Calculations!B$1","v":0},{"$f":"'Absorbance Data'!F3471-Calculations!C$1","v":0},{"$f":"'Absorbance Data'!G3471-Calculations!D$1","v":0},{"$f":"'Absorbance Data'!H3471-Calculations!E$1","v":0},{"$f":"'Absorbance Data'!I3471-Calculations!F$1","v":0},{"$f":"'Absorbance Data'!J3471-Calculations!G$1","v":0},{"$f":"'Absorbance Data'!K3471-Calculations!H$1","v":0},{"$f":"'Absorbance Data'!L3471-Calculations!I$1","v":0},{"$f":"'Absorbance Data'!M3471-Calculations!J$1","v":0},{"$f":"'Absorbance Data'!N3471-Calculations!K$1","v":0},{"$f":"'Absorbance Data'!O3471-Calculations!L$1","v":0},{"$f":"'Absorbance Data'!P3471-Calculations!M$1","v":0},{"$f":"'Absorbance Data'!Q3471-Calculations!N$1","v":0},{"$f":"'Absorbance Data'!R3471-Calculations!O$1","v":0},{"$f":"'Absorbance Data'!S3471-Calculations!P$1","v":0},{"$f":"'Absorbance Data'!T3471-Calculations!Q$1","v":0},{"$f":"'Absorbance Data'!U3471-Calculations!R$1","v":0},{"$f":"'Absorbance Data'!V3471-Calculations!S$1","v":0},{"$f":"'Absorbance Data'!W3471-Calculations!T$1","v":0},{"$f":"'Absorbance Data'!X3471-Calculations!U$1","v":0},{"$f":"'Absorbance Data'!Y3471-Calculations!V$1","v":0},{"$f":"'Absorbance Data'!Z3471-Calculations!W$1","v":0}]
[{"$f":"'Absorbance Data'!D3472","v":666.53338623046875},{"$f":"'Absorbance Data'!E3472-Calculations!B$1","v":0},{"$f":"'Absorbance Data'!F3472-Calculations!C$1","v":0},{"$f":"'Absorbance Data'!G3472-Calculations!D$1","v":0},{"$f":"'Absorbance Data'!H3472-Calculations!E$1","v":0},{"$f":"'Absorbance Data'!I3472-Calculations!F$1","v":0},{"$f":"'Absorbance Data'!J3472-Calculations!G$1","v":0},{"$f":"'Absorbance Data'!K3472-Calculations!H$1","v":0},{"$f":"'Absorbance Data'!L3472-Calculations!I$1","v":0},{"$f":"'Absorbance Data'!M3472-Calculations!J$1","v":0},{"$f":"'Absorbance Data'!N3472-Calculations!K$1","v":0},{"$f":"'Absorbance Data'!O3472-Calculations!L$1","v":0},{"$f":"'Absorbance Data'!P3472-Calculations!M$1","v":0},{"$f":"'Absorbance Data'!Q3472-Calculations!N$1","v":0},{"$f":"'Absorbance Data'!R3472-Calculations!O$1","v":0},{"$f":"'Absorbance Data'!S3472-Calculations!P$1","v":0},{"$f":"'Absorbance Data'!T3472-Calculations!Q$1","v":0},{"$f":"'Absorbance Data'!U3472-Calculations!R$1","v":0},{"$f":"'Absorbance Data'!V3472-Calculations!S$1","v":0},{"$f":"'Absorbance Data'!W3472-Calculations!T$1","v":0},{"$f":"'Absorbance Data'!X3472-Calculations!U$1","v":0},{"$f":"'Absorbance Data'!Y3472-Calculations!V$1","v":0},{"$f":"'Absorbance Data'!Z3472-Calculations!W$1","v":0}]
[{"$f":"'Absorbance Data'!D3473","v":666.84515380859375},{"$f":"'Absorbance Data'!E3473-Calculations!B$1","v":0},{"$f":"'Absorbance Data'!F3473-Calculations!C$1","v":0},{"$f":"'Absorbance Data'!G3473-Calculations!D$1","v":0},{"$f":"'Absorbance Data'!H3473-Calculations!E$1","v":0},{"$f":"'Absorbance Data'!I3473-Calculations!F$1","v":0},{"$f":"'Absorbance Data'!J3473-Calculations!G$1","v":0},{"$f":"'Absorbance Data'!K3473-Calculations!H$1","v":0},{"$f":"'Absorbance Data'!L3473-Calculations!I$1","v":0},{"$f":"'Absorbance Data'!M3473-Calculations!J$1","v":0},{"$f":"'Absorbance Data'!N3473-Calculations!K$1","v":0},{"$f":"'Absorbance Data'!O3473-Calculations!L$1","v":0},{"$f":"'Absorbance Data'!P3473-Calculations!M$1","v":0},{"$f":"'Absorbance Data'!Q3473-Calculations!N$1","v":0},{"$f":"'Absorbance Data'!R3473-Calculations!O$1","v":0},{"$f":"'Absorbance Data'!S3473-Calculations!P$1","v":0},{"$f":"'Absorbance Data'!T3473-Calculations!Q$1","v":0},{"$f":"'Absorbance Data'!U3473-Calculations!R$1","v":0},{"$f":"'Absorbance Data'!V3473-Calculations!S$1","v":0},{"$f":"'Absorbance Data'!W3473-Calculations!T$1","v":0},{"$f":"'Absorbance Data'!X3473-Calculations!U$1","v":0},{"$f":"'Absorbance Data'!Y3473-Calculations!V$1","v":0},{"$f":"'Absorbance Data'!Z3473-Calculations!W$1","v":0}]
[{"$f":"'Absorbance Data'!D3474","v":667.15673828125},{"$f":"'Absorbance Data'!E3474-Calculations!B$1","v":0},{"$f":"'Absorbance Data'!F3474-Calculations!C$1","v":0},{"$f":"'Absorbance Data'!G3474-Calculations!D$1","v":0},{"$f":"'Absorbance Data'!H3474-Calculations!E$1","v":0},{"$f":"'Absorbance Data'!I3474-Calculations!F$1","v":0},{"$f":"'Absorbance Data'!J3474-Calculations!G$1","v":0},{"$f":"'Absorbance Data'!K3474-Calculations!H$1","v":0},{"$f":"'Absorbance Data'!L3474-Calculations!I$1","v":0},{"$f":"'Absorbance Data'!M3474-Calculations!J$1","v":0},{"$f":"'Absorbance Data'!N3474-Calculations!K$1","v":0},{"$f":"'Absorbance Data'!O3474-Calculations!L$1","v":0},{"$f":"'Absorbance Data'!P3474-Calculations!M$1","v":0},{"$f":"'Absorbance Data'!Q3474-Calculations!N$1","v":0},{"$f":"'Absorbance Data'!R3474-Calculations!O$1","v":0},{"$f":"'Absorbance Data'!S3474-Calculations!P$1","v":0},{"$f":"'Absorbance Data'!T3474-Calculations!Q$1","v":0},{"$f":"'Absorbance Data'!U3474-Calculations!R$1","v":0},{"$f":"'Absorbance Data'!V3474-Calculations!S$1","v":0},{"$f":"'Absorbance Data'!W3474-Calculations!T$1","v":0},{"$f":"'Absorbance Data'!X3474-Calculations!U$1","v":0},{"$f":"'Absorbance Data'!Y3474-Calculations!V$1","v":0},{"$f":"'Absorbance Data'!Z3474-Calculations!W$1","v":0}]
[{"$f":"'Absorbance Data'!D3475","v":667.46844482421875},{"$f":"'Absorbance Data'!E3475-Calculations!B$1","v":0},{"$f":"'Absorbance Data'!F3475-Calculations!C$1","v":0},{"$f":"'Absorbance Data'!G3475-Calculations!D$1","v":0},{"$f":"'Absorbance Data'!H3475-Calculations!E$1","v":0},{"$f":"'Absorbance Data'!I3475-Calculations!F$1","v":0},{"$f":"'Absorbance Data'!J3475-Calculations!G$1","v":0},{"$f":"'Absorbance Data'!K3475-Calculations!H$1","v":0},{"$f":"'Absorbance Data'!L3475-Calculations!I$1","v":0},{"$f":"'Absorbance Data'!M3475-Calculations!J$1","v":0},{"$f":"'Absorbance Data'!N3475-Calculations!K$1","v":0},{"$f":"'Absorbance Data'!O3475-Calculations!L$1","v":0},{"$f":"'Absorbance Data'!P3475-Calculations!M$1","v":0},{"$f":"'Absorbance Data'!Q3475-Calculations!N$1","v":0},{"$f":"'Absorbance Data'!R3475-Calculations!O$1","v":0},{"$f":"'Absorbance Data'!S3475-Calculations!P$1","v":0},{"$f":"'Absorbance Data'!T3475-Calculations!Q$1","v":0},{"$f":"'Absorbance Data'!U3475-Calculations!R$1","v":0},{"$f":"'Absorbance Data'!V3475-Calculations!S$1","v":0},{"$f":"'Absorbance Data'!W3475-Calculations!T$1","v":0},{"$f":"'Absorbance Data'!X3475-Calculations!U$1","v":0},{"$f":"'Absorbance Data'!Y3475-Calculations!V$1","v":0},{"$f":"'Absorbance Data'!Z3475-Calculations!W$1","v":0}]
[{"$f":"'Absorbance Data'!D3476","v":667.780029296875},{"$f":"'Absorbance Data'!E3476-Calculations!B$1","v":0},{"$f":"'Absorbance Data'!F3476-Calculations!C$1","v":0},{"$f":"'Absorbance Data'!G3476-Calculations!D$1","v":0},{"$f":"'Absorbance Data'!H3476-Calculations!E$1","v":0},{"$f":"'Absorbance Data'!I3476-Calculations!F$1","v":0},{"$f":"'Absorbance Data'!J3476-Calculations!G$1","v":0},{"$f":"'Absorbance Data'!K3476-Calculations!H$1","v":0},{"$f":"'Absorbance Data'!L3476-Calculations!I$1","v":0},{"$f":"'Absorbance Data'!M3476-Calculations!J$1","v":0},{"$f":"'Absorbance Data'!N3476-Calculations!K$1","v":0},{"$f":"'Absorbance Data'!O3476-Calculations!L$1","v":0},{"$f":"'Absorbance Data'!P3476-Calculations!M$1","v":0},{"$f":"'Absorbance Data'!Q3476-Calculations!N$1","v":0},{"$f":"'Absorbance Data'!R3476-Calculations!O$1","v":0},{"$f":"'Absorbance Data'!S3476-Calculations!P$1","v":0},{"$f":"'Absorbance Data'!T3476-Calculations!Q$1","v":0},{"$f":"'Absorbance Data'!U3476-Calculations!R$1","v":0},{"$f":"'Absorbance Data'!V3476-Calculations!S$1","v":0},{"$f":"'Absorbance Data'!W3476-Calculations!T$1","v":0},{"$f":"'Absorbance Data'!X3476-Calculations!U$1","v":0},{"$f":"'Absorbance Data'!Y3476-Calculations!V$1","v":0},{"$f":"'Absorbance Data'!Z3476-Calculations!W$1","v":0}]
[{"$f":"'Absorbance Data'!D3477","v":668.091552734375},{"$f":"'Absorbance Data'!E3477-Calculations!B$1","v":0},{"$f":"'Absorbance Data'!F3477-Calculations!C$1","v":0},{"$f":"'Absorbance Data'!G3477-Calculations!D$1","v":0},{"$f":"'Absorbance Data'!H3477-Calculations!E$1","v":0},{"$f":"'Absorbance Data'!I3477-Calculations!F$1","v":0},{"$f":"'Absorbance Data'!J3477-Calculations!G$1","v":0},{"$f":"'Absorbance Data'!K3477-Calculations!H$1","v":0},{"$f":"'Absorbance Data'!L3477-Calculations!I$1","v":0},{"$f":"'Absorbance Data'!M3477-Calculations!J$1","v":0},{"$f":"'Absorbance Data'!N3477-Calculations!K$1","v":0},{"$f":"'Absorbance Data'!O3477-Calculations!L$1","v":0},{"$f":"'Absorbance Data'!P3477-Calculations!M$1","v":0},{"$f":"'Absorbance Data'!Q3477-Calculations!N$1","v":0},{"$f":"'Absorbance Data'!R3477-Calculations!O$1","v":0},{"$f":"'Absorbance Data'!S3477-Calculations!P$1","v":0},{"$f":"'Absorbance Data'!T3477-Calculations!Q$1","v":0},{"$f":"'Absorbance Data'!U3477-Calculations!R$1","v":0},{"$f":"'Absorbance Data'!V3477-Calculations!S$1","v":0},{"$f":"'Absorbance Data'!W3477-Calculations!T$1","v":0},{"$f":"'Absorbance Data'!X3477-Calculations!U$1","v":0},{"$f":"'Absorbance Data'!Y3477-Calculations!V$1","v":0},{"$f":"'Absorbance Data'!Z3477-Calculations!W$1","v":0}]
[{"$f":"'Absorbance Data'!D3478","v":668.40301513671875},{"$f":"'Absorbance Data'!E3478-Calculations!B$1","v":0},{"$f":"'Absorbance Data'!F3478-Calculations!C$1","v":0},{"$f":"'Absorbance Data'!G3478-Calculations!D$1","v":0},{"$f":"'Absorbance Data'!H3478-Calculations!E$1","v":0},{"$f":"'Absorbance Data'!I3478-Calculations!F$1","v":0},{"$f":"'Absorbance Data'!J3478-Calculations!G$1","v":0},{"$f":"'Absorbance Data'!K3478-Calculations!H$1","v":0},{"$f":"'Absorbance Data'!L3478-Calculations!I$1","v":0},{"$f":"'Absorbance Data'!M3478-Calculations!J$1","v":0},{"$f":"'Absorbance Data'!N3478-Calculations!K$1","v":0},{"$f":"'Absorbance Data'!O3478-Calculations!L$1","v":0},{"$f":"'Absorbance Data'!P3478-Calculations!M$1","v":0},{"$f":"'Absorbance Data'!Q3478-Calculations!N$1","v":0},{"$f":"'Absorbance Data'!R3478-Calculations!O$1","v":0},{"$f":"'Absorbance Data'!S3478-Calculations!P$1","v":0},{"$f":"'Absorbance Data'!T3478-Calculations!Q$1","v":0},{"$f":"'Absorbance Data'!U3478-Calculations!R$1","v":0},{"$f":"'Absorbance Data'!V3478-Calculations!S$1","v":0},{"$f":"'Absorbance Data'!W3478-Calculations!T$1","v":0},{"$f":"'Absorbance Data'!X3478-Calculations!U$1","v":0},{"$f":"'Absorbance Data'!Y3478-Calculations!V$1","v":0},{"$f":"'Absorbance Data'!Z3478-Calculations!W$1","v":0}]
[{"$f":"'Absorbance Data'!D3479","v":668.71453857421875},{"$f":"'Absorbance Data'!E3479-Calculations!B$1","v":0},{"$f":"'Absorbance Data'!F3479-Calculations!C$1","v":0},{"$f":"'Absorbance Data'!G3479-Calculations!D$1","v":0},{"$f":"'Absorbance Data'!H3479-Calculations!E$1","v":0},{"$f":"'Absorbance Data'!I3479-Calculations!F$1","v":0},{"$f":"'Absorbance Data'!J3479-Calculations!G$1","v":0},{"$f":"'Absorbance Data'!K3479-Calculations!H$1","v":0},{"$f":"'Absorbance Data'!L3479-Calculations!I$1","v":0},{"$f":"'Absorbance Data'!M3479-Calculations!J$1","v":0},{"$f":"'Absorbance Data'!N3479-Calculations!K$1","v":0},{"$f":"'Absorbance Data'!O3479-Calculations!L$1","v":0},{"$f":"'Absorbance Data'!P3479-Calculations!M$1","v":0},{"$f":"'Absorbance Data'!Q3479-Calculations!N$1","v":0},{"$f":"'Absorbance Data'!R3479-Calculations!O$1","v":0},{"$f":"'Absorbance Data'!S3479-Calculations!P$1","v":0},{"$f":"'Absorbance Data'!T3479-Calculations!Q$1","v":0},{"$f":"'Absorbance Data'!U3479-Calculations!R$1","v":0},{"$f":"'Absorbance Data'!V3479-Calculations!S$1","v":0},{"$f":"'Absorbance Data'!W3479-Calculations!T$1","v":0},{"$f":"'Absorbance Data'!X3479-Calculations!U$1","v":0},{"$f":"'Absorbance Data'!Y3479-Calculations!V$1","v":0},{"$f":"'Absorbance Data'!Z3479-Calculations!W$1","v":0}]
[{"$f":"'Absorbance Data'!D3480","v":669.02593994140625},{"$f":"'Absorbance Data'!E3480-Calculations!B$1","v":0},{"$f":"'Absorbance Data'!F3480-Calculations!C$1","v":0},{"$f":"'Absorbance Data'!G3480-Calculations!D$1","v":0},{"$f":"'Absorbance Data'!H3480-Calculations!E$1","v":0},{"$f":"'Absorbance Data'!I3480-Calculations!F$1","v":0},{"$f":"'Absorbance Data'!J3480-Calculations!G$1","v":0},{"$f":"'Absorbance Data'!K3480-Calculations!H$1","v":0},{"$f":"'Absorbance Data'!L3480-Calculations!I$1","v":0},{"$f":"'Absorbance Data'!M3480-Calculations!J$1","v":0},{"$f":"'Absorbance Data'!N3480-Calculations!K$1","v":0},{"$f":"'Absorbance Data'!O3480-Calculations!L$1","v":0},{"$f":"'Absorbance Data'!P3480-Calculations!M$1","v":0},{"$f":"'Absorbance Data'!Q3480-Calculations!N$1","v":0},{"$f":"'Absorbance Data'!R3480-Calculations!O$1","v":0},{"$f":"'Absorbance Data'!S3480-Calculations!P$1","v":0},{"$f":"'Absorbance Data'!T3480-Calculations!Q$1","v":0},{"$f":"'Absorbance Data'!U3480-Calculations!R$1","v":0},{"$f":"'Absorbance Data'!V3480-Calculations!S$1","v":0},{"$f":"'Absorbance Data'!W3480-Calculations!T$1","v":0},{"$f":"'Absorbance Data'!X3480-Calculations!U$1","v":0},{"$f":"'Absorbance Data'!Y3480-Calculations!V$1","v":0},{"$f":"'Absorbance Data'!Z3480-Calculations!W$1","v":0}]
[{"$f":"'Absorbance Data'!D3481","v":669.3372802734375},{"$f":"'Absorbance Data'!E3481-Calculations!B$1","v":0},{"$f":"'Absorbance Data'!F3481-Calculations!C$1","v":0},{"$f":"'Absorbance Data'!G3481-Calculations!D$1","v":0},{"$f":"'Absorbance Data'!H3481-Calculations!E$1","v":0},{"$f":"'Absorbance Data'!I3481-Calculations!F$1","v":0},{"$f":"'Absorbance Data'!J3481-Calculations!G$1","v":0},{"$f":"'Absorbance Data'!K3481-Calculations!H$1","v":0},{"$f":"'Absorbance Data'!L3481-Calculations!I$1","v":0},{"$f":"'Absorbance Data'!M3481-Calculations!J$1","v":0},{"$f":"'Absorbance Data'!N3481-Calculations!K$1","v":0},{"$f":"'Absorbance Data'!O3481-Calculations!L$1","v":0},{"$f":"'Absorbance Data'!P3481-Calculations!M$1","v":0},{"$f":"'Absorbance Data'!Q3481-Calculations!N$1","v":0},{"$f":"'Absorbance Data'!R3481-Calculations!O$1","v":0},{"$f":"'Absorbance Data'!S3481-Calculations!P$1","v":0},{"$f":"'Absorbance Data'!T3481-Calculations!Q$1","v":0},{"$f":"'Absorbance Data'!U3481-Calculations!R$1","v":0},{"$f":"'Absorbance Data'!V3481-Calculations!S$1","v":0},{"$f":"'Absorbance Data'!W3481-Calculations!T$1","v":0},{"$f":"'Absorbance Data'!X3481-Calculations!U$1","v":0},{"$f":"'Absorbance Data'!Y3481-Calculations!V$1","v":0},{"$f":"'Absorbance Data'!Z3481-Calculations!W$1","v":0}]
[{"$f":"'Absorbance Data'!D3482","v":669.64862060546875},{"$f":"'Absorbance Data'!E3482-Calculations!B$1","v":0},{"$f":"'Absorbance Data'!F3482-Calculations!C$1","v":0},{"$f":"'Absorbance Data'!G3482-Calculations!D$1","v":0},{"$f":"'Absorbance Data'!H3482-Calculations!E$1","v":0},{"$f":"'Absorbance Data'!I3482-Calculations!F$1","v":0},{"$f":"'Absorbance Data'!J3482-Calculations!G$1","v":0},{"$f":"'Absorbance Data'!K3482-Calculations!H$1","v":0},{"$f":"'Absorbance Data'!L3482-Calculations!I$1","v":0},{"$f":"'Absorbance Data'!M3482-Calculations!J$1","v":0},{"$f":"'Absorbance Data'!N3482-Calculations!K$1","v":0},{"$f":"'Absorbance Data'!O3482-Calculations!L$1","v":0},{"$f":"'Absorbance Data'!P3482-Calculations!M$1","v":0},{"$f":"'Absorbance Data'!Q3482-Calculations!N$1","v":0},{"$f":"'Absorbance Data'!R3482-Calculations!O$1","v":0},{"$f":"'Absorbance Data'!S3482-Calculations!P$1","v":0},{"$f":"'Absorbance Data'!T3482-Calculations!Q$1","v":0},{"$f":"'Absorbance Data'!U3482-Calculations!R$1","v":0},{"$f":"'Absorbance Data'!V3482-Calculations!S$1","v":0},{"$f":"'Absorbance Data'!W3482-Calculations!T$1","v":0},{"$f":"'Absorbance Data'!X3482-Calculations!U$1","v":0},{"$f":"'Absorbance Data'!Y3482-Calculations!V$1","v":0},{"$f":"'Absorbance Data'!Z3482-Calculations!W$1","v":0}]
[{"$f":"'Absorbance Data'!D3483","v":669.95989990234375},{"$f":"'Absorbance Data'!E3483-Calculations!B$1","v":0},{"$f":"'Absorbance Data'!F3483-Calculations!C$1","v":0},{"$f":"'Absorbance Data'!G3483-Calculations!D$1","v":0},{"$f":"'Absorbance Data'!H3483-Calculations!E$1","v":0},{"$f":"'Absorbance Data'!I3483-Calculations!F$1","v":0},{"$f":"'Absorbance Data'!J3483-Calculations!G$1","v":0},{"$f":"'Absorbance Data'!K3483-Calculations!H$1","v":0},{"$f":"'Absorbance Data'!L3483-Calculations!I$1","v":0},{"$f":"'Absorbance Data'!M3483-Calculations!J$1","v":0},{"$f":"'Absorbance Data'!N3483-Calculations!K$1","v":0},{"$f":"'Absorbance Data'!O3483-Calculations!L$1","v":0},{"$f":"'Absorbance Data'!P3483-Calculations!M$1","v":0},{"$f":"'Absorbance Data'!Q3483-Calculations!N$1","v":0},{"$f":"'Absorbance Data'!R3483-Calculations!O$1","v":0},{"$f":"'Absorbance Data'!S3483-Calculations!P$1","v":0},{"$f":"'Absorbance Data'!T3483-Calculations!Q$1","v":0},{"$f":"'Absorbance Data'!U3483-Calculations!R$1","v":0},{"$f":"'Absorbance Data'!V3483-Calculations!S$1","v":0},{"$f":"'Absorbance Data'!W3483-Calculations!T$1","v":0},{"$f":"'Absorbance Data'!X3483-Calculations!U$1","v":0},{"$f":"'Absorbance Data'!Y3483-Calculations!V$1","v":0},{"$f":"'Absorbance Data'!Z3483-Calculations!W$1","v":0}]
[{"$f":"'Absorbance Data'!D3484","v":670.27117919921875},{"$f":"'Absorbance Data'!E3484-Calculations!B$1","v":0},{"$f":"'Absorbance Data'!F3484-Calculations!C$1","v":0},{"$f":"'Absorbance Data'!G3484-Calculations!D$1","v":0},{"$f":"'Absorbance Data'!H3484-Calculations!E$1","v":0},{"$f":"'Absorbance Data'!I3484-Calculations!F$1","v":0},{"$f":"'Absorbance Data'!J3484-Calculations!G$1","v":0},{"$f":"'Absorbance Data'!K3484-Calculations!H$1","v":0},{"$f":"'Absorbance Data'!L3484-Calculations!I$1","v":0},{"$f":"'Absorbance Data'!M3484-Calculations!J$1","v":0},{"$f":"'Absorbance Data'!N3484-Calculations!K$1","v":0},{"$f":"'Absorbance Data'!O3484-Calculations!L$1","v":0},{"$f":"'Absorbance Data'!P3484-Calculations!M$1","v":0},{"$f":"'Absorbance Data'!Q3484-Calculations!N$1","v":0},{"$f":"'Absorbance Data'!R3484-Calculations!O$1","v":0},{"$f":"'Absorbance Data'!S3484-Calculations!P$1","v":0},{"$f":"'Absorbance Data'!T3484-Calculations!Q$1","v":0},{"$f":"'Absorbance Data'!U3484-Calculations!R$1","v":0},{"$f":"'Absorbance Data'!V3484-Calculations!S$1","v":0},{"$f":"'Absorbance Data'!W3484-Calculations!T$1","v":0},{"$f":"'Absorbance Data'!X3484-Calculations!U$1","v":0},{"$f":"'Absorbance Data'!Y3484-Calculations!V$1","v":0},{"$f":"'Absorbance Data'!Z3484-Calculations!W$1","v":0}]
[{"$f":"'Absorbance Data'!D3485","v":670.58233642578125},{"$f":"'Absorbance Data'!E3485-Calculations!B$1","v":0},{"$f":"'Absorbance Data'!F3485-Calculations!C$1","v":0},{"$f":"'Absorbance Data'!G3485-Calculations!D$1","v":0},{"$f":"'Absorbance Data'!H3485-Calculations!E$1","v":0},{"$f":"'Absorbance Data'!I3485-Calculations!F$1","v":0},{"$f":"'Absorbance Data'!J3485-Calculations!G$1","v":0},{"$f":"'Absorbance Data'!K3485-Calculations!H$1","v":0},{"$f":"'Absorbance Data'!L3485-Calculations!I$1","v":0},{"$f":"'Absorbance Data'!M3485-Calculations!J$1","v":0},{"$f":"'Absorbance Data'!N3485-Calculations!K$1","v":0},{"$f":"'Absorbance Data'!O3485-Calculations!L$1","v":0},{"$f":"'Absorbance Data'!P3485-Calculations!M$1","v":0},{"$f":"'Absorbance Data'!Q3485-Calculations!N$1","v":0},{"$f":"'Absorbance Data'!R3485-Calculations!O$1","v":0},{"$f":"'Absorbance Data'!S3485-Calculations!P$1","v":0},{"$f":"'Absorbance Data'!T3485-Calculations!Q$1","v":0},{"$f":"'Absorbance Data'!U3485-Calculations!R$1","v":0},{"$f":"'Absorbance Data'!V3485-Calculations!S$1","v":0},{"$f":"'Absorbance Data'!W3485-Calculations!T$1","v":0},{"$f":"'Absorbance Data'!X3485-Calculations!U$1","v":0},{"$f":"'Absorbance Data'!Y3485-Calculations!V$1","v":0},{"$f":"'Absorbance Data'!Z3485-Calculations!W$1","v":0}]
[{"$f":"'Absorbance Data'!D3486","v":670.8935546875},{"$f":"'Absorbance Data'!E3486-Calculations!B$1","v":0},{"$f":"'Absorbance Data'!F3486-Calculations!C$1","v":0},{"$f":"'Absorbance Data'!G3486-Calculations!D$1","v":0},{"$f":"'Absorbance Data'!H3486-Calculations!E$1","v":0},{"$f":"'Absorbance Data'!I3486-Calculations!F$1","v":0},{"$f":"'Absorbance Data'!J3486-Calculations!G$1","v":0},{"$f":"'Absorbance Data'!K3486-Calculations!H$1","v":0},{"$f":"'Absorbance Data'!L3486-Calculations!I$1","v":0},{"$f":"'Absorbance Data'!M3486-Calculations!J$1","v":0},{"$f":"'Absorbance Data'!N3486-Calculations!K$1","v":0},{"$f":"'Absorbance Data'!O3486-Calculations!L$1","v":0},{"$f":"'Absorbance Data'!P3486-Calculations!M$1","v":0},{"$f":"'Absorbance Data'!Q3486-Calculations!N$1","v":0},{"$f":"'Absorbance Data'!R3486-Calculations!O$1","v":0},{"$f":"'Absorbance Data'!S3486-Calculations!P$1","v":0},{"$f":"'Absorbance Data'!T3486-Calculations!Q$1","v":0},{"$f":"'Absorbance Data'!U3486-Calculations!R$1","v":0},{"$f":"'Absorbance Data'!V3486-Calculations!S$1","v":0},{"$f":"'Absorbance Data'!W3486-Calculations!T$1","v":0},{"$f":"'Absorbance Data'!X3486-Calculations!U$1","v":0},{"$f":"'Absorbance Data'!Y3486-Calculations!V$1","v":0},{"$f":"'Absorbance Data'!Z3486-Calculations!W$1","v":0}]
[{"$f":"'Absorbance Data'!D3487","v":671.20465087890625},{"$f":"'Absorbance Data'!E3487-Calculations!B$1","v":0},{"$f":"'Absorbance Data'!F3487-Calculations!C$1","v":0},{"$f":"'Absorbance Data'!G3487-Calculations!D$1","v":0},{"$f":"'Absorbance Data'!H3487-Calculations!E$1","v":0},{"$f":"'Absorbance Data'!I3487-Calculations!F$1","v":0},{"$f":"'Absorbance Data'!J3487-Calculations!G$1","v":0},{"$f":"'Absorbance Data'!K3487-Calculations!H$1","v":0},{"$f":"'Absorbance Data'!L3487-Calculations!I$1","v":0},{"$f":"'Absorbance Data'!M3487-Calculations!J$1","v":0},{"$f":"'Absorbance Data'!N3487-Calculations!K$1","v":0},{"$f":"'Absorbance Data'!O3487-Calculations!L$1","v":0},{"$f":"'Absorbance Data'!P3487-Calculations!M$1","v":0},{"$f":"'Absorbance Data'!Q3487-Calculations!N$1","v":0},{"$f":"'Absorbance Data'!R3487-Calculations!O$1","v":0},{"$f":"'Absorbance Data'!S3487-Calculations!P$1","v":0},{"$f":"'Absorbance Data'!T3487-Calculations!Q$1","v":0},{"$f":"'Absorbance Data'!U3487-Calculations!R$1","v":0},{"$f":"'Absorbance Data'!V3487-Calculations!S$1","v":0},{"$f":"'Absorbance Data'!W3487-Calculations!T$1","v":0},{"$f":"'Absorbance Data'!X3487-Calculations!U$1","v":0},{"$f":"'Absorbance Data'!Y3487-Calculations!V$1","v":0},{"$f":"'Absorbance Data'!Z3487-Calculations!W$1","v":0}]
[{"$f":"'Absorbance Data'!D3488","v":671.51568603515625},{"$f":"'Absorbance Data'!E3488-Calculations!B$1","v":0},{"$f":"'Absorbance Data'!F3488-Calculations!C$1","v":0},{"$f":"'Absorbance Data'!G3488-Calculations!D$1","v":0},{"$f":"'Absorbance Data'!H3488-Calculations!E$1","v":0},{"$f":"'Absorbance Data'!I3488-Calculations!F$1","v":0},{"$f":"'Absorbance Data'!J3488-Calculations!G$1","v":0},{"$f":"'Absorbance Data'!K3488-Calculations!H$1","v":0},{"$f":"'Absorbance Data'!L3488-Calculations!I$1","v":0},{"$f":"'Absorbance Data'!M3488-Calculations!J$1","v":0},{"$f":"'Absorbance Data'!N3488-Calculations!K$1","v":0},{"$f":"'Absorbance Data'!O3488-Calculations!L$1","v":0},{"$f":"'Absorbance Data'!P3488-Calculations!M$1","v":0},{"$f":"'Absorbance Data'!Q3488-Calculations!N$1","v":0},{"$f":"'Absorbance Data'!R3488-Calculations!O$1","v":0},{"$f":"'Absorbance Data'!S3488-Calculations!P$1","v":0},{"$f":"'Absorbance Data'!T3488-Calculations!Q$1","v":0},{"$f":"'Absorbance Data'!U3488-Calculations!R$1","v":0},{"$f":"'Absorbance Data'!V3488-Calculations!S$1","v":0},{"$f":"'Absorbance Data'!W3488-Calculations!T$1","v":0},{"$f":"'Absorbance Data'!X3488-Calculations!U$1","v":0},{"$f":"'Absorbance Data'!Y3488-Calculations!V$1","v":0},{"$f":"'Absorbance Data'!Z3488-Calculations!W$1","v":0}]
[{"$f":"'Absorbance Data'!D3489","v":671.82672119140625},{"$f":"'Absorbance Data'!E3489-Calculations!B$1","v":0},{"$f":"'Absorbance Data'!F3489-Calculations!C$1","v":0},{"$f":"'Absorbance Data'!G3489-Calculations!D$1","v":0},{"$f":"'Absorbance Data'!H3489-Calculations!E$1","v":0},{"$f":"'Absorbance Data'!I3489-Calculations!F$1","v":0},{"$f":"'Absorbance Data'!J3489-Calculations!G$1","v":0},{"$f":"'Absorbance Data'!K3489-Calculations!H$1","v":0},{"$f":"'Absorbance Data'!L3489-Calculations!I$1","v":0},{"$f":"'Absorbance Data'!M3489-Calculations!J$1","v":0},{"$f":"'Absorbance Data'!N3489-Calculations!K$1","v":0},{"$f":"'Absorbance Data'!O3489-Calculations!L$1","v":0},{"$f":"'Absorbance Data'!P3489-Calculations!M$1","v":0},{"$f":"'Absorbance Data'!Q3489-Calculations!N$1","v":0},{"$f":"'Absorbance Data'!R3489-Calculations!O$1","v":0},{"$f":"'Absorbance Data'!S3489-Calculations!P$1","v":0},{"$f":"'Absorbance Data'!T3489-Calculations!Q$1","v":0},{"$f":"'Absorbance Data'!U3489-Calculations!R$1","v":0},{"$f":"'Absorbance Data'!V3489-Calculations!S$1","v":0},{"$f":"'Absorbance Data'!W3489-Calculations!T$1","v":0},{"$f":"'Absorbance Data'!X3489-Calculations!U$1","v":0},{"$f":"'Absorbance Data'!Y3489-Calculations!V$1","v":0},{"$f":"'Absorbance Data'!Z3489-Calculations!W$1","v":0}]
[{"$f":"'Absorbance Data'!D3490","v":672.1376953125},{"$f":"'Absorbance Data'!E3490-Calculations!B$1","v":0},{"$f":"'Absorbance Data'!F3490-Calculations!C$1","v":0},{"$f":"'Absorbance Data'!G3490-Calculations!D$1","v":0},{"$f":"'Absorbance Data'!H3490-Calculations!E$1","v":0},{"$f":"'Absorbance Data'!I3490-Calculations!F$1","v":0},{"$f":"'Absorbance Data'!J3490-Calculations!G$1","v":0},{"$f":"'Absorbance Data'!K3490-Calculations!H$1","v":0},{"$f":"'Absorbance Data'!L3490-Calculations!I$1","v":0},{"$f":"'Absorbance Data'!M3490-Calculations!J$1","v":0},{"$f":"'Absorbance Data'!N3490-Calculations!K$1","v":0},{"$f":"'Absorbance Data'!O3490-Calculations!L$1","v":0},{"$f":"'Absorbance Data'!P3490-Calculations!M$1","v":0},{"$f":"'Absorbance Data'!Q3490-Calculations!N$1","v":0},{"$f":"'Absorbance Data'!R3490-Calculations!O$1","v":0},{"$f":"'Absorbance Data'!S3490-Calculations!P$1","v":0},{"$f":"'Absorbance Data'!T3490-Calculations!Q$1","v":0},{"$f":"'Absorbance Data'!U3490-Calculations!R$1","v":0},{"$f":"'Absorbance Data'!V3490-Calculations!S$1","v":0},{"$f":"'Absorbance Data'!W3490-Calculations!T$1","v":0},{"$f":"'Absorbance Data'!X3490-Calculations!U$1","v":0},{"$f":"'Absorbance Data'!Y3490-Calculations!V$1","v":0},{"$f":"'Absorbance Data'!Z3490-Calculations!W$1","v":0}]
[{"$f":"'Absorbance Data'!D3491","v":672.4486083984375},{"$f":"'Absorbance Data'!E3491-Calculations!B$1","v":0},{"$f":"'Absorbance Data'!F3491-Calculations!C$1","v":0},{"$f":"'Absorbance Data'!G3491-Calculations!D$1","v":0},{"$f":"'Absorbance Data'!H3491-Calculations!E$1","v":0},{"$f":"'Absorbance Data'!I3491-Calculations!F$1","v":0},{"$f":"'Absorbance Data'!J3491-Calculations!G$1","v":0},{"$f":"'Absorbance Data'!K3491-Calculations!H$1","v":0},{"$f":"'Absorbance Data'!L3491-Calculations!I$1","v":0},{"$f":"'Absorbance Data'!M3491-Calculations!J$1","v":0},{"$f":"'Absorbance Data'!N3491-Calculations!K$1","v":0},{"$f":"'Absorbance Data'!O3491-Calculations!L$1","v":0},{"$f":"'Absorbance Data'!P3491-Calculations!M$1","v":0},{"$f":"'Absorbance Data'!Q3491-Calculations!N$1","v":0},{"$f":"'Absorbance Data'!R3491-Calculations!O$1","v":0},{"$f":"'Absorbance Data'!S3491-Calculations!P$1","v":0},{"$f":"'Absorbance Data'!T3491-Calculations!Q$1","v":0},{"$f":"'Absorbance Data'!U3491-Calculations!R$1","v":0},{"$f":"'Absorbance Data'!V3491-Calculations!S$1","v":0},{"$f":"'Absorbance Data'!W3491-Calculations!T$1","v":0},{"$f":"'Absorbance Data'!X3491-Calculations!U$1","v":0},{"$f":"'Absorbance Data'!Y3491-Calculations!V$1","v":0},{"$f":"'Absorbance Data'!Z3491-Calculations!W$1","v":0}]
[{"$f":"'Absorbance Data'!D3492","v":672.759521484375},{"$f":"'Absorbance Data'!E3492-Calculations!B$1","v":0},{"$f":"'Absorbance Data'!F3492-Calculations!C$1","v":0},{"$f":"'Absorbance Data'!G3492-Calculations!D$1","v":0},{"$f":"'Absorbance Data'!H3492-Calculations!E$1","v":0},{"$f":"'Absorbance Data'!I3492-Calculations!F$1","v":0},{"$f":"'Absorbance Data'!J3492-Calculations!G$1","v":0},{"$f":"'Absorbance Data'!K3492-Calculations!H$1","v":0},{"$f":"'Absorbance Data'!L3492-Calculations!I$1","v":0},{"$f":"'Absorbance Data'!M3492-Calculations!J$1","v":0},{"$f":"'Absorbance Data'!N3492-Calculations!K$1","v":0},{"$f":"'Absorbance Data'!O3492-Calculations!L$1","v":0},{"$f":"'Absorbance Data'!P3492-Calculations!M$1","v":0},{"$f":"'Absorbance Data'!Q3492-Calculations!N$1","v":0},{"$f":"'Absorbance Data'!R3492-Calculations!O$1","v":0},{"$f":"'Absorbance Data'!S3492-Calculations!P$1","v":0},{"$f":"'Absorbance Data'!T3492-Calculations!Q$1","v":0},{"$f":"'Absorbance Data'!U3492-Calculations!R$1","v":0},{"$f":"'Absorbance Data'!V3492-Calculations!S$1","v":0},{"$f":"'Absorbance Data'!W3492-Calculations!T$1","v":0},{"$f":"'Absorbance Data'!X3492-Calculations!U$1","v":0},{"$f":"'Absorbance Data'!Y3492-Calculations!V$1","v":0},{"$f":"'Absorbance Data'!Z3492-Calculations!W$1","v":0}]
[{"$f":"'Absorbance Data'!D3493","v":673.07037353515625},{"$f":"'Absorbance Data'!E3493-Calculations!B$1","v":0},{"$f":"'Absorbance Data'!F3493-Calculations!C$1","v":0},{"$f":"'Absorbance Data'!G3493-Calculations!D$1","v":0},{"$f":"'Absorbance Data'!H3493-Calculations!E$1","v":0},{"$f":"'Absorbance Data'!I3493-Calculations!F$1","v":0},{"$f":"'Absorbance Data'!J3493-Calculations!G$1","v":0},{"$f":"'Absorbance Data'!K3493-Calculations!H$1","v":0},{"$f":"'Absorbance Data'!L3493-Calculations!I$1","v":0},{"$f":"'Absorbance Data'!M3493-Calculations!J$1","v":0},{"$f":"'Absorbance Data'!N3493-Calculations!K$1","v":0},{"$f":"'Absorbance Data'!O3493-Calculations!L$1","v":0},{"$f":"'Absorbance Data'!P3493-Calculations!M$1","v":0},{"$f":"'Absorbance Data'!Q3493-Calculations!N$1","v":0},{"$f":"'Absorbance Data'!R3493-Calculations!O$1","v":0},{"$f":"'Absorbance Data'!S3493-Calculations!P$1","v":0},{"$f":"'Absorbance Data'!T3493-Calculations!Q$1","v":0},{"$f":"'Absorbance Data'!U3493-Calculations!R$1","v":0},{"$f":"'Absorbance Data'!V3493-Calculations!S$1","v":0},{"$f":"'Absorbance Data'!W3493-Calculations!T$1","v":0},{"$f":"'Absorbance Data'!X3493-Calculations!U$1","v":0},{"$f":"'Absorbance Data'!Y3493-Calculations!V$1","v":0},{"$f":"'Absorbance Data'!Z3493-Calculations!W$1","v":0}]
[{"$f":"'Absorbance Data'!D3494","v":673.38116455078125},{"$f":"'Absorbance Data'!E3494-Calculations!B$1","v":0},{"$f":"'Absorbance Data'!F3494-Calculations!C$1","v":0},{"$f":"'Absorbance Data'!G3494-Calculations!D$1","v":0},{"$f":"'Absorbance Data'!H3494-Calculations!E$1","v":0},{"$f":"'Absorbance Data'!I3494-Calculations!F$1","v":0},{"$f":"'Absorbance Data'!J3494-Calculations!G$1","v":0},{"$f":"'Absorbance Data'!K3494-Calculations!H$1","v":0},{"$f":"'Absorbance Data'!L3494-Calculations!I$1","v":0},{"$f":"'Absorbance Data'!M3494-Calculations!J$1","v":0},{"$f":"'Absorbance Data'!N3494-Calculations!K$1","v":0},{"$f":"'Absorbance Data'!O3494-Calculations!L$1","v":0},{"$f":"'Absorbance Data'!P3494-Calculations!M$1","v":0},{"$f":"'Absorbance Data'!Q3494-Calculations!N$1","v":0},{"$f":"'Absorbance Data'!R3494-Calculations!O$1","v":0},{"$f":"'Absorbance Data'!S3494-Calculations!P$1","v":0},{"$f":"'Absorbance Data'!T3494-Calculations!Q$1","v":0},{"$f":"'Absorbance Data'!U3494-Calculations!R$1","v":0},{"$f":"'Absorbance Data'!V3494-Calculations!S$1","v":0},{"$f":"'Absorbance Data'!W3494-Calculations!T$1","v":0},{"$f":"'Absorbance Data'!X3494-Calculations!U$1","v":0},{"$f":"'Absorbance Data'!Y3494-Calculations!V$1","v":0},{"$f":"'Absorbance Data'!Z3494-Calculations!W$1","v":0}]
[{"$f":"'Absorbance Data'!D3495","v":673.69195556640625},{"$f":"'Absorbance Data'!E3495-Calculations!B$1","v":0},{"$f":"'Absorbance Data'!F3495-Calculations!C$1","v":0},{"$f":"'Absorbance Data'!G3495-Calculations!D$1","v":0},{"$f":"'Absorbance Data'!H3495-Calculations!E$1","v":0},{"$f":"'Absorbance Data'!I3495-Calculations!F$1","v":0},{"$f":"'Absorbance Data'!J3495-Calculations!G$1","v":0},{"$f":"'Absorbance Data'!K3495-Calculations!H$1","v":0},{"$f":"'Absorbance Data'!L3495-Calculations!I$1","v":0},{"$f":"'Absorbance Data'!M3495-Calculations!J$1","v":0},{"$f":"'Absorbance Data'!N3495-Calculations!K$1","v":0},{"$f":"'Absorbance Data'!O3495-Calculations!L$1","v":0},{"$f":"'Absorbance Data'!P3495-Calculations!M$1","v":0},{"$f":"'Absorbance Data'!Q3495-Calculations!N$1","v":0},{"$f":"'Absorbance Data'!R3495-Calculations!O$1","v":0},{"$f":"'Absorbance Data'!S3495-Calculations!P$1","v":0},{"$f":"'Absorbance Data'!T3495-Calculations!Q$1","v":0},{"$f":"'Absorbance Data'!U3495-Calculations!R$1","v":0},{"$f":"'Absorbance Data'!V3495-Calculations!S$1","v":0},{"$f":"'Absorbance Data'!W3495-Calculations!T$1","v":0},{"$f":"'Absorbance Data'!X3495-Calculations!U$1","v":0},{"$f":"'Absorbance Data'!Y3495-Calculations!V$1","v":0},{"$f":"'Absorbance Data'!Z3495-Calculations!W$1","v":0}]
[{"$f":"'Absorbance Data'!D3496","v":674.002685546875},{"$f":"'Absorbance Data'!E3496-Calculations!B$1","v":0},{"$f":"'Absorbance Data'!F3496-Calculations!C$1","v":0},{"$f":"'Absorbance Data'!G3496-Calculations!D$1","v":0},{"$f":"'Absorbance Data'!H3496-Calculations!E$1","v":0},{"$f":"'Absorbance Data'!I3496-Calculations!F$1","v":0},{"$f":"'Absorbance Data'!J3496-Calculations!G$1","v":0},{"$f":"'Absorbance Data'!K3496-Calculations!H$1","v":0},{"$f":"'Absorbance Data'!L3496-Calculations!I$1","v":0},{"$f":"'Absorbance Data'!M3496-Calculations!J$1","v":0},{"$f":"'Absorbance Data'!N3496-Calculations!K$1","v":0},{"$f":"'Absorbance Data'!O3496-Calculations!L$1","v":0},{"$f":"'Absorbance Data'!P3496-Calculations!M$1","v":0},{"$f":"'Absorbance Data'!Q3496-Calculations!N$1","v":0},{"$f":"'Absorbance Data'!R3496-Calculations!O$1","v":0},{"$f":"'Absorbance Data'!S3496-Calculations!P$1","v":0},{"$f":"'Absorbance Data'!T3496-Calculations!Q$1","v":0},{"$f":"'Absorbance Data'!U3496-Calculations!R$1","v":0},{"$f":"'Absorbance Data'!V3496-Calculations!S$1","v":0},{"$f":"'Absorbance Data'!W3496-Calculations!T$1","v":0},{"$f":"'Absorbance Data'!X3496-Calculations!U$1","v":0},{"$f":"'Absorbance Data'!Y3496-Calculations!V$1","v":0},{"$f":"'Absorbance Data'!Z3496-Calculations!W$1","v":0}]
[{"$f":"'Absorbance Data'!D3497","v":674.3133544921875},{"$f":"'Absorbance Data'!E3497-Calculations!B$1","v":0},{"$f":"'Absorbance Data'!F3497-Calculations!C$1","v":0},{"$f":"'Absorbance Data'!G3497-Calculations!D$1","v":0},{"$f":"'Absorbance Data'!H3497-Calculations!E$1","v":0},{"$f":"'Absorbance Data'!I3497-Calculations!F$1","v":0},{"$f":"'Absorbance Data'!J3497-Calculations!G$1","v":0},{"$f":"'Absorbance Data'!K3497-Calculations!H$1","v":0},{"$f":"'Absorbance Data'!L3497-Calculations!I$1","v":0},{"$f":"'Absorbance Data'!M3497-Calculations!J$1","v":0},{"$f":"'Absorbance Data'!N3497-Calculations!K$1","v":0},{"$f":"'Absorbance Data'!O3497-Calculations!L$1","v":0},{"$f":"'Absorbance Data'!P3497-Calculations!M$1","v":0},{"$f":"'Absorbance Data'!Q3497-Calculations!N$1","v":0},{"$f":"'Absorbance Data'!R3497-Calculations!O$1","v":0},{"$f":"'Absorbance Data'!S3497-Calculations!P$1","v":0},{"$f":"'Absorbance Data'!T3497-Calculations!Q$1","v":0},{"$f":"'Absorbance Data'!U3497-Calculations!R$1","v":0},{"$f":"'Absorbance Data'!V3497-Calculations!S$1","v":0},{"$f":"'Absorbance Data'!W3497-Calculations!T$1","v":0},{"$f":"'Absorbance Data'!X3497-Calculations!U$1","v":0},{"$f":"'Absorbance Data'!Y3497-Calculations!V$1","v":0},{"$f":"'Absorbance Data'!Z3497-Calculations!W$1","v":0}]
[{"$f":"'Absorbance Data'!D3498","v":674.6240234375},{"$f":"'Absorbance Data'!E3498-Calculations!B$1","v":0},{"$f":"'Absorbance Data'!F3498-Calculations!C$1","v":0},{"$f":"'Absorbance Data'!G3498-Calculations!D$1","v":0},{"$f":"'Absorbance Data'!H3498-Calculations!E$1","v":0},{"$f":"'Absorbance Data'!I3498-Calculations!F$1","v":0},{"$f":"'Absorbance Data'!J3498-Calculations!G$1","v":0},{"$f":"'Absorbance Data'!K3498-Calculations!H$1","v":0},{"$f":"'Absorbance Data'!L3498-Calculations!I$1","v":0},{"$f":"'Absorbance Data'!M3498-Calculations!J$1","v":0},{"$f":"'Absorbance Data'!N3498-Calculations!K$1","v":0},{"$f":"'Absorbance Data'!O3498-Calculations!L$1","v":0},{"$f":"'Absorbance Data'!P3498-Calculations!M$1","v":0},{"$f":"'Absorbance Data'!Q3498-Calculations!N$1","v":0},{"$f":"'Absorbance Data'!R3498-Calculations!O$1","v":0},{"$f":"'Absorbance Data'!S3498-Calculations!P$1","v":0},{"$f":"'Absorbance Data'!T3498-Calculations!Q$1","v":0},{"$f":"'Absorbance Data'!U3498-Calculations!R$1","v":0},{"$f":"'Absorbance Data'!V3498-Calculations!S$1","v":0},{"$f":"'Absorbance Data'!W3498-Calculations!T$1","v":0},{"$f":"'Absorbance Data'!X3498-Calculations!U$1","v":0},{"$f":"'Absorbance Data'!Y3498-Calculations!V$1","v":0},{"$f":"'Absorbance Data'!Z3498-Calculations!W$1","v":0}]
[{"$f":"'Absorbance Data'!D3499","v":674.9345703125},{"$f":"'Absorbance Data'!E3499-Calculations!B$1","v":0},{"$f":"'Absorbance Data'!F3499-Calculations!C$1","v":0},{"$f":"'Absorbance Data'!G3499-Calculations!D$1","v":0},{"$f":"'Absorbance Data'!H3499-Calculations!E$1","v":0},{"$f":"'Absorbance Data'!I3499-Calculations!F$1","v":0},{"$f":"'Absorbance Data'!J3499-Calculations!G$1","v":0},{"$f":"'Absorbance Data'!K3499-Calculations!H$1","v":0},{"$f":"'Absorbance Data'!L3499-Calculations!I$1","v":0},{"$f":"'Absorbance Data'!M3499-Calculations!J$1","v":0},{"$f":"'Absorbance Data'!N3499-Calculations!K$1","v":0},{"$f":"'Absorbance Data'!O3499-Calculations!L$1","v":0},{"$f":"'Absorbance Data'!P3499-Calculations!M$1","v":0},{"$f":"'Absorbance Data'!Q3499-Calculations!N$1","v":0},{"$f":"'Absorbance Data'!R3499-Calculations!O$1","v":0},{"$f":"'Absorbance Data'!S3499-Calculations!P$1","v":0},{"$f":"'Absorbance Data'!T3499-Calculations!Q$1","v":0},{"$f":"'Absorbance Data'!U3499-Calculations!R$1","v":0},{"$f":"'Absorbance Data'!V3499-Calculations!S$1","v":0},{"$f":"'Absorbance Data'!W3499-Calculations!T$1","v":0},{"$f":"'Absorbance Data'!X3499-Calculations!U$1","v":0},{"$f":"'Absorbance Data'!Y3499-Calculations!V$1","v":0},{"$f":"'Absorbance Data'!Z3499-Calculations!W$1","v":0}]
[{"$f":"'Absorbance Data'!D3500","v":675.2451171875},{"$f":"'Absorbance Data'!E3500-Calculations!B$1","v":0},{"$f":"'Absorbance Data'!F3500-Calculations!C$1","v":0},{"$f":"'Absorbance Data'!G3500-Calculations!D$1","v":0},{"$f":"'Absorbance Data'!H3500-Calculations!E$1","v":0},{"$f":"'Absorbance Data'!I3500-Calculations!F$1","v":0},{"$f":"'Absorbance Data'!J3500-Calculations!G$1","v":0},{"$f":"'Absorbance Data'!K3500-Calculations!H$1","v":0},{"$f":"'Absorbance Data'!L3500-Calculations!I$1","v":0},{"$f":"'Absorbance Data'!M3500-Calculations!J$1","v":0},{"$f":"'Absorbance Data'!N3500-Calculations!K$1","v":0},{"$f":"'Absorbance Data'!O3500-Calculations!L$1","v":0},{"$f":"'Absorbance Data'!P3500-Calculations!M$1","v":0},{"$f":"'Absorbance Data'!Q3500-Calculations!N$1","v":0},{"$f":"'Absorbance Data'!R3500-Calculations!O$1","v":0},{"$f":"'Absorbance Data'!S3500-Calculations!P$1","v":0},{"$f":"'Absorbance Data'!T3500-Calculations!Q$1","v":0},{"$f":"'Absorbance Data'!U3500-Calculations!R$1","v":0},{"$f":"'Absorbance Data'!V3500-Calculations!S$1","v":0},{"$f":"'Absorbance Data'!W3500-Calculations!T$1","v":0},{"$f":"'Absorbance Data'!X3500-Calculations!U$1","v":0},{"$f":"'Absorbance Data'!Y3500-Calculations!V$1","v":0},{"$f":"'Absorbance Data'!Z3500-Calculations!W$1","v":0}]
[{"$f":"'Absorbance Data'!D3501","v":675.55560302734375},{"$f":"'Absorbance Data'!E3501-Calculations!B$1","v":0},{"$f":"'Absorbance Data'!F3501-Calculations!C$1","v":0},{"$f":"'Absorbance Data'!G3501-Calculations!D$1","v":0},{"$f":"'Absorbance Data'!H3501-Calculations!E$1","v":0},{"$f":"'Absorbance Data'!I3501-Calculations!F$1","v":0},{"$f":"'Absorbance Data'!J3501-Calculations!G$1","v":0},{"$f":"'Absorbance Data'!K3501-Calculations!H$1","v":0},{"$f":"'Absorbance Data'!L3501-Calculations!I$1","v":0},{"$f":"'Absorbance Data'!M3501-Calculations!J$1","v":0},{"$f":"'Absorbance Data'!N3501-Calculations!K$1","v":0},{"$f":"'Absorbance Data'!O3501-Calculations!L$1","v":0},{"$f":"'Absorbance Data'!P3501-Calculations!M$1","v":0},{"$f":"'Absorbance Data'!Q3501-Calculations!N$1","v":0},{"$f":"'Absorbance Data'!R3501-Calculations!O$1","v":0},{"$f":"'Absorbance Data'!S3501-Calculations!P$1","v":0},{"$f":"'Absorbance Data'!T3501-Calculations!Q$1","v":0},{"$f":"'Absorbance Data'!U3501-Calculations!R$1","v":0},{"$f":"'Absorbance Data'!V3501-Calculations!S$1","v":0},{"$f":"'Absorbance Data'!W3501-Calculations!T$1","v":0},{"$f":"'Absorbance Data'!X3501-Calculations!U$1","v":0},{"$f":"'Absorbance Data'!Y3501-Calculations!V$1","v":0},{"$f":"'Absorbance Data'!Z3501-Calculations!W$1","v":0}]
[{"$f":"'Absorbance Data'!D3502","v":675.8660888671875},{"$f":"'Absorbance Data'!E3502-Calculations!B$1","v":0},{"$f":"'Absorbance Data'!F3502-Calculations!C$1","v":0},{"$f":"'Absorbance Data'!G3502-Calculations!D$1","v":0},{"$f":"'Absorbance Data'!H3502-Calculations!E$1","v":0},{"$f":"'Absorbance Data'!I3502-Calculations!F$1","v":0},{"$f":"'Absorbance Data'!J3502-Calculations!G$1","v":0},{"$f":"'Absorbance Data'!K3502-Calculations!H$1","v":0},{"$f":"'Absorbance Data'!L3502-Calculations!I$1","v":0},{"$f":"'Absorbance Data'!M3502-Calculations!J$1","v":0},{"$f":"'Absorbance Data'!N3502-Calculations!K$1","v":0},{"$f":"'Absorbance Data'!O3502-Calculations!L$1","v":0},{"$f":"'Absorbance Data'!P3502-Calculations!M$1","v":0},{"$f":"'Absorbance Data'!Q3502-Calculations!N$1","v":0},{"$f":"'Absorbance Data'!R3502-Calculations!O$1","v":0},{"$f":"'Absorbance Data'!S3502-Calculations!P$1","v":0},{"$f":"'Absorbance Data'!T3502-Calculations!Q$1","v":0},{"$f":"'Absorbance Data'!U3502-Calculations!R$1","v":0},{"$f":"'Absorbance Data'!V3502-Calculations!S$1","v":0},{"$f":"'Absorbance Data'!W3502-Calculations!T$1","v":0},{"$f":"'Absorbance Data'!X3502-Calculations!U$1","v":0},{"$f":"'Absorbance Data'!Y3502-Calculations!V$1","v":0},{"$f":"'Absorbance Data'!Z3502-Calculations!W$1","v":0}]
[{"$f":"'Absorbance Data'!D3503","v":676.17645263671875},{"$f":"'Absorbance Data'!E3503-Calculations!B$1","v":0},{"$f":"'Absorbance Data'!F3503-Calculations!C$1","v":0},{"$f":"'Absorbance Data'!G3503-Calculations!D$1","v":0},{"$f":"'Absorbance Data'!H3503-Calculations!E$1","v":0},{"$f":"'Absorbance Data'!I3503-Calculations!F$1","v":0},{"$f":"'Absorbance Data'!J3503-Calculations!G$1","v":0},{"$f":"'Absorbance Data'!K3503-Calculations!H$1","v":0},{"$f":"'Absorbance Data'!L3503-Calculations!I$1","v":0},{"$f":"'Absorbance Data'!M3503-Calculations!J$1","v":0},{"$f":"'Absorbance Data'!N3503-Calculations!K$1","v":0},{"$f":"'Absorbance Data'!O3503-Calculations!L$1","v":0},{"$f":"'Absorbance Data'!P3503-Calculations!M$1","v":0},{"$f":"'Absorbance Data'!Q3503-Calculations!N$1","v":0},{"$f":"'Absorbance Data'!R3503-Calculations!O$1","v":0},{"$f":"'Absorbance Data'!S3503-Calculations!P$1","v":0},{"$f":"'Absorbance Data'!T3503-Calculations!Q$1","v":0},{"$f":"'Absorbance Data'!U3503-Calculations!R$1","v":0},{"$f":"'Absorbance Data'!V3503-Calculations!S$1","v":0},{"$f":"'Absorbance Data'!W3503-Calculations!T$1","v":0},{"$f":"'Absorbance Data'!X3503-Calculations!U$1","v":0},{"$f":"'Absorbance Data'!Y3503-Calculations!V$1","v":0},{"$f":"'Absorbance Data'!Z3503-Calculations!W$1","v":0}]
[{"$f":"'Absorbance Data'!D3504","v":676.48687744140625},{"$f":"'Absorbance Data'!E3504-Calculations!B$1","v":0},{"$f":"'Absorbance Data'!F3504-Calculations!C$1","v":0},{"$f":"'Absorbance Data'!G3504-Calculations!D$1","v":0},{"$f":"'Absorbance Data'!H3504-Calculations!E$1","v":0},{"$f":"'Absorbance Data'!I3504-Calculations!F$1","v":0},{"$f":"'Absorbance Data'!J3504-Calculations!G$1","v":0},{"$f":"'Absorbance Data'!K3504-Calculations!H$1","v":0},{"$f":"'Absorbance Data'!L3504-Calculations!I$1","v":0},{"$f":"'Absorbance Data'!M3504-Calculations!J$1","v":0},{"$f":"'Absorbance Data'!N3504-Calculations!K$1","v":0},{"$f":"'Absorbance Data'!O3504-Calculations!L$1","v":0},{"$f":"'Absorbance Data'!P3504-Calculations!M$1","v":0},{"$f":"'Absorbance Data'!Q3504-Calculations!N$1","v":0},{"$f":"'Absorbance Data'!R3504-Calculations!O$1","v":0},{"$f":"'Absorbance Data'!S3504-Calculations!P$1","v":0},{"$f":"'Absorbance Data'!T3504-Calculations!Q$1","v":0},{"$f":"'Absorbance Data'!U3504-Calculations!R$1","v":0},{"$f":"'Absorbance Data'!V3504-Calculations!S$1","v":0},{"$f":"'Absorbance Data'!W3504-Calculations!T$1","v":0},{"$f":"'Absorbance Data'!X3504-Calculations!U$1","v":0},{"$f":"'Absorbance Data'!Y3504-Calculations!V$1","v":0},{"$f":"'Absorbance Data'!Z3504-Calculations!W$1","v":0}]
[{"$f":"'Absorbance Data'!D3505","v":676.797119140625},{"$f":"'Absorbance Data'!E3505-Calculations!B$1","v":0},{"$f":"'Absorbance Data'!F3505-Calculations!C$1","v":0},{"$f":"'Absorbance Data'!G3505-Calculations!D$1","v":0},{"$f":"'Absorbance Data'!H3505-Calculations!E$1","v":0},{"$f":"'Absorbance Data'!I3505-Calculations!F$1","v":0},{"$f":"'Absorbance Data'!J3505-Calculations!G$1","v":0},{"$f":"'Absorbance Data'!K3505-Calculations!H$1","v":0},{"$f":"'Absorbance Data'!L3505-Calculations!I$1","v":0},{"$f":"'Absorbance Data'!M3505-Calculations!J$1","v":0},{"$f":"'Absorbance Data'!N3505-Calculations!K$1","v":0},{"$f":"'Absorbance Data'!O3505-Calculations!L$1","v":0},{"$f":"'Absorbance Data'!P3505-Calculations!M$1","v":0},{"$f":"'Absorbance Data'!Q3505-Calculations!N$1","v":0},{"$f":"'Absorbance Data'!R3505-Calculations!O$1","v":0},{"$f":"'Absorbance Data'!S3505-Calculations!P$1","v":0},{"$f":"'Absorbance Data'!T3505-Calculations!Q$1","v":0},{"$f":"'Absorbance Data'!U3505-Calculations!R$1","v":0},{"$f":"'Absorbance Data'!V3505-Calculations!S$1","v":0},{"$f":"'Absorbance Data'!W3505-Calculations!T$1","v":0},{"$f":"'Absorbance Data'!X3505-Calculations!U$1","v":0},{"$f":"'Absorbance Data'!Y3505-Calculations!V$1","v":0},{"$f":"'Absorbance Data'!Z3505-Calculations!W$1","v":0}]
[{"$f":"'Absorbance Data'!D3506","v":677.10748291015625},{"$f":"'Absorbance Data'!E3506-Calculations!B$1","v":0},{"$f":"'Absorbance Data'!F3506-Calculations!C$1","v":0},{"$f":"'Absorbance Data'!G3506-Calculations!D$1","v":0},{"$f":"'Absorbance Data'!H3506-Calculations!E$1","v":0},{"$f":"'Absorbance Data'!I3506-Calculations!F$1","v":0},{"$f":"'Absorbance Data'!J3506-Calculations!G$1","v":0},{"$f":"'Absorbance Data'!K3506-Calculations!H$1","v":0},{"$f":"'Absorbance Data'!L3506-Calculations!I$1","v":0},{"$f":"'Absorbance Data'!M3506-Calculations!J$1","v":0},{"$f":"'Absorbance Data'!N3506-Calculations!K$1","v":0},{"$f":"'Absorbance Data'!O3506-Calculations!L$1","v":0},{"$f":"'Absorbance Data'!P3506-Calculations!M$1","v":0},{"$f":"'Absorbance Data'!Q3506-Calculations!N$1","v":0},{"$f":"'Absorbance Data'!R3506-Calculations!O$1","v":0},{"$f":"'Absorbance Data'!S3506-Calculations!P$1","v":0},{"$f":"'Absorbance Data'!T3506-Calculations!Q$1","v":0},{"$f":"'Absorbance Data'!U3506-Calculations!R$1","v":0},{"$f":"'Absorbance Data'!V3506-Calculations!S$1","v":0},{"$f":"'Absorbance Data'!W3506-Calculations!T$1","v":0},{"$f":"'Absorbance Data'!X3506-Calculations!U$1","v":0},{"$f":"'Absorbance Data'!Y3506-Calculations!V$1","v":0},{"$f":"'Absorbance Data'!Z3506-Calculations!W$1","v":0}]
[{"$f":"'Absorbance Data'!D3507","v":677.417724609375},{"$f":"'Absorbance Data'!E3507-Calculations!B$1","v":0},{"$f":"'Absorbance Data'!F3507-Calculations!C$1","v":0},{"$f":"'Absorbance Data'!G3507-Calculations!D$1","v":0},{"$f":"'Absorbance Data'!H3507-Calculations!E$1","v":0},{"$f":"'Absorbance Data'!I3507-Calculations!F$1","v":0},{"$f":"'Absorbance Data'!J3507-Calculations!G$1","v":0},{"$f":"'Absorbance Data'!K3507-Calculations!H$1","v":0},{"$f":"'Absorbance Data'!L3507-Calculations!I$1","v":0},{"$f":"'Absorbance Data'!M3507-Calculations!J$1","v":0},{"$f":"'Absorbance Data'!N3507-Calculations!K$1","v":0},{"$f":"'Absorbance Data'!O3507-Calculations!L$1","v":0},{"$f":"'Absorbance Data'!P3507-Calculations!M$1","v":0},{"$f":"'Absorbance Data'!Q3507-Calculations!N$1","v":0},{"$f":"'Absorbance Data'!R3507-Calculations!O$1","v":0},{"$f":"'Absorbance Data'!S3507-Calculations!P$1","v":0},{"$f":"'Absorbance Data'!T3507-Calculations!Q$1","v":0},{"$f":"'Absorbance Data'!U3507-Calculations!R$1","v":0},{"$f":"'Absorbance Data'!V3507-Calculations!S$1","v":0},{"$f":"'Absorbance Data'!W3507-Calculations!T$1","v":0},{"$f":"'Absorbance Data'!X3507-Calculations!U$1","v":0},{"$f":"'Absorbance Data'!Y3507-Calculations!V$1","v":0},{"$f":"'Absorbance Data'!Z3507-Calculations!W$1","v":0}]
[{"$f":"'Absorbance Data'!D3508","v":677.72796630859375},{"$f":"'Absorbance Data'!E3508-Calculations!B$1","v":0},{"$f":"'Absorbance Data'!F3508-Calculations!C$1","v":0},{"$f":"'Absorbance Data'!G3508-Calculations!D$1","v":0},{"$f":"'Absorbance Data'!H3508-Calculations!E$1","v":0},{"$f":"'Absorbance Data'!I3508-Calculations!F$1","v":0},{"$f":"'Absorbance Data'!J3508-Calculations!G$1","v":0},{"$f":"'Absorbance Data'!K3508-Calculations!H$1","v":0},{"$f":"'Absorbance Data'!L3508-Calculations!I$1","v":0},{"$f":"'Absorbance Data'!M3508-Calculations!J$1","v":0},{"$f":"'Absorbance Data'!N3508-Calculations!K$1","v":0},{"$f":"'Absorbance Data'!O3508-Calculations!L$1","v":0},{"$f":"'Absorbance Data'!P3508-Calculations!M$1","v":0},{"$f":"'Absorbance Data'!Q3508-Calculations!N$1","v":0},{"$f":"'Absorbance Data'!R3508-Calculations!O$1","v":0},{"$f":"'Absorbance Data'!S3508-Calculations!P$1","v":0},{"$f":"'Absorbance Data'!T3508-Calculations!Q$1","v":0},{"$f":"'Absorbance Data'!U3508-Calculations!R$1","v":0},{"$f":"'Absorbance Data'!V3508-Calculations!S$1","v":0},{"$f":"'Absorbance Data'!W3508-Calculations!T$1","v":0},{"$f":"'Absorbance Data'!X3508-Calculations!U$1","v":0},{"$f":"'Absorbance Data'!Y3508-Calculations!V$1","v":0},{"$f":"'Absorbance Data'!Z3508-Calculations!W$1","v":0}]
[{"$f":"'Absorbance Data'!D3509","v":678.0380859375},{"$f":"'Absorbance Data'!E3509-Calculations!B$1","v":0},{"$f":"'Absorbance Data'!F3509-Calculations!C$1","v":0},{"$f":"'Absorbance Data'!G3509-Calculations!D$1","v":0},{"$f":"'Absorbance Data'!H3509-Calculations!E$1","v":0},{"$f":"'Absorbance Data'!I3509-Calculations!F$1","v":0},{"$f":"'Absorbance Data'!J3509-Calculations!G$1","v":0},{"$f":"'Absorbance Data'!K3509-Calculations!H$1","v":0},{"$f":"'Absorbance Data'!L3509-Calculations!I$1","v":0},{"$f":"'Absorbance Data'!M3509-Calculations!J$1","v":0},{"$f":"'Absorbance Data'!N3509-Calculations!K$1","v":0},{"$f":"'Absorbance Data'!O3509-Calculations!L$1","v":0},{"$f":"'Absorbance Data'!P3509-Calculations!M$1","v":0},{"$f":"'Absorbance Data'!Q3509-Calculations!N$1","v":0},{"$f":"'Absorbance Data'!R3509-Calculations!O$1","v":0},{"$f":"'Absorbance Data'!S3509-Calculations!P$1","v":0},{"$f":"'Absorbance Data'!T3509-Calculations!Q$1","v":0},{"$f":"'Absorbance Data'!U3509-Calculations!R$1","v":0},{"$f":"'Absorbance Data'!V3509-Calculations!S$1","v":0},{"$f":"'Absorbance Data'!W3509-Calculations!T$1","v":0},{"$f":"'Absorbance Data'!X3509-Calculations!U$1","v":0},{"$f":"'Absorbance Data'!Y3509-Calculations!V$1","v":0},{"$f":"'Absorbance Data'!Z3509-Calculations!W$1","v":0}]
[{"$f":"'Absorbance Data'!D3510","v":678.34820556640625},{"$f":"'Absorbance Data'!E3510-Calculations!B$1","v":0},{"$f":"'Absorbance Data'!F3510-Calculations!C$1","v":0},{"$f":"'Absorbance Data'!G3510-Calculations!D$1","v":0},{"$f":"'Absorbance Data'!H3510-Calculations!E$1","v":0},{"$f":"'Absorbance Data'!I3510-Calculations!F$1","v":0},{"$f":"'Absorbance Data'!J3510-Calculations!G$1","v":0},{"$f":"'Absorbance Data'!K3510-Calculations!H$1","v":0},{"$f":"'Absorbance Data'!L3510-Calculations!I$1","v":0},{"$f":"'Absorbance Data'!M3510-Calculations!J$1","v":0},{"$f":"'Absorbance Data'!N3510-Calculations!K$1","v":0},{"$f":"'Absorbance Data'!O3510-Calculations!L$1","v":0},{"$f":"'Absorbance Data'!P3510-Calculations!M$1","v":0},{"$f":"'Absorbance Data'!Q3510-Calculations!N$1","v":0},{"$f":"'Absorbance Data'!R3510-Calculations!O$1","v":0},{"$f":"'Absorbance Data'!S3510-Calculations!P$1","v":0},{"$f":"'Absorbance Data'!T3510-Calculations!Q$1","v":0},{"$f":"'Absorbance Data'!U3510-Calculations!R$1","v":0},{"$f":"'Absorbance Data'!V3510-Calculations!S$1","v":0},{"$f":"'Absorbance Data'!W3510-Calculations!T$1","v":0},{"$f":"'Absorbance Data'!X3510-Calculations!U$1","v":0},{"$f":"'Absorbance Data'!Y3510-Calculations!V$1","v":0},{"$f":"'Absorbance Data'!Z3510-Calculations!W$1","v":0}]
[{"$f":"'Absorbance Data'!D3511","v":678.6583251953125},{"$f":"'Absorbance Data'!E3511-Calculations!B$1","v":0},{"$f":"'Absorbance Data'!F3511-Calculations!C$1","v":0},{"$f":"'Absorbance Data'!G3511-Calculations!D$1","v":0},{"$f":"'Absorbance Data'!H3511-Calculations!E$1","v":0},{"$f":"'Absorbance Data'!I3511-Calculations!F$1","v":0},{"$f":"'Absorbance Data'!J3511-Calculations!G$1","v":0},{"$f":"'Absorbance Data'!K3511-Calculations!H$1","v":0},{"$f":"'Absorbance Data'!L3511-Calculations!I$1","v":0},{"$f":"'Absorbance Data'!M3511-Calculations!J$1","v":0},{"$f":"'Absorbance Data'!N3511-Calculations!K$1","v":0},{"$f":"'Absorbance Data'!O3511-Calculations!L$1","v":0},{"$f":"'Absorbance Data'!P3511-Calculations!M$1","v":0},{"$f":"'Absorbance Data'!Q3511-Calculations!N$1","v":0},{"$f":"'Absorbance Data'!R3511-Calculations!O$1","v":0},{"$f":"'Absorbance Data'!S3511-Calculations!P$1","v":0},{"$f":"'Absorbance Data'!T3511-Calculations!Q$1","v":0},{"$f":"'Absorbance Data'!U3511-Calculations!R$1","v":0},{"$f":"'Absorbance Data'!V3511-Calculations!S$1","v":0},{"$f":"'Absorbance Data'!W3511-Calculations!T$1","v":0},{"$f":"'Absorbance Data'!X3511-Calculations!U$1","v":0},{"$f":"'Absorbance Data'!Y3511-Calculations!V$1","v":0},{"$f":"'Absorbance Data'!Z3511-Calculations!W$1","v":0}]
[{"$f":"'Absorbance Data'!D3512","v":678.96832275390625},{"$f":"'Absorbance Data'!E3512-Calculations!B$1","v":0},{"$f":"'Absorbance Data'!F3512-Calculations!C$1","v":0},{"$f":"'Absorbance Data'!G3512-Calculations!D$1","v":0},{"$f":"'Absorbance Data'!H3512-Calculations!E$1","v":0},{"$f":"'Absorbance Data'!I3512-Calculations!F$1","v":0},{"$f":"'Absorbance Data'!J3512-Calculations!G$1","v":0},{"$f":"'Absorbance Data'!K3512-Calculations!H$1","v":0},{"$f":"'Absorbance Data'!L3512-Calculations!I$1","v":0},{"$f":"'Absorbance Data'!M3512-Calculations!J$1","v":0},{"$f":"'Absorbance Data'!N3512-Calculations!K$1","v":0},{"$f":"'Absorbance Data'!O3512-Calculations!L$1","v":0},{"$f":"'Absorbance Data'!P3512-Calculations!M$1","v":0},{"$f":"'Absorbance Data'!Q3512-Calculations!N$1","v":0},{"$f":"'Absorbance Data'!R3512-Calculations!O$1","v":0},{"$f":"'Absorbance Data'!S3512-Calculations!P$1","v":0},{"$f":"'Absorbance Data'!T3512-Calculations!Q$1","v":0},{"$f":"'Absorbance Data'!U3512-Calculations!R$1","v":0},{"$f":"'Absorbance Data'!V3512-Calculations!S$1","v":0},{"$f":"'Absorbance Data'!W3512-Calculations!T$1","v":0},{"$f":"'Absorbance Data'!X3512-Calculations!U$1","v":0},{"$f":"'Absorbance Data'!Y3512-Calculations!V$1","v":0},{"$f":"'Absorbance Data'!Z3512-Calculations!W$1","v":0}]
[{"$f":"'Absorbance Data'!D3513","v":679.2783203125},{"$f":"'Absorbance Data'!E3513-Calculations!B$1","v":0},{"$f":"'Absorbance Data'!F3513-Calculations!C$1","v":0},{"$f":"'Absorbance Data'!G3513-Calculations!D$1","v":0},{"$f":"'Absorbance Data'!H3513-Calculations!E$1","v":0},{"$f":"'Absorbance Data'!I3513-Calculations!F$1","v":0},{"$f":"'Absorbance Data'!J3513-Calculations!G$1","v":0},{"$f":"'Absorbance Data'!K3513-Calculations!H$1","v":0},{"$f":"'Absorbance Data'!L3513-Calculations!I$1","v":0},{"$f":"'Absorbance Data'!M3513-Calculations!J$1","v":0},{"$f":"'Absorbance Data'!N3513-Calculations!K$1","v":0},{"$f":"'Absorbance Data'!O3513-Calculations!L$1","v":0},{"$f":"'Absorbance Data'!P3513-Calculations!M$1","v":0},{"$f":"'Absorbance Data'!Q3513-Calculations!N$1","v":0},{"$f":"'Absorbance Data'!R3513-Calculations!O$1","v":0},{"$f":"'Absorbance Data'!S3513-Calculations!P$1","v":0},{"$f":"'Absorbance Data'!T3513-Calculations!Q$1","v":0},{"$f":"'Absorbance Data'!U3513-Calculations!R$1","v":0},{"$f":"'Absorbance Data'!V3513-Calculations!S$1","v":0},{"$f":"'Absorbance Data'!W3513-Calculations!T$1","v":0},{"$f":"'Absorbance Data'!X3513-Calculations!U$1","v":0},{"$f":"'Absorbance Data'!Y3513-Calculations!V$1","v":0},{"$f":"'Absorbance Data'!Z3513-Calculations!W$1","v":0}]
[{"$f":"'Absorbance Data'!D3514","v":679.58819580078125},{"$f":"'Absorbance Data'!E3514-Calculations!B$1","v":0},{"$f":"'Absorbance Data'!F3514-Calculations!C$1","v":0},{"$f":"'Absorbance Data'!G3514-Calculations!D$1","v":0},{"$f":"'Absorbance Data'!H3514-Calculations!E$1","v":0},{"$f":"'Absorbance Data'!I3514-Calculations!F$1","v":0},{"$f":"'Absorbance Data'!J3514-Calculations!G$1","v":0},{"$f":"'Absorbance Data'!K3514-Calculations!H$1","v":0},{"$f":"'Absorbance Data'!L3514-Calculations!I$1","v":0},{"$f":"'Absorbance Data'!M3514-Calculations!J$1","v":0},{"$f":"'Absorbance Data'!N3514-Calculations!K$1","v":0},{"$f":"'Absorbance Data'!O3514-Calculations!L$1","v":0},{"$f":"'Absorbance Data'!P3514-Calculations!M$1","v":0},{"$f":"'Absorbance Data'!Q3514-Calculations!N$1","v":0},{"$f":"'Absorbance Data'!R3514-Calculations!O$1","v":0},{"$f":"'Absorbance Data'!S3514-Calculations!P$1","v":0},{"$f":"'Absorbance Data'!T3514-Calculations!Q$1","v":0},{"$f":"'Absorbance Data'!U3514-Calculations!R$1","v":0},{"$f":"'Absorbance Data'!V3514-Calculations!S$1","v":0},{"$f":"'Absorbance Data'!W3514-Calculations!T$1","v":0},{"$f":"'Absorbance Data'!X3514-Calculations!U$1","v":0},{"$f":"'Absorbance Data'!Y3514-Calculations!V$1","v":0},{"$f":"'Absorbance Data'!Z3514-Calculations!W$1","v":0}]
[{"$f":"'Absorbance Data'!D3515","v":679.8980712890625},{"$f":"'Absorbance Data'!E3515-Calculations!B$1","v":0},{"$f":"'Absorbance Data'!F3515-Calculations!C$1","v":0},{"$f":"'Absorbance Data'!G3515-Calculations!D$1","v":0},{"$f":"'Absorbance Data'!H3515-Calculations!E$1","v":0},{"$f":"'Absorbance Data'!I3515-Calculations!F$1","v":0},{"$f":"'Absorbance Data'!J3515-Calculations!G$1","v":0},{"$f":"'Absorbance Data'!K3515-Calculations!H$1","v":0},{"$f":"'Absorbance Data'!L3515-Calculations!I$1","v":0},{"$f":"'Absorbance Data'!M3515-Calculations!J$1","v":0},{"$f":"'Absorbance Data'!N3515-Calculations!K$1","v":0},{"$f":"'Absorbance Data'!O3515-Calculations!L$1","v":0},{"$f":"'Absorbance Data'!P3515-Calculations!M$1","v":0},{"$f":"'Absorbance Data'!Q3515-Calculations!N$1","v":0},{"$f":"'Absorbance Data'!R3515-Calculations!O$1","v":0},{"$f":"'Absorbance Data'!S3515-Calculations!P$1","v":0},{"$f":"'Absorbance Data'!T3515-Calculations!Q$1","v":0},{"$f":"'Absorbance Data'!U3515-Calculations!R$1","v":0},{"$f":"'Absorbance Data'!V3515-Calculations!S$1","v":0},{"$f":"'Absorbance Data'!W3515-Calculations!T$1","v":0},{"$f":"'Absorbance Data'!X3515-Calculations!U$1","v":0},{"$f":"'Absorbance Data'!Y3515-Calculations!V$1","v":0},{"$f":"'Absorbance Data'!Z3515-Calculations!W$1","v":0}]
[{"$f":"'Absorbance Data'!D3516","v":680.20794677734375},{"$f":"'Absorbance Data'!E3516-Calculations!B$1","v":0},{"$f":"'Absorbance Data'!F3516-Calculations!C$1","v":0},{"$f":"'Absorbance Data'!G3516-Calculations!D$1","v":0},{"$f":"'Absorbance Data'!H3516-Calculations!E$1","v":0},{"$f":"'Absorbance Data'!I3516-Calculations!F$1","v":0},{"$f":"'Absorbance Data'!J3516-Calculations!G$1","v":0},{"$f":"'Absorbance Data'!K3516-Calculations!H$1","v":0},{"$f":"'Absorbance Data'!L3516-Calculations!I$1","v":0},{"$f":"'Absorbance Data'!M3516-Calculations!J$1","v":0},{"$f":"'Absorbance Data'!N3516-Calculations!K$1","v":0},{"$f":"'Absorbance Data'!O3516-Calculations!L$1","v":0},{"$f":"'Absorbance Data'!P3516-Calculations!M$1","v":0},{"$f":"'Absorbance Data'!Q3516-Calculations!N$1","v":0},{"$f":"'Absorbance Data'!R3516-Calculations!O$1","v":0},{"$f":"'Absorbance Data'!S3516-Calculations!P$1","v":0},{"$f":"'Absorbance Data'!T3516-Calculations!Q$1","v":0},{"$f":"'Absorbance Data'!U3516-Calculations!R$1","v":0},{"$f":"'Absorbance Data'!V3516-Calculations!S$1","v":0},{"$f":"'Absorbance Data'!W3516-Calculations!T$1","v":0},{"$f":"'Absorbance Data'!X3516-Calculations!U$1","v":0},{"$f":"'Absorbance Data'!Y3516-Calculations!V$1","v":0},{"$f":"'Absorbance Data'!Z3516-Calculations!W$1","v":0}]
[{"$f":"'Absorbance Data'!D3517","v":680.51776123046875},{"$f":"'Absorbance Data'!E3517-Calculations!B$1","v":0},{"$f":"'Absorbance Data'!F3517-Calculations!C$1","v":0},{"$f":"'Absorbance Data'!G3517-Calculations!D$1","v":0},{"$f":"'Absorbance Data'!H3517-Calculations!E$1","v":0},{"$f":"'Absorbance Data'!I3517-Calculations!F$1","v":0},{"$f":"'Absorbance Data'!J3517-Calculations!G$1","v":0},{"$f":"'Absorbance Data'!K3517-Calculations!H$1","v":0},{"$f":"'Absorbance Data'!L3517-Calculations!I$1","v":0},{"$f":"'Absorbance Data'!M3517-Calculations!J$1","v":0},{"$f":"'Absorbance Data'!N3517-Calculations!K$1","v":0},{"$f":"'Absorbance Data'!O3517-Calculations!L$1","v":0},{"$f":"'Absorbance Data'!P3517-Calculations!M$1","v":0},{"$f":"'Absorbance Data'!Q3517-Calculations!N$1","v":0},{"$f":"'Absorbance Data'!R3517-Calculations!O$1","v":0},{"$f":"'Absorbance Data'!S3517-Calculations!P$1","v":0},{"$f":"'Absorbance Data'!T3517-Calculations!Q$1","v":0},{"$f":"'Absorbance Data'!U3517-Calculations!R$1","v":0},{"$f":"'Absorbance Data'!V3517-Calculations!S$1","v":0},{"$f":"'Absorbance Data'!W3517-Calculations!T$1","v":0},{"$f":"'Absorbance Data'!X3517-Calculations!U$1","v":0},{"$f":"'Absorbance Data'!Y3517-Calculations!V$1","v":0},{"$f":"'Absorbance Data'!Z3517-Calculations!W$1","v":0}]
[{"$f":"'Absorbance Data'!D3518","v":680.8275146484375},{"$f":"'Absorbance Data'!E3518-Calculations!B$1","v":0},{"$f":"'Absorbance Data'!F3518-Calculations!C$1","v":0},{"$f":"'Absorbance Data'!G3518-Calculations!D$1","v":0},{"$f":"'Absorbance Data'!H3518-Calculations!E$1","v":0},{"$f":"'Absorbance Data'!I3518-Calculations!F$1","v":0},{"$f":"'Absorbance Data'!J3518-Calculations!G$1","v":0},{"$f":"'Absorbance Data'!K3518-Calculations!H$1","v":0},{"$f":"'Absorbance Data'!L3518-Calculations!I$1","v":0},{"$f":"'Absorbance Data'!M3518-Calculations!J$1","v":0},{"$f":"'Absorbance Data'!N3518-Calculations!K$1","v":0},{"$f":"'Absorbance Data'!O3518-Calculations!L$1","v":0},{"$f":"'Absorbance Data'!P3518-Calculations!M$1","v":0},{"$f":"'Absorbance Data'!Q3518-Calculations!N$1","v":0},{"$f":"'Absorbance Data'!R3518-Calculations!O$1","v":0},{"$f":"'Absorbance Data'!S3518-Calculations!P$1","v":0},{"$f":"'Absorbance Data'!T3518-Calculations!Q$1","v":0},{"$f":"'Absorbance Data'!U3518-Calculations!R$1","v":0},{"$f":"'Absorbance Data'!V3518-Calculations!S$1","v":0},{"$f":"'Absorbance Data'!W3518-Calculations!T$1","v":0},{"$f":"'Absorbance Data'!X3518-Calculations!U$1","v":0},{"$f":"'Absorbance Data'!Y3518-Calculations!V$1","v":0},{"$f":"'Absorbance Data'!Z3518-Calculations!W$1","v":0}]
[{"$f":"'Absorbance Data'!D3519","v":681.13726806640625},{"$f":"'Absorbance Data'!E3519-Calculations!B$1","v":0},{"$f":"'Absorbance Data'!F3519-Calculations!C$1","v":0},{"$f":"'Absorbance Data'!G3519-Calculations!D$1","v":0},{"$f":"'Absorbance Data'!H3519-Calculations!E$1","v":0},{"$f":"'Absorbance Data'!I3519-Calculations!F$1","v":0},{"$f":"'Absorbance Data'!J3519-Calculations!G$1","v":0},{"$f":"'Absorbance Data'!K3519-Calculations!H$1","v":0},{"$f":"'Absorbance Data'!L3519-Calculations!I$1","v":0},{"$f":"'Absorbance Data'!M3519-Calculations!J$1","v":0},{"$f":"'Absorbance Data'!N3519-Calculations!K$1","v":0},{"$f":"'Absorbance Data'!O3519-Calculations!L$1","v":0},{"$f":"'Absorbance Data'!P3519-Calculations!M$1","v":0},{"$f":"'Absorbance Data'!Q3519-Calculations!N$1","v":0},{"$f":"'Absorbance Data'!R3519-Calculations!O$1","v":0},{"$f":"'Absorbance Data'!S3519-Calculations!P$1","v":0},{"$f":"'Absorbance Data'!T3519-Calculations!Q$1","v":0},{"$f":"'Absorbance Data'!U3519-Calculations!R$1","v":0},{"$f":"'Absorbance Data'!V3519-Calculations!S$1","v":0},{"$f":"'Absorbance Data'!W3519-Calculations!T$1","v":0},{"$f":"'Absorbance Data'!X3519-Calculations!U$1","v":0},{"$f":"'Absorbance Data'!Y3519-Calculations!V$1","v":0},{"$f":"'Absorbance Data'!Z3519-Calculations!W$1","v":0}]
[{"$f":"'Absorbance Data'!D3520","v":681.4468994140625},{"$f":"'Absorbance Data'!E3520-Calculations!B$1","v":0},{"$f":"'Absorbance Data'!F3520-Calculations!C$1","v":0},{"$f":"'Absorbance Data'!G3520-Calculations!D$1","v":0},{"$f":"'Absorbance Data'!H3520-Calculations!E$1","v":0},{"$f":"'Absorbance Data'!I3520-Calculations!F$1","v":0},{"$f":"'Absorbance Data'!J3520-Calculations!G$1","v":0},{"$f":"'Absorbance Data'!K3520-Calculations!H$1","v":0},{"$f":"'Absorbance Data'!L3520-Calculations!I$1","v":0},{"$f":"'Absorbance Data'!M3520-Calculations!J$1","v":0},{"$f":"'Absorbance Data'!N3520-Calculations!K$1","v":0},{"$f":"'Absorbance Data'!O3520-Calculations!L$1","v":0},{"$f":"'Absorbance Data'!P3520-Calculations!M$1","v":0},{"$f":"'Absorbance Data'!Q3520-Calculations!N$1","v":0},{"$f":"'Absorbance Data'!R3520-Calculations!O$1","v":0},{"$f":"'Absorbance Data'!S3520-Calculations!P$1","v":0},{"$f":"'Absorbance Data'!T3520-Calculations!Q$1","v":0},{"$f":"'Absorbance Data'!U3520-Calculations!R$1","v":0},{"$f":"'Absorbance Data'!V3520-Calculations!S$1","v":0},{"$f":"'Absorbance Data'!W3520-Calculations!T$1","v":0},{"$f":"'Absorbance Data'!X3520-Calculations!U$1","v":0},{"$f":"'Absorbance Data'!Y3520-Calculations!V$1","v":0},{"$f":"'Absorbance Data'!Z3520-Calculations!W$1","v":0}]
[{"$f":"'Absorbance Data'!D3521","v":681.75653076171875},{"$f":"'Absorbance Data'!E3521-Calculations!B$1","v":0},{"$f":"'Absorbance Data'!F3521-Calculations!C$1","v":0},{"$f":"'Absorbance Data'!G3521-Calculations!D$1","v":0},{"$f":"'Absorbance Data'!H3521-Calculations!E$1","v":0},{"$f":"'Absorbance Data'!I3521-Calculations!F$1","v":0},{"$f":"'Absorbance Data'!J3521-Calculations!G$1","v":0},{"$f":"'Absorbance Data'!K3521-Calculations!H$1","v":0},{"$f":"'Absorbance Data'!L3521-Calculations!I$1","v":0},{"$f":"'Absorbance Data'!M3521-Calculations!J$1","v":0},{"$f":"'Absorbance Data'!N3521-Calculations!K$1","v":0},{"$f":"'Absorbance Data'!O3521-Calculations!L$1","v":0},{"$f":"'Absorbance Data'!P3521-Calculations!M$1","v":0},{"$f":"'Absorbance Data'!Q3521-Calculations!N$1","v":0},{"$f":"'Absorbance Data'!R3521-Calculations!O$1","v":0},{"$f":"'Absorbance Data'!S3521-Calculations!P$1","v":0},{"$f":"'Absorbance Data'!T3521-Calculations!Q$1","v":0},{"$f":"'Absorbance Data'!U3521-Calculations!R$1","v":0},{"$f":"'Absorbance Data'!V3521-Calculations!S$1","v":0},{"$f":"'Absorbance Data'!W3521-Calculations!T$1","v":0},{"$f":"'Absorbance Data'!X3521-Calculations!U$1","v":0},{"$f":"'Absorbance Data'!Y3521-Calculations!V$1","v":0},{"$f":"'Absorbance Data'!Z3521-Calculations!W$1","v":0}]
[{"$f":"'Absorbance Data'!D3522","v":682.066162109375},{"$f":"'Absorbance Data'!E3522-Calculations!B$1","v":0},{"$f":"'Absorbance Data'!F3522-Calculations!C$1","v":0},{"$f":"'Absorbance Data'!G3522-Calculations!D$1","v":0},{"$f":"'Absorbance Data'!H3522-Calculations!E$1","v":0},{"$f":"'Absorbance Data'!I3522-Calculations!F$1","v":0},{"$f":"'Absorbance Data'!J3522-Calculations!G$1","v":0},{"$f":"'Absorbance Data'!K3522-Calculations!H$1","v":0},{"$f":"'Absorbance Data'!L3522-Calculations!I$1","v":0},{"$f":"'Absorbance Data'!M3522-Calculations!J$1","v":0},{"$f":"'Absorbance Data'!N3522-Calculations!K$1","v":0},{"$f":"'Absorbance Data'!O3522-Calculations!L$1","v":0},{"$f":"'Absorbance Data'!P3522-Calculations!M$1","v":0},{"$f":"'Absorbance Data'!Q3522-Calculations!N$1","v":0},{"$f":"'Absorbance Data'!R3522-Calculations!O$1","v":0},{"$f":"'Absorbance Data'!S3522-Calculations!P$1","v":0},{"$f":"'Absorbance Data'!T3522-Calculations!Q$1","v":0},{"$f":"'Absorbance Data'!U3522-Calculations!R$1","v":0},{"$f":"'Absorbance Data'!V3522-Calculations!S$1","v":0},{"$f":"'Absorbance Data'!W3522-Calculations!T$1","v":0},{"$f":"'Absorbance Data'!X3522-Calculations!U$1","v":0},{"$f":"'Absorbance Data'!Y3522-Calculations!V$1","v":0},{"$f":"'Absorbance Data'!Z3522-Calculations!W$1","v":0}]
[{"$f":"'Absorbance Data'!D3523","v":682.37567138671875},{"$f":"'Absorbance Data'!E3523-Calculations!B$1","v":0},{"$f":"'Absorbance Data'!F3523-Calculations!C$1","v":0},{"$f":"'Absorbance Data'!G3523-Calculations!D$1","v":0},{"$f":"'Absorbance Data'!H3523-Calculations!E$1","v":0},{"$f":"'Absorbance Data'!I3523-Calculations!F$1","v":0},{"$f":"'Absorbance Data'!J3523-Calculations!G$1","v":0},{"$f":"'Absorbance Data'!K3523-Calculations!H$1","v":0},{"$f":"'Absorbance Data'!L3523-Calculations!I$1","v":0},{"$f":"'Absorbance Data'!M3523-Calculations!J$1","v":0},{"$f":"'Absorbance Data'!N3523-Calculations!K$1","v":0},{"$f":"'Absorbance Data'!O3523-Calculations!L$1","v":0},{"$f":"'Absorbance Data'!P3523-Calculations!M$1","v":0},{"$f":"'Absorbance Data'!Q3523-Calculations!N$1","v":0},{"$f":"'Absorbance Data'!R3523-Calculations!O$1","v":0},{"$f":"'Absorbance Data'!S3523-Calculations!P$1","v":0},{"$f":"'Absorbance Data'!T3523-Calculations!Q$1","v":0},{"$f":"'Absorbance Data'!U3523-Calculations!R$1","v":0},{"$f":"'Absorbance Data'!V3523-Calculations!S$1","v":0},{"$f":"'Absorbance Data'!W3523-Calculations!T$1","v":0},{"$f":"'Absorbance Data'!X3523-Calculations!U$1","v":0},{"$f":"'Absorbance Data'!Y3523-Calculations!V$1","v":0},{"$f":"'Absorbance Data'!Z3523-Calculations!W$1","v":0}]
[{"$f":"'Absorbance Data'!D3524","v":682.6851806640625},{"$f":"'Absorbance Data'!E3524-Calculations!B$1","v":0},{"$f":"'Absorbance Data'!F3524-Calculations!C$1","v":0},{"$f":"'Absorbance Data'!G3524-Calculations!D$1","v":0},{"$f":"'Absorbance Data'!H3524-Calculations!E$1","v":0},{"$f":"'Absorbance Data'!I3524-Calculations!F$1","v":0},{"$f":"'Absorbance Data'!J3524-Calculations!G$1","v":0},{"$f":"'Absorbance Data'!K3524-Calculations!H$1","v":0},{"$f":"'Absorbance Data'!L3524-Calculations!I$1","v":0},{"$f":"'Absorbance Data'!M3524-Calculations!J$1","v":0},{"$f":"'Absorbance Data'!N3524-Calculations!K$1","v":0},{"$f":"'Absorbance Data'!O3524-Calculations!L$1","v":0},{"$f":"'Absorbance Data'!P3524-Calculations!M$1","v":0},{"$f":"'Absorbance Data'!Q3524-Calculations!N$1","v":0},{"$f":"'Absorbance Data'!R3524-Calculations!O$1","v":0},{"$f":"'Absorbance Data'!S3524-Calculations!P$1","v":0},{"$f":"'Absorbance Data'!T3524-Calculations!Q$1","v":0},{"$f":"'Absorbance Data'!U3524-Calculations!R$1","v":0},{"$f":"'Absorbance Data'!V3524-Calculations!S$1","v":0},{"$f":"'Absorbance Data'!W3524-Calculations!T$1","v":0},{"$f":"'Absorbance Data'!X3524-Calculations!U$1","v":0},{"$f":"'Absorbance Data'!Y3524-Calculations!V$1","v":0},{"$f":"'Absorbance Data'!Z3524-Calculations!W$1","v":0}]
[{"$f":"'Absorbance Data'!D3525","v":682.99468994140625},{"$f":"'Absorbance Data'!E3525-Calculations!B$1","v":0},{"$f":"'Absorbance Data'!F3525-Calculations!C$1","v":0},{"$f":"'Absorbance Data'!G3525-Calculations!D$1","v":0},{"$f":"'Absorbance Data'!H3525-Calculations!E$1","v":0},{"$f":"'Absorbance Data'!I3525-Calculations!F$1","v":0},{"$f":"'Absorbance Data'!J3525-Calculations!G$1","v":0},{"$f":"'Absorbance Data'!K3525-Calculations!H$1","v":0},{"$f":"'Absorbance Data'!L3525-Calculations!I$1","v":0},{"$f":"'Absorbance Data'!M3525-Calculations!J$1","v":0},{"$f":"'Absorbance Data'!N3525-Calculations!K$1","v":0},{"$f":"'Absorbance Data'!O3525-Calculations!L$1","v":0},{"$f":"'Absorbance Data'!P3525-Calculations!M$1","v":0},{"$f":"'Absorbance Data'!Q3525-Calculations!N$1","v":0},{"$f":"'Absorbance Data'!R3525-Calculations!O$1","v":0},{"$f":"'Absorbance Data'!S3525-Calculations!P$1","v":0},{"$f":"'Absorbance Data'!T3525-Calculations!Q$1","v":0},{"$f":"'Absorbance Data'!U3525-Calculations!R$1","v":0},{"$f":"'Absorbance Data'!V3525-Calculations!S$1","v":0},{"$f":"'Absorbance Data'!W3525-Calculations!T$1","v":0},{"$f":"'Absorbance Data'!X3525-Calculations!U$1","v":0},{"$f":"'Absorbance Data'!Y3525-Calculations!V$1","v":0},{"$f":"'Absorbance Data'!Z3525-Calculations!W$1","v":0}]
[{"$f":"'Absorbance Data'!D3526","v":683.30401611328125},{"$f":"'Absorbance Data'!E3526-Calculations!B$1","v":0},{"$f":"'Absorbance Data'!F3526-Calculations!C$1","v":0},{"$f":"'Absorbance Data'!G3526-Calculations!D$1","v":0},{"$f":"'Absorbance Data'!H3526-Calculations!E$1","v":0},{"$f":"'Absorbance Data'!I3526-Calculations!F$1","v":0},{"$f":"'Absorbance Data'!J3526-Calculations!G$1","v":0},{"$f":"'Absorbance Data'!K3526-Calculations!H$1","v":0},{"$f":"'Absorbance Data'!L3526-Calculations!I$1","v":0},{"$f":"'Absorbance Data'!M3526-Calculations!J$1","v":0},{"$f":"'Absorbance Data'!N3526-Calculations!K$1","v":0},{"$f":"'Absorbance Data'!O3526-Calculations!L$1","v":0},{"$f":"'Absorbance Data'!P3526-Calculations!M$1","v":0},{"$f":"'Absorbance Data'!Q3526-Calculations!N$1","v":0},{"$f":"'Absorbance Data'!R3526-Calculations!O$1","v":0},{"$f":"'Absorbance Data'!S3526-Calculations!P$1","v":0},{"$f":"'Absorbance Data'!T3526-Calculations!Q$1","v":0},{"$f":"'Absorbance Data'!U3526-Calculations!R$1","v":0},{"$f":"'Absorbance Data'!V3526-Calculations!S$1","v":0},{"$f":"'Absorbance Data'!W3526-Calculations!T$1","v":0},{"$f":"'Absorbance Data'!X3526-Calculations!U$1","v":0},{"$f":"'Absorbance Data'!Y3526-Calculations!V$1","v":0},{"$f":"'Absorbance Data'!Z3526-Calculations!W$1","v":0}]
[{"$f":"'Absorbance Data'!D3527","v":683.6134033203125},{"$f":"'Absorbance Data'!E3527-Calculations!B$1","v":0},{"$f":"'Absorbance Data'!F3527-Calculations!C$1","v":0},{"$f":"'Absorbance Data'!G3527-Calculations!D$1","v":0},{"$f":"'Absorbance Data'!H3527-Calculations!E$1","v":0},{"$f":"'Absorbance Data'!I3527-Calculations!F$1","v":0},{"$f":"'Absorbance Data'!J3527-Calculations!G$1","v":0},{"$f":"'Absorbance Data'!K3527-Calculations!H$1","v":0},{"$f":"'Absorbance Data'!L3527-Calculations!I$1","v":0},{"$f":"'Absorbance Data'!M3527-Calculations!J$1","v":0},{"$f":"'Absorbance Data'!N3527-Calculations!K$1","v":0},{"$f":"'Absorbance Data'!O3527-Calculations!L$1","v":0},{"$f":"'Absorbance Data'!P3527-Calculations!M$1","v":0},{"$f":"'Absorbance Data'!Q3527-Calculations!N$1","v":0},{"$f":"'Absorbance Data'!R3527-Calculations!O$1","v":0},{"$f":"'Absorbance Data'!S3527-Calculations!P$1","v":0},{"$f":"'Absorbance Data'!T3527-Calculations!Q$1","v":0},{"$f":"'Absorbance Data'!U3527-Calculations!R$1","v":0},{"$f":"'Absorbance Data'!V3527-Calculations!S$1","v":0},{"$f":"'Absorbance Data'!W3527-Calculations!T$1","v":0},{"$f":"'Absorbance Data'!X3527-Calculations!U$1","v":0},{"$f":"'Absorbance Data'!Y3527-Calculations!V$1","v":0},{"$f":"'Absorbance Data'!Z3527-Calculations!W$1","v":0}]
[{"$f":"'Absorbance Data'!D3528","v":683.9227294921875},{"$f":"'Absorbance Data'!E3528-Calculations!B$1","v":0},{"$f":"'Absorbance Data'!F3528-Calculations!C$1","v":0},{"$f":"'Absorbance Data'!G3528-Calculations!D$1","v":0},{"$f":"'Absorbance Data'!H3528-Calculations!E$1","v":0},{"$f":"'Absorbance Data'!I3528-Calculations!F$1","v":0},{"$f":"'Absorbance Data'!J3528-Calculations!G$1","v":0},{"$f":"'Absorbance Data'!K3528-Calculations!H$1","v":0},{"$f":"'Absorbance Data'!L3528-Calculations!I$1","v":0},{"$f":"'Absorbance Data'!M3528-Calculations!J$1","v":0},{"$f":"'Absorbance Data'!N3528-Calculations!K$1","v":0},{"$f":"'Absorbance Data'!O3528-Calculations!L$1","v":0},{"$f":"'Absorbance Data'!P3528-Calculations!M$1","v":0},{"$f":"'Absorbance Data'!Q3528-Calculations!N$1","v":0},{"$f":"'Absorbance Data'!R3528-Calculations!O$1","v":0},{"$f":"'Absorbance Data'!S3528-Calculations!P$1","v":0},{"$f":"'Absorbance Data'!T3528-Calculations!Q$1","v":0},{"$f":"'Absorbance Data'!U3528-Calculations!R$1","v":0},{"$f":"'Absorbance Data'!V3528-Calculations!S$1","v":0},{"$f":"'Absorbance Data'!W3528-Calculations!T$1","v":0},{"$f":"'Absorbance Data'!X3528-Calculations!U$1","v":0},{"$f":"'Absorbance Data'!Y3528-Calculations!V$1","v":0},{"$f":"'Absorbance Data'!Z3528-Calculations!W$1","v":0}]
[{"$f":"'Absorbance Data'!D3529","v":684.23199462890625},{"$f":"'Absorbance Data'!E3529-Calculations!B$1","v":0},{"$f":"'Absorbance Data'!F3529-Calculations!C$1","v":0},{"$f":"'Absorbance Data'!G3529-Calculations!D$1","v":0},{"$f":"'Absorbance Data'!H3529-Calculations!E$1","v":0},{"$f":"'Absorbance Data'!I3529-Calculations!F$1","v":0},{"$f":"'Absorbance Data'!J3529-Calculations!G$1","v":0},{"$f":"'Absorbance Data'!K3529-Calculations!H$1","v":0},{"$f":"'Absorbance Data'!L3529-Calculations!I$1","v":0},{"$f":"'Absorbance Data'!M3529-Calculations!J$1","v":0},{"$f":"'Absorbance Data'!N3529-Calculations!K$1","v":0},{"$f":"'Absorbance Data'!O3529-Calculations!L$1","v":0},{"$f":"'Absorbance Data'!P3529-Calculations!M$1","v":0},{"$f":"'Absorbance Data'!Q3529-Calculations!N$1","v":0},{"$f":"'Absorbance Data'!R3529-Calculations!O$1","v":0},{"$f":"'Absorbance Data'!S3529-Calculations!P$1","v":0},{"$f":"'Absorbance Data'!T3529-Calculations!Q$1","v":0},{"$f":"'Absorbance Data'!U3529-Calculations!R$1","v":0},{"$f":"'Absorbance Data'!V3529-Calculations!S$1","v":0},{"$f":"'Absorbance Data'!W3529-Calculations!T$1","v":0},{"$f":"'Absorbance Data'!X3529-Calculations!U$1","v":0},{"$f":"'Absorbance Data'!Y3529-Calculations!V$1","v":0},{"$f":"'Absorbance Data'!Z3529-Calculations!W$1","v":0}]
[{"$f":"'Absorbance Data'!D3530","v":684.54119873046875},{"$f":"'Absorbance Data'!E3530-Calculations!B$1","v":0},{"$f":"'Absorbance Data'!F3530-Calculations!C$1","v":0},{"$f":"'Absorbance Data'!G3530-Calculations!D$1","v":0},{"$f":"'Absorbance Data'!H3530-Calculations!E$1","v":0},{"$f":"'Absorbance Data'!I3530-Calculations!F$1","v":0},{"$f":"'Absorbance Data'!J3530-Calculations!G$1","v":0},{"$f":"'Absorbance Data'!K3530-Calculations!H$1","v":0},{"$f":"'Absorbance Data'!L3530-Calculations!I$1","v":0},{"$f":"'Absorbance Data'!M3530-Calculations!J$1","v":0},{"$f":"'Absorbance Data'!N3530-Calculations!K$1","v":0},{"$f":"'Absorbance Data'!O3530-Calculations!L$1","v":0},{"$f":"'Absorbance Data'!P3530-Calculations!M$1","v":0},{"$f":"'Absorbance Data'!Q3530-Calculations!N$1","v":0},{"$f":"'Absorbance Data'!R3530-Calculations!O$1","v":0},{"$f":"'Absorbance Data'!S3530-Calculations!P$1","v":0},{"$f":"'Absorbance Data'!T3530-Calculations!Q$1","v":0},{"$f":"'Absorbance Data'!U3530-Calculations!R$1","v":0},{"$f":"'Absorbance Data'!V3530-Calculations!S$1","v":0},{"$f":"'Absorbance Data'!W3530-Calculations!T$1","v":0},{"$f":"'Absorbance Data'!X3530-Calculations!U$1","v":0},{"$f":"'Absorbance Data'!Y3530-Calculations!V$1","v":0},{"$f":"'Absorbance Data'!Z3530-Calculations!W$1","v":0}]
[{"$f":"'Absorbance Data'!D3531","v":684.8504638671875},{"$f":"'Absorbance Data'!E3531-Calculations!B$1","v":0},{"$f":"'Absorbance Data'!F3531-Calculations!C$1","v":0},{"$f":"'Absorbance Data'!G3531-Calculations!D$1","v":0},{"$f":"'Absorbance Data'!H3531-Calculations!E$1","v":0},{"$f":"'Absorbance Data'!I3531-Calculations!F$1","v":0},{"$f":"'Absorbance Data'!J3531-Calculations!G$1","v":0},{"$f":"'Absorbance Data'!K3531-Calculations!H$1","v":0},{"$f":"'Absorbance Data'!L3531-Calculations!I$1","v":0},{"$f":"'Absorbance Data'!M3531-Calculations!J$1","v":0},{"$f":"'Absorbance Data'!N3531-Calculations!K$1","v":0},{"$f":"'Absorbance Data'!O3531-Calculations!L$1","v":0},{"$f":"'Absorbance Data'!P3531-Calculations!M$1","v":0},{"$f":"'Absorbance Data'!Q3531-Calculations!N$1","v":0},{"$f":"'Absorbance Data'!R3531-Calculations!O$1","v":0},{"$f":"'Absorbance Data'!S3531-Calculations!P$1","v":0},{"$f":"'Absorbance Data'!T3531-Calculations!Q$1","v":0},{"$f":"'Absorbance Data'!U3531-Calculations!R$1","v":0},{"$f":"'Absorbance Data'!V3531-Calculations!S$1","v":0},{"$f":"'Absorbance Data'!W3531-Calculations!T$1","v":0},{"$f":"'Absorbance Data'!X3531-Calculations!U$1","v":0},{"$f":"'Absorbance Data'!Y3531-Calculations!V$1","v":0},{"$f":"'Absorbance Data'!Z3531-Calculations!W$1","v":0}]
[{"$f":"'Absorbance Data'!D3532","v":685.15960693359375},{"$f":"'Absorbance Data'!E3532-Calculations!B$1","v":0},{"$f":"'Absorbance Data'!F3532-Calculations!C$1","v":0},{"$f":"'Absorbance Data'!G3532-Calculations!D$1","v":0},{"$f":"'Absorbance Data'!H3532-Calculations!E$1","v":0},{"$f":"'Absorbance Data'!I3532-Calculations!F$1","v":0},{"$f":"'Absorbance Data'!J3532-Calculations!G$1","v":0},{"$f":"'Absorbance Data'!K3532-Calculations!H$1","v":0},{"$f":"'Absorbance Data'!L3532-Calculations!I$1","v":0},{"$f":"'Absorbance Data'!M3532-Calculations!J$1","v":0},{"$f":"'Absorbance Data'!N3532-Calculations!K$1","v":0},{"$f":"'Absorbance Data'!O3532-Calculations!L$1","v":0},{"$f":"'Absorbance Data'!P3532-Calculations!M$1","v":0},{"$f":"'Absorbance Data'!Q3532-Calculations!N$1","v":0},{"$f":"'Absorbance Data'!R3532-Calculations!O$1","v":0},{"$f":"'Absorbance Data'!S3532-Calculations!P$1","v":0},{"$f":"'Absorbance Data'!T3532-Calculations!Q$1","v":0},{"$f":"'Absorbance Data'!U3532-Calculations!R$1","v":0},{"$f":"'Absorbance Data'!V3532-Calculations!S$1","v":0},{"$f":"'Absorbance Data'!W3532-Calculations!T$1","v":0},{"$f":"'Absorbance Data'!X3532-Calculations!U$1","v":0},{"$f":"'Absorbance Data'!Y3532-Calculations!V$1","v":0},{"$f":"'Absorbance Data'!Z3532-Calculations!W$1","v":0}]
[{"$f":"'Absorbance Data'!D3533","v":685.46868896484375},{"$f":"'Absorbance Data'!E3533-Calculations!B$1","v":0},{"$f":"'Absorbance Data'!F3533-Calculations!C$1","v":0},{"$f":"'Absorbance Data'!G3533-Calculations!D$1","v":0},{"$f":"'Absorbance Data'!H3533-Calculations!E$1","v":0},{"$f":"'Absorbance Data'!I3533-Calculations!F$1","v":0},{"$f":"'Absorbance Data'!J3533-Calculations!G$1","v":0},{"$f":"'Absorbance Data'!K3533-Calculations!H$1","v":0},{"$f":"'Absorbance Data'!L3533-Calculations!I$1","v":0},{"$f":"'Absorbance Data'!M3533-Calculations!J$1","v":0},{"$f":"'Absorbance Data'!N3533-Calculations!K$1","v":0},{"$f":"'Absorbance Data'!O3533-Calculations!L$1","v":0},{"$f":"'Absorbance Data'!P3533-Calculations!M$1","v":0},{"$f":"'Absorbance Data'!Q3533-Calculations!N$1","v":0},{"$f":"'Absorbance Data'!R3533-Calculations!O$1","v":0},{"$f":"'Absorbance Data'!S3533-Calculations!P$1","v":0},{"$f":"'Absorbance Data'!T3533-Calculations!Q$1","v":0},{"$f":"'Absorbance Data'!U3533-Calculations!R$1","v":0},{"$f":"'Absorbance Data'!V3533-Calculations!S$1","v":0},{"$f":"'Absorbance Data'!W3533-Calculations!T$1","v":0},{"$f":"'Absorbance Data'!X3533-Calculations!U$1","v":0},{"$f":"'Absorbance Data'!Y3533-Calculations!V$1","v":0},{"$f":"'Absorbance Data'!Z3533-Calculations!W$1","v":0}]
[{"$f":"'Absorbance Data'!D3534","v":685.77777099609375},{"$f":"'Absorbance Data'!E3534-Calculations!B$1","v":0},{"$f":"'Absorbance Data'!F3534-Calculations!C$1","v":0},{"$f":"'Absorbance Data'!G3534-Calculations!D$1","v":0},{"$f":"'Absorbance Data'!H3534-Calculations!E$1","v":0},{"$f":"'Absorbance Data'!I3534-Calculations!F$1","v":0},{"$f":"'Absorbance Data'!J3534-Calculations!G$1","v":0},{"$f":"'Absorbance Data'!K3534-Calculations!H$1","v":0},{"$f":"'Absorbance Data'!L3534-Calculations!I$1","v":0},{"$f":"'Absorbance Data'!M3534-Calculations!J$1","v":0},{"$f":"'Absorbance Data'!N3534-Calculations!K$1","v":0},{"$f":"'Absorbance Data'!O3534-Calculations!L$1","v":0},{"$f":"'Absorbance Data'!P3534-Calculations!M$1","v":0},{"$f":"'Absorbance Data'!Q3534-Calculations!N$1","v":0},{"$f":"'Absorbance Data'!R3534-Calculations!O$1","v":0},{"$f":"'Absorbance Data'!S3534-Calculations!P$1","v":0},{"$f":"'Absorbance Data'!T3534-Calculations!Q$1","v":0},{"$f":"'Absorbance Data'!U3534-Calculations!R$1","v":0},{"$f":"'Absorbance Data'!V3534-Calculations!S$1","v":0},{"$f":"'Absorbance Data'!W3534-Calculations!T$1","v":0},{"$f":"'Absorbance Data'!X3534-Calculations!U$1","v":0},{"$f":"'Absorbance Data'!Y3534-Calculations!V$1","v":0},{"$f":"'Absorbance Data'!Z3534-Calculations!W$1","v":0}]
[{"$f":"'Absorbance Data'!D3535","v":686.0867919921875},{"$f":"'Absorbance Data'!E3535-Calculations!B$1","v":0},{"$f":"'Absorbance Data'!F3535-Calculations!C$1","v":0},{"$f":"'Absorbance Data'!G3535-Calculations!D$1","v":0},{"$f":"'Absorbance Data'!H3535-Calculations!E$1","v":0},{"$f":"'Absorbance Data'!I3535-Calculations!F$1","v":0},{"$f":"'Absorbance Data'!J3535-Calculations!G$1","v":0},{"$f":"'Absorbance Data'!K3535-Calculations!H$1","v":0},{"$f":"'Absorbance Data'!L3535-Calculations!I$1","v":0},{"$f":"'Absorbance Data'!M3535-Calculations!J$1","v":0},{"$f":"'Absorbance Data'!N3535-Calculations!K$1","v":0},{"$f":"'Absorbance Data'!O3535-Calculations!L$1","v":0},{"$f":"'Absorbance Data'!P3535-Calculations!M$1","v":0},{"$f":"'Absorbance Data'!Q3535-Calculations!N$1","v":0},{"$f":"'Absorbance Data'!R3535-Calculations!O$1","v":0},{"$f":"'Absorbance Data'!S3535-Calculations!P$1","v":0},{"$f":"'Absorbance Data'!T3535-Calculations!Q$1","v":0},{"$f":"'Absorbance Data'!U3535-Calculations!R$1","v":0},{"$f":"'Absorbance Data'!V3535-Calculations!S$1","v":0},{"$f":"'Absorbance Data'!W3535-Calculations!T$1","v":0},{"$f":"'Absorbance Data'!X3535-Calculations!U$1","v":0},{"$f":"'Absorbance Data'!Y3535-Calculations!V$1","v":0},{"$f":"'Absorbance Data'!Z3535-Calculations!W$1","v":0}]
[{"$f":"'Absorbance Data'!D3536","v":686.395751953125},{"$f":"'Absorbance Data'!E3536-Calculations!B$1","v":0},{"$f":"'Absorbance Data'!F3536-Calculations!C$1","v":0},{"$f":"'Absorbance Data'!G3536-Calculations!D$1","v":0},{"$f":"'Absorbance Data'!H3536-Calculations!E$1","v":0},{"$f":"'Absorbance Data'!I3536-Calculations!F$1","v":0},{"$f":"'Absorbance Data'!J3536-Calculations!G$1","v":0},{"$f":"'Absorbance Data'!K3536-Calculations!H$1","v":0},{"$f":"'Absorbance Data'!L3536-Calculations!I$1","v":0},{"$f":"'Absorbance Data'!M3536-Calculations!J$1","v":0},{"$f":"'Absorbance Data'!N3536-Calculations!K$1","v":0},{"$f":"'Absorbance Data'!O3536-Calculations!L$1","v":0},{"$f":"'Absorbance Data'!P3536-Calculations!M$1","v":0},{"$f":"'Absorbance Data'!Q3536-Calculations!N$1","v":0},{"$f":"'Absorbance Data'!R3536-Calculations!O$1","v":0},{"$f":"'Absorbance Data'!S3536-Calculations!P$1","v":0},{"$f":"'Absorbance Data'!T3536-Calculations!Q$1","v":0},{"$f":"'Absorbance Data'!U3536-Calculations!R$1","v":0},{"$f":"'Absorbance Data'!V3536-Calculations!S$1","v":0},{"$f":"'Absorbance Data'!W3536-Calculations!T$1","v":0},{"$f":"'Absorbance Data'!X3536-Calculations!U$1","v":0},{"$f":"'Absorbance Data'!Y3536-Calculations!V$1","v":0},{"$f":"'Absorbance Data'!Z3536-Calculations!W$1","v":0}]
[{"$f":"'Absorbance Data'!D3537","v":686.7047119140625},{"$f":"'Absorbance Data'!E3537-Calculations!B$1","v":0},{"$f":"'Absorbance Data'!F3537-Calculations!C$1","v":0},{"$f":"'Absorbance Data'!G3537-Calculations!D$1","v":0},{"$f":"'Absorbance Data'!H3537-Calculations!E$1","v":0},{"$f":"'Absorbance Data'!I3537-Calculations!F$1","v":0},{"$f":"'Absorbance Data'!J3537-Calculations!G$1","v":0},{"$f":"'Absorbance Data'!K3537-Calculations!H$1","v":0},{"$f":"'Absorbance Data'!L3537-Calculations!I$1","v":0},{"$f":"'Absorbance Data'!M3537-Calculations!J$1","v":0},{"$f":"'Absorbance Data'!N3537-Calculations!K$1","v":0},{"$f":"'Absorbance Data'!O3537-Calculations!L$1","v":0},{"$f":"'Absorbance Data'!P3537-Calculations!M$1","v":0},{"$f":"'Absorbance Data'!Q3537-Calculations!N$1","v":0},{"$f":"'Absorbance Data'!R3537-Calculations!O$1","v":0},{"$f":"'Absorbance Data'!S3537-Calculations!P$1","v":0},{"$f":"'Absorbance Data'!T3537-Calculations!Q$1","v":0},{"$f":"'Absorbance Data'!U3537-Calculations!R$1","v":0},{"$f":"'Absorbance Data'!V3537-Calculations!S$1","v":0},{"$f":"'Absorbance Data'!W3537-Calculations!T$1","v":0},{"$f":"'Absorbance Data'!X3537-Calculations!U$1","v":0},{"$f":"'Absorbance Data'!Y3537-Calculations!V$1","v":0},{"$f":"'Absorbance Data'!Z3537-Calculations!W$1","v":0}]
[{"$f":"'Absorbance Data'!D3538","v":687.01361083984375},{"$f":"'Absorbance Data'!E3538-Calculations!B$1","v":0},{"$f":"'Absorbance Data'!F3538-Calculations!C$1","v":0},{"$f":"'Absorbance Data'!G3538-Calculations!D$1","v":0},{"$f":"'Absorbance Data'!H3538-Calculations!E$1","v":0},{"$f":"'Absorbance Data'!I3538-Calculations!F$1","v":0},{"$f":"'Absorbance Data'!J3538-Calculations!G$1","v":0},{"$f":"'Absorbance Data'!K3538-Calculations!H$1","v":0},{"$f":"'Absorbance Data'!L3538-Calculations!I$1","v":0},{"$f":"'Absorbance Data'!M3538-Calculations!J$1","v":0},{"$f":"'Absorbance Data'!N3538-Calculations!K$1","v":0},{"$f":"'Absorbance Data'!O3538-Calculations!L$1","v":0},{"$f":"'Absorbance Data'!P3538-Calculations!M$1","v":0},{"$f":"'Absorbance Data'!Q3538-Calculations!N$1","v":0},{"$f":"'Absorbance Data'!R3538-Calculations!O$1","v":0},{"$f":"'Absorbance Data'!S3538-Calculations!P$1","v":0},{"$f":"'Absorbance Data'!T3538-Calculations!Q$1","v":0},{"$f":"'Absorbance Data'!U3538-Calculations!R$1","v":0},{"$f":"'Absorbance Data'!V3538-Calculations!S$1","v":0},{"$f":"'Absorbance Data'!W3538-Calculations!T$1","v":0},{"$f":"'Absorbance Data'!X3538-Calculations!U$1","v":0},{"$f":"'Absorbance Data'!Y3538-Calculations!V$1","v":0},{"$f":"'Absorbance Data'!Z3538-Calculations!W$1","v":0}]
[{"$f":"'Absorbance Data'!D3539","v":687.3223876953125},{"$f":"'Absorbance Data'!E3539-Calculations!B$1","v":0},{"$f":"'Absorbance Data'!F3539-Calculations!C$1","v":0},{"$f":"'Absorbance Data'!G3539-Calculations!D$1","v":0},{"$f":"'Absorbance Data'!H3539-Calculations!E$1","v":0},{"$f":"'Absorbance Data'!I3539-Calculations!F$1","v":0},{"$f":"'Absorbance Data'!J3539-Calculations!G$1","v":0},{"$f":"'Absorbance Data'!K3539-Calculations!H$1","v":0},{"$f":"'Absorbance Data'!L3539-Calculations!I$1","v":0},{"$f":"'Absorbance Data'!M3539-Calculations!J$1","v":0},{"$f":"'Absorbance Data'!N3539-Calculations!K$1","v":0},{"$f":"'Absorbance Data'!O3539-Calculations!L$1","v":0},{"$f":"'Absorbance Data'!P3539-Calculations!M$1","v":0},{"$f":"'Absorbance Data'!Q3539-Calculations!N$1","v":0},{"$f":"'Absorbance Data'!R3539-Calculations!O$1","v":0},{"$f":"'Absorbance Data'!S3539-Calculations!P$1","v":0},{"$f":"'Absorbance Data'!T3539-Calculations!Q$1","v":0},{"$f":"'Absorbance Data'!U3539-Calculations!R$1","v":0},{"$f":"'Absorbance Data'!V3539-Calculations!S$1","v":0},{"$f":"'Absorbance Data'!W3539-Calculations!T$1","v":0},{"$f":"'Absorbance Data'!X3539-Calculations!U$1","v":0},{"$f":"'Absorbance Data'!Y3539-Calculations!V$1","v":0},{"$f":"'Absorbance Data'!Z3539-Calculations!W$1","v":0}]
[{"$f":"'Absorbance Data'!D3540","v":687.6312255859375},{"$f":"'Absorbance Data'!E3540-Calculations!B$1","v":0},{"$f":"'Absorbance Data'!F3540-Calculations!C$1","v":0},{"$f":"'Absorbance Data'!G3540-Calculations!D$1","v":0},{"$f":"'Absorbance Data'!H3540-Calculations!E$1","v":0},{"$f":"'Absorbance Data'!I3540-Calculations!F$1","v":0},{"$f":"'Absorbance Data'!J3540-Calculations!G$1","v":0},{"$f":"'Absorbance Data'!K3540-Calculations!H$1","v":0},{"$f":"'Absorbance Data'!L3540-Calculations!I$1","v":0},{"$f":"'Absorbance Data'!M3540-Calculations!J$1","v":0},{"$f":"'Absorbance Data'!N3540-Calculations!K$1","v":0},{"$f":"'Absorbance Data'!O3540-Calculations!L$1","v":0},{"$f":"'Absorbance Data'!P3540-Calculations!M$1","v":0},{"$f":"'Absorbance Data'!Q3540-Calculations!N$1","v":0},{"$f":"'Absorbance Data'!R3540-Calculations!O$1","v":0},{"$f":"'Absorbance Data'!S3540-Calculations!P$1","v":0},{"$f":"'Absorbance Data'!T3540-Calculations!Q$1","v":0},{"$f":"'Absorbance Data'!U3540-Calculations!R$1","v":0},{"$f":"'Absorbance Data'!V3540-Calculations!S$1","v":0},{"$f":"'Absorbance Data'!W3540-Calculations!T$1","v":0},{"$f":"'Absorbance Data'!X3540-Calculations!U$1","v":0},{"$f":"'Absorbance Data'!Y3540-Calculations!V$1","v":0},{"$f":"'Absorbance Data'!Z3540-Calculations!W$1","v":0}]
[{"$f":"'Absorbance Data'!D3541","v":687.93994140625},{"$f":"'Absorbance Data'!E3541-Calculations!B$1","v":0},{"$f":"'Absorbance Data'!F3541-Calculations!C$1","v":0},{"$f":"'Absorbance Data'!G3541-Calculations!D$1","v":0},{"$f":"'Absorbance Data'!H3541-Calculations!E$1","v":0},{"$f":"'Absorbance Data'!I3541-Calculations!F$1","v":0},{"$f":"'Absorbance Data'!J3541-Calculations!G$1","v":0},{"$f":"'Absorbance Data'!K3541-Calculations!H$1","v":0},{"$f":"'Absorbance Data'!L3541-Calculations!I$1","v":0},{"$f":"'Absorbance Data'!M3541-Calculations!J$1","v":0},{"$f":"'Absorbance Data'!N3541-Calculations!K$1","v":0},{"$f":"'Absorbance Data'!O3541-Calculations!L$1","v":0},{"$f":"'Absorbance Data'!P3541-Calculations!M$1","v":0},{"$f":"'Absorbance Data'!Q3541-Calculations!N$1","v":0},{"$f":"'Absorbance Data'!R3541-Calculations!O$1","v":0},{"$f":"'Absorbance Data'!S3541-Calculations!P$1","v":0},{"$f":"'Absorbance Data'!T3541-Calculations!Q$1","v":0},{"$f":"'Absorbance Data'!U3541-Calculations!R$1","v":0},{"$f":"'Absorbance Data'!V3541-Calculations!S$1","v":0},{"$f":"'Absorbance Data'!W3541-Calculations!T$1","v":0},{"$f":"'Absorbance Data'!X3541-Calculations!U$1","v":0},{"$f":"'Absorbance Data'!Y3541-Calculations!V$1","v":0},{"$f":"'Absorbance Data'!Z3541-Calculations!W$1","v":0}]
[{"$f":"'Absorbance Data'!D3542","v":688.2486572265625},{"$f":"'Absorbance Data'!E3542-Calculations!B$1","v":0},{"$f":"'Absorbance Data'!F3542-Calculations!C$1","v":0},{"$f":"'Absorbance Data'!G3542-Calculations!D$1","v":0},{"$f":"'Absorbance Data'!H3542-Calculations!E$1","v":0},{"$f":"'Absorbance Data'!I3542-Calculations!F$1","v":0},{"$f":"'Absorbance Data'!J3542-Calculations!G$1","v":0},{"$f":"'Absorbance Data'!K3542-Calculations!H$1","v":0},{"$f":"'Absorbance Data'!L3542-Calculations!I$1","v":0},{"$f":"'Absorbance Data'!M3542-Calculations!J$1","v":0},{"$f":"'Absorbance Data'!N3542-Calculations!K$1","v":0},{"$f":"'Absorbance Data'!O3542-Calculations!L$1","v":0},{"$f":"'Absorbance Data'!P3542-Calculations!M$1","v":0},{"$f":"'Absorbance Data'!Q3542-Calculations!N$1","v":0},{"$f":"'Absorbance Data'!R3542-Calculations!O$1","v":0},{"$f":"'Absorbance Data'!S3542-Calculations!P$1","v":0},{"$f":"'Absorbance Data'!T3542-Calculations!Q$1","v":0},{"$f":"'Absorbance Data'!U3542-Calculations!R$1","v":0},{"$f":"'Absorbance Data'!V3542-Calculations!S$1","v":0},{"$f":"'Absorbance Data'!W3542-Calculations!T$1","v":0},{"$f":"'Absorbance Data'!X3542-Calculations!U$1","v":0},{"$f":"'Absorbance Data'!Y3542-Calculations!V$1","v":0},{"$f":"'Absorbance Data'!Z3542-Calculations!W$1","v":0}]
[{"$f":"'Absorbance Data'!D3543","v":688.557373046875},{"$f":"'Absorbance Data'!E3543-Calculations!B$1","v":0},{"$f":"'Absorbance Data'!F3543-Calculations!C$1","v":0},{"$f":"'Absorbance Data'!G3543-Calculations!D$1","v":0},{"$f":"'Absorbance Data'!H3543-Calculations!E$1","v":0},{"$f":"'Absorbance Data'!I3543-Calculations!F$1","v":0},{"$f":"'Absorbance Data'!J3543-Calculations!G$1","v":0},{"$f":"'Absorbance Data'!K3543-Calculations!H$1","v":0},{"$f":"'Absorbance Data'!L3543-Calculations!I$1","v":0},{"$f":"'Absorbance Data'!M3543-Calculations!J$1","v":0},{"$f":"'Absorbance Data'!N3543-Calculations!K$1","v":0},{"$f":"'Absorbance Data'!O3543-Calculations!L$1","v":0},{"$f":"'Absorbance Data'!P3543-Calculations!M$1","v":0},{"$f":"'Absorbance Data'!Q3543-Calculations!N$1","v":0},{"$f":"'Absorbance Data'!R3543-Calculations!O$1","v":0},{"$f":"'Absorbance Data'!S3543-Calculations!P$1","v":0},{"$f":"'Absorbance Data'!T3543-Calculations!Q$1","v":0},{"$f":"'Absorbance Data'!U3543-Calculations!R$1","v":0},{"$f":"'Absorbance Data'!V3543-Calculations!S$1","v":0},{"$f":"'Absorbance Data'!W3543-Calculations!T$1","v":0},{"$f":"'Absorbance Data'!X3543-Calculations!U$1","v":0},{"$f":"'Absorbance Data'!Y3543-Calculations!V$1","v":0},{"$f":"'Absorbance Data'!Z3543-Calculations!W$1","v":0}]
[{"$f":"'Absorbance Data'!D3544","v":688.86602783203125},{"$f":"'Absorbance Data'!E3544-Calculations!B$1","v":0},{"$f":"'Absorbance Data'!F3544-Calculations!C$1","v":0},{"$f":"'Absorbance Data'!G3544-Calculations!D$1","v":0},{"$f":"'Absorbance Data'!H3544-Calculations!E$1","v":0},{"$f":"'Absorbance Data'!I3544-Calculations!F$1","v":0},{"$f":"'Absorbance Data'!J3544-Calculations!G$1","v":0},{"$f":"'Absorbance Data'!K3544-Calculations!H$1","v":0},{"$f":"'Absorbance Data'!L3544-Calculations!I$1","v":0},{"$f":"'Absorbance Data'!M3544-Calculations!J$1","v":0},{"$f":"'Absorbance Data'!N3544-Calculations!K$1","v":0},{"$f":"'Absorbance Data'!O3544-Calculations!L$1","v":0},{"$f":"'Absorbance Data'!P3544-Calculations!M$1","v":0},{"$f":"'Absorbance Data'!Q3544-Calculations!N$1","v":0},{"$f":"'Absorbance Data'!R3544-Calculations!O$1","v":0},{"$f":"'Absorbance Data'!S3544-Calculations!P$1","v":0},{"$f":"'Absorbance Data'!T3544-Calculations!Q$1","v":0},{"$f":"'Absorbance Data'!U3544-Calculations!R$1","v":0},{"$f":"'Absorbance Data'!V3544-Calculations!S$1","v":0},{"$f":"'Absorbance Data'!W3544-Calculations!T$1","v":0},{"$f":"'Absorbance Data'!X3544-Calculations!U$1","v":0},{"$f":"'Absorbance Data'!Y3544-Calculations!V$1","v":0},{"$f":"'Absorbance Data'!Z3544-Calculations!W$1","v":0}]
[{"$f":"'Absorbance Data'!D3545","v":689.174560546875},{"$f":"'Absorbance Data'!E3545-Calculations!B$1","v":0},{"$f":"'Absorbance Data'!F3545-Calculations!C$1","v":0},{"$f":"'Absorbance Data'!G3545-Calculations!D$1","v":0},{"$f":"'Absorbance Data'!H3545-Calculations!E$1","v":0},{"$f":"'Absorbance Data'!I3545-Calculations!F$1","v":0},{"$f":"'Absorbance Data'!J3545-Calculations!G$1","v":0},{"$f":"'Absorbance Data'!K3545-Calculations!H$1","v":0},{"$f":"'Absorbance Data'!L3545-Calculations!I$1","v":0},{"$f":"'Absorbance Data'!M3545-Calculations!J$1","v":0},{"$f":"'Absorbance Data'!N3545-Calculations!K$1","v":0},{"$f":"'Absorbance Data'!O3545-Calculations!L$1","v":0},{"$f":"'Absorbance Data'!P3545-Calculations!M$1","v":0},{"$f":"'Absorbance Data'!Q3545-Calculations!N$1","v":0},{"$f":"'Absorbance Data'!R3545-Calculations!O$1","v":0},{"$f":"'Absorbance Data'!S3545-Calculations!P$1","v":0},{"$f":"'Absorbance Data'!T3545-Calculations!Q$1","v":0},{"$f":"'Absorbance Data'!U3545-Calculations!R$1","v":0},{"$f":"'Absorbance Data'!V3545-Calculations!S$1","v":0},{"$f":"'Absorbance Data'!W3545-Calculations!T$1","v":0},{"$f":"'Absorbance Data'!X3545-Calculations!U$1","v":0},{"$f":"'Absorbance Data'!Y3545-Calculations!V$1","v":0},{"$f":"'Absorbance Data'!Z3545-Calculations!W$1","v":0}]
[{"$f":"'Absorbance Data'!D3546","v":689.48309326171875},{"$f":"'Absorbance Data'!E3546-Calculations!B$1","v":0},{"$f":"'Absorbance Data'!F3546-Calculations!C$1","v":0},{"$f":"'Absorbance Data'!G3546-Calculations!D$1","v":0},{"$f":"'Absorbance Data'!H3546-Calculations!E$1","v":0},{"$f":"'Absorbance Data'!I3546-Calculations!F$1","v":0},{"$f":"'Absorbance Data'!J3546-Calculations!G$1","v":0},{"$f":"'Absorbance Data'!K3546-Calculations!H$1","v":0},{"$f":"'Absorbance Data'!L3546-Calculations!I$1","v":0},{"$f":"'Absorbance Data'!M3546-Calculations!J$1","v":0},{"$f":"'Absorbance Data'!N3546-Calculations!K$1","v":0},{"$f":"'Absorbance Data'!O3546-Calculations!L$1","v":0},{"$f":"'Absorbance Data'!P3546-Calculations!M$1","v":0},{"$f":"'Absorbance Data'!Q3546-Calculations!N$1","v":0},{"$f":"'Absorbance Data'!R3546-Calculations!O$1","v":0},{"$f":"'Absorbance Data'!S3546-Calculations!P$1","v":0},{"$f":"'Absorbance Data'!T3546-Calculations!Q$1","v":0},{"$f":"'Absorbance Data'!U3546-Calculations!R$1","v":0},{"$f":"'Absorbance Data'!V3546-Calculations!S$1","v":0},{"$f":"'Absorbance Data'!W3546-Calculations!T$1","v":0},{"$f":"'Absorbance Data'!X3546-Calculations!U$1","v":0},{"$f":"'Absorbance Data'!Y3546-Calculations!V$1","v":0},{"$f":"'Absorbance Data'!Z3546-Calculations!W$1","v":0}]
[{"$f":"'Absorbance Data'!D3547","v":689.79150390625},{"$f":"'Absorbance Data'!E3547-Calculations!B$1","v":0},{"$f":"'Absorbance Data'!F3547-Calculations!C$1","v":0},{"$f":"'Absorbance Data'!G3547-Calculations!D$1","v":0},{"$f":"'Absorbance Data'!H3547-Calculations!E$1","v":0},{"$f":"'Absorbance Data'!I3547-Calculations!F$1","v":0},{"$f":"'Absorbance Data'!J3547-Calculations!G$1","v":0},{"$f":"'Absorbance Data'!K3547-Calculations!H$1","v":0},{"$f":"'Absorbance Data'!L3547-Calculations!I$1","v":0},{"$f":"'Absorbance Data'!M3547-Calculations!J$1","v":0},{"$f":"'Absorbance Data'!N3547-Calculations!K$1","v":0},{"$f":"'Absorbance Data'!O3547-Calculations!L$1","v":0},{"$f":"'Absorbance Data'!P3547-Calculations!M$1","v":0},{"$f":"'Absorbance Data'!Q3547-Calculations!N$1","v":0},{"$f":"'Absorbance Data'!R3547-Calculations!O$1","v":0},{"$f":"'Absorbance Data'!S3547-Calculations!P$1","v":0},{"$f":"'Absorbance Data'!T3547-Calculations!Q$1","v":0},{"$f":"'Absorbance Data'!U3547-Calculations!R$1","v":0},{"$f":"'Absorbance Data'!V3547-Calculations!S$1","v":0},{"$f":"'Absorbance Data'!W3547-Calculations!T$1","v":0},{"$f":"'Absorbance Data'!X3547-Calculations!U$1","v":0},{"$f":"'Absorbance Data'!Y3547-Calculations!V$1","v":0},{"$f":"'Absorbance Data'!Z3547-Calculations!W$1","v":0}]
[{"$f":"'Absorbance Data'!D3548","v":690.10003662109375},{"$f":"'Absorbance Data'!E3548-Calculations!B$1","v":0},{"$f":"'Absorbance Data'!F3548-Calculations!C$1","v":0},{"$f":"'Absorbance Data'!G3548-Calculations!D$1","v":0},{"$f":"'Absorbance Data'!H3548-Calculations!E$1","v":0},{"$f":"'Absorbance Data'!I3548-Calculations!F$1","v":0},{"$f":"'Absorbance Data'!J3548-Calculations!G$1","v":0},{"$f":"'Absorbance Data'!K3548-Calculations!H$1","v":0},{"$f":"'Absorbance Data'!L3548-Calculations!I$1","v":0},{"$f":"'Absorbance Data'!M3548-Calculations!J$1","v":0},{"$f":"'Absorbance Data'!N3548-Calculations!K$1","v":0},{"$f":"'Absorbance Data'!O3548-Calculations!L$1","v":0},{"$f":"'Absorbance Data'!P3548-Calculations!M$1","v":0},{"$f":"'Absorbance Data'!Q3548-Calculations!N$1","v":0},{"$f":"'Absorbance Data'!R3548-Calculations!O$1","v":0},{"$f":"'Absorbance Data'!S3548-Calculations!P$1","v":0},{"$f":"'Absorbance Data'!T3548-Calculations!Q$1","v":0},{"$f":"'Absorbance Data'!U3548-Calculations!R$1","v":0},{"$f":"'Absorbance Data'!V3548-Calculations!S$1","v":0},{"$f":"'Absorbance Data'!W3548-Calculations!T$1","v":0},{"$f":"'Absorbance Data'!X3548-Calculations!U$1","v":0},{"$f":"'Absorbance Data'!Y3548-Calculations!V$1","v":0},{"$f":"'Absorbance Data'!Z3548-Calculations!W$1","v":0}]
[{"$f":"'Absorbance Data'!D3549","v":690.40838623046875},{"$f":"'Absorbance Data'!E3549-Calculations!B$1","v":0},{"$f":"'Absorbance Data'!F3549-Calculations!C$1","v":0},{"$f":"'Absorbance Data'!G3549-Calculations!D$1","v":0},{"$f":"'Absorbance Data'!H3549-Calculations!E$1","v":0},{"$f":"'Absorbance Data'!I3549-Calculations!F$1","v":0},{"$f":"'Absorbance Data'!J3549-Calculations!G$1","v":0},{"$f":"'Absorbance Data'!K3549-Calculations!H$1","v":0},{"$f":"'Absorbance Data'!L3549-Calculations!I$1","v":0},{"$f":"'Absorbance Data'!M3549-Calculations!J$1","v":0},{"$f":"'Absorbance Data'!N3549-Calculations!K$1","v":0},{"$f":"'Absorbance Data'!O3549-Calculations!L$1","v":0},{"$f":"'Absorbance Data'!P3549-Calculations!M$1","v":0},{"$f":"'Absorbance Data'!Q3549-Calculations!N$1","v":0},{"$f":"'Absorbance Data'!R3549-Calculations!O$1","v":0},{"$f":"'Absorbance Data'!S3549-Calculations!P$1","v":0},{"$f":"'Absorbance Data'!T3549-Calculations!Q$1","v":0},{"$f":"'Absorbance Data'!U3549-Calculations!R$1","v":0},{"$f":"'Absorbance Data'!V3549-Calculations!S$1","v":0},{"$f":"'Absorbance Data'!W3549-Calculations!T$1","v":0},{"$f":"'Absorbance Data'!X3549-Calculations!U$1","v":0},{"$f":"'Absorbance Data'!Y3549-Calculations!V$1","v":0},{"$f":"'Absorbance Data'!Z3549-Calculations!W$1","v":0}]
[{"$f":"'Absorbance Data'!D3550","v":690.71673583984375},{"$f":"'Absorbance Data'!E3550-Calculations!B$1","v":0},{"$f":"'Absorbance Data'!F3550-Calculations!C$1","v":0},{"$f":"'Absorbance Data'!G3550-Calculations!D$1","v":0},{"$f":"'Absorbance Data'!H3550-Calculations!E$1","v":0},{"$f":"'Absorbance Data'!I3550-Calculations!F$1","v":0},{"$f":"'Absorbance Data'!J3550-Calculations!G$1","v":0},{"$f":"'Absorbance Data'!K3550-Calculations!H$1","v":0},{"$f":"'Absorbance Data'!L3550-Calculations!I$1","v":0},{"$f":"'Absorbance Data'!M3550-Calculations!J$1","v":0},{"$f":"'Absorbance Data'!N3550-Calculations!K$1","v":0},{"$f":"'Absorbance Data'!O3550-Calculations!L$1","v":0},{"$f":"'Absorbance Data'!P3550-Calculations!M$1","v":0},{"$f":"'Absorbance Data'!Q3550-Calculations!N$1","v":0},{"$f":"'Absorbance Data'!R3550-Calculations!O$1","v":0},{"$f":"'Absorbance Data'!S3550-Calculations!P$1","v":0},{"$f":"'Absorbance Data'!T3550-Calculations!Q$1","v":0},{"$f":"'Absorbance Data'!U3550-Calculations!R$1","v":0},{"$f":"'Absorbance Data'!V3550-Calculations!S$1","v":0},{"$f":"'Absorbance Data'!W3550-Calculations!T$1","v":0},{"$f":"'Absorbance Data'!X3550-Calculations!U$1","v":0},{"$f":"'Absorbance Data'!Y3550-Calculations!V$1","v":0},{"$f":"'Absorbance Data'!Z3550-Calculations!W$1","v":0}]
[{"$f":"'Absorbance Data'!D3551","v":691.02508544921875},{"$f":"'Absorbance Data'!E3551-Calculations!B$1","v":0},{"$f":"'Absorbance Data'!F3551-Calculations!C$1","v":0},{"$f":"'Absorbance Data'!G3551-Calculations!D$1","v":0},{"$f":"'Absorbance Data'!H3551-Calculations!E$1","v":0},{"$f":"'Absorbance Data'!I3551-Calculations!F$1","v":0},{"$f":"'Absorbance Data'!J3551-Calculations!G$1","v":0},{"$f":"'Absorbance Data'!K3551-Calculations!H$1","v":0},{"$f":"'Absorbance Data'!L3551-Calculations!I$1","v":0},{"$f":"'Absorbance Data'!M3551-Calculations!J$1","v":0},{"$f":"'Absorbance Data'!N3551-Calculations!K$1","v":0},{"$f":"'Absorbance Data'!O3551-Calculations!L$1","v":0},{"$f":"'Absorbance Data'!P3551-Calculations!M$1","v":0},{"$f":"'Absorbance Data'!Q3551-Calculations!N$1","v":0},{"$f":"'Absorbance Data'!R3551-Calculations!O$1","v":0},{"$f":"'Absorbance Data'!S3551-Calculations!P$1","v":0},{"$f":"'Absorbance Data'!T3551-Calculations!Q$1","v":0},{"$f":"'Absorbance Data'!U3551-Calculations!R$1","v":0},{"$f":"'Absorbance Data'!V3551-Calculations!S$1","v":0},{"$f":"'Absorbance Data'!W3551-Calculations!T$1","v":0},{"$f":"'Absorbance Data'!X3551-Calculations!U$1","v":0},{"$f":"'Absorbance Data'!Y3551-Calculations!V$1","v":0},{"$f":"'Absorbance Data'!Z3551-Calculations!W$1","v":0}]
[{"$f":"'Absorbance Data'!D3552","v":691.3333740234375},{"$f":"'Absorbance Data'!E3552-Calculations!B$1","v":0},{"$f":"'Absorbance Data'!F3552-Calculations!C$1","v":0},{"$f":"'Absorbance Data'!G3552-Calculations!D$1","v":0},{"$f":"'Absorbance Data'!H3552-Calculations!E$1","v":0},{"$f":"'Absorbance Data'!I3552-Calculations!F$1","v":0},{"$f":"'Absorbance Data'!J3552-Calculations!G$1","v":0},{"$f":"'Absorbance Data'!K3552-Calculations!H$1","v":0},{"$f":"'Absorbance Data'!L3552-Calculations!I$1","v":0},{"$f":"'Absorbance Data'!M3552-Calculations!J$1","v":0},{"$f":"'Absorbance Data'!N3552-Calculations!K$1","v":0},{"$f":"'Absorbance Data'!O3552-Calculations!L$1","v":0},{"$f":"'Absorbance Data'!P3552-Calculations!M$1","v":0},{"$f":"'Absorbance Data'!Q3552-Calculations!N$1","v":0},{"$f":"'Absorbance Data'!R3552-Calculations!O$1","v":0},{"$f":"'Absorbance Data'!S3552-Calculations!P$1","v":0},{"$f":"'Absorbance Data'!T3552-Calculations!Q$1","v":0},{"$f":"'Absorbance Data'!U3552-Calculations!R$1","v":0},{"$f":"'Absorbance Data'!V3552-Calculations!S$1","v":0},{"$f":"'Absorbance Data'!W3552-Calculations!T$1","v":0},{"$f":"'Absorbance Data'!X3552-Calculations!U$1","v":0},{"$f":"'Absorbance Data'!Y3552-Calculations!V$1","v":0},{"$f":"'Absorbance Data'!Z3552-Calculations!W$1","v":0}]
[{"$f":"'Absorbance Data'!D3553","v":691.6416015625},{"$f":"'Absorbance Data'!E3553-Calculations!B$1","v":0},{"$f":"'Absorbance Data'!F3553-Calculations!C$1","v":0},{"$f":"'Absorbance Data'!G3553-Calculations!D$1","v":0},{"$f":"'Absorbance Data'!H3553-Calculations!E$1","v":0},{"$f":"'Absorbance Data'!I3553-Calculations!F$1","v":0},{"$f":"'Absorbance Data'!J3553-Calculations!G$1","v":0},{"$f":"'Absorbance Data'!K3553-Calculations!H$1","v":0},{"$f":"'Absorbance Data'!L3553-Calculations!I$1","v":0},{"$f":"'Absorbance Data'!M3553-Calculations!J$1","v":0},{"$f":"'Absorbance Data'!N3553-Calculations!K$1","v":0},{"$f":"'Absorbance Data'!O3553-Calculations!L$1","v":0},{"$f":"'Absorbance Data'!P3553-Calculations!M$1","v":0},{"$f":"'Absorbance Data'!Q3553-Calculations!N$1","v":0},{"$f":"'Absorbance Data'!R3553-Calculations!O$1","v":0},{"$f":"'Absorbance Data'!S3553-Calculations!P$1","v":0},{"$f":"'Absorbance Data'!T3553-Calculations!Q$1","v":0},{"$f":"'Absorbance Data'!U3553-Calculations!R$1","v":0},{"$f":"'Absorbance Data'!V3553-Calculations!S$1","v":0},{"$f":"'Absorbance Data'!W3553-Calculations!T$1","v":0},{"$f":"'Absorbance Data'!X3553-Calculations!U$1","v":0},{"$f":"'Absorbance Data'!Y3553-Calculations!V$1","v":0},{"$f":"'Absorbance Data'!Z3553-Calculations!W$1","v":0}]
[{"$f":"'Absorbance Data'!D3554","v":691.94976806640625},{"$f":"'Absorbance Data'!E3554-Calculations!B$1","v":0},{"$f":"'Absorbance Data'!F3554-Calculations!C$1","v":0},{"$f":"'Absorbance Data'!G3554-Calculations!D$1","v":0},{"$f":"'Absorbance Data'!H3554-Calculations!E$1","v":0},{"$f":"'Absorbance Data'!I3554-Calculations!F$1","v":0},{"$f":"'Absorbance Data'!J3554-Calculations!G$1","v":0},{"$f":"'Absorbance Data'!K3554-Calculations!H$1","v":0},{"$f":"'Absorbance Data'!L3554-Calculations!I$1","v":0},{"$f":"'Absorbance Data'!M3554-Calculations!J$1","v":0},{"$f":"'Absorbance Data'!N3554-Calculations!K$1","v":0},{"$f":"'Absorbance Data'!O3554-Calculations!L$1","v":0},{"$f":"'Absorbance Data'!P3554-Calculations!M$1","v":0},{"$f":"'Absorbance Data'!Q3554-Calculations!N$1","v":0},{"$f":"'Absorbance Data'!R3554-Calculations!O$1","v":0},{"$f":"'Absorbance Data'!S3554-Calculations!P$1","v":0},{"$f":"'Absorbance Data'!T3554-Calculations!Q$1","v":0},{"$f":"'Absorbance Data'!U3554-Calculations!R$1","v":0},{"$f":"'Absorbance Data'!V3554-Calculations!S$1","v":0},{"$f":"'Absorbance Data'!W3554-Calculations!T$1","v":0},{"$f":"'Absorbance Data'!X3554-Calculations!U$1","v":0},{"$f":"'Absorbance Data'!Y3554-Calculations!V$1","v":0},{"$f":"'Absorbance Data'!Z3554-Calculations!W$1","v":0}]
[{"$f":"'Absorbance Data'!D3555","v":692.25787353515625},{"$f":"'Absorbance Data'!E3555-Calculations!B$1","v":0},{"$f":"'Absorbance Data'!F3555-Calculations!C$1","v":0},{"$f":"'Absorbance Data'!G3555-Calculations!D$1","v":0},{"$f":"'Absorbance Data'!H3555-Calculations!E$1","v":0},{"$f":"'Absorbance Data'!I3555-Calculations!F$1","v":0},{"$f":"'Absorbance Data'!J3555-Calculations!G$1","v":0},{"$f":"'Absorbance Data'!K3555-Calculations!H$1","v":0},{"$f":"'Absorbance Data'!L3555-Calculations!I$1","v":0},{"$f":"'Absorbance Data'!M3555-Calculations!J$1","v":0},{"$f":"'Absorbance Data'!N3555-Calculations!K$1","v":0},{"$f":"'Absorbance Data'!O3555-Calculations!L$1","v":0},{"$f":"'Absorbance Data'!P3555-Calculations!M$1","v":0},{"$f":"'Absorbance Data'!Q3555-Calculations!N$1","v":0},{"$f":"'Absorbance Data'!R3555-Calculations!O$1","v":0},{"$f":"'Absorbance Data'!S3555-Calculations!P$1","v":0},{"$f":"'Absorbance Data'!T3555-Calculations!Q$1","v":0},{"$f":"'Absorbance Data'!U3555-Calculations!R$1","v":0},{"$f":"'Absorbance Data'!V3555-Calculations!S$1","v":0},{"$f":"'Absorbance Data'!W3555-Calculations!T$1","v":0},{"$f":"'Absorbance Data'!X3555-Calculations!U$1","v":0},{"$f":"'Absorbance Data'!Y3555-Calculations!V$1","v":0},{"$f":"'Absorbance Data'!Z3555-Calculations!W$1","v":0}]
[{"$f":"'Absorbance Data'!D3556","v":692.56597900390625},{"$f":"'Absorbance Data'!E3556-Calculations!B$1","v":0},{"$f":"'Absorbance Data'!F3556-Calculations!C$1","v":0},{"$f":"'Absorbance Data'!G3556-Calculations!D$1","v":0},{"$f":"'Absorbance Data'!H3556-Calculations!E$1","v":0},{"$f":"'Absorbance Data'!I3556-Calculations!F$1","v":0},{"$f":"'Absorbance Data'!J3556-Calculations!G$1","v":0},{"$f":"'Absorbance Data'!K3556-Calculations!H$1","v":0},{"$f":"'Absorbance Data'!L3556-Calculations!I$1","v":0},{"$f":"'Absorbance Data'!M3556-Calculations!J$1","v":0},{"$f":"'Absorbance Data'!N3556-Calculations!K$1","v":0},{"$f":"'Absorbance Data'!O3556-Calculations!L$1","v":0},{"$f":"'Absorbance Data'!P3556-Calculations!M$1","v":0},{"$f":"'Absorbance Data'!Q3556-Calculations!N$1","v":0},{"$f":"'Absorbance Data'!R3556-Calculations!O$1","v":0},{"$f":"'Absorbance Data'!S3556-Calculations!P$1","v":0},{"$f":"'Absorbance Data'!T3556-Calculations!Q$1","v":0},{"$f":"'Absorbance Data'!U3556-Calculations!R$1","v":0},{"$f":"'Absorbance Data'!V3556-Calculations!S$1","v":0},{"$f":"'Absorbance Data'!W3556-Calculations!T$1","v":0},{"$f":"'Absorbance Data'!X3556-Calculations!U$1","v":0},{"$f":"'Absorbance Data'!Y3556-Calculations!V$1","v":0},{"$f":"'Absorbance Data'!Z3556-Calculations!W$1","v":0}]
[{"$f":"'Absorbance Data'!D3557","v":692.8740234375},{"$f":"'Absorbance Data'!E3557-Calculations!B$1","v":0},{"$f":"'Absorbance Data'!F3557-Calculations!C$1","v":0},{"$f":"'Absorbance Data'!G3557-Calculations!D$1","v":0},{"$f":"'Absorbance Data'!H3557-Calculations!E$1","v":0},{"$f":"'Absorbance Data'!I3557-Calculations!F$1","v":0},{"$f":"'Absorbance Data'!J3557-Calculations!G$1","v":0},{"$f":"'Absorbance Data'!K3557-Calculations!H$1","v":0},{"$f":"'Absorbance Data'!L3557-Calculations!I$1","v":0},{"$f":"'Absorbance Data'!M3557-Calculations!J$1","v":0},{"$f":"'Absorbance Data'!N3557-Calculations!K$1","v":0},{"$f":"'Absorbance Data'!O3557-Calculations!L$1","v":0},{"$f":"'Absorbance Data'!P3557-Calculations!M$1","v":0},{"$f":"'Absorbance Data'!Q3557-Calculations!N$1","v":0},{"$f":"'Absorbance Data'!R3557-Calculations!O$1","v":0},{"$f":"'Absorbance Data'!S3557-Calculations!P$1","v":0},{"$f":"'Absorbance Data'!T3557-Calculations!Q$1","v":0},{"$f":"'Absorbance Data'!U3557-Calculations!R$1","v":0},{"$f":"'Absorbance Data'!V3557-Calculations!S$1","v":0},{"$f":"'Absorbance Data'!W3557-Calculations!T$1","v":0},{"$f":"'Absorbance Data'!X3557-Calculations!U$1","v":0},{"$f":"'Absorbance Data'!Y3557-Calculations!V$1","v":0},{"$f":"'Absorbance Data'!Z3557-Calculations!W$1","v":0}]
[{"$f":"'Absorbance Data'!D3558","v":693.18206787109375},{"$f":"'Absorbance Data'!E3558-Calculations!B$1","v":0},{"$f":"'Absorbance Data'!F3558-Calculations!C$1","v":0},{"$f":"'Absorbance Data'!G3558-Calculations!D$1","v":0},{"$f":"'Absorbance Data'!H3558-Calculations!E$1","v":0},{"$f":"'Absorbance Data'!I3558-Calculations!F$1","v":0},{"$f":"'Absorbance Data'!J3558-Calculations!G$1","v":0},{"$f":"'Absorbance Data'!K3558-Calculations!H$1","v":0},{"$f":"'Absorbance Data'!L3558-Calculations!I$1","v":0},{"$f":"'Absorbance Data'!M3558-Calculations!J$1","v":0},{"$f":"'Absorbance Data'!N3558-Calculations!K$1","v":0},{"$f":"'Absorbance Data'!O3558-Calculations!L$1","v":0},{"$f":"'Absorbance Data'!P3558-Calculations!M$1","v":0},{"$f":"'Absorbance Data'!Q3558-Calculations!N$1","v":0},{"$f":"'Absorbance Data'!R3558-Calculations!O$1","v":0},{"$f":"'Absorbance Data'!S3558-Calculations!P$1","v":0},{"$f":"'Absorbance Data'!T3558-Calculations!Q$1","v":0},{"$f":"'Absorbance Data'!U3558-Calculations!R$1","v":0},{"$f":"'Absorbance Data'!V3558-Calculations!S$1","v":0},{"$f":"'Absorbance Data'!W3558-Calculations!T$1","v":0},{"$f":"'Absorbance Data'!X3558-Calculations!U$1","v":0},{"$f":"'Absorbance Data'!Y3558-Calculations!V$1","v":0},{"$f":"'Absorbance Data'!Z3558-Calculations!W$1","v":0}]
[{"$f":"'Absorbance Data'!D3559","v":693.489990234375},{"$f":"'Absorbance Data'!E3559-Calculations!B$1","v":0},{"$f":"'Absorbance Data'!F3559-Calculations!C$1","v":0},{"$f":"'Absorbance Data'!G3559-Calculations!D$1","v":0},{"$f":"'Absorbance Data'!H3559-Calculations!E$1","v":0},{"$f":"'Absorbance Data'!I3559-Calculations!F$1","v":0},{"$f":"'Absorbance Data'!J3559-Calculations!G$1","v":0},{"$f":"'Absorbance Data'!K3559-Calculations!H$1","v":0},{"$f":"'Absorbance Data'!L3559-Calculations!I$1","v":0},{"$f":"'Absorbance Data'!M3559-Calculations!J$1","v":0},{"$f":"'Absorbance Data'!N3559-Calculations!K$1","v":0},{"$f":"'Absorbance Data'!O3559-Calculations!L$1","v":0},{"$f":"'Absorbance Data'!P3559-Calculations!M$1","v":0},{"$f":"'Absorbance Data'!Q3559-Calculations!N$1","v":0},{"$f":"'Absorbance Data'!R3559-Calculations!O$1","v":0},{"$f":"'Absorbance Data'!S3559-Calculations!P$1","v":0},{"$f":"'Absorbance Data'!T3559-Calculations!Q$1","v":0},{"$f":"'Absorbance Data'!U3559-Calculations!R$1","v":0},{"$f":"'Absorbance Data'!V3559-Calculations!S$1","v":0},{"$f":"'Absorbance Data'!W3559-Calculations!T$1","v":0},{"$f":"'Absorbance Data'!X3559-Calculations!U$1","v":0},{"$f":"'Absorbance Data'!Y3559-Calculations!V$1","v":0},{"$f":"'Absorbance Data'!Z3559-Calculations!W$1","v":0}]
[{"$f":"'Absorbance Data'!D3560","v":693.79791259765625},{"$f":"'Absorbance Data'!E3560-Calculations!B$1","v":0},{"$f":"'Absorbance Data'!F3560-Calculations!C$1","v":0},{"$f":"'Absorbance Data'!G3560-Calculations!D$1","v":0},{"$f":"'Absorbance Data'!H3560-Calculations!E$1","v":0},{"$f":"'Absorbance Data'!I3560-Calculations!F$1","v":0},{"$f":"'Absorbance Data'!J3560-Calculations!G$1","v":0},{"$f":"'Absorbance Data'!K3560-Calculations!H$1","v":0},{"$f":"'Absorbance Data'!L3560-Calculations!I$1","v":0},{"$f":"'Absorbance Data'!M3560-Calculations!J$1","v":0},{"$f":"'Absorbance Data'!N3560-Calculations!K$1","v":0},{"$f":"'Absorbance Data'!O3560-Calculations!L$1","v":0},{"$f":"'Absorbance Data'!P3560-Calculations!M$1","v":0},{"$f":"'Absorbance Data'!Q3560-Calculations!N$1","v":0},{"$f":"'Absorbance Data'!R3560-Calculations!O$1","v":0},{"$f":"'Absorbance Data'!S3560-Calculations!P$1","v":0},{"$f":"'Absorbance Data'!T3560-Calculations!Q$1","v":0},{"$f":"'Absorbance Data'!U3560-Calculations!R$1","v":0},{"$f":"'Absorbance Data'!V3560-Calculations!S$1","v":0},{"$f":"'Absorbance Data'!W3560-Calculations!T$1","v":0},{"$f":"'Absorbance Data'!X3560-Calculations!U$1","v":0},{"$f":"'Absorbance Data'!Y3560-Calculations!V$1","v":0},{"$f":"'Absorbance Data'!Z3560-Calculations!W$1","v":0}]
[{"$f":"'Absorbance Data'!D3561","v":694.10577392578125},{"$f":"'Absorbance Data'!E3561-Calculations!B$1","v":0},{"$f":"'Absorbance Data'!F3561-Calculations!C$1","v":0},{"$f":"'Absorbance Data'!G3561-Calculations!D$1","v":0},{"$f":"'Absorbance Data'!H3561-Calculations!E$1","v":0},{"$f":"'Absorbance Data'!I3561-Calculations!F$1","v":0},{"$f":"'Absorbance Data'!J3561-Calculations!G$1","v":0},{"$f":"'Absorbance Data'!K3561-Calculations!H$1","v":0},{"$f":"'Absorbance Data'!L3561-Calculations!I$1","v":0},{"$f":"'Absorbance Data'!M3561-Calculations!J$1","v":0},{"$f":"'Absorbance Data'!N3561-Calculations!K$1","v":0},{"$f":"'Absorbance Data'!O3561-Calculations!L$1","v":0},{"$f":"'Absorbance Data'!P3561-Calculations!M$1","v":0},{"$f":"'Absorbance Data'!Q3561-Calculations!N$1","v":0},{"$f":"'Absorbance Data'!R3561-Calculations!O$1","v":0},{"$f":"'Absorbance Data'!S3561-Calculations!P$1","v":0},{"$f":"'Absorbance Data'!T3561-Calculations!Q$1","v":0},{"$f":"'Absorbance Data'!U3561-Calculations!R$1","v":0},{"$f":"'Absorbance Data'!V3561-Calculations!S$1","v":0},{"$f":"'Absorbance Data'!W3561-Calculations!T$1","v":0},{"$f":"'Absorbance Data'!X3561-Calculations!U$1","v":0},{"$f":"'Absorbance Data'!Y3561-Calculations!V$1","v":0},{"$f":"'Absorbance Data'!Z3561-Calculations!W$1","v":0}]
[{"$f":"'Absorbance Data'!D3562","v":694.41357421875},{"$f":"'Absorbance Data'!E3562-Calculations!B$1","v":0},{"$f":"'Absorbance Data'!F3562-Calculations!C$1","v":0},{"$f":"'Absorbance Data'!G3562-Calculations!D$1","v":0},{"$f":"'Absorbance Data'!H3562-Calculations!E$1","v":0},{"$f":"'Absorbance Data'!I3562-Calculations!F$1","v":0},{"$f":"'Absorbance Data'!J3562-Calculations!G$1","v":0},{"$f":"'Absorbance Data'!K3562-Calculations!H$1","v":0},{"$f":"'Absorbance Data'!L3562-Calculations!I$1","v":0},{"$f":"'Absorbance Data'!M3562-Calculations!J$1","v":0},{"$f":"'Absorbance Data'!N3562-Calculations!K$1","v":0},{"$f":"'Absorbance Data'!O3562-Calculations!L$1","v":0},{"$f":"'Absorbance Data'!P3562-Calculations!M$1","v":0},{"$f":"'Absorbance Data'!Q3562-Calculations!N$1","v":0},{"$f":"'Absorbance Data'!R3562-Calculations!O$1","v":0},{"$f":"'Absorbance Data'!S3562-Calculations!P$1","v":0},{"$f":"'Absorbance Data'!T3562-Calculations!Q$1","v":0},{"$f":"'Absorbance Data'!U3562-Calculations!R$1","v":0},{"$f":"'Absorbance Data'!V3562-Calculations!S$1","v":0},{"$f":"'Absorbance Data'!W3562-Calculations!T$1","v":0},{"$f":"'Absorbance Data'!X3562-Calculations!U$1","v":0},{"$f":"'Absorbance Data'!Y3562-Calculations!V$1","v":0},{"$f":"'Absorbance Data'!Z3562-Calculations!W$1","v":0}]
[{"$f":"'Absorbance Data'!D3563","v":694.72137451171875},{"$f":"'Absorbance Data'!E3563-Calculations!B$1","v":0},{"$f":"'Absorbance Data'!F3563-Calculations!C$1","v":0},{"$f":"'Absorbance Data'!G3563-Calculations!D$1","v":0},{"$f":"'Absorbance Data'!H3563-Calculations!E$1","v":0},{"$f":"'Absorbance Data'!I3563-Calculations!F$1","v":0},{"$f":"'Absorbance Data'!J3563-Calculations!G$1","v":0},{"$f":"'Absorbance Data'!K3563-Calculations!H$1","v":0},{"$f":"'Absorbance Data'!L3563-Calculations!I$1","v":0},{"$f":"'Absorbance Data'!M3563-Calculations!J$1","v":0},{"$f":"'Absorbance Data'!N3563-Calculations!K$1","v":0},{"$f":"'Absorbance Data'!O3563-Calculations!L$1","v":0},{"$f":"'Absorbance Data'!P3563-Calculations!M$1","v":0},{"$f":"'Absorbance Data'!Q3563-Calculations!N$1","v":0},{"$f":"'Absorbance Data'!R3563-Calculations!O$1","v":0},{"$f":"'Absorbance Data'!S3563-Calculations!P$1","v":0},{"$f":"'Absorbance Data'!T3563-Calculations!Q$1","v":0},{"$f":"'Absorbance Data'!U3563-Calculations!R$1","v":0},{"$f":"'Absorbance Data'!V3563-Calculations!S$1","v":0},{"$f":"'Absorbance Data'!W3563-Calculations!T$1","v":0},{"$f":"'Absorbance Data'!X3563-Calculations!U$1","v":0},{"$f":"'Absorbance Data'!Y3563-Calculations!V$1","v":0},{"$f":"'Absorbance Data'!Z3563-Calculations!W$1","v":0}]
[{"$f":"'Absorbance Data'!D3564","v":695.02911376953125},{"$f":"'Absorbance Data'!E3564-Calculations!B$1","v":0},{"$f":"'Absorbance Data'!F3564-Calculations!C$1","v":0},{"$f":"'Absorbance Data'!G3564-Calculations!D$1","v":0},{"$f":"'Absorbance Data'!H3564-Calculations!E$1","v":0},{"$f":"'Absorbance Data'!I3564-Calculations!F$1","v":0},{"$f":"'Absorbance Data'!J3564-Calculations!G$1","v":0},{"$f":"'Absorbance Data'!K3564-Calculations!H$1","v":0},{"$f":"'Absorbance Data'!L3564-Calculations!I$1","v":0},{"$f":"'Absorbance Data'!M3564-Calculations!J$1","v":0},{"$f":"'Absorbance Data'!N3564-Calculations!K$1","v":0},{"$f":"'Absorbance Data'!O3564-Calculations!L$1","v":0},{"$f":"'Absorbance Data'!P3564-Calculations!M$1","v":0},{"$f":"'Absorbance Data'!Q3564-Calculations!N$1","v":0},{"$f":"'Absorbance Data'!R3564-Calculations!O$1","v":0},{"$f":"'Absorbance Data'!S3564-Calculations!P$1","v":0},{"$f":"'Absorbance Data'!T3564-Calculations!Q$1","v":0},{"$f":"'Absorbance Data'!U3564-Calculations!R$1","v":0},{"$f":"'Absorbance Data'!V3564-Calculations!S$1","v":0},{"$f":"'Absorbance Data'!W3564-Calculations!T$1","v":0},{"$f":"'Absorbance Data'!X3564-Calculations!U$1","v":0},{"$f":"'Absorbance Data'!Y3564-Calculations!V$1","v":0},{"$f":"'Absorbance Data'!Z3564-Calculations!W$1","v":0}]
[{"$f":"'Absorbance Data'!D3565","v":695.3367919921875},{"$f":"'Absorbance Data'!E3565-Calculations!B$1","v":0},{"$f":"'Absorbance Data'!F3565-Calculations!C$1","v":0},{"$f":"'Absorbance Data'!G3565-Calculations!D$1","v":0},{"$f":"'Absorbance Data'!H3565-Calculations!E$1","v":0},{"$f":"'Absorbance Data'!I3565-Calculations!F$1","v":0},{"$f":"'Absorbance Data'!J3565-Calculations!G$1","v":0},{"$f":"'Absorbance Data'!K3565-Calculations!H$1","v":0},{"$f":"'Absorbance Data'!L3565-Calculations!I$1","v":0},{"$f":"'Absorbance Data'!M3565-Calculations!J$1","v":0},{"$f":"'Absorbance Data'!N3565-Calculations!K$1","v":0},{"$f":"'Absorbance Data'!O3565-Calculations!L$1","v":0},{"$f":"'Absorbance Data'!P3565-Calculations!M$1","v":0},{"$f":"'Absorbance Data'!Q3565-Calculations!N$1","v":0},{"$f":"'Absorbance Data'!R3565-Calculations!O$1","v":0},{"$f":"'Absorbance Data'!S3565-Calculations!P$1","v":0},{"$f":"'Absorbance Data'!T3565-Calculations!Q$1","v":0},{"$f":"'Absorbance Data'!U3565-Calculations!R$1","v":0},{"$f":"'Absorbance Data'!V3565-Calculations!S$1","v":0},{"$f":"'Absorbance Data'!W3565-Calculations!T$1","v":0},{"$f":"'Absorbance Data'!X3565-Calculations!U$1","v":0},{"$f":"'Absorbance Data'!Y3565-Calculations!V$1","v":0},{"$f":"'Absorbance Data'!Z3565-Calculations!W$1","v":0}]
[{"$f":"'Absorbance Data'!D3566","v":695.64453125},{"$f":"'Absorbance Data'!E3566-Calculations!B$1","v":0},{"$f":"'Absorbance Data'!F3566-Calculations!C$1","v":0},{"$f":"'Absorbance Data'!G3566-Calculations!D$1","v":0},{"$f":"'Absorbance Data'!H3566-Calculations!E$1","v":0},{"$f":"'Absorbance Data'!I3566-Calculations!F$1","v":0},{"$f":"'Absorbance Data'!J3566-Calculations!G$1","v":0},{"$f":"'Absorbance Data'!K3566-Calculations!H$1","v":0},{"$f":"'Absorbance Data'!L3566-Calculations!I$1","v":0},{"$f":"'Absorbance Data'!M3566-Calculations!J$1","v":0},{"$f":"'Absorbance Data'!N3566-Calculations!K$1","v":0},{"$f":"'Absorbance Data'!O3566-Calculations!L$1","v":0},{"$f":"'Absorbance Data'!P3566-Calculations!M$1","v":0},{"$f":"'Absorbance Data'!Q3566-Calculations!N$1","v":0},{"$f":"'Absorbance Data'!R3566-Calculations!O$1","v":0},{"$f":"'Absorbance Data'!S3566-Calculations!P$1","v":0},{"$f":"'Absorbance Data'!T3566-Calculations!Q$1","v":0},{"$f":"'Absorbance Data'!U3566-Calculations!R$1","v":0},{"$f":"'Absorbance Data'!V3566-Calculations!S$1","v":0},{"$f":"'Absorbance Data'!W3566-Calculations!T$1","v":0},{"$f":"'Absorbance Data'!X3566-Calculations!U$1","v":0},{"$f":"'Absorbance Data'!Y3566-Calculations!V$1","v":0},{"$f":"'Absorbance Data'!Z3566-Calculations!W$1","v":0}]
[{"$f":"'Absorbance Data'!D3567","v":695.9520263671875},{"$f":"'Absorbance Data'!E3567-Calculations!B$1","v":0},{"$f":"'Absorbance Data'!F3567-Calculations!C$1","v":0},{"$f":"'Absorbance Data'!G3567-Calculations!D$1","v":0},{"$f":"'Absorbance Data'!H3567-Calculations!E$1","v":0},{"$f":"'Absorbance Data'!I3567-Calculations!F$1","v":0},{"$f":"'Absorbance Data'!J3567-Calculations!G$1","v":0},{"$f":"'Absorbance Data'!K3567-Calculations!H$1","v":0},{"$f":"'Absorbance Data'!L3567-Calculations!I$1","v":0},{"$f":"'Absorbance Data'!M3567-Calculations!J$1","v":0},{"$f":"'Absorbance Data'!N3567-Calculations!K$1","v":0},{"$f":"'Absorbance Data'!O3567-Calculations!L$1","v":0},{"$f":"'Absorbance Data'!P3567-Calculations!M$1","v":0},{"$f":"'Absorbance Data'!Q3567-Calculations!N$1","v":0},{"$f":"'Absorbance Data'!R3567-Calculations!O$1","v":0},{"$f":"'Absorbance Data'!S3567-Calculations!P$1","v":0},{"$f":"'Absorbance Data'!T3567-Calculations!Q$1","v":0},{"$f":"'Absorbance Data'!U3567-Calculations!R$1","v":0},{"$f":"'Absorbance Data'!V3567-Calculations!S$1","v":0},{"$f":"'Absorbance Data'!W3567-Calculations!T$1","v":0},{"$f":"'Absorbance Data'!X3567-Calculations!U$1","v":0},{"$f":"'Absorbance Data'!Y3567-Calculations!V$1","v":0},{"$f":"'Absorbance Data'!Z3567-Calculations!W$1","v":0}]
[{"$f":"'Absorbance Data'!D3568","v":696.2596435546875},{"$f":"'Absorbance Data'!E3568-Calculations!B$1","v":0},{"$f":"'Absorbance Data'!F3568-Calculations!C$1","v":0},{"$f":"'Absorbance Data'!G3568-Calculations!D$1","v":0},{"$f":"'Absorbance Data'!H3568-Calculations!E$1","v":0},{"$f":"'Absorbance Data'!I3568-Calculations!F$1","v":0},{"$f":"'Absorbance Data'!J3568-Calculations!G$1","v":0},{"$f":"'Absorbance Data'!K3568-Calculations!H$1","v":0},{"$f":"'Absorbance Data'!L3568-Calculations!I$1","v":0},{"$f":"'Absorbance Data'!M3568-Calculations!J$1","v":0},{"$f":"'Absorbance Data'!N3568-Calculations!K$1","v":0},{"$f":"'Absorbance Data'!O3568-Calculations!L$1","v":0},{"$f":"'Absorbance Data'!P3568-Calculations!M$1","v":0},{"$f":"'Absorbance Data'!Q3568-Calculations!N$1","v":0},{"$f":"'Absorbance Data'!R3568-Calculations!O$1","v":0},{"$f":"'Absorbance Data'!S3568-Calculations!P$1","v":0},{"$f":"'Absorbance Data'!T3568-Calculations!Q$1","v":0},{"$f":"'Absorbance Data'!U3568-Calculations!R$1","v":0},{"$f":"'Absorbance Data'!V3568-Calculations!S$1","v":0},{"$f":"'Absorbance Data'!W3568-Calculations!T$1","v":0},{"$f":"'Absorbance Data'!X3568-Calculations!U$1","v":0},{"$f":"'Absorbance Data'!Y3568-Calculations!V$1","v":0},{"$f":"'Absorbance Data'!Z3568-Calculations!W$1","v":0}]
[{"$f":"'Absorbance Data'!D3569","v":696.56719970703125},{"$f":"'Absorbance Data'!E3569-Calculations!B$1","v":0},{"$f":"'Absorbance Data'!F3569-Calculations!C$1","v":0},{"$f":"'Absorbance Data'!G3569-Calculations!D$1","v":0},{"$f":"'Absorbance Data'!H3569-Calculations!E$1","v":0},{"$f":"'Absorbance Data'!I3569-Calculations!F$1","v":0},{"$f":"'Absorbance Data'!J3569-Calculations!G$1","v":0},{"$f":"'Absorbance Data'!K3569-Calculations!H$1","v":0},{"$f":"'Absorbance Data'!L3569-Calculations!I$1","v":0},{"$f":"'Absorbance Data'!M3569-Calculations!J$1","v":0},{"$f":"'Absorbance Data'!N3569-Calculations!K$1","v":0},{"$f":"'Absorbance Data'!O3569-Calculations!L$1","v":0},{"$f":"'Absorbance Data'!P3569-Calculations!M$1","v":0},{"$f":"'Absorbance Data'!Q3569-Calculations!N$1","v":0},{"$f":"'Absorbance Data'!R3569-Calculations!O$1","v":0},{"$f":"'Absorbance Data'!S3569-Calculations!P$1","v":0},{"$f":"'Absorbance Data'!T3569-Calculations!Q$1","v":0},{"$f":"'Absorbance Data'!U3569-Calculations!R$1","v":0},{"$f":"'Absorbance Data'!V3569-Calculations!S$1","v":0},{"$f":"'Absorbance Data'!W3569-Calculations!T$1","v":0},{"$f":"'Absorbance Data'!X3569-Calculations!U$1","v":0},{"$f":"'Absorbance Data'!Y3569-Calculations!V$1","v":0},{"$f":"'Absorbance Data'!Z3569-Calculations!W$1","v":0}]
[{"$f":"'Absorbance Data'!D3570","v":696.8746337890625},{"$f":"'Absorbance Data'!E3570-Calculations!B$1","v":0},{"$f":"'Absorbance Data'!F3570-Calculations!C$1","v":0},{"$f":"'Absorbance Data'!G3570-Calculations!D$1","v":0},{"$f":"'Absorbance Data'!H3570-Calculations!E$1","v":0},{"$f":"'Absorbance Data'!I3570-Calculations!F$1","v":0},{"$f":"'Absorbance Data'!J3570-Calculations!G$1","v":0},{"$f":"'Absorbance Data'!K3570-Calculations!H$1","v":0},{"$f":"'Absorbance Data'!L3570-Calculations!I$1","v":0},{"$f":"'Absorbance Data'!M3570-Calculations!J$1","v":0},{"$f":"'Absorbance Data'!N3570-Calculations!K$1","v":0},{"$f":"'Absorbance Data'!O3570-Calculations!L$1","v":0},{"$f":"'Absorbance Data'!P3570-Calculations!M$1","v":0},{"$f":"'Absorbance Data'!Q3570-Calculations!N$1","v":0},{"$f":"'Absorbance Data'!R3570-Calculations!O$1","v":0},{"$f":"'Absorbance Data'!S3570-Calculations!P$1","v":0},{"$f":"'Absorbance Data'!T3570-Calculations!Q$1","v":0},{"$f":"'Absorbance Data'!U3570-Calculations!R$1","v":0},{"$f":"'Absorbance Data'!V3570-Calculations!S$1","v":0},{"$f":"'Absorbance Data'!W3570-Calculations!T$1","v":0},{"$f":"'Absorbance Data'!X3570-Calculations!U$1","v":0},{"$f":"'Absorbance Data'!Y3570-Calculations!V$1","v":0},{"$f":"'Absorbance Data'!Z3570-Calculations!W$1","v":0}]
[{"$f":"'Absorbance Data'!D3571","v":697.18212890625},{"$f":"'Absorbance Data'!E3571-Calculations!B$1","v":0},{"$f":"'Absorbance Data'!F3571-Calculations!C$1","v":0},{"$f":"'Absorbance Data'!G3571-Calculations!D$1","v":0},{"$f":"'Absorbance Data'!H3571-Calculations!E$1","v":0},{"$f":"'Absorbance Data'!I3571-Calculations!F$1","v":0},{"$f":"'Absorbance Data'!J3571-Calculations!G$1","v":0},{"$f":"'Absorbance Data'!K3571-Calculations!H$1","v":0},{"$f":"'Absorbance Data'!L3571-Calculations!I$1","v":0},{"$f":"'Absorbance Data'!M3571-Calculations!J$1","v":0},{"$f":"'Absorbance Data'!N3571-Calculations!K$1","v":0},{"$f":"'Absorbance Data'!O3571-Calculations!L$1","v":0},{"$f":"'Absorbance Data'!P3571-Calculations!M$1","v":0},{"$f":"'Absorbance Data'!Q3571-Calculations!N$1","v":0},{"$f":"'Absorbance Data'!R3571-Calculations!O$1","v":0},{"$f":"'Absorbance Data'!S3571-Calculations!P$1","v":0},{"$f":"'Absorbance Data'!T3571-Calculations!Q$1","v":0},{"$f":"'Absorbance Data'!U3571-Calculations!R$1","v":0},{"$f":"'Absorbance Data'!V3571-Calculations!S$1","v":0},{"$f":"'Absorbance Data'!W3571-Calculations!T$1","v":0},{"$f":"'Absorbance Data'!X3571-Calculations!U$1","v":0},{"$f":"'Absorbance Data'!Y3571-Calculations!V$1","v":0},{"$f":"'Absorbance Data'!Z3571-Calculations!W$1","v":0}]
[{"$f":"'Absorbance Data'!D3572","v":697.48944091796875},{"$f":"'Absorbance Data'!E3572-Calculations!B$1","v":0},{"$f":"'Absorbance Data'!F3572-Calculations!C$1","v":0},{"$f":"'Absorbance Data'!G3572-Calculations!D$1","v":0},{"$f":"'Absorbance Data'!H3572-Calculations!E$1","v":0},{"$f":"'Absorbance Data'!I3572-Calculations!F$1","v":0},{"$f":"'Absorbance Data'!J3572-Calculations!G$1","v":0},{"$f":"'Absorbance Data'!K3572-Calculations!H$1","v":0},{"$f":"'Absorbance Data'!L3572-Calculations!I$1","v":0},{"$f":"'Absorbance Data'!M3572-Calculations!J$1","v":0},{"$f":"'Absorbance Data'!N3572-Calculations!K$1","v":0},{"$f":"'Absorbance Data'!O3572-Calculations!L$1","v":0},{"$f":"'Absorbance Data'!P3572-Calculations!M$1","v":0},{"$f":"'Absorbance Data'!Q3572-Calculations!N$1","v":0},{"$f":"'Absorbance Data'!R3572-Calculations!O$1","v":0},{"$f":"'Absorbance Data'!S3572-Calculations!P$1","v":0},{"$f":"'Absorbance Data'!T3572-Calculations!Q$1","v":0},{"$f":"'Absorbance Data'!U3572-Calculations!R$1","v":0},{"$f":"'Absorbance Data'!V3572-Calculations!S$1","v":0},{"$f":"'Absorbance Data'!W3572-Calculations!T$1","v":0},{"$f":"'Absorbance Data'!X3572-Calculations!U$1","v":0},{"$f":"'Absorbance Data'!Y3572-Calculations!V$1","v":0},{"$f":"'Absorbance Data'!Z3572-Calculations!W$1","v":0}]
[{"$f":"'Absorbance Data'!D3573","v":697.79681396484375},{"$f":"'Absorbance Data'!E3573-Calculations!B$1","v":0},{"$f":"'Absorbance Data'!F3573-Calculations!C$1","v":0},{"$f":"'Absorbance Data'!G3573-Calculations!D$1","v":0},{"$f":"'Absorbance Data'!H3573-Calculations!E$1","v":0},{"$f":"'Absorbance Data'!I3573-Calculations!F$1","v":0},{"$f":"'Absorbance Data'!J3573-Calculations!G$1","v":0},{"$f":"'Absorbance Data'!K3573-Calculations!H$1","v":0},{"$f":"'Absorbance Data'!L3573-Calculations!I$1","v":0},{"$f":"'Absorbance Data'!M3573-Calculations!J$1","v":0},{"$f":"'Absorbance Data'!N3573-Calculations!K$1","v":0},{"$f":"'Absorbance Data'!O3573-Calculations!L$1","v":0},{"$f":"'Absorbance Data'!P3573-Calculations!M$1","v":0},{"$f":"'Absorbance Data'!Q3573-Calculations!N$1","v":0},{"$f":"'Absorbance Data'!R3573-Calculations!O$1","v":0},{"$f":"'Absorbance Data'!S3573-Calculations!P$1","v":0},{"$f":"'Absorbance Data'!T3573-Calculations!Q$1","v":0},{"$f":"'Absorbance Data'!U3573-Calculations!R$1","v":0},{"$f":"'Absorbance Data'!V3573-Calculations!S$1","v":0},{"$f":"'Absorbance Data'!W3573-Calculations!T$1","v":0},{"$f":"'Absorbance Data'!X3573-Calculations!U$1","v":0},{"$f":"'Absorbance Data'!Y3573-Calculations!V$1","v":0},{"$f":"'Absorbance Data'!Z3573-Calculations!W$1","v":0}]
[{"$f":"'Absorbance Data'!D3574","v":698.10406494140625},{"$f":"'Absorbance Data'!E3574-Calculations!B$1","v":0},{"$f":"'Absorbance Data'!F3574-Calculations!C$1","v":0},{"$f":"'Absorbance Data'!G3574-Calculations!D$1","v":0},{"$f":"'Absorbance Data'!H3574-Calculations!E$1","v":0},{"$f":"'Absorbance Data'!I3574-Calculations!F$1","v":0},{"$f":"'Absorbance Data'!J3574-Calculations!G$1","v":0},{"$f":"'Absorbance Data'!K3574-Calculations!H$1","v":0},{"$f":"'Absorbance Data'!L3574-Calculations!I$1","v":0},{"$f":"'Absorbance Data'!M3574-Calculations!J$1","v":0},{"$f":"'Absorbance Data'!N3574-Calculations!K$1","v":0},{"$f":"'Absorbance Data'!O3574-Calculations!L$1","v":0},{"$f":"'Absorbance Data'!P3574-Calculations!M$1","v":0},{"$f":"'Absorbance Data'!Q3574-Calculations!N$1","v":0},{"$f":"'Absorbance Data'!R3574-Calculations!O$1","v":0},{"$f":"'Absorbance Data'!S3574-Calculations!P$1","v":0},{"$f":"'Absorbance Data'!T3574-Calculations!Q$1","v":0},{"$f":"'Absorbance Data'!U3574-Calculations!R$1","v":0},{"$f":"'Absorbance Data'!V3574-Calculations!S$1","v":0},{"$f":"'Absorbance Data'!W3574-Calculations!T$1","v":0},{"$f":"'Absorbance Data'!X3574-Calculations!U$1","v":0},{"$f":"'Absorbance Data'!Y3574-Calculations!V$1","v":0},{"$f":"'Absorbance Data'!Z3574-Calculations!W$1","v":0}]
[{"$f":"'Absorbance Data'!D3575","v":698.411376953125},{"$f":"'Absorbance Data'!E3575-Calculations!B$1","v":0},{"$f":"'Absorbance Data'!F3575-Calculations!C$1","v":0},{"$f":"'Absorbance Data'!G3575-Calculations!D$1","v":0},{"$f":"'Absorbance Data'!H3575-Calculations!E$1","v":0},{"$f":"'Absorbance Data'!I3575-Calculations!F$1","v":0},{"$f":"'Absorbance Data'!J3575-Calculations!G$1","v":0},{"$f":"'Absorbance Data'!K3575-Calculations!H$1","v":0},{"$f":"'Absorbance Data'!L3575-Calculations!I$1","v":0},{"$f":"'Absorbance Data'!M3575-Calculations!J$1","v":0},{"$f":"'Absorbance Data'!N3575-Calculations!K$1","v":0},{"$f":"'Absorbance Data'!O3575-Calculations!L$1","v":0},{"$f":"'Absorbance Data'!P3575-Calculations!M$1","v":0},{"$f":"'Absorbance Data'!Q3575-Calculations!N$1","v":0},{"$f":"'Absorbance Data'!R3575-Calculations!O$1","v":0},{"$f":"'Absorbance Data'!S3575-Calculations!P$1","v":0},{"$f":"'Absorbance Data'!T3575-Calculations!Q$1","v":0},{"$f":"'Absorbance Data'!U3575-Calculations!R$1","v":0},{"$f":"'Absorbance Data'!V3575-Calculations!S$1","v":0},{"$f":"'Absorbance Data'!W3575-Calculations!T$1","v":0},{"$f":"'Absorbance Data'!X3575-Calculations!U$1","v":0},{"$f":"'Absorbance Data'!Y3575-Calculations!V$1","v":0},{"$f":"'Absorbance Data'!Z3575-Calculations!W$1","v":0}]
[{"$f":"'Absorbance Data'!D3576","v":698.718505859375},{"$f":"'Absorbance Data'!E3576-Calculations!B$1","v":0},{"$f":"'Absorbance Data'!F3576-Calculations!C$1","v":0},{"$f":"'Absorbance Data'!G3576-Calculations!D$1","v":0},{"$f":"'Absorbance Data'!H3576-Calculations!E$1","v":0},{"$f":"'Absorbance Data'!I3576-Calculations!F$1","v":0},{"$f":"'Absorbance Data'!J3576-Calculations!G$1","v":0},{"$f":"'Absorbance Data'!K3576-Calculations!H$1","v":0},{"$f":"'Absorbance Data'!L3576-Calculations!I$1","v":0},{"$f":"'Absorbance Data'!M3576-Calculations!J$1","v":0},{"$f":"'Absorbance Data'!N3576-Calculations!K$1","v":0},{"$f":"'Absorbance Data'!O3576-Calculations!L$1","v":0},{"$f":"'Absorbance Data'!P3576-Calculations!M$1","v":0},{"$f":"'Absorbance Data'!Q3576-Calculations!N$1","v":0},{"$f":"'Absorbance Data'!R3576-Calculations!O$1","v":0},{"$f":"'Absorbance Data'!S3576-Calculations!P$1","v":0},{"$f":"'Absorbance Data'!T3576-Calculations!Q$1","v":0},{"$f":"'Absorbance Data'!U3576-Calculations!R$1","v":0},{"$f":"'Absorbance Data'!V3576-Calculations!S$1","v":0},{"$f":"'Absorbance Data'!W3576-Calculations!T$1","v":0},{"$f":"'Absorbance Data'!X3576-Calculations!U$1","v":0},{"$f":"'Absorbance Data'!Y3576-Calculations!V$1","v":0},{"$f":"'Absorbance Data'!Z3576-Calculations!W$1","v":0}]
[{"$f":"'Absorbance Data'!D3577","v":699.0257568359375},{"$f":"'Absorbance Data'!E3577-Calculations!B$1","v":0},{"$f":"'Absorbance Data'!F3577-Calculations!C$1","v":0},{"$f":"'Absorbance Data'!G3577-Calculations!D$1","v":0},{"$f":"'Absorbance Data'!H3577-Calculations!E$1","v":0},{"$f":"'Absorbance Data'!I3577-Calculations!F$1","v":0},{"$f":"'Absorbance Data'!J3577-Calculations!G$1","v":0},{"$f":"'Absorbance Data'!K3577-Calculations!H$1","v":0},{"$f":"'Absorbance Data'!L3577-Calculations!I$1","v":0},{"$f":"'Absorbance Data'!M3577-Calculations!J$1","v":0},{"$f":"'Absorbance Data'!N3577-Calculations!K$1","v":0},{"$f":"'Absorbance Data'!O3577-Calculations!L$1","v":0},{"$f":"'Absorbance Data'!P3577-Calculations!M$1","v":0},{"$f":"'Absorbance Data'!Q3577-Calculations!N$1","v":0},{"$f":"'Absorbance Data'!R3577-Calculations!O$1","v":0},{"$f":"'Absorbance Data'!S3577-Calculations!P$1","v":0},{"$f":"'Absorbance Data'!T3577-Calculations!Q$1","v":0},{"$f":"'Absorbance Data'!U3577-Calculations!R$1","v":0},{"$f":"'Absorbance Data'!V3577-Calculations!S$1","v":0},{"$f":"'Absorbance Data'!W3577-Calculations!T$1","v":0},{"$f":"'Absorbance Data'!X3577-Calculations!U$1","v":0},{"$f":"'Absorbance Data'!Y3577-Calculations!V$1","v":0},{"$f":"'Absorbance Data'!Z3577-Calculations!W$1","v":0}]
[{"$f":"'Absorbance Data'!D3578","v":699.33282470703125},{"$f":"'Absorbance Data'!E3578-Calculations!B$1","v":0},{"$f":"'Absorbance Data'!F3578-Calculations!C$1","v":0},{"$f":"'Absorbance Data'!G3578-Calculations!D$1","v":0},{"$f":"'Absorbance Data'!H3578-Calculations!E$1","v":0},{"$f":"'Absorbance Data'!I3578-Calculations!F$1","v":0},{"$f":"'Absorbance Data'!J3578-Calculations!G$1","v":0},{"$f":"'Absorbance Data'!K3578-Calculations!H$1","v":0},{"$f":"'Absorbance Data'!L3578-Calculations!I$1","v":0},{"$f":"'Absorbance Data'!M3578-Calculations!J$1","v":0},{"$f":"'Absorbance Data'!N3578-Calculations!K$1","v":0},{"$f":"'Absorbance Data'!O3578-Calculations!L$1","v":0},{"$f":"'Absorbance Data'!P3578-Calculations!M$1","v":0},{"$f":"'Absorbance Data'!Q3578-Calculations!N$1","v":0},{"$f":"'Absorbance Data'!R3578-Calculations!O$1","v":0},{"$f":"'Absorbance Data'!S3578-Calculations!P$1","v":0},{"$f":"'Absorbance Data'!T3578-Calculations!Q$1","v":0},{"$f":"'Absorbance Data'!U3578-Calculations!R$1","v":0},{"$f":"'Absorbance Data'!V3578-Calculations!S$1","v":0},{"$f":"'Absorbance Data'!W3578-Calculations!T$1","v":0},{"$f":"'Absorbance Data'!X3578-Calculations!U$1","v":0},{"$f":"'Absorbance Data'!Y3578-Calculations!V$1","v":0},{"$f":"'Absorbance Data'!Z3578-Calculations!W$1","v":0}]
[{"$f":"'Absorbance Data'!D3579","v":699.639892578125},{"$f":"'Absorbance Data'!E3579-Calculations!B$1","v":0},{"$f":"'Absorbance Data'!F3579-Calculations!C$1","v":0},{"$f":"'Absorbance Data'!G3579-Calculations!D$1","v":0},{"$f":"'Absorbance Data'!H3579-Calculations!E$1","v":0},{"$f":"'Absorbance Data'!I3579-Calculations!F$1","v":0},{"$f":"'Absorbance Data'!J3579-Calculations!G$1","v":0},{"$f":"'Absorbance Data'!K3579-Calculations!H$1","v":0},{"$f":"'Absorbance Data'!L3579-Calculations!I$1","v":0},{"$f":"'Absorbance Data'!M3579-Calculations!J$1","v":0},{"$f":"'Absorbance Data'!N3579-Calculations!K$1","v":0},{"$f":"'Absorbance Data'!O3579-Calculations!L$1","v":0},{"$f":"'Absorbance Data'!P3579-Calculations!M$1","v":0},{"$f":"'Absorbance Data'!Q3579-Calculations!N$1","v":0},{"$f":"'Absorbance Data'!R3579-Calculations!O$1","v":0},{"$f":"'Absorbance Data'!S3579-Calculations!P$1","v":0},{"$f":"'Absorbance Data'!T3579-Calculations!Q$1","v":0},{"$f":"'Absorbance Data'!U3579-Calculations!R$1","v":0},{"$f":"'Absorbance Data'!V3579-Calculations!S$1","v":0},{"$f":"'Absorbance Data'!W3579-Calculations!T$1","v":0},{"$f":"'Absorbance Data'!X3579-Calculations!U$1","v":0},{"$f":"'Absorbance Data'!Y3579-Calculations!V$1","v":0},{"$f":"'Absorbance Data'!Z3579-Calculations!W$1","v":0}]
[{"$f":"'Absorbance Data'!D3580","v":699.9468994140625},{"$f":"'Absorbance Data'!E3580-Calculations!B$1","v":0},{"$f":"'Absorbance Data'!F3580-Calculations!C$1","v":0},{"$f":"'Absorbance Data'!G3580-Calculations!D$1","v":0},{"$f":"'Absorbance Data'!H3580-Calculations!E$1","v":0},{"$f":"'Absorbance Data'!I3580-Calculations!F$1","v":0},{"$f":"'Absorbance Data'!J3580-Calculations!G$1","v":0},{"$f":"'Absorbance Data'!K3580-Calculations!H$1","v":0},{"$f":"'Absorbance Data'!L3580-Calculations!I$1","v":0},{"$f":"'Absorbance Data'!M3580-Calculations!J$1","v":0},{"$f":"'Absorbance Data'!N3580-Calculations!K$1","v":0},{"$f":"'Absorbance Data'!O3580-Calculations!L$1","v":0},{"$f":"'Absorbance Data'!P3580-Calculations!M$1","v":0},{"$f":"'Absorbance Data'!Q3580-Calculations!N$1","v":0},{"$f":"'Absorbance Data'!R3580-Calculations!O$1","v":0},{"$f":"'Absorbance Data'!S3580-Calculations!P$1","v":0},{"$f":"'Absorbance Data'!T3580-Calculations!Q$1","v":0},{"$f":"'Absorbance Data'!U3580-Calculations!R$1","v":0},{"$f":"'Absorbance Data'!V3580-Calculations!S$1","v":0},{"$f":"'Absorbance Data'!W3580-Calculations!T$1","v":0},{"$f":"'Absorbance Data'!X3580-Calculations!U$1","v":0},{"$f":"'Absorbance Data'!Y3580-Calculations!V$1","v":0},{"$f":"'Absorbance Data'!Z3580-Calculations!W$1","v":0}]
[{"$f":"'Absorbance Data'!D3581","v":700.25390625},{"$f":"'Absorbance Data'!E3581-Calculations!B$1","v":0},{"$f":"'Absorbance Data'!F3581-Calculations!C$1","v":0},{"$f":"'Absorbance Data'!G3581-Calculations!D$1","v":0},{"$f":"'Absorbance Data'!H3581-Calculations!E$1","v":0},{"$f":"'Absorbance Data'!I3581-Calculations!F$1","v":0},{"$f":"'Absorbance Data'!J3581-Calculations!G$1","v":0},{"$f":"'Absorbance Data'!K3581-Calculations!H$1","v":0},{"$f":"'Absorbance Data'!L3581-Calculations!I$1","v":0},{"$f":"'Absorbance Data'!M3581-Calculations!J$1","v":0},{"$f":"'Absorbance Data'!N3581-Calculations!K$1","v":0},{"$f":"'Absorbance Data'!O3581-Calculations!L$1","v":0},{"$f":"'Absorbance Data'!P3581-Calculations!M$1","v":0},{"$f":"'Absorbance Data'!Q3581-Calculations!N$1","v":0},{"$f":"'Absorbance Data'!R3581-Calculations!O$1","v":0},{"$f":"'Absorbance Data'!S3581-Calculations!P$1","v":0},{"$f":"'Absorbance Data'!T3581-Calculations!Q$1","v":0},{"$f":"'Absorbance Data'!U3581-Calculations!R$1","v":0},{"$f":"'Absorbance Data'!V3581-Calculations!S$1","v":0},{"$f":"'Absorbance Data'!W3581-Calculations!T$1","v":0},{"$f":"'Absorbance Data'!X3581-Calculations!U$1","v":0},{"$f":"'Absorbance Data'!Y3581-Calculations!V$1","v":0},{"$f":"'Absorbance Data'!Z3581-Calculations!W$1","v":0}]
[{"$f":"'Absorbance Data'!D3582","v":700.560791015625},{"$f":"'Absorbance Data'!E3582-Calculations!B$1","v":0},{"$f":"'Absorbance Data'!F3582-Calculations!C$1","v":0},{"$f":"'Absorbance Data'!G3582-Calculations!D$1","v":0},{"$f":"'Absorbance Data'!H3582-Calculations!E$1","v":0},{"$f":"'Absorbance Data'!I3582-Calculations!F$1","v":0},{"$f":"'Absorbance Data'!J3582-Calculations!G$1","v":0},{"$f":"'Absorbance Data'!K3582-Calculations!H$1","v":0},{"$f":"'Absorbance Data'!L3582-Calculations!I$1","v":0},{"$f":"'Absorbance Data'!M3582-Calculations!J$1","v":0},{"$f":"'Absorbance Data'!N3582-Calculations!K$1","v":0},{"$f":"'Absorbance Data'!O3582-Calculations!L$1","v":0},{"$f":"'Absorbance Data'!P3582-Calculations!M$1","v":0},{"$f":"'Absorbance Data'!Q3582-Calculations!N$1","v":0},{"$f":"'Absorbance Data'!R3582-Calculations!O$1","v":0},{"$f":"'Absorbance Data'!S3582-Calculations!P$1","v":0},{"$f":"'Absorbance Data'!T3582-Calculations!Q$1","v":0},{"$f":"'Absorbance Data'!U3582-Calculations!R$1","v":0},{"$f":"'Absorbance Data'!V3582-Calculations!S$1","v":0},{"$f":"'Absorbance Data'!W3582-Calculations!T$1","v":0},{"$f":"'Absorbance Data'!X3582-Calculations!U$1","v":0},{"$f":"'Absorbance Data'!Y3582-Calculations!V$1","v":0},{"$f":"'Absorbance Data'!Z3582-Calculations!W$1","v":0}]
[{"$f":"'Absorbance Data'!D3583","v":700.86773681640625},{"$f":"'Absorbance Data'!E3583-Calculations!B$1","v":0},{"$f":"'Absorbance Data'!F3583-Calculations!C$1","v":0},{"$f":"'Absorbance Data'!G3583-Calculations!D$1","v":0},{"$f":"'Absorbance Data'!H3583-Calculations!E$1","v":0},{"$f":"'Absorbance Data'!I3583-Calculations!F$1","v":0},{"$f":"'Absorbance Data'!J3583-Calculations!G$1","v":0},{"$f":"'Absorbance Data'!K3583-Calculations!H$1","v":0},{"$f":"'Absorbance Data'!L3583-Calculations!I$1","v":0},{"$f":"'Absorbance Data'!M3583-Calculations!J$1","v":0},{"$f":"'Absorbance Data'!N3583-Calculations!K$1","v":0},{"$f":"'Absorbance Data'!O3583-Calculations!L$1","v":0},{"$f":"'Absorbance Data'!P3583-Calculations!M$1","v":0},{"$f":"'Absorbance Data'!Q3583-Calculations!N$1","v":0},{"$f":"'Absorbance Data'!R3583-Calculations!O$1","v":0},{"$f":"'Absorbance Data'!S3583-Calculations!P$1","v":0},{"$f":"'Absorbance Data'!T3583-Calculations!Q$1","v":0},{"$f":"'Absorbance Data'!U3583-Calculations!R$1","v":0},{"$f":"'Absorbance Data'!V3583-Calculations!S$1","v":0},{"$f":"'Absorbance Data'!W3583-Calculations!T$1","v":0},{"$f":"'Absorbance Data'!X3583-Calculations!U$1","v":0},{"$f":"'Absorbance Data'!Y3583-Calculations!V$1","v":0},{"$f":"'Absorbance Data'!Z3583-Calculations!W$1","v":0}]
[{"$f":"'Absorbance Data'!D3584","v":701.174560546875},{"$f":"'Absorbance Data'!E3584-Calculations!B$1","v":0},{"$f":"'Absorbance Data'!F3584-Calculations!C$1","v":0},{"$f":"'Absorbance Data'!G3584-Calculations!D$1","v":0},{"$f":"'Absorbance Data'!H3584-Calculations!E$1","v":0},{"$f":"'Absorbance Data'!I3584-Calculations!F$1","v":0},{"$f":"'Absorbance Data'!J3584-Calculations!G$1","v":0},{"$f":"'Absorbance Data'!K3584-Calculations!H$1","v":0},{"$f":"'Absorbance Data'!L3584-Calculations!I$1","v":0},{"$f":"'Absorbance Data'!M3584-Calculations!J$1","v":0},{"$f":"'Absorbance Data'!N3584-Calculations!K$1","v":0},{"$f":"'Absorbance Data'!O3584-Calculations!L$1","v":0},{"$f":"'Absorbance Data'!P3584-Calculations!M$1","v":0},{"$f":"'Absorbance Data'!Q3584-Calculations!N$1","v":0},{"$f":"'Absorbance Data'!R3584-Calculations!O$1","v":0},{"$f":"'Absorbance Data'!S3584-Calculations!P$1","v":0},{"$f":"'Absorbance Data'!T3584-Calculations!Q$1","v":0},{"$f":"'Absorbance Data'!U3584-Calculations!R$1","v":0},{"$f":"'Absorbance Data'!V3584-Calculations!S$1","v":0},{"$f":"'Absorbance Data'!W3584-Calculations!T$1","v":0},{"$f":"'Absorbance Data'!X3584-Calculations!U$1","v":0},{"$f":"'Absorbance Data'!Y3584-Calculations!V$1","v":0},{"$f":"'Absorbance Data'!Z3584-Calculations!W$1","v":0}]
[{"$f":"'Absorbance Data'!D3585","v":701.48138427734375},{"$f":"'Absorbance Data'!E3585-Calculations!B$1","v":0},{"$f":"'Absorbance Data'!F3585-Calculations!C$1","v":0},{"$f":"'Absorbance Data'!G3585-Calculations!D$1","v":0},{"$f":"'Absorbance Data'!H3585-Calculations!E$1","v":0},{"$f":"'Absorbance Data'!I3585-Calculations!F$1","v":0},{"$f":"'Absorbance Data'!J3585-Calculations!G$1","v":0},{"$f":"'Absorbance Data'!K3585-Calculations!H$1","v":0},{"$f":"'Absorbance Data'!L3585-Calculations!I$1","v":0},{"$f":"'Absorbance Data'!M3585-Calculations!J$1","v":0},{"$f":"'Absorbance Data'!N3585-Calculations!K$1","v":0},{"$f":"'Absorbance Data'!O3585-Calculations!L$1","v":0},{"$f":"'Absorbance Data'!P3585-Calculations!M$1","v":0},{"$f":"'Absorbance Data'!Q3585-Calculations!N$1","v":0},{"$f":"'Absorbance Data'!R3585-Calculations!O$1","v":0},{"$f":"'Absorbance Data'!S3585-Calculations!P$1","v":0},{"$f":"'Absorbance Data'!T3585-Calculations!Q$1","v":0},{"$f":"'Absorbance Data'!U3585-Calculations!R$1","v":0},{"$f":"'Absorbance Data'!V3585-Calculations!S$1","v":0},{"$f":"'Absorbance Data'!W3585-Calculations!T$1","v":0},{"$f":"'Absorbance Data'!X3585-Calculations!U$1","v":0},{"$f":"'Absorbance Data'!Y3585-Calculations!V$1","v":0},{"$f":"'Absorbance Data'!Z3585-Calculations!W$1","v":0}]
[{"$f":"'Absorbance Data'!D3586","v":701.78814697265625},{"$f":"'Absorbance Data'!E3586-Calculations!B$1","v":0},{"$f":"'Absorbance Data'!F3586-Calculations!C$1","v":0},{"$f":"'Absorbance Data'!G3586-Calculations!D$1","v":0},{"$f":"'Absorbance Data'!H3586-Calculations!E$1","v":0},{"$f":"'Absorbance Data'!I3586-Calculations!F$1","v":0},{"$f":"'Absorbance Data'!J3586-Calculations!G$1","v":0},{"$f":"'Absorbance Data'!K3586-Calculations!H$1","v":0},{"$f":"'Absorbance Data'!L3586-Calculations!I$1","v":0},{"$f":"'Absorbance Data'!M3586-Calculations!J$1","v":0},{"$f":"'Absorbance Data'!N3586-Calculations!K$1","v":0},{"$f":"'Absorbance Data'!O3586-Calculations!L$1","v":0},{"$f":"'Absorbance Data'!P3586-Calculations!M$1","v":0},{"$f":"'Absorbance Data'!Q3586-Calculations!N$1","v":0},{"$f":"'Absorbance Data'!R3586-Calculations!O$1","v":0},{"$f":"'Absorbance Data'!S3586-Calculations!P$1","v":0},{"$f":"'Absorbance Data'!T3586-Calculations!Q$1","v":0},{"$f":"'Absorbance Data'!U3586-Calculations!R$1","v":0},{"$f":"'Absorbance Data'!V3586-Calculations!S$1","v":0},{"$f":"'Absorbance Data'!W3586-Calculations!T$1","v":0},{"$f":"'Absorbance Data'!X3586-Calculations!U$1","v":0},{"$f":"'Absorbance Data'!Y3586-Calculations!V$1","v":0},{"$f":"'Absorbance Data'!Z3586-Calculations!W$1","v":0}]
[{"$f":"'Absorbance Data'!D3587","v":702.0948486328125},{"$f":"'Absorbance Data'!E3587-Calculations!B$1","v":0},{"$f":"'Absorbance Data'!F3587-Calculations!C$1","v":0},{"$f":"'Absorbance Data'!G3587-Calculations!D$1","v":0},{"$f":"'Absorbance Data'!H3587-Calculations!E$1","v":0},{"$f":"'Absorbance Data'!I3587-Calculations!F$1","v":0},{"$f":"'Absorbance Data'!J3587-Calculations!G$1","v":0},{"$f":"'Absorbance Data'!K3587-Calculations!H$1","v":0},{"$f":"'Absorbance Data'!L3587-Calculations!I$1","v":0},{"$f":"'Absorbance Data'!M3587-Calculations!J$1","v":0},{"$f":"'Absorbance Data'!N3587-Calculations!K$1","v":0},{"$f":"'Absorbance Data'!O3587-Calculations!L$1","v":0},{"$f":"'Absorbance Data'!P3587-Calculations!M$1","v":0},{"$f":"'Absorbance Data'!Q3587-Calculations!N$1","v":0},{"$f":"'Absorbance Data'!R3587-Calculations!O$1","v":0},{"$f":"'Absorbance Data'!S3587-Calculations!P$1","v":0},{"$f":"'Absorbance Data'!T3587-Calculations!Q$1","v":0},{"$f":"'Absorbance Data'!U3587-Calculations!R$1","v":0},{"$f":"'Absorbance Data'!V3587-Calculations!S$1","v":0},{"$f":"'Absorbance Data'!W3587-Calculations!T$1","v":0},{"$f":"'Absorbance Data'!X3587-Calculations!U$1","v":0},{"$f":"'Absorbance Data'!Y3587-Calculations!V$1","v":0},{"$f":"'Absorbance Data'!Z3587-Calculations!W$1","v":0}]
[{"$f":"'Absorbance Data'!D3588","v":702.40155029296875},{"$f":"'Absorbance Data'!E3588-Calculations!B$1","v":0},{"$f":"'Absorbance Data'!F3588-Calculations!C$1","v":0},{"$f":"'Absorbance Data'!G3588-Calculations!D$1","v":0},{"$f":"'Absorbance Data'!H3588-Calculations!E$1","v":0},{"$f":"'Absorbance Data'!I3588-Calculations!F$1","v":0},{"$f":"'Absorbance Data'!J3588-Calculations!G$1","v":0},{"$f":"'Absorbance Data'!K3588-Calculations!H$1","v":0},{"$f":"'Absorbance Data'!L3588-Calculations!I$1","v":0},{"$f":"'Absorbance Data'!M3588-Calculations!J$1","v":0},{"$f":"'Absorbance Data'!N3588-Calculations!K$1","v":0},{"$f":"'Absorbance Data'!O3588-Calculations!L$1","v":0},{"$f":"'Absorbance Data'!P3588-Calculations!M$1","v":0},{"$f":"'Absorbance Data'!Q3588-Calculations!N$1","v":0},{"$f":"'Absorbance Data'!R3588-Calculations!O$1","v":0},{"$f":"'Absorbance Data'!S3588-Calculations!P$1","v":0},{"$f":"'Absorbance Data'!T3588-Calculations!Q$1","v":0},{"$f":"'Absorbance Data'!U3588-Calculations!R$1","v":0},{"$f":"'Absorbance Data'!V3588-Calculations!S$1","v":0},{"$f":"'Absorbance Data'!W3588-Calculations!T$1","v":0},{"$f":"'Absorbance Data'!X3588-Calculations!U$1","v":0},{"$f":"'Absorbance Data'!Y3588-Calculations!V$1","v":0},{"$f":"'Absorbance Data'!Z3588-Calculations!W$1","v":0}]
[{"$f":"'Absorbance Data'!D3589","v":702.70819091796875},{"$f":"'Absorbance Data'!E3589-Calculations!B$1","v":0},{"$f":"'Absorbance Data'!F3589-Calculations!C$1","v":0},{"$f":"'Absorbance Data'!G3589-Calculations!D$1","v":0},{"$f":"'Absorbance Data'!H3589-Calculations!E$1","v":0},{"$f":"'Absorbance Data'!I3589-Calculations!F$1","v":0},{"$f":"'Absorbance Data'!J3589-Calculations!G$1","v":0},{"$f":"'Absorbance Data'!K3589-Calculations!H$1","v":0},{"$f":"'Absorbance Data'!L3589-Calculations!I$1","v":0},{"$f":"'Absorbance Data'!M3589-Calculations!J$1","v":0},{"$f":"'Absorbance Data'!N3589-Calculations!K$1","v":0},{"$f":"'Absorbance Data'!O3589-Calculations!L$1","v":0},{"$f":"'Absorbance Data'!P3589-Calculations!M$1","v":0},{"$f":"'Absorbance Data'!Q3589-Calculations!N$1","v":0},{"$f":"'Absorbance Data'!R3589-Calculations!O$1","v":0},{"$f":"'Absorbance Data'!S3589-Calculations!P$1","v":0},{"$f":"'Absorbance Data'!T3589-Calculations!Q$1","v":0},{"$f":"'Absorbance Data'!U3589-Calculations!R$1","v":0},{"$f":"'Absorbance Data'!V3589-Calculations!S$1","v":0},{"$f":"'Absorbance Data'!W3589-Calculations!T$1","v":0},{"$f":"'Absorbance Data'!X3589-Calculations!U$1","v":0},{"$f":"'Absorbance Data'!Y3589-Calculations!V$1","v":0},{"$f":"'Absorbance Data'!Z3589-Calculations!W$1","v":0}]
[{"$f":"'Absorbance Data'!D3590","v":703.01470947265625},{"$f":"'Absorbance Data'!E3590-Calculations!B$1","v":0},{"$f":"'Absorbance Data'!F3590-Calculations!C$1","v":0},{"$f":"'Absorbance Data'!G3590-Calculations!D$1","v":0},{"$f":"'Absorbance Data'!H3590-Calculations!E$1","v":0},{"$f":"'Absorbance Data'!I3590-Calculations!F$1","v":0},{"$f":"'Absorbance Data'!J3590-Calculations!G$1","v":0},{"$f":"'Absorbance Data'!K3590-Calculations!H$1","v":0},{"$f":"'Absorbance Data'!L3590-Calculations!I$1","v":0},{"$f":"'Absorbance Data'!M3590-Calculations!J$1","v":0},{"$f":"'Absorbance Data'!N3590-Calculations!K$1","v":0},{"$f":"'Absorbance Data'!O3590-Calculations!L$1","v":0},{"$f":"'Absorbance Data'!P3590-Calculations!M$1","v":0},{"$f":"'Absorbance Data'!Q3590-Calculations!N$1","v":0},{"$f":"'Absorbance Data'!R3590-Calculations!O$1","v":0},{"$f":"'Absorbance Data'!S3590-Calculations!P$1","v":0},{"$f":"'Absorbance Data'!T3590-Calculations!Q$1","v":0},{"$f":"'Absorbance Data'!U3590-Calculations!R$1","v":0},{"$f":"'Absorbance Data'!V3590-Calculations!S$1","v":0},{"$f":"'Absorbance Data'!W3590-Calculations!T$1","v":0},{"$f":"'Absorbance Data'!X3590-Calculations!U$1","v":0},{"$f":"'Absorbance Data'!Y3590-Calculations!V$1","v":0},{"$f":"'Absorbance Data'!Z3590-Calculations!W$1","v":0}]
[{"$f":"'Absorbance Data'!D3591","v":703.3212890625},{"$f":"'Absorbance Data'!E3591-Calculations!B$1","v":0},{"$f":"'Absorbance Data'!F3591-Calculations!C$1","v":0},{"$f":"'Absorbance Data'!G3591-Calculations!D$1","v":0},{"$f":"'Absorbance Data'!H3591-Calculations!E$1","v":0},{"$f":"'Absorbance Data'!I3591-Calculations!F$1","v":0},{"$f":"'Absorbance Data'!J3591-Calculations!G$1","v":0},{"$f":"'Absorbance Data'!K3591-Calculations!H$1","v":0},{"$f":"'Absorbance Data'!L3591-Calculations!I$1","v":0},{"$f":"'Absorbance Data'!M3591-Calculations!J$1","v":0},{"$f":"'Absorbance Data'!N3591-Calculations!K$1","v":0},{"$f":"'Absorbance Data'!O3591-Calculations!L$1","v":0},{"$f":"'Absorbance Data'!P3591-Calculations!M$1","v":0},{"$f":"'Absorbance Data'!Q3591-Calculations!N$1","v":0},{"$f":"'Absorbance Data'!R3591-Calculations!O$1","v":0},{"$f":"'Absorbance Data'!S3591-Calculations!P$1","v":0},{"$f":"'Absorbance Data'!T3591-Calculations!Q$1","v":0},{"$f":"'Absorbance Data'!U3591-Calculations!R$1","v":0},{"$f":"'Absorbance Data'!V3591-Calculations!S$1","v":0},{"$f":"'Absorbance Data'!W3591-Calculations!T$1","v":0},{"$f":"'Absorbance Data'!X3591-Calculations!U$1","v":0},{"$f":"'Absorbance Data'!Y3591-Calculations!V$1","v":0},{"$f":"'Absorbance Data'!Z3591-Calculations!W$1","v":0}]
[{"$f":"'Absorbance Data'!D3592","v":703.62774658203125},{"$f":"'Absorbance Data'!E3592-Calculations!B$1","v":0},{"$f":"'Absorbance Data'!F3592-Calculations!C$1","v":0},{"$f":"'Absorbance Data'!G3592-Calculations!D$1","v":0},{"$f":"'Absorbance Data'!H3592-Calculations!E$1","v":0},{"$f":"'Absorbance Data'!I3592-Calculations!F$1","v":0},{"$f":"'Absorbance Data'!J3592-Calculations!G$1","v":0},{"$f":"'Absorbance Data'!K3592-Calculations!H$1","v":0},{"$f":"'Absorbance Data'!L3592-Calculations!I$1","v":0},{"$f":"'Absorbance Data'!M3592-Calculations!J$1","v":0},{"$f":"'Absorbance Data'!N3592-Calculations!K$1","v":0},{"$f":"'Absorbance Data'!O3592-Calculations!L$1","v":0},{"$f":"'Absorbance Data'!P3592-Calculations!M$1","v":0},{"$f":"'Absorbance Data'!Q3592-Calculations!N$1","v":0},{"$f":"'Absorbance Data'!R3592-Calculations!O$1","v":0},{"$f":"'Absorbance Data'!S3592-Calculations!P$1","v":0},{"$f":"'Absorbance Data'!T3592-Calculations!Q$1","v":0},{"$f":"'Absorbance Data'!U3592-Calculations!R$1","v":0},{"$f":"'Absorbance Data'!V3592-Calculations!S$1","v":0},{"$f":"'Absorbance Data'!W3592-Calculations!T$1","v":0},{"$f":"'Absorbance Data'!X3592-Calculations!U$1","v":0},{"$f":"'Absorbance Data'!Y3592-Calculations!V$1","v":0},{"$f":"'Absorbance Data'!Z3592-Calculations!W$1","v":0}]
[{"$f":"'Absorbance Data'!D3593","v":703.9342041015625},{"$f":"'Absorbance Data'!E3593-Calculations!B$1","v":0},{"$f":"'Absorbance Data'!F3593-Calculations!C$1","v":0},{"$f":"'Absorbance Data'!G3593-Calculations!D$1","v":0},{"$f":"'Absorbance Data'!H3593-Calculations!E$1","v":0},{"$f":"'Absorbance Data'!I3593-Calculations!F$1","v":0},{"$f":"'Absorbance Data'!J3593-Calculations!G$1","v":0},{"$f":"'Absorbance Data'!K3593-Calculations!H$1","v":0},{"$f":"'Absorbance Data'!L3593-Calculations!I$1","v":0},{"$f":"'Absorbance Data'!M3593-Calculations!J$1","v":0},{"$f":"'Absorbance Data'!N3593-Calculations!K$1","v":0},{"$f":"'Absorbance Data'!O3593-Calculations!L$1","v":0},{"$f":"'Absorbance Data'!P3593-Calculations!M$1","v":0},{"$f":"'Absorbance Data'!Q3593-Calculations!N$1","v":0},{"$f":"'Absorbance Data'!R3593-Calculations!O$1","v":0},{"$f":"'Absorbance Data'!S3593-Calculations!P$1","v":0},{"$f":"'Absorbance Data'!T3593-Calculations!Q$1","v":0},{"$f":"'Absorbance Data'!U3593-Calculations!R$1","v":0},{"$f":"'Absorbance Data'!V3593-Calculations!S$1","v":0},{"$f":"'Absorbance Data'!W3593-Calculations!T$1","v":0},{"$f":"'Absorbance Data'!X3593-Calculations!U$1","v":0},{"$f":"'Absorbance Data'!Y3593-Calculations!V$1","v":0},{"$f":"'Absorbance Data'!Z3593-Calculations!W$1","v":0}]
[{"$f":"'Absorbance Data'!D3594","v":704.2406005859375},{"$f":"'Absorbance Data'!E3594-Calculations!B$1","v":0},{"$f":"'Absorbance Data'!F3594-Calculations!C$1","v":0},{"$f":"'Absorbance Data'!G3594-Calculations!D$1","v":0},{"$f":"'Absorbance Data'!H3594-Calculations!E$1","v":0},{"$f":"'Absorbance Data'!I3594-Calculations!F$1","v":0},{"$f":"'Absorbance Data'!J3594-Calculations!G$1","v":0},{"$f":"'Absorbance Data'!K3594-Calculations!H$1","v":0},{"$f":"'Absorbance Data'!L3594-Calculations!I$1","v":0},{"$f":"'Absorbance Data'!M3594-Calculations!J$1","v":0},{"$f":"'Absorbance Data'!N3594-Calculations!K$1","v":0},{"$f":"'Absorbance Data'!O3594-Calculations!L$1","v":0},{"$f":"'Absorbance Data'!P3594-Calculations!M$1","v":0},{"$f":"'Absorbance Data'!Q3594-Calculations!N$1","v":0},{"$f":"'Absorbance Data'!R3594-Calculations!O$1","v":0},{"$f":"'Absorbance Data'!S3594-Calculations!P$1","v":0},{"$f":"'Absorbance Data'!T3594-Calculations!Q$1","v":0},{"$f":"'Absorbance Data'!U3594-Calculations!R$1","v":0},{"$f":"'Absorbance Data'!V3594-Calculations!S$1","v":0},{"$f":"'Absorbance Data'!W3594-Calculations!T$1","v":0},{"$f":"'Absorbance Data'!X3594-Calculations!U$1","v":0},{"$f":"'Absorbance Data'!Y3594-Calculations!V$1","v":0},{"$f":"'Absorbance Data'!Z3594-Calculations!W$1","v":0}]
[{"$f":"'Absorbance Data'!D3595","v":704.5469970703125},{"$f":"'Absorbance Data'!E3595-Calculations!B$1","v":0},{"$f":"'Absorbance Data'!F3595-Calculations!C$1","v":0},{"$f":"'Absorbance Data'!G3595-Calculations!D$1","v":0},{"$f":"'Absorbance Data'!H3595-Calculations!E$1","v":0},{"$f":"'Absorbance Data'!I3595-Calculations!F$1","v":0},{"$f":"'Absorbance Data'!J3595-Calculations!G$1","v":0},{"$f":"'Absorbance Data'!K3595-Calculations!H$1","v":0},{"$f":"'Absorbance Data'!L3595-Calculations!I$1","v":0},{"$f":"'Absorbance Data'!M3595-Calculations!J$1","v":0},{"$f":"'Absorbance Data'!N3595-Calculations!K$1","v":0},{"$f":"'Absorbance Data'!O3595-Calculations!L$1","v":0},{"$f":"'Absorbance Data'!P3595-Calculations!M$1","v":0},{"$f":"'Absorbance Data'!Q3595-Calculations!N$1","v":0},{"$f":"'Absorbance Data'!R3595-Calculations!O$1","v":0},{"$f":"'Absorbance Data'!S3595-Calculations!P$1","v":0},{"$f":"'Absorbance Data'!T3595-Calculations!Q$1","v":0},{"$f":"'Absorbance Data'!U3595-Calculations!R$1","v":0},{"$f":"'Absorbance Data'!V3595-Calculations!S$1","v":0},{"$f":"'Absorbance Data'!W3595-Calculations!T$1","v":0},{"$f":"'Absorbance Data'!X3595-Calculations!U$1","v":0},{"$f":"'Absorbance Data'!Y3595-Calculations!V$1","v":0},{"$f":"'Absorbance Data'!Z3595-Calculations!W$1","v":0}]
[{"$f":"'Absorbance Data'!D3596","v":704.85321044921875},{"$f":"'Absorbance Data'!E3596-Calculations!B$1","v":0},{"$f":"'Absorbance Data'!F3596-Calculations!C$1","v":0},{"$f":"'Absorbance Data'!G3596-Calculations!D$1","v":0},{"$f":"'Absorbance Data'!H3596-Calculations!E$1","v":0},{"$f":"'Absorbance Data'!I3596-Calculations!F$1","v":0},{"$f":"'Absorbance Data'!J3596-Calculations!G$1","v":0},{"$f":"'Absorbance Data'!K3596-Calculations!H$1","v":0},{"$f":"'Absorbance Data'!L3596-Calculations!I$1","v":0},{"$f":"'Absorbance Data'!M3596-Calculations!J$1","v":0},{"$f":"'Absorbance Data'!N3596-Calculations!K$1","v":0},{"$f":"'Absorbance Data'!O3596-Calculations!L$1","v":0},{"$f":"'Absorbance Data'!P3596-Calculations!M$1","v":0},{"$f":"'Absorbance Data'!Q3596-Calculations!N$1","v":0},{"$f":"'Absorbance Data'!R3596-Calculations!O$1","v":0},{"$f":"'Absorbance Data'!S3596-Calculations!P$1","v":0},{"$f":"'Absorbance Data'!T3596-Calculations!Q$1","v":0},{"$f":"'Absorbance Data'!U3596-Calculations!R$1","v":0},{"$f":"'Absorbance Data'!V3596-Calculations!S$1","v":0},{"$f":"'Absorbance Data'!W3596-Calculations!T$1","v":0},{"$f":"'Absorbance Data'!X3596-Calculations!U$1","v":0},{"$f":"'Absorbance Data'!Y3596-Calculations!V$1","v":0},{"$f":"'Absorbance Data'!Z3596-Calculations!W$1","v":0}]
[{"$f":"'Absorbance Data'!D3597","v":705.1595458984375},{"$f":"'Absorbance Data'!E3597-Calculations!B$1","v":0},{"$f":"'Absorbance Data'!F3597-Calculations!C$1","v":0},{"$f":"'Absorbance Data'!G3597-Calculations!D$1","v":0},{"$f":"'Absorbance Data'!H3597-Calculations!E$1","v":0},{"$f":"'Absorbance Data'!I3597-Calculations!F$1","v":0},{"$f":"'Absorbance Data'!J3597-Calculations!G$1","v":0},{"$f":"'Absorbance Data'!K3597-Calculations!H$1","v":0},{"$f":"'Absorbance Data'!L3597-Calculations!I$1","v":0},{"$f":"'Absorbance Data'!M3597-Calculations!J$1","v":0},{"$f":"'Absorbance Data'!N3597-Calculations!K$1","v":0},{"$f":"'Absorbance Data'!O3597-Calculations!L$1","v":0},{"$f":"'Absorbance Data'!P3597-Calculations!M$1","v":0},{"$f":"'Absorbance Data'!Q3597-Calculations!N$1","v":0},{"$f":"'Absorbance Data'!R3597-Calculations!O$1","v":0},{"$f":"'Absorbance Data'!S3597-Calculations!P$1","v":0},{"$f":"'Absorbance Data'!T3597-Calculations!Q$1","v":0},{"$f":"'Absorbance Data'!U3597-Calculations!R$1","v":0},{"$f":"'Absorbance Data'!V3597-Calculations!S$1","v":0},{"$f":"'Absorbance Data'!W3597-Calculations!T$1","v":0},{"$f":"'Absorbance Data'!X3597-Calculations!U$1","v":0},{"$f":"'Absorbance Data'!Y3597-Calculations!V$1","v":0},{"$f":"'Absorbance Data'!Z3597-Calculations!W$1","v":0}]
[{"$f":"'Absorbance Data'!D3598","v":705.4658203125},{"$f":"'Absorbance Data'!E3598-Calculations!B$1","v":0},{"$f":"'Absorbance Data'!F3598-Calculations!C$1","v":0},{"$f":"'Absorbance Data'!G3598-Calculations!D$1","v":0},{"$f":"'Absorbance Data'!H3598-Calculations!E$1","v":0},{"$f":"'Absorbance Data'!I3598-Calculations!F$1","v":0},{"$f":"'Absorbance Data'!J3598-Calculations!G$1","v":0},{"$f":"'Absorbance Data'!K3598-Calculations!H$1","v":0},{"$f":"'Absorbance Data'!L3598-Calculations!I$1","v":0},{"$f":"'Absorbance Data'!M3598-Calculations!J$1","v":0},{"$f":"'Absorbance Data'!N3598-Calculations!K$1","v":0},{"$f":"'Absorbance Data'!O3598-Calculations!L$1","v":0},{"$f":"'Absorbance Data'!P3598-Calculations!M$1","v":0},{"$f":"'Absorbance Data'!Q3598-Calculations!N$1","v":0},{"$f":"'Absorbance Data'!R3598-Calculations!O$1","v":0},{"$f":"'Absorbance Data'!S3598-Calculations!P$1","v":0},{"$f":"'Absorbance Data'!T3598-Calculations!Q$1","v":0},{"$f":"'Absorbance Data'!U3598-Calculations!R$1","v":0},{"$f":"'Absorbance Data'!V3598-Calculations!S$1","v":0},{"$f":"'Absorbance Data'!W3598-Calculations!T$1","v":0},{"$f":"'Absorbance Data'!X3598-Calculations!U$1","v":0},{"$f":"'Absorbance Data'!Y3598-Calculations!V$1","v":0},{"$f":"'Absorbance Data'!Z3598-Calculations!W$1","v":0}]
[{"$f":"'Absorbance Data'!D3599","v":705.77197265625},{"$f":"'Absorbance Data'!E3599-Calculations!B$1","v":0},{"$f":"'Absorbance Data'!F3599-Calculations!C$1","v":0},{"$f":"'Absorbance Data'!G3599-Calculations!D$1","v":0},{"$f":"'Absorbance Data'!H3599-Calculations!E$1","v":0},{"$f":"'Absorbance Data'!I3599-Calculations!F$1","v":0},{"$f":"'Absorbance Data'!J3599-Calculations!G$1","v":0},{"$f":"'Absorbance Data'!K3599-Calculations!H$1","v":0},{"$f":"'Absorbance Data'!L3599-Calculations!I$1","v":0},{"$f":"'Absorbance Data'!M3599-Calculations!J$1","v":0},{"$f":"'Absorbance Data'!N3599-Calculations!K$1","v":0},{"$f":"'Absorbance Data'!O3599-Calculations!L$1","v":0},{"$f":"'Absorbance Data'!P3599-Calculations!M$1","v":0},{"$f":"'Absorbance Data'!Q3599-Calculations!N$1","v":0},{"$f":"'Absorbance Data'!R3599-Calculations!O$1","v":0},{"$f":"'Absorbance Data'!S3599-Calculations!P$1","v":0},{"$f":"'Absorbance Data'!T3599-Calculations!Q$1","v":0},{"$f":"'Absorbance Data'!U3599-Calculations!R$1","v":0},{"$f":"'Absorbance Data'!V3599-Calculations!S$1","v":0},{"$f":"'Absorbance Data'!W3599-Calculations!T$1","v":0},{"$f":"'Absorbance Data'!X3599-Calculations!U$1","v":0},{"$f":"'Absorbance Data'!Y3599-Calculations!V$1","v":0},{"$f":"'Absorbance Data'!Z3599-Calculations!W$1","v":0}]
[{"$f":"'Absorbance Data'!D3600","v":706.078125},{"$f":"'Absorbance Data'!E3600-Calculations!B$1","v":0},{"$f":"'Absorbance Data'!F3600-Calculations!C$1","v":0},{"$f":"'Absorbance Data'!G3600-Calculations!D$1","v":0},{"$f":"'Absorbance Data'!H3600-Calculations!E$1","v":0},{"$f":"'Absorbance Data'!I3600-Calculations!F$1","v":0},{"$f":"'Absorbance Data'!J3600-Calculations!G$1","v":0},{"$f":"'Absorbance Data'!K3600-Calculations!H$1","v":0},{"$f":"'Absorbance Data'!L3600-Calculations!I$1","v":0},{"$f":"'Absorbance Data'!M3600-Calculations!J$1","v":0},{"$f":"'Absorbance Data'!N3600-Calculations!K$1","v":0},{"$f":"'Absorbance Data'!O3600-Calculations!L$1","v":0},{"$f":"'Absorbance Data'!P3600-Calculations!M$1","v":0},{"$f":"'Absorbance Data'!Q3600-Calculations!N$1","v":0},{"$f":"'Absorbance Data'!R3600-Calculations!O$1","v":0},{"$f":"'Absorbance Data'!S3600-Calculations!P$1","v":0},{"$f":"'Absorbance Data'!T3600-Calculations!Q$1","v":0},{"$f":"'Absorbance Data'!U3600-Calculations!R$1","v":0},{"$f":"'Absorbance Data'!V3600-Calculations!S$1","v":0},{"$f":"'Absorbance Data'!W3600-Calculations!T$1","v":0},{"$f":"'Absorbance Data'!X3600-Calculations!U$1","v":0},{"$f":"'Absorbance Data'!Y3600-Calculations!V$1","v":0},{"$f":"'Absorbance Data'!Z3600-Calculations!W$1","v":0}]
[{"$f":"'Absorbance Data'!D3601","v":706.3841552734375},{"$f":"'Absorbance Data'!E3601-Calculations!B$1","v":0},{"$f":"'Absorbance Data'!F3601-Calculations!C$1","v":0},{"$f":"'Absorbance Data'!G3601-Calculations!D$1","v":0},{"$f":"'Absorbance Data'!H3601-Calculations!E$1","v":0},{"$f":"'Absorbance Data'!I3601-Calculations!F$1","v":0},{"$f":"'Absorbance Data'!J3601-Calculations!G$1","v":0},{"$f":"'Absorbance Data'!K3601-Calculations!H$1","v":0},{"$f":"'Absorbance Data'!L3601-Calculations!I$1","v":0},{"$f":"'Absorbance Data'!M3601-Calculations!J$1","v":0},{"$f":"'Absorbance Data'!N3601-Calculations!K$1","v":0},{"$f":"'Absorbance Data'!O3601-Calculations!L$1","v":0},{"$f":"'Absorbance Data'!P3601-Calculations!M$1","v":0},{"$f":"'Absorbance Data'!Q3601-Calculations!N$1","v":0},{"$f":"'Absorbance Data'!R3601-Calculations!O$1","v":0},{"$f":"'Absorbance Data'!S3601-Calculations!P$1","v":0},{"$f":"'Absorbance Data'!T3601-Calculations!Q$1","v":0},{"$f":"'Absorbance Data'!U3601-Calculations!R$1","v":0},{"$f":"'Absorbance Data'!V3601-Calculations!S$1","v":0},{"$f":"'Absorbance Data'!W3601-Calculations!T$1","v":0},{"$f":"'Absorbance Data'!X3601-Calculations!U$1","v":0},{"$f":"'Absorbance Data'!Y3601-Calculations!V$1","v":0},{"$f":"'Absorbance Data'!Z3601-Calculations!W$1","v":0}]
[{"$f":"'Absorbance Data'!D3602","v":706.69024658203125},{"$f":"'Absorbance Data'!E3602-Calculations!B$1","v":0},{"$f":"'Absorbance Data'!F3602-Calculations!C$1","v":0},{"$f":"'Absorbance Data'!G3602-Calculations!D$1","v":0},{"$f":"'Absorbance Data'!H3602-Calculations!E$1","v":0},{"$f":"'Absorbance Data'!I3602-Calculations!F$1","v":0},{"$f":"'Absorbance Data'!J3602-Calculations!G$1","v":0},{"$f":"'Absorbance Data'!K3602-Calculations!H$1","v":0},{"$f":"'Absorbance Data'!L3602-Calculations!I$1","v":0},{"$f":"'Absorbance Data'!M3602-Calculations!J$1","v":0},{"$f":"'Absorbance Data'!N3602-Calculations!K$1","v":0},{"$f":"'Absorbance Data'!O3602-Calculations!L$1","v":0},{"$f":"'Absorbance Data'!P3602-Calculations!M$1","v":0},{"$f":"'Absorbance Data'!Q3602-Calculations!N$1","v":0},{"$f":"'Absorbance Data'!R3602-Calculations!O$1","v":0},{"$f":"'Absorbance Data'!S3602-Calculations!P$1","v":0},{"$f":"'Absorbance Data'!T3602-Calculations!Q$1","v":0},{"$f":"'Absorbance Data'!U3602-Calculations!R$1","v":0},{"$f":"'Absorbance Data'!V3602-Calculations!S$1","v":0},{"$f":"'Absorbance Data'!W3602-Calculations!T$1","v":0},{"$f":"'Absorbance Data'!X3602-Calculations!U$1","v":0},{"$f":"'Absorbance Data'!Y3602-Calculations!V$1","v":0},{"$f":"'Absorbance Data'!Z3602-Calculations!W$1","v":0}]
[{"$f":"'Absorbance Data'!D3603","v":706.99627685546875},{"$f":"'Absorbance Data'!E3603-Calculations!B$1","v":0},{"$f":"'Absorbance Data'!F3603-Calculations!C$1","v":0},{"$f":"'Absorbance Data'!G3603-Calculations!D$1","v":0},{"$f":"'Absorbance Data'!H3603-Calculations!E$1","v":0},{"$f":"'Absorbance Data'!I3603-Calculations!F$1","v":0},{"$f":"'Absorbance Data'!J3603-Calculations!G$1","v":0},{"$f":"'Absorbance Data'!K3603-Calculations!H$1","v":0},{"$f":"'Absorbance Data'!L3603-Calculations!I$1","v":0},{"$f":"'Absorbance Data'!M3603-Calculations!J$1","v":0},{"$f":"'Absorbance Data'!N3603-Calculations!K$1","v":0},{"$f":"'Absorbance Data'!O3603-Calculations!L$1","v":0},{"$f":"'Absorbance Data'!P3603-Calculations!M$1","v":0},{"$f":"'Absorbance Data'!Q3603-Calculations!N$1","v":0},{"$f":"'Absorbance Data'!R3603-Calculations!O$1","v":0},{"$f":"'Absorbance Data'!S3603-Calculations!P$1","v":0},{"$f":"'Absorbance Data'!T3603-Calculations!Q$1","v":0},{"$f":"'Absorbance Data'!U3603-Calculations!R$1","v":0},{"$f":"'Absorbance Data'!V3603-Calculations!S$1","v":0},{"$f":"'Absorbance Data'!W3603-Calculations!T$1","v":0},{"$f":"'Absorbance Data'!X3603-Calculations!U$1","v":0},{"$f":"'Absorbance Data'!Y3603-Calculations!V$1","v":0},{"$f":"'Absorbance Data'!Z3603-Calculations!W$1","v":0}]
[{"$f":"'Absorbance Data'!D3604","v":707.30224609375},{"$f":"'Absorbance Data'!E3604-Calculations!B$1","v":0},{"$f":"'Absorbance Data'!F3604-Calculations!C$1","v":0},{"$f":"'Absorbance Data'!G3604-Calculations!D$1","v":0},{"$f":"'Absorbance Data'!H3604-Calculations!E$1","v":0},{"$f":"'Absorbance Data'!I3604-Calculations!F$1","v":0},{"$f":"'Absorbance Data'!J3604-Calculations!G$1","v":0},{"$f":"'Absorbance Data'!K3604-Calculations!H$1","v":0},{"$f":"'Absorbance Data'!L3604-Calculations!I$1","v":0},{"$f":"'Absorbance Data'!M3604-Calculations!J$1","v":0},{"$f":"'Absorbance Data'!N3604-Calculations!K$1","v":0},{"$f":"'Absorbance Data'!O3604-Calculations!L$1","v":0},{"$f":"'Absorbance Data'!P3604-Calculations!M$1","v":0},{"$f":"'Absorbance Data'!Q3604-Calculations!N$1","v":0},{"$f":"'Absorbance Data'!R3604-Calculations!O$1","v":0},{"$f":"'Absorbance Data'!S3604-Calculations!P$1","v":0},{"$f":"'Absorbance Data'!T3604-Calculations!Q$1","v":0},{"$f":"'Absorbance Data'!U3604-Calculations!R$1","v":0},{"$f":"'Absorbance Data'!V3604-Calculations!S$1","v":0},{"$f":"'Absorbance Data'!W3604-Calculations!T$1","v":0},{"$f":"'Absorbance Data'!X3604-Calculations!U$1","v":0},{"$f":"'Absorbance Data'!Y3604-Calculations!V$1","v":0},{"$f":"'Absorbance Data'!Z3604-Calculations!W$1","v":0}]
[{"$f":"'Absorbance Data'!D3605","v":707.60809326171875},{"$f":"'Absorbance Data'!E3605-Calculations!B$1","v":0},{"$f":"'Absorbance Data'!F3605-Calculations!C$1","v":0},{"$f":"'Absorbance Data'!G3605-Calculations!D$1","v":0},{"$f":"'Absorbance Data'!H3605-Calculations!E$1","v":0},{"$f":"'Absorbance Data'!I3605-Calculations!F$1","v":0},{"$f":"'Absorbance Data'!J3605-Calculations!G$1","v":0},{"$f":"'Absorbance Data'!K3605-Calculations!H$1","v":0},{"$f":"'Absorbance Data'!L3605-Calculations!I$1","v":0},{"$f":"'Absorbance Data'!M3605-Calculations!J$1","v":0},{"$f":"'Absorbance Data'!N3605-Calculations!K$1","v":0},{"$f":"'Absorbance Data'!O3605-Calculations!L$1","v":0},{"$f":"'Absorbance Data'!P3605-Calculations!M$1","v":0},{"$f":"'Absorbance Data'!Q3605-Calculations!N$1","v":0},{"$f":"'Absorbance Data'!R3605-Calculations!O$1","v":0},{"$f":"'Absorbance Data'!S3605-Calculations!P$1","v":0},{"$f":"'Absorbance Data'!T3605-Calculations!Q$1","v":0},{"$f":"'Absorbance Data'!U3605-Calculations!R$1","v":0},{"$f":"'Absorbance Data'!V3605-Calculations!S$1","v":0},{"$f":"'Absorbance Data'!W3605-Calculations!T$1","v":0},{"$f":"'Absorbance Data'!X3605-Calculations!U$1","v":0},{"$f":"'Absorbance Data'!Y3605-Calculations!V$1","v":0},{"$f":"'Absorbance Data'!Z3605-Calculations!W$1","v":0}]
[{"$f":"'Absorbance Data'!D3606","v":707.9139404296875},{"$f":"'Absorbance Data'!E3606-Calculations!B$1","v":0},{"$f":"'Absorbance Data'!F3606-Calculations!C$1","v":0},{"$f":"'Absorbance Data'!G3606-Calculations!D$1","v":0},{"$f":"'Absorbance Data'!H3606-Calculations!E$1","v":0},{"$f":"'Absorbance Data'!I3606-Calculations!F$1","v":0},{"$f":"'Absorbance Data'!J3606-Calculations!G$1","v":0},{"$f":"'Absorbance Data'!K3606-Calculations!H$1","v":0},{"$f":"'Absorbance Data'!L3606-Calculations!I$1","v":0},{"$f":"'Absorbance Data'!M3606-Calculations!J$1","v":0},{"$f":"'Absorbance Data'!N3606-Calculations!K$1","v":0},{"$f":"'Absorbance Data'!O3606-Calculations!L$1","v":0},{"$f":"'Absorbance Data'!P3606-Calculations!M$1","v":0},{"$f":"'Absorbance Data'!Q3606-Calculations!N$1","v":0},{"$f":"'Absorbance Data'!R3606-Calculations!O$1","v":0},{"$f":"'Absorbance Data'!S3606-Calculations!P$1","v":0},{"$f":"'Absorbance Data'!T3606-Calculations!Q$1","v":0},{"$f":"'Absorbance Data'!U3606-Calculations!R$1","v":0},{"$f":"'Absorbance Data'!V3606-Calculations!S$1","v":0},{"$f":"'Absorbance Data'!W3606-Calculations!T$1","v":0},{"$f":"'Absorbance Data'!X3606-Calculations!U$1","v":0},{"$f":"'Absorbance Data'!Y3606-Calculations!V$1","v":0},{"$f":"'Absorbance Data'!Z3606-Calculations!W$1","v":0}]
[{"$f":"'Absorbance Data'!D3607","v":708.21978759765625},{"$f":"'Absorbance Data'!E3607-Calculations!B$1","v":0},{"$f":"'Absorbance Data'!F3607-Calculations!C$1","v":0},{"$f":"'Absorbance Data'!G3607-Calculations!D$1","v":0},{"$f":"'Absorbance Data'!H3607-Calculations!E$1","v":0},{"$f":"'Absorbance Data'!I3607-Calculations!F$1","v":0},{"$f":"'Absorbance Data'!J3607-Calculations!G$1","v":0},{"$f":"'Absorbance Data'!K3607-Calculations!H$1","v":0},{"$f":"'Absorbance Data'!L3607-Calculations!I$1","v":0},{"$f":"'Absorbance Data'!M3607-Calculations!J$1","v":0},{"$f":"'Absorbance Data'!N3607-Calculations!K$1","v":0},{"$f":"'Absorbance Data'!O3607-Calculations!L$1","v":0},{"$f":"'Absorbance Data'!P3607-Calculations!M$1","v":0},{"$f":"'Absorbance Data'!Q3607-Calculations!N$1","v":0},{"$f":"'Absorbance Data'!R3607-Calculations!O$1","v":0},{"$f":"'Absorbance Data'!S3607-Calculations!P$1","v":0},{"$f":"'Absorbance Data'!T3607-Calculations!Q$1","v":0},{"$f":"'Absorbance Data'!U3607-Calculations!R$1","v":0},{"$f":"'Absorbance Data'!V3607-Calculations!S$1","v":0},{"$f":"'Absorbance Data'!W3607-Calculations!T$1","v":0},{"$f":"'Absorbance Data'!X3607-Calculations!U$1","v":0},{"$f":"'Absorbance Data'!Y3607-Calculations!V$1","v":0},{"$f":"'Absorbance Data'!Z3607-Calculations!W$1","v":0}]
[{"$f":"'Absorbance Data'!D3608","v":708.525634765625},{"$f":"'Absorbance Data'!E3608-Calculations!B$1","v":0},{"$f":"'Absorbance Data'!F3608-Calculations!C$1","v":0},{"$f":"'Absorbance Data'!G3608-Calculations!D$1","v":0},{"$f":"'Absorbance Data'!H3608-Calculations!E$1","v":0},{"$f":"'Absorbance Data'!I3608-Calculations!F$1","v":0},{"$f":"'Absorbance Data'!J3608-Calculations!G$1","v":0},{"$f":"'Absorbance Data'!K3608-Calculations!H$1","v":0},{"$f":"'Absorbance Data'!L3608-Calculations!I$1","v":0},{"$f":"'Absorbance Data'!M3608-Calculations!J$1","v":0},{"$f":"'Absorbance Data'!N3608-Calculations!K$1","v":0},{"$f":"'Absorbance Data'!O3608-Calculations!L$1","v":0},{"$f":"'Absorbance Data'!P3608-Calculations!M$1","v":0},{"$f":"'Absorbance Data'!Q3608-Calculations!N$1","v":0},{"$f":"'Absorbance Data'!R3608-Calculations!O$1","v":0},{"$f":"'Absorbance Data'!S3608-Calculations!P$1","v":0},{"$f":"'Absorbance Data'!T3608-Calculations!Q$1","v":0},{"$f":"'Absorbance Data'!U3608-Calculations!R$1","v":0},{"$f":"'Absorbance Data'!V3608-Calculations!S$1","v":0},{"$f":"'Absorbance Data'!W3608-Calculations!T$1","v":0},{"$f":"'Absorbance Data'!X3608-Calculations!U$1","v":0},{"$f":"'Absorbance Data'!Y3608-Calculations!V$1","v":0},{"$f":"'Absorbance Data'!Z3608-Calculations!W$1","v":0}]
[{"$f":"'Absorbance Data'!D3609","v":708.831298828125},{"$f":"'Absorbance Data'!E3609-Calculations!B$1","v":0},{"$f":"'Absorbance Data'!F3609-Calculations!C$1","v":0},{"$f":"'Absorbance Data'!G3609-Calculations!D$1","v":0},{"$f":"'Absorbance Data'!H3609-Calculations!E$1","v":0},{"$f":"'Absorbance Data'!I3609-Calculations!F$1","v":0},{"$f":"'Absorbance Data'!J3609-Calculations!G$1","v":0},{"$f":"'Absorbance Data'!K3609-Calculations!H$1","v":0},{"$f":"'Absorbance Data'!L3609-Calculations!I$1","v":0},{"$f":"'Absorbance Data'!M3609-Calculations!J$1","v":0},{"$f":"'Absorbance Data'!N3609-Calculations!K$1","v":0},{"$f":"'Absorbance Data'!O3609-Calculations!L$1","v":0},{"$f":"'Absorbance Data'!P3609-Calculations!M$1","v":0},{"$f":"'Absorbance Data'!Q3609-Calculations!N$1","v":0},{"$f":"'Absorbance Data'!R3609-Calculations!O$1","v":0},{"$f":"'Absorbance Data'!S3609-Calculations!P$1","v":0},{"$f":"'Absorbance Data'!T3609-Calculations!Q$1","v":0},{"$f":"'Absorbance Data'!U3609-Calculations!R$1","v":0},{"$f":"'Absorbance Data'!V3609-Calculations!S$1","v":0},{"$f":"'Absorbance Data'!W3609-Calculations!T$1","v":0},{"$f":"'Absorbance Data'!X3609-Calculations!U$1","v":0},{"$f":"'Absorbance Data'!Y3609-Calculations!V$1","v":0},{"$f":"'Absorbance Data'!Z3609-Calculations!W$1","v":0}]
[{"$f":"'Absorbance Data'!D3610","v":709.13702392578125},{"$f":"'Absorbance Data'!E3610-Calculations!B$1","v":0},{"$f":"'Absorbance Data'!F3610-Calculations!C$1","v":0},{"$f":"'Absorbance Data'!G3610-Calculations!D$1","v":0},{"$f":"'Absorbance Data'!H3610-Calculations!E$1","v":0},{"$f":"'Absorbance Data'!I3610-Calculations!F$1","v":0},{"$f":"'Absorbance Data'!J3610-Calculations!G$1","v":0},{"$f":"'Absorbance Data'!K3610-Calculations!H$1","v":0},{"$f":"'Absorbance Data'!L3610-Calculations!I$1","v":0},{"$f":"'Absorbance Data'!M3610-Calculations!J$1","v":0},{"$f":"'Absorbance Data'!N3610-Calculations!K$1","v":0},{"$f":"'Absorbance Data'!O3610-Calculations!L$1","v":0},{"$f":"'Absorbance Data'!P3610-Calculations!M$1","v":0},{"$f":"'Absorbance Data'!Q3610-Calculations!N$1","v":0},{"$f":"'Absorbance Data'!R3610-Calculations!O$1","v":0},{"$f":"'Absorbance Data'!S3610-Calculations!P$1","v":0},{"$f":"'Absorbance Data'!T3610-Calculations!Q$1","v":0},{"$f":"'Absorbance Data'!U3610-Calculations!R$1","v":0},{"$f":"'Absorbance Data'!V3610-Calculations!S$1","v":0},{"$f":"'Absorbance Data'!W3610-Calculations!T$1","v":0},{"$f":"'Absorbance Data'!X3610-Calculations!U$1","v":0},{"$f":"'Absorbance Data'!Y3610-Calculations!V$1","v":0},{"$f":"'Absorbance Data'!Z3610-Calculations!W$1","v":0}]
[{"$f":"'Absorbance Data'!D3611","v":709.442626953125},{"$f":"'Absorbance Data'!E3611-Calculations!B$1","v":0},{"$f":"'Absorbance Data'!F3611-Calculations!C$1","v":0},{"$f":"'Absorbance Data'!G3611-Calculations!D$1","v":0},{"$f":"'Absorbance Data'!H3611-Calculations!E$1","v":0},{"$f":"'Absorbance Data'!I3611-Calculations!F$1","v":0},{"$f":"'Absorbance Data'!J3611-Calculations!G$1","v":0},{"$f":"'Absorbance Data'!K3611-Calculations!H$1","v":0},{"$f":"'Absorbance Data'!L3611-Calculations!I$1","v":0},{"$f":"'Absorbance Data'!M3611-Calculations!J$1","v":0},{"$f":"'Absorbance Data'!N3611-Calculations!K$1","v":0},{"$f":"'Absorbance Data'!O3611-Calculations!L$1","v":0},{"$f":"'Absorbance Data'!P3611-Calculations!M$1","v":0},{"$f":"'Absorbance Data'!Q3611-Calculations!N$1","v":0},{"$f":"'Absorbance Data'!R3611-Calculations!O$1","v":0},{"$f":"'Absorbance Data'!S3611-Calculations!P$1","v":0},{"$f":"'Absorbance Data'!T3611-Calculations!Q$1","v":0},{"$f":"'Absorbance Data'!U3611-Calculations!R$1","v":0},{"$f":"'Absorbance Data'!V3611-Calculations!S$1","v":0},{"$f":"'Absorbance Data'!W3611-Calculations!T$1","v":0},{"$f":"'Absorbance Data'!X3611-Calculations!U$1","v":0},{"$f":"'Absorbance Data'!Y3611-Calculations!V$1","v":0},{"$f":"'Absorbance Data'!Z3611-Calculations!W$1","v":0}]
[{"$f":"'Absorbance Data'!D3612","v":709.74822998046875},{"$f":"'Absorbance Data'!E3612-Calculations!B$1","v":0},{"$f":"'Absorbance Data'!F3612-Calculations!C$1","v":0},{"$f":"'Absorbance Data'!G3612-Calculations!D$1","v":0},{"$f":"'Absorbance Data'!H3612-Calculations!E$1","v":0},{"$f":"'Absorbance Data'!I3612-Calculations!F$1","v":0},{"$f":"'Absorbance Data'!J3612-Calculations!G$1","v":0},{"$f":"'Absorbance Data'!K3612-Calculations!H$1","v":0},{"$f":"'Absorbance Data'!L3612-Calculations!I$1","v":0},{"$f":"'Absorbance Data'!M3612-Calculations!J$1","v":0},{"$f":"'Absorbance Data'!N3612-Calculations!K$1","v":0},{"$f":"'Absorbance Data'!O3612-Calculations!L$1","v":0},{"$f":"'Absorbance Data'!P3612-Calculations!M$1","v":0},{"$f":"'Absorbance Data'!Q3612-Calculations!N$1","v":0},{"$f":"'Absorbance Data'!R3612-Calculations!O$1","v":0},{"$f":"'Absorbance Data'!S3612-Calculations!P$1","v":0},{"$f":"'Absorbance Data'!T3612-Calculations!Q$1","v":0},{"$f":"'Absorbance Data'!U3612-Calculations!R$1","v":0},{"$f":"'Absorbance Data'!V3612-Calculations!S$1","v":0},{"$f":"'Absorbance Data'!W3612-Calculations!T$1","v":0},{"$f":"'Absorbance Data'!X3612-Calculations!U$1","v":0},{"$f":"'Absorbance Data'!Y3612-Calculations!V$1","v":0},{"$f":"'Absorbance Data'!Z3612-Calculations!W$1","v":0}]
[{"$f":"'Absorbance Data'!D3613","v":710.05377197265625},{"$f":"'Absorbance Data'!E3613-Calculations!B$1","v":0},{"$f":"'Absorbance Data'!F3613-Calculations!C$1","v":0},{"$f":"'Absorbance Data'!G3613-Calculations!D$1","v":0},{"$f":"'Absorbance Data'!H3613-Calculations!E$1","v":0},{"$f":"'Absorbance Data'!I3613-Calculations!F$1","v":0},{"$f":"'Absorbance Data'!J3613-Calculations!G$1","v":0},{"$f":"'Absorbance Data'!K3613-Calculations!H$1","v":0},{"$f":"'Absorbance Data'!L3613-Calculations!I$1","v":0},{"$f":"'Absorbance Data'!M3613-Calculations!J$1","v":0},{"$f":"'Absorbance Data'!N3613-Calculations!K$1","v":0},{"$f":"'Absorbance Data'!O3613-Calculations!L$1","v":0},{"$f":"'Absorbance Data'!P3613-Calculations!M$1","v":0},{"$f":"'Absorbance Data'!Q3613-Calculations!N$1","v":0},{"$f":"'Absorbance Data'!R3613-Calculations!O$1","v":0},{"$f":"'Absorbance Data'!S3613-Calculations!P$1","v":0},{"$f":"'Absorbance Data'!T3613-Calculations!Q$1","v":0},{"$f":"'Absorbance Data'!U3613-Calculations!R$1","v":0},{"$f":"'Absorbance Data'!V3613-Calculations!S$1","v":0},{"$f":"'Absorbance Data'!W3613-Calculations!T$1","v":0},{"$f":"'Absorbance Data'!X3613-Calculations!U$1","v":0},{"$f":"'Absorbance Data'!Y3613-Calculations!V$1","v":0},{"$f":"'Absorbance Data'!Z3613-Calculations!W$1","v":0}]
[{"$f":"'Absorbance Data'!D3614","v":710.35931396484375},{"$f":"'Absorbance Data'!E3614-Calculations!B$1","v":0},{"$f":"'Absorbance Data'!F3614-Calculations!C$1","v":0},{"$f":"'Absorbance Data'!G3614-Calculations!D$1","v":0},{"$f":"'Absorbance Data'!H3614-Calculations!E$1","v":0},{"$f":"'Absorbance Data'!I3614-Calculations!F$1","v":0},{"$f":"'Absorbance Data'!J3614-Calculations!G$1","v":0},{"$f":"'Absorbance Data'!K3614-Calculations!H$1","v":0},{"$f":"'Absorbance Data'!L3614-Calculations!I$1","v":0},{"$f":"'Absorbance Data'!M3614-Calculations!J$1","v":0},{"$f":"'Absorbance Data'!N3614-Calculations!K$1","v":0},{"$f":"'Absorbance Data'!O3614-Calculations!L$1","v":0},{"$f":"'Absorbance Data'!P3614-Calculations!M$1","v":0},{"$f":"'Absorbance Data'!Q3614-Calculations!N$1","v":0},{"$f":"'Absorbance Data'!R3614-Calculations!O$1","v":0},{"$f":"'Absorbance Data'!S3614-Calculations!P$1","v":0},{"$f":"'Absorbance Data'!T3614-Calculations!Q$1","v":0},{"$f":"'Absorbance Data'!U3614-Calculations!R$1","v":0},{"$f":"'Absorbance Data'!V3614-Calculations!S$1","v":0},{"$f":"'Absorbance Data'!W3614-Calculations!T$1","v":0},{"$f":"'Absorbance Data'!X3614-Calculations!U$1","v":0},{"$f":"'Absorbance Data'!Y3614-Calculations!V$1","v":0},{"$f":"'Absorbance Data'!Z3614-Calculations!W$1","v":0}]
[{"$f":"'Absorbance Data'!D3615","v":710.66473388671875},{"$f":"'Absorbance Data'!E3615-Calculations!B$1","v":0},{"$f":"'Absorbance Data'!F3615-Calculations!C$1","v":0},{"$f":"'Absorbance Data'!G3615-Calculations!D$1","v":0},{"$f":"'Absorbance Data'!H3615-Calculations!E$1","v":0},{"$f":"'Absorbance Data'!I3615-Calculations!F$1","v":0},{"$f":"'Absorbance Data'!J3615-Calculations!G$1","v":0},{"$f":"'Absorbance Data'!K3615-Calculations!H$1","v":0},{"$f":"'Absorbance Data'!L3615-Calculations!I$1","v":0},{"$f":"'Absorbance Data'!M3615-Calculations!J$1","v":0},{"$f":"'Absorbance Data'!N3615-Calculations!K$1","v":0},{"$f":"'Absorbance Data'!O3615-Calculations!L$1","v":0},{"$f":"'Absorbance Data'!P3615-Calculations!M$1","v":0},{"$f":"'Absorbance Data'!Q3615-Calculations!N$1","v":0},{"$f":"'Absorbance Data'!R3615-Calculations!O$1","v":0},{"$f":"'Absorbance Data'!S3615-Calculations!P$1","v":0},{"$f":"'Absorbance Data'!T3615-Calculations!Q$1","v":0},{"$f":"'Absorbance Data'!U3615-Calculations!R$1","v":0},{"$f":"'Absorbance Data'!V3615-Calculations!S$1","v":0},{"$f":"'Absorbance Data'!W3615-Calculations!T$1","v":0},{"$f":"'Absorbance Data'!X3615-Calculations!U$1","v":0},{"$f":"'Absorbance Data'!Y3615-Calculations!V$1","v":0},{"$f":"'Absorbance Data'!Z3615-Calculations!W$1","v":0}]
[{"$f":"'Absorbance Data'!D3616","v":710.97021484375},{"$f":"'Absorbance Data'!E3616-Calculations!B$1","v":0},{"$f":"'Absorbance Data'!F3616-Calculations!C$1","v":0},{"$f":"'Absorbance Data'!G3616-Calculations!D$1","v":0},{"$f":"'Absorbance Data'!H3616-Calculations!E$1","v":0},{"$f":"'Absorbance Data'!I3616-Calculations!F$1","v":0},{"$f":"'Absorbance Data'!J3616-Calculations!G$1","v":0},{"$f":"'Absorbance Data'!K3616-Calculations!H$1","v":0},{"$f":"'Absorbance Data'!L3616-Calculations!I$1","v":0},{"$f":"'Absorbance Data'!M3616-Calculations!J$1","v":0},{"$f":"'Absorbance Data'!N3616-Calculations!K$1","v":0},{"$f":"'Absorbance Data'!O3616-Calculations!L$1","v":0},{"$f":"'Absorbance Data'!P3616-Calculations!M$1","v":0},{"$f":"'Absorbance Data'!Q3616-Calculations!N$1","v":0},{"$f":"'Absorbance Data'!R3616-Calculations!O$1","v":0},{"$f":"'Absorbance Data'!S3616-Calculations!P$1","v":0},{"$f":"'Absorbance Data'!T3616-Calculations!Q$1","v":0},{"$f":"'Absorbance Data'!U3616-Calculations!R$1","v":0},{"$f":"'Absorbance Data'!V3616-Calculations!S$1","v":0},{"$f":"'Absorbance Data'!W3616-Calculations!T$1","v":0},{"$f":"'Absorbance Data'!X3616-Calculations!U$1","v":0},{"$f":"'Absorbance Data'!Y3616-Calculations!V$1","v":0},{"$f":"'Absorbance Data'!Z3616-Calculations!W$1","v":0}]
[{"$f":"'Absorbance Data'!D3617","v":711.2755126953125},{"$f":"'Absorbance Data'!E3617-Calculations!B$1","v":0},{"$f":"'Absorbance Data'!F3617-Calculations!C$1","v":0},{"$f":"'Absorbance Data'!G3617-Calculations!D$1","v":0},{"$f":"'Absorbance Data'!H3617-Calculations!E$1","v":0},{"$f":"'Absorbance Data'!I3617-Calculations!F$1","v":0},{"$f":"'Absorbance Data'!J3617-Calculations!G$1","v":0},{"$f":"'Absorbance Data'!K3617-Calculations!H$1","v":0},{"$f":"'Absorbance Data'!L3617-Calculations!I$1","v":0},{"$f":"'Absorbance Data'!M3617-Calculations!J$1","v":0},{"$f":"'Absorbance Data'!N3617-Calculations!K$1","v":0},{"$f":"'Absorbance Data'!O3617-Calculations!L$1","v":0},{"$f":"'Absorbance Data'!P3617-Calculations!M$1","v":0},{"$f":"'Absorbance Data'!Q3617-Calculations!N$1","v":0},{"$f":"'Absorbance Data'!R3617-Calculations!O$1","v":0},{"$f":"'Absorbance Data'!S3617-Calculations!P$1","v":0},{"$f":"'Absorbance Data'!T3617-Calculations!Q$1","v":0},{"$f":"'Absorbance Data'!U3617-Calculations!R$1","v":0},{"$f":"'Absorbance Data'!V3617-Calculations!S$1","v":0},{"$f":"'Absorbance Data'!W3617-Calculations!T$1","v":0},{"$f":"'Absorbance Data'!X3617-Calculations!U$1","v":0},{"$f":"'Absorbance Data'!Y3617-Calculations!V$1","v":0},{"$f":"'Absorbance Data'!Z3617-Calculations!W$1","v":0}]
[{"$f":"'Absorbance Data'!D3618","v":711.5809326171875},{"$f":"'Absorbance Data'!E3618-Calculations!B$1","v":0},{"$f":"'Absorbance Data'!F3618-Calculations!C$1","v":0},{"$f":"'Absorbance Data'!G3618-Calculations!D$1","v":0},{"$f":"'Absorbance Data'!H3618-Calculations!E$1","v":0},{"$f":"'Absorbance Data'!I3618-Calculations!F$1","v":0},{"$f":"'Absorbance Data'!J3618-Calculations!G$1","v":0},{"$f":"'Absorbance Data'!K3618-Calculations!H$1","v":0},{"$f":"'Absorbance Data'!L3618-Calculations!I$1","v":0},{"$f":"'Absorbance Data'!M3618-Calculations!J$1","v":0},{"$f":"'Absorbance Data'!N3618-Calculations!K$1","v":0},{"$f":"'Absorbance Data'!O3618-Calculations!L$1","v":0},{"$f":"'Absorbance Data'!P3618-Calculations!M$1","v":0},{"$f":"'Absorbance Data'!Q3618-Calculations!N$1","v":0},{"$f":"'Absorbance Data'!R3618-Calculations!O$1","v":0},{"$f":"'Absorbance Data'!S3618-Calculations!P$1","v":0},{"$f":"'Absorbance Data'!T3618-Calculations!Q$1","v":0},{"$f":"'Absorbance Data'!U3618-Calculations!R$1","v":0},{"$f":"'Absorbance Data'!V3618-Calculations!S$1","v":0},{"$f":"'Absorbance Data'!W3618-Calculations!T$1","v":0},{"$f":"'Absorbance Data'!X3618-Calculations!U$1","v":0},{"$f":"'Absorbance Data'!Y3618-Calculations!V$1","v":0},{"$f":"'Absorbance Data'!Z3618-Calculations!W$1","v":0}]
[{"$f":"'Absorbance Data'!D3619","v":711.8861083984375},{"$f":"'Absorbance Data'!E3619-Calculations!B$1","v":0},{"$f":"'Absorbance Data'!F3619-Calculations!C$1","v":0},{"$f":"'Absorbance Data'!G3619-Calculations!D$1","v":0},{"$f":"'Absorbance Data'!H3619-Calculations!E$1","v":0},{"$f":"'Absorbance Data'!I3619-Calculations!F$1","v":0},{"$f":"'Absorbance Data'!J3619-Calculations!G$1","v":0},{"$f":"'Absorbance Data'!K3619-Calculations!H$1","v":0},{"$f":"'Absorbance Data'!L3619-Calculations!I$1","v":0},{"$f":"'Absorbance Data'!M3619-Calculations!J$1","v":0},{"$f":"'Absorbance Data'!N3619-Calculations!K$1","v":0},{"$f":"'Absorbance Data'!O3619-Calculations!L$1","v":0},{"$f":"'Absorbance Data'!P3619-Calculations!M$1","v":0},{"$f":"'Absorbance Data'!Q3619-Calculations!N$1","v":0},{"$f":"'Absorbance Data'!R3619-Calculations!O$1","v":0},{"$f":"'Absorbance Data'!S3619-Calculations!P$1","v":0},{"$f":"'Absorbance Data'!T3619-Calculations!Q$1","v":0},{"$f":"'Absorbance Data'!U3619-Calculations!R$1","v":0},{"$f":"'Absorbance Data'!V3619-Calculations!S$1","v":0},{"$f":"'Absorbance Data'!W3619-Calculations!T$1","v":0},{"$f":"'Absorbance Data'!X3619-Calculations!U$1","v":0},{"$f":"'Absorbance Data'!Y3619-Calculations!V$1","v":0},{"$f":"'Absorbance Data'!Z3619-Calculations!W$1","v":0}]
[{"$f":"'Absorbance Data'!D3620","v":712.19140625},{"$f":"'Absorbance Data'!E3620-Calculations!B$1","v":0},{"$f":"'Absorbance Data'!F3620-Calculations!C$1","v":0},{"$f":"'Absorbance Data'!G3620-Calculations!D$1","v":0},{"$f":"'Absorbance Data'!H3620-Calculations!E$1","v":0},{"$f":"'Absorbance Data'!I3620-Calculations!F$1","v":0},{"$f":"'Absorbance Data'!J3620-Calculations!G$1","v":0},{"$f":"'Absorbance Data'!K3620-Calculations!H$1","v":0},{"$f":"'Absorbance Data'!L3620-Calculations!I$1","v":0},{"$f":"'Absorbance Data'!M3620-Calculations!J$1","v":0},{"$f":"'Absorbance Data'!N3620-Calculations!K$1","v":0},{"$f":"'Absorbance Data'!O3620-Calculations!L$1","v":0},{"$f":"'Absorbance Data'!P3620-Calculations!M$1","v":0},{"$f":"'Absorbance Data'!Q3620-Calculations!N$1","v":0},{"$f":"'Absorbance Data'!R3620-Calculations!O$1","v":0},{"$f":"'Absorbance Data'!S3620-Calculations!P$1","v":0},{"$f":"'Absorbance Data'!T3620-Calculations!Q$1","v":0},{"$f":"'Absorbance Data'!U3620-Calculations!R$1","v":0},{"$f":"'Absorbance Data'!V3620-Calculations!S$1","v":0},{"$f":"'Absorbance Data'!W3620-Calculations!T$1","v":0},{"$f":"'Absorbance Data'!X3620-Calculations!U$1","v":0},{"$f":"'Absorbance Data'!Y3620-Calculations!V$1","v":0},{"$f":"'Absorbance Data'!Z3620-Calculations!W$1","v":0}]
[{"$f":"'Absorbance Data'!D3621","v":712.49658203125},{"$f":"'Absorbance Data'!E3621-Calculations!B$1","v":0},{"$f":"'Absorbance Data'!F3621-Calculations!C$1","v":0},{"$f":"'Absorbance Data'!G3621-Calculations!D$1","v":0},{"$f":"'Absorbance Data'!H3621-Calculations!E$1","v":0},{"$f":"'Absorbance Data'!I3621-Calculations!F$1","v":0},{"$f":"'Absorbance Data'!J3621-Calculations!G$1","v":0},{"$f":"'Absorbance Data'!K3621-Calculations!H$1","v":0},{"$f":"'Absorbance Data'!L3621-Calculations!I$1","v":0},{"$f":"'Absorbance Data'!M3621-Calculations!J$1","v":0},{"$f":"'Absorbance Data'!N3621-Calculations!K$1","v":0},{"$f":"'Absorbance Data'!O3621-Calculations!L$1","v":0},{"$f":"'Absorbance Data'!P3621-Calculations!M$1","v":0},{"$f":"'Absorbance Data'!Q3621-Calculations!N$1","v":0},{"$f":"'Absorbance Data'!R3621-Calculations!O$1","v":0},{"$f":"'Absorbance Data'!S3621-Calculations!P$1","v":0},{"$f":"'Absorbance Data'!T3621-Calculations!Q$1","v":0},{"$f":"'Absorbance Data'!U3621-Calculations!R$1","v":0},{"$f":"'Absorbance Data'!V3621-Calculations!S$1","v":0},{"$f":"'Absorbance Data'!W3621-Calculations!T$1","v":0},{"$f":"'Absorbance Data'!X3621-Calculations!U$1","v":0},{"$f":"'Absorbance Data'!Y3621-Calculations!V$1","v":0},{"$f":"'Absorbance Data'!Z3621-Calculations!W$1","v":0}]
[{"$f":"'Absorbance Data'!D3622","v":712.80169677734375},{"$f":"'Absorbance Data'!E3622-Calculations!B$1","v":0},{"$f":"'Absorbance Data'!F3622-Calculations!C$1","v":0},{"$f":"'Absorbance Data'!G3622-Calculations!D$1","v":0},{"$f":"'Absorbance Data'!H3622-Calculations!E$1","v":0},{"$f":"'Absorbance Data'!I3622-Calculations!F$1","v":0},{"$f":"'Absorbance Data'!J3622-Calculations!G$1","v":0},{"$f":"'Absorbance Data'!K3622-Calculations!H$1","v":0},{"$f":"'Absorbance Data'!L3622-Calculations!I$1","v":0},{"$f":"'Absorbance Data'!M3622-Calculations!J$1","v":0},{"$f":"'Absorbance Data'!N3622-Calculations!K$1","v":0},{"$f":"'Absorbance Data'!O3622-Calculations!L$1","v":0},{"$f":"'Absorbance Data'!P3622-Calculations!M$1","v":0},{"$f":"'Absorbance Data'!Q3622-Calculations!N$1","v":0},{"$f":"'Absorbance Data'!R3622-Calculations!O$1","v":0},{"$f":"'Absorbance Data'!S3622-Calculations!P$1","v":0},{"$f":"'Absorbance Data'!T3622-Calculations!Q$1","v":0},{"$f":"'Absorbance Data'!U3622-Calculations!R$1","v":0},{"$f":"'Absorbance Data'!V3622-Calculations!S$1","v":0},{"$f":"'Absorbance Data'!W3622-Calculations!T$1","v":0},{"$f":"'Absorbance Data'!X3622-Calculations!U$1","v":0},{"$f":"'Absorbance Data'!Y3622-Calculations!V$1","v":0},{"$f":"'Absorbance Data'!Z3622-Calculations!W$1","v":0}]
[{"$f":"'Absorbance Data'!D3623","v":713.1068115234375},{"$f":"'Absorbance Data'!E3623-Calculations!B$1","v":0},{"$f":"'Absorbance Data'!F3623-Calculations!C$1","v":0},{"$f":"'Absorbance Data'!G3623-Calculations!D$1","v":0},{"$f":"'Absorbance Data'!H3623-Calculations!E$1","v":0},{"$f":"'Absorbance Data'!I3623-Calculations!F$1","v":0},{"$f":"'Absorbance Data'!J3623-Calculations!G$1","v":0},{"$f":"'Absorbance Data'!K3623-Calculations!H$1","v":0},{"$f":"'Absorbance Data'!L3623-Calculations!I$1","v":0},{"$f":"'Absorbance Data'!M3623-Calculations!J$1","v":0},{"$f":"'Absorbance Data'!N3623-Calculations!K$1","v":0},{"$f":"'Absorbance Data'!O3623-Calculations!L$1","v":0},{"$f":"'Absorbance Data'!P3623-Calculations!M$1","v":0},{"$f":"'Absorbance Data'!Q3623-Calculations!N$1","v":0},{"$f":"'Absorbance Data'!R3623-Calculations!O$1","v":0},{"$f":"'Absorbance Data'!S3623-Calculations!P$1","v":0},{"$f":"'Absorbance Data'!T3623-Calculations!Q$1","v":0},{"$f":"'Absorbance Data'!U3623-Calculations!R$1","v":0},{"$f":"'Absorbance Data'!V3623-Calculations!S$1","v":0},{"$f":"'Absorbance Data'!W3623-Calculations!T$1","v":0},{"$f":"'Absorbance Data'!X3623-Calculations!U$1","v":0},{"$f":"'Absorbance Data'!Y3623-Calculations!V$1","v":0},{"$f":"'Absorbance Data'!Z3623-Calculations!W$1","v":0}]
[{"$f":"'Absorbance Data'!D3624","v":713.411865234375},{"$f":"'Absorbance Data'!E3624-Calculations!B$1","v":0},{"$f":"'Absorbance Data'!F3624-Calculations!C$1","v":0},{"$f":"'Absorbance Data'!G3624-Calculations!D$1","v":0},{"$f":"'Absorbance Data'!H3624-Calculations!E$1","v":0},{"$f":"'Absorbance Data'!I3624-Calculations!F$1","v":0},{"$f":"'Absorbance Data'!J3624-Calculations!G$1","v":0},{"$f":"'Absorbance Data'!K3624-Calculations!H$1","v":0},{"$f":"'Absorbance Data'!L3624-Calculations!I$1","v":0},{"$f":"'Absorbance Data'!M3624-Calculations!J$1","v":0},{"$f":"'Absorbance Data'!N3624-Calculations!K$1","v":0},{"$f":"'Absorbance Data'!O3624-Calculations!L$1","v":0},{"$f":"'Absorbance Data'!P3624-Calculations!M$1","v":0},{"$f":"'Absorbance Data'!Q3624-Calculations!N$1","v":0},{"$f":"'Absorbance Data'!R3624-Calculations!O$1","v":0},{"$f":"'Absorbance Data'!S3624-Calculations!P$1","v":0},{"$f":"'Absorbance Data'!T3624-Calculations!Q$1","v":0},{"$f":"'Absorbance Data'!U3624-Calculations!R$1","v":0},{"$f":"'Absorbance Data'!V3624-Calculations!S$1","v":0},{"$f":"'Absorbance Data'!W3624-Calculations!T$1","v":0},{"$f":"'Absorbance Data'!X3624-Calculations!U$1","v":0},{"$f":"'Absorbance Data'!Y3624-Calculations!V$1","v":0},{"$f":"'Absorbance Data'!Z3624-Calculations!W$1","v":0}]
[{"$f":"'Absorbance Data'!D3625","v":713.7169189453125},{"$f":"'Absorbance Data'!E3625-Calculations!B$1","v":0},{"$f":"'Absorbance Data'!F3625-Calculations!C$1","v":0},{"$f":"'Absorbance Data'!G3625-Calculations!D$1","v":0},{"$f":"'Absorbance Data'!H3625-Calculations!E$1","v":0},{"$f":"'Absorbance Data'!I3625-Calculations!F$1","v":0},{"$f":"'Absorbance Data'!J3625-Calculations!G$1","v":0},{"$f":"'Absorbance Data'!K3625-Calculations!H$1","v":0},{"$f":"'Absorbance Data'!L3625-Calculations!I$1","v":0},{"$f":"'Absorbance Data'!M3625-Calculations!J$1","v":0},{"$f":"'Absorbance Data'!N3625-Calculations!K$1","v":0},{"$f":"'Absorbance Data'!O3625-Calculations!L$1","v":0},{"$f":"'Absorbance Data'!P3625-Calculations!M$1","v":0},{"$f":"'Absorbance Data'!Q3625-Calculations!N$1","v":0},{"$f":"'Absorbance Data'!R3625-Calculations!O$1","v":0},{"$f":"'Absorbance Data'!S3625-Calculations!P$1","v":0},{"$f":"'Absorbance Data'!T3625-Calculations!Q$1","v":0},{"$f":"'Absorbance Data'!U3625-Calculations!R$1","v":0},{"$f":"'Absorbance Data'!V3625-Calculations!S$1","v":0},{"$f":"'Absorbance Data'!W3625-Calculations!T$1","v":0},{"$f":"'Absorbance Data'!X3625-Calculations!U$1","v":0},{"$f":"'Absorbance Data'!Y3625-Calculations!V$1","v":0},{"$f":"'Absorbance Data'!Z3625-Calculations!W$1","v":0}]
[{"$f":"'Absorbance Data'!D3626","v":714.02191162109375},{"$f":"'Absorbance Data'!E3626-Calculations!B$1","v":0},{"$f":"'Absorbance Data'!F3626-Calculations!C$1","v":0},{"$f":"'Absorbance Data'!G3626-Calculations!D$1","v":0},{"$f":"'Absorbance Data'!H3626-Calculations!E$1","v":0},{"$f":"'Absorbance Data'!I3626-Calculations!F$1","v":0},{"$f":"'Absorbance Data'!J3626-Calculations!G$1","v":0},{"$f":"'Absorbance Data'!K3626-Calculations!H$1","v":0},{"$f":"'Absorbance Data'!L3626-Calculations!I$1","v":0},{"$f":"'Absorbance Data'!M3626-Calculations!J$1","v":0},{"$f":"'Absorbance Data'!N3626-Calculations!K$1","v":0},{"$f":"'Absorbance Data'!O3626-Calculations!L$1","v":0},{"$f":"'Absorbance Data'!P3626-Calculations!M$1","v":0},{"$f":"'Absorbance Data'!Q3626-Calculations!N$1","v":0},{"$f":"'Absorbance Data'!R3626-Calculations!O$1","v":0},{"$f":"'Absorbance Data'!S3626-Calculations!P$1","v":0},{"$f":"'Absorbance Data'!T3626-Calculations!Q$1","v":0},{"$f":"'Absorbance Data'!U3626-Calculations!R$1","v":0},{"$f":"'Absorbance Data'!V3626-Calculations!S$1","v":0},{"$f":"'Absorbance Data'!W3626-Calculations!T$1","v":0},{"$f":"'Absorbance Data'!X3626-Calculations!U$1","v":0},{"$f":"'Absorbance Data'!Y3626-Calculations!V$1","v":0},{"$f":"'Absorbance Data'!Z3626-Calculations!W$1","v":0}]
[{"$f":"'Absorbance Data'!D3627","v":714.3267822265625},{"$f":"'Absorbance Data'!E3627-Calculations!B$1","v":0},{"$f":"'Absorbance Data'!F3627-Calculations!C$1","v":0},{"$f":"'Absorbance Data'!G3627-Calculations!D$1","v":0},{"$f":"'Absorbance Data'!H3627-Calculations!E$1","v":0},{"$f":"'Absorbance Data'!I3627-Calculations!F$1","v":0},{"$f":"'Absorbance Data'!J3627-Calculations!G$1","v":0},{"$f":"'Absorbance Data'!K3627-Calculations!H$1","v":0},{"$f":"'Absorbance Data'!L3627-Calculations!I$1","v":0},{"$f":"'Absorbance Data'!M3627-Calculations!J$1","v":0},{"$f":"'Absorbance Data'!N3627-Calculations!K$1","v":0},{"$f":"'Absorbance Data'!O3627-Calculations!L$1","v":0},{"$f":"'Absorbance Data'!P3627-Calculations!M$1","v":0},{"$f":"'Absorbance Data'!Q3627-Calculations!N$1","v":0},{"$f":"'Absorbance Data'!R3627-Calculations!O$1","v":0},{"$f":"'Absorbance Data'!S3627-Calculations!P$1","v":0},{"$f":"'Absorbance Data'!T3627-Calculations!Q$1","v":0},{"$f":"'Absorbance Data'!U3627-Calculations!R$1","v":0},{"$f":"'Absorbance Data'!V3627-Calculations!S$1","v":0},{"$f":"'Absorbance Data'!W3627-Calculations!T$1","v":0},{"$f":"'Absorbance Data'!X3627-Calculations!U$1","v":0},{"$f":"'Absorbance Data'!Y3627-Calculations!V$1","v":0},{"$f":"'Absorbance Data'!Z3627-Calculations!W$1","v":0}]
[{"$f":"'Absorbance Data'!D3628","v":714.63165283203125},{"$f":"'Absorbance Data'!E3628-Calculations!B$1","v":0},{"$f":"'Absorbance Data'!F3628-Calculations!C$1","v":0},{"$f":"'Absorbance Data'!G3628-Calculations!D$1","v":0},{"$f":"'Absorbance Data'!H3628-Calculations!E$1","v":0},{"$f":"'Absorbance Data'!I3628-Calculations!F$1","v":0},{"$f":"'Absorbance Data'!J3628-Calculations!G$1","v":0},{"$f":"'Absorbance Data'!K3628-Calculations!H$1","v":0},{"$f":"'Absorbance Data'!L3628-Calculations!I$1","v":0},{"$f":"'Absorbance Data'!M3628-Calculations!J$1","v":0},{"$f":"'Absorbance Data'!N3628-Calculations!K$1","v":0},{"$f":"'Absorbance Data'!O3628-Calculations!L$1","v":0},{"$f":"'Absorbance Data'!P3628-Calculations!M$1","v":0},{"$f":"'Absorbance Data'!Q3628-Calculations!N$1","v":0},{"$f":"'Absorbance Data'!R3628-Calculations!O$1","v":0},{"$f":"'Absorbance Data'!S3628-Calculations!P$1","v":0},{"$f":"'Absorbance Data'!T3628-Calculations!Q$1","v":0},{"$f":"'Absorbance Data'!U3628-Calculations!R$1","v":0},{"$f":"'Absorbance Data'!V3628-Calculations!S$1","v":0},{"$f":"'Absorbance Data'!W3628-Calculations!T$1","v":0},{"$f":"'Absorbance Data'!X3628-Calculations!U$1","v":0},{"$f":"'Absorbance Data'!Y3628-Calculations!V$1","v":0},{"$f":"'Absorbance Data'!Z3628-Calculations!W$1","v":0}]
[{"$f":"'Absorbance Data'!D3629","v":714.9365234375},{"$f":"'Absorbance Data'!E3629-Calculations!B$1","v":0},{"$f":"'Absorbance Data'!F3629-Calculations!C$1","v":0},{"$f":"'Absorbance Data'!G3629-Calculations!D$1","v":0},{"$f":"'Absorbance Data'!H3629-Calculations!E$1","v":0},{"$f":"'Absorbance Data'!I3629-Calculations!F$1","v":0},{"$f":"'Absorbance Data'!J3629-Calculations!G$1","v":0},{"$f":"'Absorbance Data'!K3629-Calculations!H$1","v":0},{"$f":"'Absorbance Data'!L3629-Calculations!I$1","v":0},{"$f":"'Absorbance Data'!M3629-Calculations!J$1","v":0},{"$f":"'Absorbance Data'!N3629-Calculations!K$1","v":0},{"$f":"'Absorbance Data'!O3629-Calculations!L$1","v":0},{"$f":"'Absorbance Data'!P3629-Calculations!M$1","v":0},{"$f":"'Absorbance Data'!Q3629-Calculations!N$1","v":0},{"$f":"'Absorbance Data'!R3629-Calculations!O$1","v":0},{"$f":"'Absorbance Data'!S3629-Calculations!P$1","v":0},{"$f":"'Absorbance Data'!T3629-Calculations!Q$1","v":0},{"$f":"'Absorbance Data'!U3629-Calculations!R$1","v":0},{"$f":"'Absorbance Data'!V3629-Calculations!S$1","v":0},{"$f":"'Absorbance Data'!W3629-Calculations!T$1","v":0},{"$f":"'Absorbance Data'!X3629-Calculations!U$1","v":0},{"$f":"'Absorbance Data'!Y3629-Calculations!V$1","v":0},{"$f":"'Absorbance Data'!Z3629-Calculations!W$1","v":0}]
[{"$f":"'Absorbance Data'!D3630","v":715.24127197265625},{"$f":"'Absorbance Data'!E3630-Calculations!B$1","v":0},{"$f":"'Absorbance Data'!F3630-Calculations!C$1","v":0},{"$f":"'Absorbance Data'!G3630-Calculations!D$1","v":0},{"$f":"'Absorbance Data'!H3630-Calculations!E$1","v":0},{"$f":"'Absorbance Data'!I3630-Calculations!F$1","v":0},{"$f":"'Absorbance Data'!J3630-Calculations!G$1","v":0},{"$f":"'Absorbance Data'!K3630-Calculations!H$1","v":0},{"$f":"'Absorbance Data'!L3630-Calculations!I$1","v":0},{"$f":"'Absorbance Data'!M3630-Calculations!J$1","v":0},{"$f":"'Absorbance Data'!N3630-Calculations!K$1","v":0},{"$f":"'Absorbance Data'!O3630-Calculations!L$1","v":0},{"$f":"'Absorbance Data'!P3630-Calculations!M$1","v":0},{"$f":"'Absorbance Data'!Q3630-Calculations!N$1","v":0},{"$f":"'Absorbance Data'!R3630-Calculations!O$1","v":0},{"$f":"'Absorbance Data'!S3630-Calculations!P$1","v":0},{"$f":"'Absorbance Data'!T3630-Calculations!Q$1","v":0},{"$f":"'Absorbance Data'!U3630-Calculations!R$1","v":0},{"$f":"'Absorbance Data'!V3630-Calculations!S$1","v":0},{"$f":"'Absorbance Data'!W3630-Calculations!T$1","v":0},{"$f":"'Absorbance Data'!X3630-Calculations!U$1","v":0},{"$f":"'Absorbance Data'!Y3630-Calculations!V$1","v":0},{"$f":"'Absorbance Data'!Z3630-Calculations!W$1","v":0}]
[{"$f":"'Absorbance Data'!D3631","v":715.54608154296875},{"$f":"'Absorbance Data'!E3631-Calculations!B$1","v":0},{"$f":"'Absorbance Data'!F3631-Calculations!C$1","v":0},{"$f":"'Absorbance Data'!G3631-Calculations!D$1","v":0},{"$f":"'Absorbance Data'!H3631-Calculations!E$1","v":0},{"$f":"'Absorbance Data'!I3631-Calculations!F$1","v":0},{"$f":"'Absorbance Data'!J3631-Calculations!G$1","v":0},{"$f":"'Absorbance Data'!K3631-Calculations!H$1","v":0},{"$f":"'Absorbance Data'!L3631-Calculations!I$1","v":0},{"$f":"'Absorbance Data'!M3631-Calculations!J$1","v":0},{"$f":"'Absorbance Data'!N3631-Calculations!K$1","v":0},{"$f":"'Absorbance Data'!O3631-Calculations!L$1","v":0},{"$f":"'Absorbance Data'!P3631-Calculations!M$1","v":0},{"$f":"'Absorbance Data'!Q3631-Calculations!N$1","v":0},{"$f":"'Absorbance Data'!R3631-Calculations!O$1","v":0},{"$f":"'Absorbance Data'!S3631-Calculations!P$1","v":0},{"$f":"'Absorbance Data'!T3631-Calculations!Q$1","v":0},{"$f":"'Absorbance Data'!U3631-Calculations!R$1","v":0},{"$f":"'Absorbance Data'!V3631-Calculations!S$1","v":0},{"$f":"'Absorbance Data'!W3631-Calculations!T$1","v":0},{"$f":"'Absorbance Data'!X3631-Calculations!U$1","v":0},{"$f":"'Absorbance Data'!Y3631-Calculations!V$1","v":0},{"$f":"'Absorbance Data'!Z3631-Calculations!W$1","v":0}]
[{"$f":"'Absorbance Data'!D3632","v":715.8507080078125},{"$f":"'Absorbance Data'!E3632-Calculations!B$1","v":0},{"$f":"'Absorbance Data'!F3632-Calculations!C$1","v":0},{"$f":"'Absorbance Data'!G3632-Calculations!D$1","v":0},{"$f":"'Absorbance Data'!H3632-Calculations!E$1","v":0},{"$f":"'Absorbance Data'!I3632-Calculations!F$1","v":0},{"$f":"'Absorbance Data'!J3632-Calculations!G$1","v":0},{"$f":"'Absorbance Data'!K3632-Calculations!H$1","v":0},{"$f":"'Absorbance Data'!L3632-Calculations!I$1","v":0},{"$f":"'Absorbance Data'!M3632-Calculations!J$1","v":0},{"$f":"'Absorbance Data'!N3632-Calculations!K$1","v":0},{"$f":"'Absorbance Data'!O3632-Calculations!L$1","v":0},{"$f":"'Absorbance Data'!P3632-Calculations!M$1","v":0},{"$f":"'Absorbance Data'!Q3632-Calculations!N$1","v":0},{"$f":"'Absorbance Data'!R3632-Calculations!O$1","v":0},{"$f":"'Absorbance Data'!S3632-Calculations!P$1","v":0},{"$f":"'Absorbance Data'!T3632-Calculations!Q$1","v":0},{"$f":"'Absorbance Data'!U3632-Calculations!R$1","v":0},{"$f":"'Absorbance Data'!V3632-Calculations!S$1","v":0},{"$f":"'Absorbance Data'!W3632-Calculations!T$1","v":0},{"$f":"'Absorbance Data'!X3632-Calculations!U$1","v":0},{"$f":"'Absorbance Data'!Y3632-Calculations!V$1","v":0},{"$f":"'Absorbance Data'!Z3632-Calculations!W$1","v":0}]
[{"$f":"'Absorbance Data'!D3633","v":716.1553955078125},{"$f":"'Absorbance Data'!E3633-Calculations!B$1","v":0},{"$f":"'Absorbance Data'!F3633-Calculations!C$1","v":0},{"$f":"'Absorbance Data'!G3633-Calculations!D$1","v":0},{"$f":"'Absorbance Data'!H3633-Calculations!E$1","v":0},{"$f":"'Absorbance Data'!I3633-Calculations!F$1","v":0},{"$f":"'Absorbance Data'!J3633-Calculations!G$1","v":0},{"$f":"'Absorbance Data'!K3633-Calculations!H$1","v":0},{"$f":"'Absorbance Data'!L3633-Calculations!I$1","v":0},{"$f":"'Absorbance Data'!M3633-Calculations!J$1","v":0},{"$f":"'Absorbance Data'!N3633-Calculations!K$1","v":0},{"$f":"'Absorbance Data'!O3633-Calculations!L$1","v":0},{"$f":"'Absorbance Data'!P3633-Calculations!M$1","v":0},{"$f":"'Absorbance Data'!Q3633-Calculations!N$1","v":0},{"$f":"'Absorbance Data'!R3633-Calculations!O$1","v":0},{"$f":"'Absorbance Data'!S3633-Calculations!P$1","v":0},{"$f":"'Absorbance Data'!T3633-Calculations!Q$1","v":0},{"$f":"'Absorbance Data'!U3633-Calculations!R$1","v":0},{"$f":"'Absorbance Data'!V3633-Calculations!S$1","v":0},{"$f":"'Absorbance Data'!W3633-Calculations!T$1","v":0},{"$f":"'Absorbance Data'!X3633-Calculations!U$1","v":0},{"$f":"'Absorbance Data'!Y3633-Calculations!V$1","v":0},{"$f":"'Absorbance Data'!Z3633-Calculations!W$1","v":0}]
[{"$f":"'Absorbance Data'!D3634","v":716.46002197265625},{"$f":"'Absorbance Data'!E3634-Calculations!B$1","v":0},{"$f":"'Absorbance Data'!F3634-Calculations!C$1","v":0},{"$f":"'Absorbance Data'!G3634-Calculations!D$1","v":0},{"$f":"'Absorbance Data'!H3634-Calculations!E$1","v":0},{"$f":"'Absorbance Data'!I3634-Calculations!F$1","v":0},{"$f":"'Absorbance Data'!J3634-Calculations!G$1","v":0},{"$f":"'Absorbance Data'!K3634-Calculations!H$1","v":0},{"$f":"'Absorbance Data'!L3634-Calculations!I$1","v":0},{"$f":"'Absorbance Data'!M3634-Calculations!J$1","v":0},{"$f":"'Absorbance Data'!N3634-Calculations!K$1","v":0},{"$f":"'Absorbance Data'!O3634-Calculations!L$1","v":0},{"$f":"'Absorbance Data'!P3634-Calculations!M$1","v":0},{"$f":"'Absorbance Data'!Q3634-Calculations!N$1","v":0},{"$f":"'Absorbance Data'!R3634-Calculations!O$1","v":0},{"$f":"'Absorbance Data'!S3634-Calculations!P$1","v":0},{"$f":"'Absorbance Data'!T3634-Calculations!Q$1","v":0},{"$f":"'Absorbance Data'!U3634-Calculations!R$1","v":0},{"$f":"'Absorbance Data'!V3634-Calculations!S$1","v":0},{"$f":"'Absorbance Data'!W3634-Calculations!T$1","v":0},{"$f":"'Absorbance Data'!X3634-Calculations!U$1","v":0},{"$f":"'Absorbance Data'!Y3634-Calculations!V$1","v":0},{"$f":"'Absorbance Data'!Z3634-Calculations!W$1","v":0}]
[{"$f":"'Absorbance Data'!D3635","v":716.76458740234375},{"$f":"'Absorbance Data'!E3635-Calculations!B$1","v":0},{"$f":"'Absorbance Data'!F3635-Calculations!C$1","v":0},{"$f":"'Absorbance Data'!G3635-Calculations!D$1","v":0},{"$f":"'Absorbance Data'!H3635-Calculations!E$1","v":0},{"$f":"'Absorbance Data'!I3635-Calculations!F$1","v":0},{"$f":"'Absorbance Data'!J3635-Calculations!G$1","v":0},{"$f":"'Absorbance Data'!K3635-Calculations!H$1","v":0},{"$f":"'Absorbance Data'!L3635-Calculations!I$1","v":0},{"$f":"'Absorbance Data'!M3635-Calculations!J$1","v":0},{"$f":"'Absorbance Data'!N3635-Calculations!K$1","v":0},{"$f":"'Absorbance Data'!O3635-Calculations!L$1","v":0},{"$f":"'Absorbance Data'!P3635-Calculations!M$1","v":0},{"$f":"'Absorbance Data'!Q3635-Calculations!N$1","v":0},{"$f":"'Absorbance Data'!R3635-Calculations!O$1","v":0},{"$f":"'Absorbance Data'!S3635-Calculations!P$1","v":0},{"$f":"'Absorbance Data'!T3635-Calculations!Q$1","v":0},{"$f":"'Absorbance Data'!U3635-Calculations!R$1","v":0},{"$f":"'Absorbance Data'!V3635-Calculations!S$1","v":0},{"$f":"'Absorbance Data'!W3635-Calculations!T$1","v":0},{"$f":"'Absorbance Data'!X3635-Calculations!U$1","v":0},{"$f":"'Absorbance Data'!Y3635-Calculations!V$1","v":0},{"$f":"'Absorbance Data'!Z3635-Calculations!W$1","v":0}]
[{"$f":"'Absorbance Data'!D3636","v":717.069091796875},{"$f":"'Absorbance Data'!E3636-Calculations!B$1","v":0},{"$f":"'Absorbance Data'!F3636-Calculations!C$1","v":0},{"$f":"'Absorbance Data'!G3636-Calculations!D$1","v":0},{"$f":"'Absorbance Data'!H3636-Calculations!E$1","v":0},{"$f":"'Absorbance Data'!I3636-Calculations!F$1","v":0},{"$f":"'Absorbance Data'!J3636-Calculations!G$1","v":0},{"$f":"'Absorbance Data'!K3636-Calculations!H$1","v":0},{"$f":"'Absorbance Data'!L3636-Calculations!I$1","v":0},{"$f":"'Absorbance Data'!M3636-Calculations!J$1","v":0},{"$f":"'Absorbance Data'!N3636-Calculations!K$1","v":0},{"$f":"'Absorbance Data'!O3636-Calculations!L$1","v":0},{"$f":"'Absorbance Data'!P3636-Calculations!M$1","v":0},{"$f":"'Absorbance Data'!Q3636-Calculations!N$1","v":0},{"$f":"'Absorbance Data'!R3636-Calculations!O$1","v":0},{"$f":"'Absorbance Data'!S3636-Calculations!P$1","v":0},{"$f":"'Absorbance Data'!T3636-Calculations!Q$1","v":0},{"$f":"'Absorbance Data'!U3636-Calculations!R$1","v":0},{"$f":"'Absorbance Data'!V3636-Calculations!S$1","v":0},{"$f":"'Absorbance Data'!W3636-Calculations!T$1","v":0},{"$f":"'Absorbance Data'!X3636-Calculations!U$1","v":0},{"$f":"'Absorbance Data'!Y3636-Calculations!V$1","v":0},{"$f":"'Absorbance Data'!Z3636-Calculations!W$1","v":0}]
[{"$f":"'Absorbance Data'!D3637","v":717.37353515625},{"$f":"'Absorbance Data'!E3637-Calculations!B$1","v":0},{"$f":"'Absorbance Data'!F3637-Calculations!C$1","v":0},{"$f":"'Absorbance Data'!G3637-Calculations!D$1","v":0},{"$f":"'Absorbance Data'!H3637-Calculations!E$1","v":0},{"$f":"'Absorbance Data'!I3637-Calculations!F$1","v":0},{"$f":"'Absorbance Data'!J3637-Calculations!G$1","v":0},{"$f":"'Absorbance Data'!K3637-Calculations!H$1","v":0},{"$f":"'Absorbance Data'!L3637-Calculations!I$1","v":0},{"$f":"'Absorbance Data'!M3637-Calculations!J$1","v":0},{"$f":"'Absorbance Data'!N3637-Calculations!K$1","v":0},{"$f":"'Absorbance Data'!O3637-Calculations!L$1","v":0},{"$f":"'Absorbance Data'!P3637-Calculations!M$1","v":0},{"$f":"'Absorbance Data'!Q3637-Calculations!N$1","v":0},{"$f":"'Absorbance Data'!R3637-Calculations!O$1","v":0},{"$f":"'Absorbance Data'!S3637-Calculations!P$1","v":0},{"$f":"'Absorbance Data'!T3637-Calculations!Q$1","v":0},{"$f":"'Absorbance Data'!U3637-Calculations!R$1","v":0},{"$f":"'Absorbance Data'!V3637-Calculations!S$1","v":0},{"$f":"'Absorbance Data'!W3637-Calculations!T$1","v":0},{"$f":"'Absorbance Data'!X3637-Calculations!U$1","v":0},{"$f":"'Absorbance Data'!Y3637-Calculations!V$1","v":0},{"$f":"'Absorbance Data'!Z3637-Calculations!W$1","v":0}]
[{"$f":"'Absorbance Data'!D3638","v":717.677978515625},{"$f":"'Absorbance Data'!E3638-Calculations!B$1","v":0},{"$f":"'Absorbance Data'!F3638-Calculations!C$1","v":0},{"$f":"'Absorbance Data'!G3638-Calculations!D$1","v":0},{"$f":"'Absorbance Data'!H3638-Calculations!E$1","v":0},{"$f":"'Absorbance Data'!I3638-Calculations!F$1","v":0},{"$f":"'Absorbance Data'!J3638-Calculations!G$1","v":0},{"$f":"'Absorbance Data'!K3638-Calculations!H$1","v":0},{"$f":"'Absorbance Data'!L3638-Calculations!I$1","v":0},{"$f":"'Absorbance Data'!M3638-Calculations!J$1","v":0},{"$f":"'Absorbance Data'!N3638-Calculations!K$1","v":0},{"$f":"'Absorbance Data'!O3638-Calculations!L$1","v":0},{"$f":"'Absorbance Data'!P3638-Calculations!M$1","v":0},{"$f":"'Absorbance Data'!Q3638-Calculations!N$1","v":0},{"$f":"'Absorbance Data'!R3638-Calculations!O$1","v":0},{"$f":"'Absorbance Data'!S3638-Calculations!P$1","v":0},{"$f":"'Absorbance Data'!T3638-Calculations!Q$1","v":0},{"$f":"'Absorbance Data'!U3638-Calculations!R$1","v":0},{"$f":"'Absorbance Data'!V3638-Calculations!S$1","v":0},{"$f":"'Absorbance Data'!W3638-Calculations!T$1","v":0},{"$f":"'Absorbance Data'!X3638-Calculations!U$1","v":0},{"$f":"'Absorbance Data'!Y3638-Calculations!V$1","v":0},{"$f":"'Absorbance Data'!Z3638-Calculations!W$1","v":0}]
[{"$f":"'Absorbance Data'!D3639","v":717.98236083984375},{"$f":"'Absorbance Data'!E3639-Calculations!B$1","v":0},{"$f":"'Absorbance Data'!F3639-Calculations!C$1","v":0},{"$f":"'Absorbance Data'!G3639-Calculations!D$1","v":0},{"$f":"'Absorbance Data'!H3639-Calculations!E$1","v":0},{"$f":"'Absorbance Data'!I3639-Calculations!F$1","v":0},{"$f":"'Absorbance Data'!J3639-Calculations!G$1","v":0},{"$f":"'Absorbance Data'!K3639-Calculations!H$1","v":0},{"$f":"'Absorbance Data'!L3639-Calculations!I$1","v":0},{"$f":"'Absorbance Data'!M3639-Calculations!J$1","v":0},{"$f":"'Absorbance Data'!N3639-Calculations!K$1","v":0},{"$f":"'Absorbance Data'!O3639-Calculations!L$1","v":0},{"$f":"'Absorbance Data'!P3639-Calculations!M$1","v":0},{"$f":"'Absorbance Data'!Q3639-Calculations!N$1","v":0},{"$f":"'Absorbance Data'!R3639-Calculations!O$1","v":0},{"$f":"'Absorbance Data'!S3639-Calculations!P$1","v":0},{"$f":"'Absorbance Data'!T3639-Calculations!Q$1","v":0},{"$f":"'Absorbance Data'!U3639-Calculations!R$1","v":0},{"$f":"'Absorbance Data'!V3639-Calculations!S$1","v":0},{"$f":"'Absorbance Data'!W3639-Calculations!T$1","v":0},{"$f":"'Absorbance Data'!X3639-Calculations!U$1","v":0},{"$f":"'Absorbance Data'!Y3639-Calculations!V$1","v":0},{"$f":"'Absorbance Data'!Z3639-Calculations!W$1","v":0}]
[{"$f":"'Absorbance Data'!D3640","v":718.28662109375},{"$f":"'Absorbance Data'!E3640-Calculations!B$1","v":0},{"$f":"'Absorbance Data'!F3640-Calculations!C$1","v":0},{"$f":"'Absorbance Data'!G3640-Calculations!D$1","v":0},{"$f":"'Absorbance Data'!H3640-Calculations!E$1","v":0},{"$f":"'Absorbance Data'!I3640-Calculations!F$1","v":0},{"$f":"'Absorbance Data'!J3640-Calculations!G$1","v":0},{"$f":"'Absorbance Data'!K3640-Calculations!H$1","v":0},{"$f":"'Absorbance Data'!L3640-Calculations!I$1","v":0},{"$f":"'Absorbance Data'!M3640-Calculations!J$1","v":0},{"$f":"'Absorbance Data'!N3640-Calculations!K$1","v":0},{"$f":"'Absorbance Data'!O3640-Calculations!L$1","v":0},{"$f":"'Absorbance Data'!P3640-Calculations!M$1","v":0},{"$f":"'Absorbance Data'!Q3640-Calculations!N$1","v":0},{"$f":"'Absorbance Data'!R3640-Calculations!O$1","v":0},{"$f":"'Absorbance Data'!S3640-Calculations!P$1","v":0},{"$f":"'Absorbance Data'!T3640-Calculations!Q$1","v":0},{"$f":"'Absorbance Data'!U3640-Calculations!R$1","v":0},{"$f":"'Absorbance Data'!V3640-Calculations!S$1","v":0},{"$f":"'Absorbance Data'!W3640-Calculations!T$1","v":0},{"$f":"'Absorbance Data'!X3640-Calculations!U$1","v":0},{"$f":"'Absorbance Data'!Y3640-Calculations!V$1","v":0},{"$f":"'Absorbance Data'!Z3640-Calculations!W$1","v":0}]
[{"$f":"'Absorbance Data'!D3641","v":718.59100341796875},{"$f":"'Absorbance Data'!E3641-Calculations!B$1","v":0},{"$f":"'Absorbance Data'!F3641-Calculations!C$1","v":0},{"$f":"'Absorbance Data'!G3641-Calculations!D$1","v":0},{"$f":"'Absorbance Data'!H3641-Calculations!E$1","v":0},{"$f":"'Absorbance Data'!I3641-Calculations!F$1","v":0},{"$f":"'Absorbance Data'!J3641-Calculations!G$1","v":0},{"$f":"'Absorbance Data'!K3641-Calculations!H$1","v":0},{"$f":"'Absorbance Data'!L3641-Calculations!I$1","v":0},{"$f":"'Absorbance Data'!M3641-Calculations!J$1","v":0},{"$f":"'Absorbance Data'!N3641-Calculations!K$1","v":0},{"$f":"'Absorbance Data'!O3641-Calculations!L$1","v":0},{"$f":"'Absorbance Data'!P3641-Calculations!M$1","v":0},{"$f":"'Absorbance Data'!Q3641-Calculations!N$1","v":0},{"$f":"'Absorbance Data'!R3641-Calculations!O$1","v":0},{"$f":"'Absorbance Data'!S3641-Calculations!P$1","v":0},{"$f":"'Absorbance Data'!T3641-Calculations!Q$1","v":0},{"$f":"'Absorbance Data'!U3641-Calculations!R$1","v":0},{"$f":"'Absorbance Data'!V3641-Calculations!S$1","v":0},{"$f":"'Absorbance Data'!W3641-Calculations!T$1","v":0},{"$f":"'Absorbance Data'!X3641-Calculations!U$1","v":0},{"$f":"'Absorbance Data'!Y3641-Calculations!V$1","v":0},{"$f":"'Absorbance Data'!Z3641-Calculations!W$1","v":0}]
[{"$f":"'Absorbance Data'!D3642","v":718.89520263671875},{"$f":"'Absorbance Data'!E3642-Calculations!B$1","v":0},{"$f":"'Absorbance Data'!F3642-Calculations!C$1","v":0},{"$f":"'Absorbance Data'!G3642-Calculations!D$1","v":0},{"$f":"'Absorbance Data'!H3642-Calculations!E$1","v":0},{"$f":"'Absorbance Data'!I3642-Calculations!F$1","v":0},{"$f":"'Absorbance Data'!J3642-Calculations!G$1","v":0},{"$f":"'Absorbance Data'!K3642-Calculations!H$1","v":0},{"$f":"'Absorbance Data'!L3642-Calculations!I$1","v":0},{"$f":"'Absorbance Data'!M3642-Calculations!J$1","v":0},{"$f":"'Absorbance Data'!N3642-Calculations!K$1","v":0},{"$f":"'Absorbance Data'!O3642-Calculations!L$1","v":0},{"$f":"'Absorbance Data'!P3642-Calculations!M$1","v":0},{"$f":"'Absorbance Data'!Q3642-Calculations!N$1","v":0},{"$f":"'Absorbance Data'!R3642-Calculations!O$1","v":0},{"$f":"'Absorbance Data'!S3642-Calculations!P$1","v":0},{"$f":"'Absorbance Data'!T3642-Calculations!Q$1","v":0},{"$f":"'Absorbance Data'!U3642-Calculations!R$1","v":0},{"$f":"'Absorbance Data'!V3642-Calculations!S$1","v":0},{"$f":"'Absorbance Data'!W3642-Calculations!T$1","v":0},{"$f":"'Absorbance Data'!X3642-Calculations!U$1","v":0},{"$f":"'Absorbance Data'!Y3642-Calculations!V$1","v":0},{"$f":"'Absorbance Data'!Z3642-Calculations!W$1","v":0}]
[{"$f":"'Absorbance Data'!D3643","v":719.19940185546875},{"$f":"'Absorbance Data'!E3643-Calculations!B$1","v":0},{"$f":"'Absorbance Data'!F3643-Calculations!C$1","v":0},{"$f":"'Absorbance Data'!G3643-Calculations!D$1","v":0},{"$f":"'Absorbance Data'!H3643-Calculations!E$1","v":0},{"$f":"'Absorbance Data'!I3643-Calculations!F$1","v":0},{"$f":"'Absorbance Data'!J3643-Calculations!G$1","v":0},{"$f":"'Absorbance Data'!K3643-Calculations!H$1","v":0},{"$f":"'Absorbance Data'!L3643-Calculations!I$1","v":0},{"$f":"'Absorbance Data'!M3643-Calculations!J$1","v":0},{"$f":"'Absorbance Data'!N3643-Calculations!K$1","v":0},{"$f":"'Absorbance Data'!O3643-Calculations!L$1","v":0},{"$f":"'Absorbance Data'!P3643-Calculations!M$1","v":0},{"$f":"'Absorbance Data'!Q3643-Calculations!N$1","v":0},{"$f":"'Absorbance Data'!R3643-Calculations!O$1","v":0},{"$f":"'Absorbance Data'!S3643-Calculations!P$1","v":0},{"$f":"'Absorbance Data'!T3643-Calculations!Q$1","v":0},{"$f":"'Absorbance Data'!U3643-Calculations!R$1","v":0},{"$f":"'Absorbance Data'!V3643-Calculations!S$1","v":0},{"$f":"'Absorbance Data'!W3643-Calculations!T$1","v":0},{"$f":"'Absorbance Data'!X3643-Calculations!U$1","v":0},{"$f":"'Absorbance Data'!Y3643-Calculations!V$1","v":0},{"$f":"'Absorbance Data'!Z3643-Calculations!W$1","v":0}]
[{"$f":"'Absorbance Data'!D3644","v":719.5035400390625},{"$f":"'Absorbance Data'!E3644-Calculations!B$1","v":0},{"$f":"'Absorbance Data'!F3644-Calculations!C$1","v":0},{"$f":"'Absorbance Data'!G3644-Calculations!D$1","v":0},{"$f":"'Absorbance Data'!H3644-Calculations!E$1","v":0},{"$f":"'Absorbance Data'!I3644-Calculations!F$1","v":0},{"$f":"'Absorbance Data'!J3644-Calculations!G$1","v":0},{"$f":"'Absorbance Data'!K3644-Calculations!H$1","v":0},{"$f":"'Absorbance Data'!L3644-Calculations!I$1","v":0},{"$f":"'Absorbance Data'!M3644-Calculations!J$1","v":0},{"$f":"'Absorbance Data'!N3644-Calculations!K$1","v":0},{"$f":"'Absorbance Data'!O3644-Calculations!L$1","v":0},{"$f":"'Absorbance Data'!P3644-Calculations!M$1","v":0},{"$f":"'Absorbance Data'!Q3644-Calculations!N$1","v":0},{"$f":"'Absorbance Data'!R3644-Calculations!O$1","v":0},{"$f":"'Absorbance Data'!S3644-Calculations!P$1","v":0},{"$f":"'Absorbance Data'!T3644-Calculations!Q$1","v":0},{"$f":"'Absorbance Data'!U3644-Calculations!R$1","v":0},{"$f":"'Absorbance Data'!V3644-Calculations!S$1","v":0},{"$f":"'Absorbance Data'!W3644-Calculations!T$1","v":0},{"$f":"'Absorbance Data'!X3644-Calculations!U$1","v":0},{"$f":"'Absorbance Data'!Y3644-Calculations!V$1","v":0},{"$f":"'Absorbance Data'!Z3644-Calculations!W$1","v":0}]
[{"$f":"'Absorbance Data'!D3645","v":719.80767822265625},{"$f":"'Absorbance Data'!E3645-Calculations!B$1","v":0},{"$f":"'Absorbance Data'!F3645-Calculations!C$1","v":0},{"$f":"'Absorbance Data'!G3645-Calculations!D$1","v":0},{"$f":"'Absorbance Data'!H3645-Calculations!E$1","v":0},{"$f":"'Absorbance Data'!I3645-Calculations!F$1","v":0},{"$f":"'Absorbance Data'!J3645-Calculations!G$1","v":0},{"$f":"'Absorbance Data'!K3645-Calculations!H$1","v":0},{"$f":"'Absorbance Data'!L3645-Calculations!I$1","v":0},{"$f":"'Absorbance Data'!M3645-Calculations!J$1","v":0},{"$f":"'Absorbance Data'!N3645-Calculations!K$1","v":0},{"$f":"'Absorbance Data'!O3645-Calculations!L$1","v":0},{"$f":"'Absorbance Data'!P3645-Calculations!M$1","v":0},{"$f":"'Absorbance Data'!Q3645-Calculations!N$1","v":0},{"$f":"'Absorbance Data'!R3645-Calculations!O$1","v":0},{"$f":"'Absorbance Data'!S3645-Calculations!P$1","v":0},{"$f":"'Absorbance Data'!T3645-Calculations!Q$1","v":0},{"$f":"'Absorbance Data'!U3645-Calculations!R$1","v":0},{"$f":"'Absorbance Data'!V3645-Calculations!S$1","v":0},{"$f":"'Absorbance Data'!W3645-Calculations!T$1","v":0},{"$f":"'Absorbance Data'!X3645-Calculations!U$1","v":0},{"$f":"'Absorbance Data'!Y3645-Calculations!V$1","v":0},{"$f":"'Absorbance Data'!Z3645-Calculations!W$1","v":0}]
[{"$f":"'Absorbance Data'!D3646","v":720.1116943359375},{"$f":"'Absorbance Data'!E3646-Calculations!B$1","v":0},{"$f":"'Absorbance Data'!F3646-Calculations!C$1","v":0},{"$f":"'Absorbance Data'!G3646-Calculations!D$1","v":0},{"$f":"'Absorbance Data'!H3646-Calculations!E$1","v":0},{"$f":"'Absorbance Data'!I3646-Calculations!F$1","v":0},{"$f":"'Absorbance Data'!J3646-Calculations!G$1","v":0},{"$f":"'Absorbance Data'!K3646-Calculations!H$1","v":0},{"$f":"'Absorbance Data'!L3646-Calculations!I$1","v":0},{"$f":"'Absorbance Data'!M3646-Calculations!J$1","v":0},{"$f":"'Absorbance Data'!N3646-Calculations!K$1","v":0},{"$f":"'Absorbance Data'!O3646-Calculations!L$1","v":0},{"$f":"'Absorbance Data'!P3646-Calculations!M$1","v":0},{"$f":"'Absorbance Data'!Q3646-Calculations!N$1","v":0},{"$f":"'Absorbance Data'!R3646-Calculations!O$1","v":0},{"$f":"'Absorbance Data'!S3646-Calculations!P$1","v":0},{"$f":"'Absorbance Data'!T3646-Calculations!Q$1","v":0},{"$f":"'Absorbance Data'!U3646-Calculations!R$1","v":0},{"$f":"'Absorbance Data'!V3646-Calculations!S$1","v":0},{"$f":"'Absorbance Data'!W3646-Calculations!T$1","v":0},{"$f":"'Absorbance Data'!X3646-Calculations!U$1","v":0},{"$f":"'Absorbance Data'!Y3646-Calculations!V$1","v":0},{"$f":"'Absorbance Data'!Z3646-Calculations!W$1","v":0}]
[{"$f":"'Absorbance Data'!D3647","v":720.415771484375},{"$f":"'Absorbance Data'!E3647-Calculations!B$1","v":0},{"$f":"'Absorbance Data'!F3647-Calculations!C$1","v":0},{"$f":"'Absorbance Data'!G3647-Calculations!D$1","v":0},{"$f":"'Absorbance Data'!H3647-Calculations!E$1","v":0},{"$f":"'Absorbance Data'!I3647-Calculations!F$1","v":0},{"$f":"'Absorbance Data'!J3647-Calculations!G$1","v":0},{"$f":"'Absorbance Data'!K3647-Calculations!H$1","v":0},{"$f":"'Absorbance Data'!L3647-Calculations!I$1","v":0},{"$f":"'Absorbance Data'!M3647-Calculations!J$1","v":0},{"$f":"'Absorbance Data'!N3647-Calculations!K$1","v":0},{"$f":"'Absorbance Data'!O3647-Calculations!L$1","v":0},{"$f":"'Absorbance Data'!P3647-Calculations!M$1","v":0},{"$f":"'Absorbance Data'!Q3647-Calculations!N$1","v":0},{"$f":"'Absorbance Data'!R3647-Calculations!O$1","v":0},{"$f":"'Absorbance Data'!S3647-Calculations!P$1","v":0},{"$f":"'Absorbance Data'!T3647-Calculations!Q$1","v":0},{"$f":"'Absorbance Data'!U3647-Calculations!R$1","v":0},{"$f":"'Absorbance Data'!V3647-Calculations!S$1","v":0},{"$f":"'Absorbance Data'!W3647-Calculations!T$1","v":0},{"$f":"'Absorbance Data'!X3647-Calculations!U$1","v":0},{"$f":"'Absorbance Data'!Y3647-Calculations!V$1","v":0},{"$f":"'Absorbance Data'!Z3647-Calculations!W$1","v":0}]
[{"$f":"'Absorbance Data'!D3648","v":720.7197265625},{"$f":"'Absorbance Data'!E3648-Calculations!B$1","v":0},{"$f":"'Absorbance Data'!F3648-Calculations!C$1","v":0},{"$f":"'Absorbance Data'!G3648-Calculations!D$1","v":0},{"$f":"'Absorbance Data'!H3648-Calculations!E$1","v":0},{"$f":"'Absorbance Data'!I3648-Calculations!F$1","v":0},{"$f":"'Absorbance Data'!J3648-Calculations!G$1","v":0},{"$f":"'Absorbance Data'!K3648-Calculations!H$1","v":0},{"$f":"'Absorbance Data'!L3648-Calculations!I$1","v":0},{"$f":"'Absorbance Data'!M3648-Calculations!J$1","v":0},{"$f":"'Absorbance Data'!N3648-Calculations!K$1","v":0},{"$f":"'Absorbance Data'!O3648-Calculations!L$1","v":0},{"$f":"'Absorbance Data'!P3648-Calculations!M$1","v":0},{"$f":"'Absorbance Data'!Q3648-Calculations!N$1","v":0},{"$f":"'Absorbance Data'!R3648-Calculations!O$1","v":0},{"$f":"'Absorbance Data'!S3648-Calculations!P$1","v":0},{"$f":"'Absorbance Data'!T3648-Calculations!Q$1","v":0},{"$f":"'Absorbance Data'!U3648-Calculations!R$1","v":0},{"$f":"'Absorbance Data'!V3648-Calculations!S$1","v":0},{"$f":"'Absorbance Data'!W3648-Calculations!T$1","v":0},{"$f":"'Absorbance Data'!X3648-Calculations!U$1","v":0},{"$f":"'Absorbance Data'!Y3648-Calculations!V$1","v":0},{"$f":"'Absorbance Data'!Z3648-Calculations!W$1","v":0}]
[{"$f":"'Absorbance Data'!D3649","v":721.023681640625},{"$f":"'Absorbance Data'!E3649-Calculations!B$1","v":0},{"$f":"'Absorbance Data'!F3649-Calculations!C$1","v":0},{"$f":"'Absorbance Data'!G3649-Calculations!D$1","v":0},{"$f":"'Absorbance Data'!H3649-Calculations!E$1","v":0},{"$f":"'Absorbance Data'!I3649-Calculations!F$1","v":0},{"$f":"'Absorbance Data'!J3649-Calculations!G$1","v":0},{"$f":"'Absorbance Data'!K3649-Calculations!H$1","v":0},{"$f":"'Absorbance Data'!L3649-Calculations!I$1","v":0},{"$f":"'Absorbance Data'!M3649-Calculations!J$1","v":0},{"$f":"'Absorbance Data'!N3649-Calculations!K$1","v":0},{"$f":"'Absorbance Data'!O3649-Calculations!L$1","v":0},{"$f":"'Absorbance Data'!P3649-Calculations!M$1","v":0},{"$f":"'Absorbance Data'!Q3649-Calculations!N$1","v":0},{"$f":"'Absorbance Data'!R3649-Calculations!O$1","v":0},{"$f":"'Absorbance Data'!S3649-Calculations!P$1","v":0},{"$f":"'Absorbance Data'!T3649-Calculations!Q$1","v":0},{"$f":"'Absorbance Data'!U3649-Calculations!R$1","v":0},{"$f":"'Absorbance Data'!V3649-Calculations!S$1","v":0},{"$f":"'Absorbance Data'!W3649-Calculations!T$1","v":0},{"$f":"'Absorbance Data'!X3649-Calculations!U$1","v":0},{"$f":"'Absorbance Data'!Y3649-Calculations!V$1","v":0},{"$f":"'Absorbance Data'!Z3649-Calculations!W$1","v":0}]
[{"$f":"'Absorbance Data'!D3650","v":721.3275146484375},{"$f":"'Absorbance Data'!E3650-Calculations!B$1","v":0},{"$f":"'Absorbance Data'!F3650-Calculations!C$1","v":0},{"$f":"'Absorbance Data'!G3650-Calculations!D$1","v":0},{"$f":"'Absorbance Data'!H3650-Calculations!E$1","v":0},{"$f":"'Absorbance Data'!I3650-Calculations!F$1","v":0},{"$f":"'Absorbance Data'!J3650-Calculations!G$1","v":0},{"$f":"'Absorbance Data'!K3650-Calculations!H$1","v":0},{"$f":"'Absorbance Data'!L3650-Calculations!I$1","v":0},{"$f":"'Absorbance Data'!M3650-Calculations!J$1","v":0},{"$f":"'Absorbance Data'!N3650-Calculations!K$1","v":0},{"$f":"'Absorbance Data'!O3650-Calculations!L$1","v":0},{"$f":"'Absorbance Data'!P3650-Calculations!M$1","v":0},{"$f":"'Absorbance Data'!Q3650-Calculations!N$1","v":0},{"$f":"'Absorbance Data'!R3650-Calculations!O$1","v":0},{"$f":"'Absorbance Data'!S3650-Calculations!P$1","v":0},{"$f":"'Absorbance Data'!T3650-Calculations!Q$1","v":0},{"$f":"'Absorbance Data'!U3650-Calculations!R$1","v":0},{"$f":"'Absorbance Data'!V3650-Calculations!S$1","v":0},{"$f":"'Absorbance Data'!W3650-Calculations!T$1","v":0},{"$f":"'Absorbance Data'!X3650-Calculations!U$1","v":0},{"$f":"'Absorbance Data'!Y3650-Calculations!V$1","v":0},{"$f":"'Absorbance Data'!Z3650-Calculations!W$1","v":0}]
[{"$f":"'Absorbance Data'!D3651","v":721.63140869140625},{"$f":"'Absorbance Data'!E3651-Calculations!B$1","v":0},{"$f":"'Absorbance Data'!F3651-Calculations!C$1","v":0},{"$f":"'Absorbance Data'!G3651-Calculations!D$1","v":0},{"$f":"'Absorbance Data'!H3651-Calculations!E$1","v":0},{"$f":"'Absorbance Data'!I3651-Calculations!F$1","v":0},{"$f":"'Absorbance Data'!J3651-Calculations!G$1","v":0},{"$f":"'Absorbance Data'!K3651-Calculations!H$1","v":0},{"$f":"'Absorbance Data'!L3651-Calculations!I$1","v":0},{"$f":"'Absorbance Data'!M3651-Calculations!J$1","v":0},{"$f":"'Absorbance Data'!N3651-Calculations!K$1","v":0},{"$f":"'Absorbance Data'!O3651-Calculations!L$1","v":0},{"$f":"'Absorbance Data'!P3651-Calculations!M$1","v":0},{"$f":"'Absorbance Data'!Q3651-Calculations!N$1","v":0},{"$f":"'Absorbance Data'!R3651-Calculations!O$1","v":0},{"$f":"'Absorbance Data'!S3651-Calculations!P$1","v":0},{"$f":"'Absorbance Data'!T3651-Calculations!Q$1","v":0},{"$f":"'Absorbance Data'!U3651-Calculations!R$1","v":0},{"$f":"'Absorbance Data'!V3651-Calculations!S$1","v":0},{"$f":"'Absorbance Data'!W3651-Calculations!T$1","v":0},{"$f":"'Absorbance Data'!X3651-Calculations!U$1","v":0},{"$f":"'Absorbance Data'!Y3651-Calculations!V$1","v":0},{"$f":"'Absorbance Data'!Z3651-Calculations!W$1","v":0}]
[{"$f":"'Absorbance Data'!D3652","v":721.9351806640625},{"$f":"'Absorbance Data'!E3652-Calculations!B$1","v":0},{"$f":"'Absorbance Data'!F3652-Calculations!C$1","v":0},{"$f":"'Absorbance Data'!G3652-Calculations!D$1","v":0},{"$f":"'Absorbance Data'!H3652-Calculations!E$1","v":0},{"$f":"'Absorbance Data'!I3652-Calculations!F$1","v":0},{"$f":"'Absorbance Data'!J3652-Calculations!G$1","v":0},{"$f":"'Absorbance Data'!K3652-Calculations!H$1","v":0},{"$f":"'Absorbance Data'!L3652-Calculations!I$1","v":0},{"$f":"'Absorbance Data'!M3652-Calculations!J$1","v":0},{"$f":"'Absorbance Data'!N3652-Calculations!K$1","v":0},{"$f":"'Absorbance Data'!O3652-Calculations!L$1","v":0},{"$f":"'Absorbance Data'!P3652-Calculations!M$1","v":0},{"$f":"'Absorbance Data'!Q3652-Calculations!N$1","v":0},{"$f":"'Absorbance Data'!R3652-Calculations!O$1","v":0},{"$f":"'Absorbance Data'!S3652-Calculations!P$1","v":0},{"$f":"'Absorbance Data'!T3652-Calculations!Q$1","v":0},{"$f":"'Absorbance Data'!U3652-Calculations!R$1","v":0},{"$f":"'Absorbance Data'!V3652-Calculations!S$1","v":0},{"$f":"'Absorbance Data'!W3652-Calculations!T$1","v":0},{"$f":"'Absorbance Data'!X3652-Calculations!U$1","v":0},{"$f":"'Absorbance Data'!Y3652-Calculations!V$1","v":0},{"$f":"'Absorbance Data'!Z3652-Calculations!W$1","v":0}]
[{"$f":"'Absorbance Data'!D3653","v":722.2388916015625},{"$f":"'Absorbance Data'!E3653-Calculations!B$1","v":0},{"$f":"'Absorbance Data'!F3653-Calculations!C$1","v":0},{"$f":"'Absorbance Data'!G3653-Calculations!D$1","v":0},{"$f":"'Absorbance Data'!H3653-Calculations!E$1","v":0},{"$f":"'Absorbance Data'!I3653-Calculations!F$1","v":0},{"$f":"'Absorbance Data'!J3653-Calculations!G$1","v":0},{"$f":"'Absorbance Data'!K3653-Calculations!H$1","v":0},{"$f":"'Absorbance Data'!L3653-Calculations!I$1","v":0},{"$f":"'Absorbance Data'!M3653-Calculations!J$1","v":0},{"$f":"'Absorbance Data'!N3653-Calculations!K$1","v":0},{"$f":"'Absorbance Data'!O3653-Calculations!L$1","v":0},{"$f":"'Absorbance Data'!P3653-Calculations!M$1","v":0},{"$f":"'Absorbance Data'!Q3653-Calculations!N$1","v":0},{"$f":"'Absorbance Data'!R3653-Calculations!O$1","v":0},{"$f":"'Absorbance Data'!S3653-Calculations!P$1","v":0},{"$f":"'Absorbance Data'!T3653-Calculations!Q$1","v":0},{"$f":"'Absorbance Data'!U3653-Calculations!R$1","v":0},{"$f":"'Absorbance Data'!V3653-Calculations!S$1","v":0},{"$f":"'Absorbance Data'!W3653-Calculations!T$1","v":0},{"$f":"'Absorbance Data'!X3653-Calculations!U$1","v":0},{"$f":"'Absorbance Data'!Y3653-Calculations!V$1","v":0},{"$f":"'Absorbance Data'!Z3653-Calculations!W$1","v":0}]
[{"$f":"'Absorbance Data'!D3654","v":722.5426025390625},{"$f":"'Absorbance Data'!E3654-Calculations!B$1","v":0},{"$f":"'Absorbance Data'!F3654-Calculations!C$1","v":0},{"$f":"'Absorbance Data'!G3654-Calculations!D$1","v":0},{"$f":"'Absorbance Data'!H3654-Calculations!E$1","v":0},{"$f":"'Absorbance Data'!I3654-Calculations!F$1","v":0},{"$f":"'Absorbance Data'!J3654-Calculations!G$1","v":0},{"$f":"'Absorbance Data'!K3654-Calculations!H$1","v":0},{"$f":"'Absorbance Data'!L3654-Calculations!I$1","v":0},{"$f":"'Absorbance Data'!M3654-Calculations!J$1","v":0},{"$f":"'Absorbance Data'!N3654-Calculations!K$1","v":0},{"$f":"'Absorbance Data'!O3654-Calculations!L$1","v":0},{"$f":"'Absorbance Data'!P3654-Calculations!M$1","v":0},{"$f":"'Absorbance Data'!Q3654-Calculations!N$1","v":0},{"$f":"'Absorbance Data'!R3654-Calculations!O$1","v":0},{"$f":"'Absorbance Data'!S3654-Calculations!P$1","v":0},{"$f":"'Absorbance Data'!T3654-Calculations!Q$1","v":0},{"$f":"'Absorbance Data'!U3654-Calculations!R$1","v":0},{"$f":"'Absorbance Data'!V3654-Calculations!S$1","v":0},{"$f":"'Absorbance Data'!W3654-Calculations!T$1","v":0},{"$f":"'Absorbance Data'!X3654-Calculations!U$1","v":0},{"$f":"'Absorbance Data'!Y3654-Calculations!V$1","v":0},{"$f":"'Absorbance Data'!Z3654-Calculations!W$1","v":0}]
[{"$f":"'Absorbance Data'!D3655","v":722.84625244140625},{"$f":"'Absorbance Data'!E3655-Calculations!B$1","v":0},{"$f":"'Absorbance Data'!F3655-Calculations!C$1","v":0},{"$f":"'Absorbance Data'!G3655-Calculations!D$1","v":0},{"$f":"'Absorbance Data'!H3655-Calculations!E$1","v":0},{"$f":"'Absorbance Data'!I3655-Calculations!F$1","v":0},{"$f":"'Absorbance Data'!J3655-Calculations!G$1","v":0},{"$f":"'Absorbance Data'!K3655-Calculations!H$1","v":0},{"$f":"'Absorbance Data'!L3655-Calculations!I$1","v":0},{"$f":"'Absorbance Data'!M3655-Calculations!J$1","v":0},{"$f":"'Absorbance Data'!N3655-Calculations!K$1","v":0},{"$f":"'Absorbance Data'!O3655-Calculations!L$1","v":0},{"$f":"'Absorbance Data'!P3655-Calculations!M$1","v":0},{"$f":"'Absorbance Data'!Q3655-Calculations!N$1","v":0},{"$f":"'Absorbance Data'!R3655-Calculations!O$1","v":0},{"$f":"'Absorbance Data'!S3655-Calculations!P$1","v":0},{"$f":"'Absorbance Data'!T3655-Calculations!Q$1","v":0},{"$f":"'Absorbance Data'!U3655-Calculations!R$1","v":0},{"$f":"'Absorbance Data'!V3655-Calculations!S$1","v":0},{"$f":"'Absorbance Data'!W3655-Calculations!T$1","v":0},{"$f":"'Absorbance Data'!X3655-Calculations!U$1","v":0},{"$f":"'Absorbance Data'!Y3655-Calculations!V$1","v":0},{"$f":"'Absorbance Data'!Z3655-Calculations!W$1","v":0}]
[{"$f":"'Absorbance Data'!D3656","v":723.14984130859375},{"$f":"'Absorbance Data'!E3656-Calculations!B$1","v":0},{"$f":"'Absorbance Data'!F3656-Calculations!C$1","v":0},{"$f":"'Absorbance Data'!G3656-Calculations!D$1","v":0},{"$f":"'Absorbance Data'!H3656-Calculations!E$1","v":0},{"$f":"'Absorbance Data'!I3656-Calculations!F$1","v":0},{"$f":"'Absorbance Data'!J3656-Calculations!G$1","v":0},{"$f":"'Absorbance Data'!K3656-Calculations!H$1","v":0},{"$f":"'Absorbance Data'!L3656-Calculations!I$1","v":0},{"$f":"'Absorbance Data'!M3656-Calculations!J$1","v":0},{"$f":"'Absorbance Data'!N3656-Calculations!K$1","v":0},{"$f":"'Absorbance Data'!O3656-Calculations!L$1","v":0},{"$f":"'Absorbance Data'!P3656-Calculations!M$1","v":0},{"$f":"'Absorbance Data'!Q3656-Calculations!N$1","v":0},{"$f":"'Absorbance Data'!R3656-Calculations!O$1","v":0},{"$f":"'Absorbance Data'!S3656-Calculations!P$1","v":0},{"$f":"'Absorbance Data'!T3656-Calculations!Q$1","v":0},{"$f":"'Absorbance Data'!U3656-Calculations!R$1","v":0},{"$f":"'Absorbance Data'!V3656-Calculations!S$1","v":0},{"$f":"'Absorbance Data'!W3656-Calculations!T$1","v":0},{"$f":"'Absorbance Data'!X3656-Calculations!U$1","v":0},{"$f":"'Absorbance Data'!Y3656-Calculations!V$1","v":0},{"$f":"'Absorbance Data'!Z3656-Calculations!W$1","v":0}]
[{"$f":"'Absorbance Data'!D3657","v":723.45343017578125},{"$f":"'Absorbance Data'!E3657-Calculations!B$1","v":0},{"$f":"'Absorbance Data'!F3657-Calculations!C$1","v":0},{"$f":"'Absorbance Data'!G3657-Calculations!D$1","v":0},{"$f":"'Absorbance Data'!H3657-Calculations!E$1","v":0},{"$f":"'Absorbance Data'!I3657-Calculations!F$1","v":0},{"$f":"'Absorbance Data'!J3657-Calculations!G$1","v":0},{"$f":"'Absorbance Data'!K3657-Calculations!H$1","v":0},{"$f":"'Absorbance Data'!L3657-Calculations!I$1","v":0},{"$f":"'Absorbance Data'!M3657-Calculations!J$1","v":0},{"$f":"'Absorbance Data'!N3657-Calculations!K$1","v":0},{"$f":"'Absorbance Data'!O3657-Calculations!L$1","v":0},{"$f":"'Absorbance Data'!P3657-Calculations!M$1","v":0},{"$f":"'Absorbance Data'!Q3657-Calculations!N$1","v":0},{"$f":"'Absorbance Data'!R3657-Calculations!O$1","v":0},{"$f":"'Absorbance Data'!S3657-Calculations!P$1","v":0},{"$f":"'Absorbance Data'!T3657-Calculations!Q$1","v":0},{"$f":"'Absorbance Data'!U3657-Calculations!R$1","v":0},{"$f":"'Absorbance Data'!V3657-Calculations!S$1","v":0},{"$f":"'Absorbance Data'!W3657-Calculations!T$1","v":0},{"$f":"'Absorbance Data'!X3657-Calculations!U$1","v":0},{"$f":"'Absorbance Data'!Y3657-Calculations!V$1","v":0},{"$f":"'Absorbance Data'!Z3657-Calculations!W$1","v":0}]
[{"$f":"'Absorbance Data'!D3658","v":723.75689697265625},{"$f":"'Absorbance Data'!E3658-Calculations!B$1","v":0},{"$f":"'Absorbance Data'!F3658-Calculations!C$1","v":0},{"$f":"'Absorbance Data'!G3658-Calculations!D$1","v":0},{"$f":"'Absorbance Data'!H3658-Calculations!E$1","v":0},{"$f":"'Absorbance Data'!I3658-Calculations!F$1","v":0},{"$f":"'Absorbance Data'!J3658-Calculations!G$1","v":0},{"$f":"'Absorbance Data'!K3658-Calculations!H$1","v":0},{"$f":"'Absorbance Data'!L3658-Calculations!I$1","v":0},{"$f":"'Absorbance Data'!M3658-Calculations!J$1","v":0},{"$f":"'Absorbance Data'!N3658-Calculations!K$1","v":0},{"$f":"'Absorbance Data'!O3658-Calculations!L$1","v":0},{"$f":"'Absorbance Data'!P3658-Calculations!M$1","v":0},{"$f":"'Absorbance Data'!Q3658-Calculations!N$1","v":0},{"$f":"'Absorbance Data'!R3658-Calculations!O$1","v":0},{"$f":"'Absorbance Data'!S3658-Calculations!P$1","v":0},{"$f":"'Absorbance Data'!T3658-Calculations!Q$1","v":0},{"$f":"'Absorbance Data'!U3658-Calculations!R$1","v":0},{"$f":"'Absorbance Data'!V3658-Calculations!S$1","v":0},{"$f":"'Absorbance Data'!W3658-Calculations!T$1","v":0},{"$f":"'Absorbance Data'!X3658-Calculations!U$1","v":0},{"$f":"'Absorbance Data'!Y3658-Calculations!V$1","v":0},{"$f":"'Absorbance Data'!Z3658-Calculations!W$1","v":0}]
[{"$f":"'Absorbance Data'!D3659","v":724.06048583984375},{"$f":"'Absorbance Data'!E3659-Calculations!B$1","v":0},{"$f":"'Absorbance Data'!F3659-Calculations!C$1","v":0},{"$f":"'Absorbance Data'!G3659-Calculations!D$1","v":0},{"$f":"'Absorbance Data'!H3659-Calculations!E$1","v":0},{"$f":"'Absorbance Data'!I3659-Calculations!F$1","v":0},{"$f":"'Absorbance Data'!J3659-Calculations!G$1","v":0},{"$f":"'Absorbance Data'!K3659-Calculations!H$1","v":0},{"$f":"'Absorbance Data'!L3659-Calculations!I$1","v":0},{"$f":"'Absorbance Data'!M3659-Calculations!J$1","v":0},{"$f":"'Absorbance Data'!N3659-Calculations!K$1","v":0},{"$f":"'Absorbance Data'!O3659-Calculations!L$1","v":0},{"$f":"'Absorbance Data'!P3659-Calculations!M$1","v":0},{"$f":"'Absorbance Data'!Q3659-Calculations!N$1","v":0},{"$f":"'Absorbance Data'!R3659-Calculations!O$1","v":0},{"$f":"'Absorbance Data'!S3659-Calculations!P$1","v":0},{"$f":"'Absorbance Data'!T3659-Calculations!Q$1","v":0},{"$f":"'Absorbance Data'!U3659-Calculations!R$1","v":0},{"$f":"'Absorbance Data'!V3659-Calculations!S$1","v":0},{"$f":"'Absorbance Data'!W3659-Calculations!T$1","v":0},{"$f":"'Absorbance Data'!X3659-Calculations!U$1","v":0},{"$f":"'Absorbance Data'!Y3659-Calculations!V$1","v":0},{"$f":"'Absorbance Data'!Z3659-Calculations!W$1","v":0}]
[{"$f":"'Absorbance Data'!D3660","v":724.3638916015625},{"$f":"'Absorbance Data'!E3660-Calculations!B$1","v":0},{"$f":"'Absorbance Data'!F3660-Calculations!C$1","v":0},{"$f":"'Absorbance Data'!G3660-Calculations!D$1","v":0},{"$f":"'Absorbance Data'!H3660-Calculations!E$1","v":0},{"$f":"'Absorbance Data'!I3660-Calculations!F$1","v":0},{"$f":"'Absorbance Data'!J3660-Calculations!G$1","v":0},{"$f":"'Absorbance Data'!K3660-Calculations!H$1","v":0},{"$f":"'Absorbance Data'!L3660-Calculations!I$1","v":0},{"$f":"'Absorbance Data'!M3660-Calculations!J$1","v":0},{"$f":"'Absorbance Data'!N3660-Calculations!K$1","v":0},{"$f":"'Absorbance Data'!O3660-Calculations!L$1","v":0},{"$f":"'Absorbance Data'!P3660-Calculations!M$1","v":0},{"$f":"'Absorbance Data'!Q3660-Calculations!N$1","v":0},{"$f":"'Absorbance Data'!R3660-Calculations!O$1","v":0},{"$f":"'Absorbance Data'!S3660-Calculations!P$1","v":0},{"$f":"'Absorbance Data'!T3660-Calculations!Q$1","v":0},{"$f":"'Absorbance Data'!U3660-Calculations!R$1","v":0},{"$f":"'Absorbance Data'!V3660-Calculations!S$1","v":0},{"$f":"'Absorbance Data'!W3660-Calculations!T$1","v":0},{"$f":"'Absorbance Data'!X3660-Calculations!U$1","v":0},{"$f":"'Absorbance Data'!Y3660-Calculations!V$1","v":0},{"$f":"'Absorbance Data'!Z3660-Calculations!W$1","v":0}]
[{"$f":"'Absorbance Data'!D3661","v":724.667236328125},{"$f":"'Absorbance Data'!E3661-Calculations!B$1","v":0},{"$f":"'Absorbance Data'!F3661-Calculations!C$1","v":0},{"$f":"'Absorbance Data'!G3661-Calculations!D$1","v":0},{"$f":"'Absorbance Data'!H3661-Calculations!E$1","v":0},{"$f":"'Absorbance Data'!I3661-Calculations!F$1","v":0},{"$f":"'Absorbance Data'!J3661-Calculations!G$1","v":0},{"$f":"'Absorbance Data'!K3661-Calculations!H$1","v":0},{"$f":"'Absorbance Data'!L3661-Calculations!I$1","v":0},{"$f":"'Absorbance Data'!M3661-Calculations!J$1","v":0},{"$f":"'Absorbance Data'!N3661-Calculations!K$1","v":0},{"$f":"'Absorbance Data'!O3661-Calculations!L$1","v":0},{"$f":"'Absorbance Data'!P3661-Calculations!M$1","v":0},{"$f":"'Absorbance Data'!Q3661-Calculations!N$1","v":0},{"$f":"'Absorbance Data'!R3661-Calculations!O$1","v":0},{"$f":"'Absorbance Data'!S3661-Calculations!P$1","v":0},{"$f":"'Absorbance Data'!T3661-Calculations!Q$1","v":0},{"$f":"'Absorbance Data'!U3661-Calculations!R$1","v":0},{"$f":"'Absorbance Data'!V3661-Calculations!S$1","v":0},{"$f":"'Absorbance Data'!W3661-Calculations!T$1","v":0},{"$f":"'Absorbance Data'!X3661-Calculations!U$1","v":0},{"$f":"'Absorbance Data'!Y3661-Calculations!V$1","v":0},{"$f":"'Absorbance Data'!Z3661-Calculations!W$1","v":0}]
[{"$f":"'Absorbance Data'!D3662","v":724.9705810546875},{"$f":"'Absorbance Data'!E3662-Calculations!B$1","v":0},{"$f":"'Absorbance Data'!F3662-Calculations!C$1","v":0},{"$f":"'Absorbance Data'!G3662-Calculations!D$1","v":0},{"$f":"'Absorbance Data'!H3662-Calculations!E$1","v":0},{"$f":"'Absorbance Data'!I3662-Calculations!F$1","v":0},{"$f":"'Absorbance Data'!J3662-Calculations!G$1","v":0},{"$f":"'Absorbance Data'!K3662-Calculations!H$1","v":0},{"$f":"'Absorbance Data'!L3662-Calculations!I$1","v":0},{"$f":"'Absorbance Data'!M3662-Calculations!J$1","v":0},{"$f":"'Absorbance Data'!N3662-Calculations!K$1","v":0},{"$f":"'Absorbance Data'!O3662-Calculations!L$1","v":0},{"$f":"'Absorbance Data'!P3662-Calculations!M$1","v":0},{"$f":"'Absorbance Data'!Q3662-Calculations!N$1","v":0},{"$f":"'Absorbance Data'!R3662-Calculations!O$1","v":0},{"$f":"'Absorbance Data'!S3662-Calculations!P$1","v":0},{"$f":"'Absorbance Data'!T3662-Calculations!Q$1","v":0},{"$f":"'Absorbance Data'!U3662-Calculations!R$1","v":0},{"$f":"'Absorbance Data'!V3662-Calculations!S$1","v":0},{"$f":"'Absorbance Data'!W3662-Calculations!T$1","v":0},{"$f":"'Absorbance Data'!X3662-Calculations!U$1","v":0},{"$f":"'Absorbance Data'!Y3662-Calculations!V$1","v":0},{"$f":"'Absorbance Data'!Z3662-Calculations!W$1","v":0}]
[{"$f":"'Absorbance Data'!D3663","v":725.27386474609375},{"$f":"'Absorbance Data'!E3663-Calculations!B$1","v":0},{"$f":"'Absorbance Data'!F3663-Calculations!C$1","v":0},{"$f":"'Absorbance Data'!G3663-Calculations!D$1","v":0},{"$f":"'Absorbance Data'!H3663-Calculations!E$1","v":0},{"$f":"'Absorbance Data'!I3663-Calculations!F$1","v":0},{"$f":"'Absorbance Data'!J3663-Calculations!G$1","v":0},{"$f":"'Absorbance Data'!K3663-Calculations!H$1","v":0},{"$f":"'Absorbance Data'!L3663-Calculations!I$1","v":0},{"$f":"'Absorbance Data'!M3663-Calculations!J$1","v":0},{"$f":"'Absorbance Data'!N3663-Calculations!K$1","v":0},{"$f":"'Absorbance Data'!O3663-Calculations!L$1","v":0},{"$f":"'Absorbance Data'!P3663-Calculations!M$1","v":0},{"$f":"'Absorbance Data'!Q3663-Calculations!N$1","v":0},{"$f":"'Absorbance Data'!R3663-Calculations!O$1","v":0},{"$f":"'Absorbance Data'!S3663-Calculations!P$1","v":0},{"$f":"'Absorbance Data'!T3663-Calculations!Q$1","v":0},{"$f":"'Absorbance Data'!U3663-Calculations!R$1","v":0},{"$f":"'Absorbance Data'!V3663-Calculations!S$1","v":0},{"$f":"'Absorbance Data'!W3663-Calculations!T$1","v":0},{"$f":"'Absorbance Data'!X3663-Calculations!U$1","v":0},{"$f":"'Absorbance Data'!Y3663-Calculations!V$1","v":0},{"$f":"'Absorbance Data'!Z3663-Calculations!W$1","v":0}]
[{"$f":"'Absorbance Data'!D3664","v":725.5771484375},{"$f":"'Absorbance Data'!E3664-Calculations!B$1","v":0},{"$f":"'Absorbance Data'!F3664-Calculations!C$1","v":0},{"$f":"'Absorbance Data'!G3664-Calculations!D$1","v":0},{"$f":"'Absorbance Data'!H3664-Calculations!E$1","v":0},{"$f":"'Absorbance Data'!I3664-Calculations!F$1","v":0},{"$f":"'Absorbance Data'!J3664-Calculations!G$1","v":0},{"$f":"'Absorbance Data'!K3664-Calculations!H$1","v":0},{"$f":"'Absorbance Data'!L3664-Calculations!I$1","v":0},{"$f":"'Absorbance Data'!M3664-Calculations!J$1","v":0},{"$f":"'Absorbance Data'!N3664-Calculations!K$1","v":0},{"$f":"'Absorbance Data'!O3664-Calculations!L$1","v":0},{"$f":"'Absorbance Data'!P3664-Calculations!M$1","v":0},{"$f":"'Absorbance Data'!Q3664-Calculations!N$1","v":0},{"$f":"'Absorbance Data'!R3664-Calculations!O$1","v":0},{"$f":"'Absorbance Data'!S3664-Calculations!P$1","v":0},{"$f":"'Absorbance Data'!T3664-Calculations!Q$1","v":0},{"$f":"'Absorbance Data'!U3664-Calculations!R$1","v":0},{"$f":"'Absorbance Data'!V3664-Calculations!S$1","v":0},{"$f":"'Absorbance Data'!W3664-Calculations!T$1","v":0},{"$f":"'Absorbance Data'!X3664-Calculations!U$1","v":0},{"$f":"'Absorbance Data'!Y3664-Calculations!V$1","v":0},{"$f":"'Absorbance Data'!Z3664-Calculations!W$1","v":0}]
[{"$f":"'Absorbance Data'!D3665","v":725.88031005859375},{"$f":"'Absorbance Data'!E3665-Calculations!B$1","v":0},{"$f":"'Absorbance Data'!F3665-Calculations!C$1","v":0},{"$f":"'Absorbance Data'!G3665-Calculations!D$1","v":0},{"$f":"'Absorbance Data'!H3665-Calculations!E$1","v":0},{"$f":"'Absorbance Data'!I3665-Calculations!F$1","v":0},{"$f":"'Absorbance Data'!J3665-Calculations!G$1","v":0},{"$f":"'Absorbance Data'!K3665-Calculations!H$1","v":0},{"$f":"'Absorbance Data'!L3665-Calculations!I$1","v":0},{"$f":"'Absorbance Data'!M3665-Calculations!J$1","v":0},{"$f":"'Absorbance Data'!N3665-Calculations!K$1","v":0},{"$f":"'Absorbance Data'!O3665-Calculations!L$1","v":0},{"$f":"'Absorbance Data'!P3665-Calculations!M$1","v":0},{"$f":"'Absorbance Data'!Q3665-Calculations!N$1","v":0},{"$f":"'Absorbance Data'!R3665-Calculations!O$1","v":0},{"$f":"'Absorbance Data'!S3665-Calculations!P$1","v":0},{"$f":"'Absorbance Data'!T3665-Calculations!Q$1","v":0},{"$f":"'Absorbance Data'!U3665-Calculations!R$1","v":0},{"$f":"'Absorbance Data'!V3665-Calculations!S$1","v":0},{"$f":"'Absorbance Data'!W3665-Calculations!T$1","v":0},{"$f":"'Absorbance Data'!X3665-Calculations!U$1","v":0},{"$f":"'Absorbance Data'!Y3665-Calculations!V$1","v":0},{"$f":"'Absorbance Data'!Z3665-Calculations!W$1","v":0}]
[{"$f":"'Absorbance Data'!D3666","v":726.1834716796875},{"$f":"'Absorbance Data'!E3666-Calculations!B$1","v":0},{"$f":"'Absorbance Data'!F3666-Calculations!C$1","v":0},{"$f":"'Absorbance Data'!G3666-Calculations!D$1","v":0},{"$f":"'Absorbance Data'!H3666-Calculations!E$1","v":0},{"$f":"'Absorbance Data'!I3666-Calculations!F$1","v":0},{"$f":"'Absorbance Data'!J3666-Calculations!G$1","v":0},{"$f":"'Absorbance Data'!K3666-Calculations!H$1","v":0},{"$f":"'Absorbance Data'!L3666-Calculations!I$1","v":0},{"$f":"'Absorbance Data'!M3666-Calculations!J$1","v":0},{"$f":"'Absorbance Data'!N3666-Calculations!K$1","v":0},{"$f":"'Absorbance Data'!O3666-Calculations!L$1","v":0},{"$f":"'Absorbance Data'!P3666-Calculations!M$1","v":0},{"$f":"'Absorbance Data'!Q3666-Calculations!N$1","v":0},{"$f":"'Absorbance Data'!R3666-Calculations!O$1","v":0},{"$f":"'Absorbance Data'!S3666-Calculations!P$1","v":0},{"$f":"'Absorbance Data'!T3666-Calculations!Q$1","v":0},{"$f":"'Absorbance Data'!U3666-Calculations!R$1","v":0},{"$f":"'Absorbance Data'!V3666-Calculations!S$1","v":0},{"$f":"'Absorbance Data'!W3666-Calculations!T$1","v":0},{"$f":"'Absorbance Data'!X3666-Calculations!U$1","v":0},{"$f":"'Absorbance Data'!Y3666-Calculations!V$1","v":0},{"$f":"'Absorbance Data'!Z3666-Calculations!W$1","v":0}]
[{"$f":"'Absorbance Data'!D3667","v":726.486572265625},{"$f":"'Absorbance Data'!E3667-Calculations!B$1","v":0},{"$f":"'Absorbance Data'!F3667-Calculations!C$1","v":0},{"$f":"'Absorbance Data'!G3667-Calculations!D$1","v":0},{"$f":"'Absorbance Data'!H3667-Calculations!E$1","v":0},{"$f":"'Absorbance Data'!I3667-Calculations!F$1","v":0},{"$f":"'Absorbance Data'!J3667-Calculations!G$1","v":0},{"$f":"'Absorbance Data'!K3667-Calculations!H$1","v":0},{"$f":"'Absorbance Data'!L3667-Calculations!I$1","v":0},{"$f":"'Absorbance Data'!M3667-Calculations!J$1","v":0},{"$f":"'Absorbance Data'!N3667-Calculations!K$1","v":0},{"$f":"'Absorbance Data'!O3667-Calculations!L$1","v":0},{"$f":"'Absorbance Data'!P3667-Calculations!M$1","v":0},{"$f":"'Absorbance Data'!Q3667-Calculations!N$1","v":0},{"$f":"'Absorbance Data'!R3667-Calculations!O$1","v":0},{"$f":"'Absorbance Data'!S3667-Calculations!P$1","v":0},{"$f":"'Absorbance Data'!T3667-Calculations!Q$1","v":0},{"$f":"'Absorbance Data'!U3667-Calculations!R$1","v":0},{"$f":"'Absorbance Data'!V3667-Calculations!S$1","v":0},{"$f":"'Absorbance Data'!W3667-Calculations!T$1","v":0},{"$f":"'Absorbance Data'!X3667-Calculations!U$1","v":0},{"$f":"'Absorbance Data'!Y3667-Calculations!V$1","v":0},{"$f":"'Absorbance Data'!Z3667-Calculations!W$1","v":0}]
[{"$f":"'Absorbance Data'!D3668","v":726.7896728515625},{"$f":"'Absorbance Data'!E3668-Calculations!B$1","v":0},{"$f":"'Absorbance Data'!F3668-Calculations!C$1","v":0},{"$f":"'Absorbance Data'!G3668-Calculations!D$1","v":0},{"$f":"'Absorbance Data'!H3668-Calculations!E$1","v":0},{"$f":"'Absorbance Data'!I3668-Calculations!F$1","v":0},{"$f":"'Absorbance Data'!J3668-Calculations!G$1","v":0},{"$f":"'Absorbance Data'!K3668-Calculations!H$1","v":0},{"$f":"'Absorbance Data'!L3668-Calculations!I$1","v":0},{"$f":"'Absorbance Data'!M3668-Calculations!J$1","v":0},{"$f":"'Absorbance Data'!N3668-Calculations!K$1","v":0},{"$f":"'Absorbance Data'!O3668-Calculations!L$1","v":0},{"$f":"'Absorbance Data'!P3668-Calculations!M$1","v":0},{"$f":"'Absorbance Data'!Q3668-Calculations!N$1","v":0},{"$f":"'Absorbance Data'!R3668-Calculations!O$1","v":0},{"$f":"'Absorbance Data'!S3668-Calculations!P$1","v":0},{"$f":"'Absorbance Data'!T3668-Calculations!Q$1","v":0},{"$f":"'Absorbance Data'!U3668-Calculations!R$1","v":0},{"$f":"'Absorbance Data'!V3668-Calculations!S$1","v":0},{"$f":"'Absorbance Data'!W3668-Calculations!T$1","v":0},{"$f":"'Absorbance Data'!X3668-Calculations!U$1","v":0},{"$f":"'Absorbance Data'!Y3668-Calculations!V$1","v":0},{"$f":"'Absorbance Data'!Z3668-Calculations!W$1","v":0}]
[{"$f":"'Absorbance Data'!D3669","v":727.0926513671875},{"$f":"'Absorbance Data'!E3669-Calculations!B$1","v":0},{"$f":"'Absorbance Data'!F3669-Calculations!C$1","v":0},{"$f":"'Absorbance Data'!G3669-Calculations!D$1","v":0},{"$f":"'Absorbance Data'!H3669-Calculations!E$1","v":0},{"$f":"'Absorbance Data'!I3669-Calculations!F$1","v":0},{"$f":"'Absorbance Data'!J3669-Calculations!G$1","v":0},{"$f":"'Absorbance Data'!K3669-Calculations!H$1","v":0},{"$f":"'Absorbance Data'!L3669-Calculations!I$1","v":0},{"$f":"'Absorbance Data'!M3669-Calculations!J$1","v":0},{"$f":"'Absorbance Data'!N3669-Calculations!K$1","v":0},{"$f":"'Absorbance Data'!O3669-Calculations!L$1","v":0},{"$f":"'Absorbance Data'!P3669-Calculations!M$1","v":0},{"$f":"'Absorbance Data'!Q3669-Calculations!N$1","v":0},{"$f":"'Absorbance Data'!R3669-Calculations!O$1","v":0},{"$f":"'Absorbance Data'!S3669-Calculations!P$1","v":0},{"$f":"'Absorbance Data'!T3669-Calculations!Q$1","v":0},{"$f":"'Absorbance Data'!U3669-Calculations!R$1","v":0},{"$f":"'Absorbance Data'!V3669-Calculations!S$1","v":0},{"$f":"'Absorbance Data'!W3669-Calculations!T$1","v":0},{"$f":"'Absorbance Data'!X3669-Calculations!U$1","v":0},{"$f":"'Absorbance Data'!Y3669-Calculations!V$1","v":0},{"$f":"'Absorbance Data'!Z3669-Calculations!W$1","v":0}]
[{"$f":"'Absorbance Data'!D3670","v":727.39569091796875},{"$f":"'Absorbance Data'!E3670-Calculations!B$1","v":0},{"$f":"'Absorbance Data'!F3670-Calculations!C$1","v":0},{"$f":"'Absorbance Data'!G3670-Calculations!D$1","v":0},{"$f":"'Absorbance Data'!H3670-Calculations!E$1","v":0},{"$f":"'Absorbance Data'!I3670-Calculations!F$1","v":0},{"$f":"'Absorbance Data'!J3670-Calculations!G$1","v":0},{"$f":"'Absorbance Data'!K3670-Calculations!H$1","v":0},{"$f":"'Absorbance Data'!L3670-Calculations!I$1","v":0},{"$f":"'Absorbance Data'!M3670-Calculations!J$1","v":0},{"$f":"'Absorbance Data'!N3670-Calculations!K$1","v":0},{"$f":"'Absorbance Data'!O3670-Calculations!L$1","v":0},{"$f":"'Absorbance Data'!P3670-Calculations!M$1","v":0},{"$f":"'Absorbance Data'!Q3670-Calculations!N$1","v":0},{"$f":"'Absorbance Data'!R3670-Calculations!O$1","v":0},{"$f":"'Absorbance Data'!S3670-Calculations!P$1","v":0},{"$f":"'Absorbance Data'!T3670-Calculations!Q$1","v":0},{"$f":"'Absorbance Data'!U3670-Calculations!R$1","v":0},{"$f":"'Absorbance Data'!V3670-Calculations!S$1","v":0},{"$f":"'Absorbance Data'!W3670-Calculations!T$1","v":0},{"$f":"'Absorbance Data'!X3670-Calculations!U$1","v":0},{"$f":"'Absorbance Data'!Y3670-Calculations!V$1","v":0},{"$f":"'Absorbance Data'!Z3670-Calculations!W$1","v":0}]
[{"$f":"'Absorbance Data'!D3671","v":727.69854736328125},{"$f":"'Absorbance Data'!E3671-Calculations!B$1","v":0},{"$f":"'Absorbance Data'!F3671-Calculations!C$1","v":0},{"$f":"'Absorbance Data'!G3671-Calculations!D$1","v":0},{"$f":"'Absorbance Data'!H3671-Calculations!E$1","v":0},{"$f":"'Absorbance Data'!I3671-Calculations!F$1","v":0},{"$f":"'Absorbance Data'!J3671-Calculations!G$1","v":0},{"$f":"'Absorbance Data'!K3671-Calculations!H$1","v":0},{"$f":"'Absorbance Data'!L3671-Calculations!I$1","v":0},{"$f":"'Absorbance Data'!M3671-Calculations!J$1","v":0},{"$f":"'Absorbance Data'!N3671-Calculations!K$1","v":0},{"$f":"'Absorbance Data'!O3671-Calculations!L$1","v":0},{"$f":"'Absorbance Data'!P3671-Calculations!M$1","v":0},{"$f":"'Absorbance Data'!Q3671-Calculations!N$1","v":0},{"$f":"'Absorbance Data'!R3671-Calculations!O$1","v":0},{"$f":"'Absorbance Data'!S3671-Calculations!P$1","v":0},{"$f":"'Absorbance Data'!T3671-Calculations!Q$1","v":0},{"$f":"'Absorbance Data'!U3671-Calculations!R$1","v":0},{"$f":"'Absorbance Data'!V3671-Calculations!S$1","v":0},{"$f":"'Absorbance Data'!W3671-Calculations!T$1","v":0},{"$f":"'Absorbance Data'!X3671-Calculations!U$1","v":0},{"$f":"'Absorbance Data'!Y3671-Calculations!V$1","v":0},{"$f":"'Absorbance Data'!Z3671-Calculations!W$1","v":0}]
[{"$f":"'Absorbance Data'!D3672","v":728.00146484375},{"$f":"'Absorbance Data'!E3672-Calculations!B$1","v":0},{"$f":"'Absorbance Data'!F3672-Calculations!C$1","v":0},{"$f":"'Absorbance Data'!G3672-Calculations!D$1","v":0},{"$f":"'Absorbance Data'!H3672-Calculations!E$1","v":0},{"$f":"'Absorbance Data'!I3672-Calculations!F$1","v":0},{"$f":"'Absorbance Data'!J3672-Calculations!G$1","v":0},{"$f":"'Absorbance Data'!K3672-Calculations!H$1","v":0},{"$f":"'Absorbance Data'!L3672-Calculations!I$1","v":0},{"$f":"'Absorbance Data'!M3672-Calculations!J$1","v":0},{"$f":"'Absorbance Data'!N3672-Calculations!K$1","v":0},{"$f":"'Absorbance Data'!O3672-Calculations!L$1","v":0},{"$f":"'Absorbance Data'!P3672-Calculations!M$1","v":0},{"$f":"'Absorbance Data'!Q3672-Calculations!N$1","v":0},{"$f":"'Absorbance Data'!R3672-Calculations!O$1","v":0},{"$f":"'Absorbance Data'!S3672-Calculations!P$1","v":0},{"$f":"'Absorbance Data'!T3672-Calculations!Q$1","v":0},{"$f":"'Absorbance Data'!U3672-Calculations!R$1","v":0},{"$f":"'Absorbance Data'!V3672-Calculations!S$1","v":0},{"$f":"'Absorbance Data'!W3672-Calculations!T$1","v":0},{"$f":"'Absorbance Data'!X3672-Calculations!U$1","v":0},{"$f":"'Absorbance Data'!Y3672-Calculations!V$1","v":0},{"$f":"'Absorbance Data'!Z3672-Calculations!W$1","v":0}]
[{"$f":"'Absorbance Data'!D3673","v":728.30426025390625},{"$f":"'Absorbance Data'!E3673-Calculations!B$1","v":0},{"$f":"'Absorbance Data'!F3673-Calculations!C$1","v":0},{"$f":"'Absorbance Data'!G3673-Calculations!D$1","v":0},{"$f":"'Absorbance Data'!H3673-Calculations!E$1","v":0},{"$f":"'Absorbance Data'!I3673-Calculations!F$1","v":0},{"$f":"'Absorbance Data'!J3673-Calculations!G$1","v":0},{"$f":"'Absorbance Data'!K3673-Calculations!H$1","v":0},{"$f":"'Absorbance Data'!L3673-Calculations!I$1","v":0},{"$f":"'Absorbance Data'!M3673-Calculations!J$1","v":0},{"$f":"'Absorbance Data'!N3673-Calculations!K$1","v":0},{"$f":"'Absorbance Data'!O3673-Calculations!L$1","v":0},{"$f":"'Absorbance Data'!P3673-Calculations!M$1","v":0},{"$f":"'Absorbance Data'!Q3673-Calculations!N$1","v":0},{"$f":"'Absorbance Data'!R3673-Calculations!O$1","v":0},{"$f":"'Absorbance Data'!S3673-Calculations!P$1","v":0},{"$f":"'Absorbance Data'!T3673-Calculations!Q$1","v":0},{"$f":"'Absorbance Data'!U3673-Calculations!R$1","v":0},{"$f":"'Absorbance Data'!V3673-Calculations!S$1","v":0},{"$f":"'Absorbance Data'!W3673-Calculations!T$1","v":0},{"$f":"'Absorbance Data'!X3673-Calculations!U$1","v":0},{"$f":"'Absorbance Data'!Y3673-Calculations!V$1","v":0},{"$f":"'Absorbance Data'!Z3673-Calculations!W$1","v":0}]
[{"$f":"'Absorbance Data'!D3674","v":728.6070556640625},{"$f":"'Absorbance Data'!E3674-Calculations!B$1","v":0},{"$f":"'Absorbance Data'!F3674-Calculations!C$1","v":0},{"$f":"'Absorbance Data'!G3674-Calculations!D$1","v":0},{"$f":"'Absorbance Data'!H3674-Calculations!E$1","v":0},{"$f":"'Absorbance Data'!I3674-Calculations!F$1","v":0},{"$f":"'Absorbance Data'!J3674-Calculations!G$1","v":0},{"$f":"'Absorbance Data'!K3674-Calculations!H$1","v":0},{"$f":"'Absorbance Data'!L3674-Calculations!I$1","v":0},{"$f":"'Absorbance Data'!M3674-Calculations!J$1","v":0},{"$f":"'Absorbance Data'!N3674-Calculations!K$1","v":0},{"$f":"'Absorbance Data'!O3674-Calculations!L$1","v":0},{"$f":"'Absorbance Data'!P3674-Calculations!M$1","v":0},{"$f":"'Absorbance Data'!Q3674-Calculations!N$1","v":0},{"$f":"'Absorbance Data'!R3674-Calculations!O$1","v":0},{"$f":"'Absorbance Data'!S3674-Calculations!P$1","v":0},{"$f":"'Absorbance Data'!T3674-Calculations!Q$1","v":0},{"$f":"'Absorbance Data'!U3674-Calculations!R$1","v":0},{"$f":"'Absorbance Data'!V3674-Calculations!S$1","v":0},{"$f":"'Absorbance Data'!W3674-Calculations!T$1","v":0},{"$f":"'Absorbance Data'!X3674-Calculations!U$1","v":0},{"$f":"'Absorbance Data'!Y3674-Calculations!V$1","v":0},{"$f":"'Absorbance Data'!Z3674-Calculations!W$1","v":0}]
[{"$f":"'Absorbance Data'!D3675","v":728.9097900390625},{"$f":"'Absorbance Data'!E3675-Calculations!B$1","v":0},{"$f":"'Absorbance Data'!F3675-Calculations!C$1","v":0},{"$f":"'Absorbance Data'!G3675-Calculations!D$1","v":0},{"$f":"'Absorbance Data'!H3675-Calculations!E$1","v":0},{"$f":"'Absorbance Data'!I3675-Calculations!F$1","v":0},{"$f":"'Absorbance Data'!J3675-Calculations!G$1","v":0},{"$f":"'Absorbance Data'!K3675-Calculations!H$1","v":0},{"$f":"'Absorbance Data'!L3675-Calculations!I$1","v":0},{"$f":"'Absorbance Data'!M3675-Calculations!J$1","v":0},{"$f":"'Absorbance Data'!N3675-Calculations!K$1","v":0},{"$f":"'Absorbance Data'!O3675-Calculations!L$1","v":0},{"$f":"'Absorbance Data'!P3675-Calculations!M$1","v":0},{"$f":"'Absorbance Data'!Q3675-Calculations!N$1","v":0},{"$f":"'Absorbance Data'!R3675-Calculations!O$1","v":0},{"$f":"'Absorbance Data'!S3675-Calculations!P$1","v":0},{"$f":"'Absorbance Data'!T3675-Calculations!Q$1","v":0},{"$f":"'Absorbance Data'!U3675-Calculations!R$1","v":0},{"$f":"'Absorbance Data'!V3675-Calculations!S$1","v":0},{"$f":"'Absorbance Data'!W3675-Calculations!T$1","v":0},{"$f":"'Absorbance Data'!X3675-Calculations!U$1","v":0},{"$f":"'Absorbance Data'!Y3675-Calculations!V$1","v":0},{"$f":"'Absorbance Data'!Z3675-Calculations!W$1","v":0}]
[{"$f":"'Absorbance Data'!D3676","v":729.21246337890625},{"$f":"'Absorbance Data'!E3676-Calculations!B$1","v":0},{"$f":"'Absorbance Data'!F3676-Calculations!C$1","v":0},{"$f":"'Absorbance Data'!G3676-Calculations!D$1","v":0},{"$f":"'Absorbance Data'!H3676-Calculations!E$1","v":0},{"$f":"'Absorbance Data'!I3676-Calculations!F$1","v":0},{"$f":"'Absorbance Data'!J3676-Calculations!G$1","v":0},{"$f":"'Absorbance Data'!K3676-Calculations!H$1","v":0},{"$f":"'Absorbance Data'!L3676-Calculations!I$1","v":0},{"$f":"'Absorbance Data'!M3676-Calculations!J$1","v":0},{"$f":"'Absorbance Data'!N3676-Calculations!K$1","v":0},{"$f":"'Absorbance Data'!O3676-Calculations!L$1","v":0},{"$f":"'Absorbance Data'!P3676-Calculations!M$1","v":0},{"$f":"'Absorbance Data'!Q3676-Calculations!N$1","v":0},{"$f":"'Absorbance Data'!R3676-Calculations!O$1","v":0},{"$f":"'Absorbance Data'!S3676-Calculations!P$1","v":0},{"$f":"'Absorbance Data'!T3676-Calculations!Q$1","v":0},{"$f":"'Absorbance Data'!U3676-Calculations!R$1","v":0},{"$f":"'Absorbance Data'!V3676-Calculations!S$1","v":0},{"$f":"'Absorbance Data'!W3676-Calculations!T$1","v":0},{"$f":"'Absorbance Data'!X3676-Calculations!U$1","v":0},{"$f":"'Absorbance Data'!Y3676-Calculations!V$1","v":0},{"$f":"'Absorbance Data'!Z3676-Calculations!W$1","v":0}]
[{"$f":"'Absorbance Data'!D3677","v":729.51513671875},{"$f":"'Absorbance Data'!E3677-Calculations!B$1","v":0},{"$f":"'Absorbance Data'!F3677-Calculations!C$1","v":0},{"$f":"'Absorbance Data'!G3677-Calculations!D$1","v":0},{"$f":"'Absorbance Data'!H3677-Calculations!E$1","v":0},{"$f":"'Absorbance Data'!I3677-Calculations!F$1","v":0},{"$f":"'Absorbance Data'!J3677-Calculations!G$1","v":0},{"$f":"'Absorbance Data'!K3677-Calculations!H$1","v":0},{"$f":"'Absorbance Data'!L3677-Calculations!I$1","v":0},{"$f":"'Absorbance Data'!M3677-Calculations!J$1","v":0},{"$f":"'Absorbance Data'!N3677-Calculations!K$1","v":0},{"$f":"'Absorbance Data'!O3677-Calculations!L$1","v":0},{"$f":"'Absorbance Data'!P3677-Calculations!M$1","v":0},{"$f":"'Absorbance Data'!Q3677-Calculations!N$1","v":0},{"$f":"'Absorbance Data'!R3677-Calculations!O$1","v":0},{"$f":"'Absorbance Data'!S3677-Calculations!P$1","v":0},{"$f":"'Absorbance Data'!T3677-Calculations!Q$1","v":0},{"$f":"'Absorbance Data'!U3677-Calculations!R$1","v":0},{"$f":"'Absorbance Data'!V3677-Calculations!S$1","v":0},{"$f":"'Absorbance Data'!W3677-Calculations!T$1","v":0},{"$f":"'Absorbance Data'!X3677-Calculations!U$1","v":0},{"$f":"'Absorbance Data'!Y3677-Calculations!V$1","v":0},{"$f":"'Absorbance Data'!Z3677-Calculations!W$1","v":0}]
[{"$f":"'Absorbance Data'!D3678","v":729.8177490234375},{"$f":"'Absorbance Data'!E3678-Calculations!B$1","v":0},{"$f":"'Absorbance Data'!F3678-Calculations!C$1","v":0},{"$f":"'Absorbance Data'!G3678-Calculations!D$1","v":0},{"$f":"'Absorbance Data'!H3678-Calculations!E$1","v":0},{"$f":"'Absorbance Data'!I3678-Calculations!F$1","v":0},{"$f":"'Absorbance Data'!J3678-Calculations!G$1","v":0},{"$f":"'Absorbance Data'!K3678-Calculations!H$1","v":0},{"$f":"'Absorbance Data'!L3678-Calculations!I$1","v":0},{"$f":"'Absorbance Data'!M3678-Calculations!J$1","v":0},{"$f":"'Absorbance Data'!N3678-Calculations!K$1","v":0},{"$f":"'Absorbance Data'!O3678-Calculations!L$1","v":0},{"$f":"'Absorbance Data'!P3678-Calculations!M$1","v":0},{"$f":"'Absorbance Data'!Q3678-Calculations!N$1","v":0},{"$f":"'Absorbance Data'!R3678-Calculations!O$1","v":0},{"$f":"'Absorbance Data'!S3678-Calculations!P$1","v":0},{"$f":"'Absorbance Data'!T3678-Calculations!Q$1","v":0},{"$f":"'Absorbance Data'!U3678-Calculations!R$1","v":0},{"$f":"'Absorbance Data'!V3678-Calculations!S$1","v":0},{"$f":"'Absorbance Data'!W3678-Calculations!T$1","v":0},{"$f":"'Absorbance Data'!X3678-Calculations!U$1","v":0},{"$f":"'Absorbance Data'!Y3678-Calculations!V$1","v":0},{"$f":"'Absorbance Data'!Z3678-Calculations!W$1","v":0}]
[{"$f":"'Absorbance Data'!D3679","v":730.12030029296875},{"$f":"'Absorbance Data'!E3679-Calculations!B$1","v":0},{"$f":"'Absorbance Data'!F3679-Calculations!C$1","v":0},{"$f":"'Absorbance Data'!G3679-Calculations!D$1","v":0},{"$f":"'Absorbance Data'!H3679-Calculations!E$1","v":0},{"$f":"'Absorbance Data'!I3679-Calculations!F$1","v":0},{"$f":"'Absorbance Data'!J3679-Calculations!G$1","v":0},{"$f":"'Absorbance Data'!K3679-Calculations!H$1","v":0},{"$f":"'Absorbance Data'!L3679-Calculations!I$1","v":0},{"$f":"'Absorbance Data'!M3679-Calculations!J$1","v":0},{"$f":"'Absorbance Data'!N3679-Calculations!K$1","v":0},{"$f":"'Absorbance Data'!O3679-Calculations!L$1","v":0},{"$f":"'Absorbance Data'!P3679-Calculations!M$1","v":0},{"$f":"'Absorbance Data'!Q3679-Calculations!N$1","v":0},{"$f":"'Absorbance Data'!R3679-Calculations!O$1","v":0},{"$f":"'Absorbance Data'!S3679-Calculations!P$1","v":0},{"$f":"'Absorbance Data'!T3679-Calculations!Q$1","v":0},{"$f":"'Absorbance Data'!U3679-Calculations!R$1","v":0},{"$f":"'Absorbance Data'!V3679-Calculations!S$1","v":0},{"$f":"'Absorbance Data'!W3679-Calculations!T$1","v":0},{"$f":"'Absorbance Data'!X3679-Calculations!U$1","v":0},{"$f":"'Absorbance Data'!Y3679-Calculations!V$1","v":0},{"$f":"'Absorbance Data'!Z3679-Calculations!W$1","v":0}]
[{"$f":"'Absorbance Data'!D3680","v":730.4228515625},{"$f":"'Absorbance Data'!E3680-Calculations!B$1","v":0},{"$f":"'Absorbance Data'!F3680-Calculations!C$1","v":0},{"$f":"'Absorbance Data'!G3680-Calculations!D$1","v":0},{"$f":"'Absorbance Data'!H3680-Calculations!E$1","v":0},{"$f":"'Absorbance Data'!I3680-Calculations!F$1","v":0},{"$f":"'Absorbance Data'!J3680-Calculations!G$1","v":0},{"$f":"'Absorbance Data'!K3680-Calculations!H$1","v":0},{"$f":"'Absorbance Data'!L3680-Calculations!I$1","v":0},{"$f":"'Absorbance Data'!M3680-Calculations!J$1","v":0},{"$f":"'Absorbance Data'!N3680-Calculations!K$1","v":0},{"$f":"'Absorbance Data'!O3680-Calculations!L$1","v":0},{"$f":"'Absorbance Data'!P3680-Calculations!M$1","v":0},{"$f":"'Absorbance Data'!Q3680-Calculations!N$1","v":0},{"$f":"'Absorbance Data'!R3680-Calculations!O$1","v":0},{"$f":"'Absorbance Data'!S3680-Calculations!P$1","v":0},{"$f":"'Absorbance Data'!T3680-Calculations!Q$1","v":0},{"$f":"'Absorbance Data'!U3680-Calculations!R$1","v":0},{"$f":"'Absorbance Data'!V3680-Calculations!S$1","v":0},{"$f":"'Absorbance Data'!W3680-Calculations!T$1","v":0},{"$f":"'Absorbance Data'!X3680-Calculations!U$1","v":0},{"$f":"'Absorbance Data'!Y3680-Calculations!V$1","v":0},{"$f":"'Absorbance Data'!Z3680-Calculations!W$1","v":0}]
[{"$f":"'Absorbance Data'!D3681","v":730.72528076171875},{"$f":"'Absorbance Data'!E3681-Calculations!B$1","v":0},{"$f":"'Absorbance Data'!F3681-Calculations!C$1","v":0},{"$f":"'Absorbance Data'!G3681-Calculations!D$1","v":0},{"$f":"'Absorbance Data'!H3681-Calculations!E$1","v":0},{"$f":"'Absorbance Data'!I3681-Calculations!F$1","v":0},{"$f":"'Absorbance Data'!J3681-Calculations!G$1","v":0},{"$f":"'Absorbance Data'!K3681-Calculations!H$1","v":0},{"$f":"'Absorbance Data'!L3681-Calculations!I$1","v":0},{"$f":"'Absorbance Data'!M3681-Calculations!J$1","v":0},{"$f":"'Absorbance Data'!N3681-Calculations!K$1","v":0},{"$f":"'Absorbance Data'!O3681-Calculations!L$1","v":0},{"$f":"'Absorbance Data'!P3681-Calculations!M$1","v":0},{"$f":"'Absorbance Data'!Q3681-Calculations!N$1","v":0},{"$f":"'Absorbance Data'!R3681-Calculations!O$1","v":0},{"$f":"'Absorbance Data'!S3681-Calculations!P$1","v":0},{"$f":"'Absorbance Data'!T3681-Calculations!Q$1","v":0},{"$f":"'Absorbance Data'!U3681-Calculations!R$1","v":0},{"$f":"'Absorbance Data'!V3681-Calculations!S$1","v":0},{"$f":"'Absorbance Data'!W3681-Calculations!T$1","v":0},{"$f":"'Absorbance Data'!X3681-Calculations!U$1","v":0},{"$f":"'Absorbance Data'!Y3681-Calculations!V$1","v":0},{"$f":"'Absorbance Data'!Z3681-Calculations!W$1","v":0}]
[{"$f":"'Absorbance Data'!D3682","v":731.0277099609375},{"$f":"'Absorbance Data'!E3682-Calculations!B$1","v":0},{"$f":"'Absorbance Data'!F3682-Calculations!C$1","v":0},{"$f":"'Absorbance Data'!G3682-Calculations!D$1","v":0},{"$f":"'Absorbance Data'!H3682-Calculations!E$1","v":0},{"$f":"'Absorbance Data'!I3682-Calculations!F$1","v":0},{"$f":"'Absorbance Data'!J3682-Calculations!G$1","v":0},{"$f":"'Absorbance Data'!K3682-Calculations!H$1","v":0},{"$f":"'Absorbance Data'!L3682-Calculations!I$1","v":0},{"$f":"'Absorbance Data'!M3682-Calculations!J$1","v":0},{"$f":"'Absorbance Data'!N3682-Calculations!K$1","v":0},{"$f":"'Absorbance Data'!O3682-Calculations!L$1","v":0},{"$f":"'Absorbance Data'!P3682-Calculations!M$1","v":0},{"$f":"'Absorbance Data'!Q3682-Calculations!N$1","v":0},{"$f":"'Absorbance Data'!R3682-Calculations!O$1","v":0},{"$f":"'Absorbance Data'!S3682-Calculations!P$1","v":0},{"$f":"'Absorbance Data'!T3682-Calculations!Q$1","v":0},{"$f":"'Absorbance Data'!U3682-Calculations!R$1","v":0},{"$f":"'Absorbance Data'!V3682-Calculations!S$1","v":0},{"$f":"'Absorbance Data'!W3682-Calculations!T$1","v":0},{"$f":"'Absorbance Data'!X3682-Calculations!U$1","v":0},{"$f":"'Absorbance Data'!Y3682-Calculations!V$1","v":0},{"$f":"'Absorbance Data'!Z3682-Calculations!W$1","v":0}]
[{"$f":"'Absorbance Data'!D3683","v":731.330078125},{"$f":"'Absorbance Data'!E3683-Calculations!B$1","v":0},{"$f":"'Absorbance Data'!F3683-Calculations!C$1","v":0},{"$f":"'Absorbance Data'!G3683-Calculations!D$1","v":0},{"$f":"'Absorbance Data'!H3683-Calculations!E$1","v":0},{"$f":"'Absorbance Data'!I3683-Calculations!F$1","v":0},{"$f":"'Absorbance Data'!J3683-Calculations!G$1","v":0},{"$f":"'Absorbance Data'!K3683-Calculations!H$1","v":0},{"$f":"'Absorbance Data'!L3683-Calculations!I$1","v":0},{"$f":"'Absorbance Data'!M3683-Calculations!J$1","v":0},{"$f":"'Absorbance Data'!N3683-Calculations!K$1","v":0},{"$f":"'Absorbance Data'!O3683-Calculations!L$1","v":0},{"$f":"'Absorbance Data'!P3683-Calculations!M$1","v":0},{"$f":"'Absorbance Data'!Q3683-Calculations!N$1","v":0},{"$f":"'Absorbance Data'!R3683-Calculations!O$1","v":0},{"$f":"'Absorbance Data'!S3683-Calculations!P$1","v":0},{"$f":"'Absorbance Data'!T3683-Calculations!Q$1","v":0},{"$f":"'Absorbance Data'!U3683-Calculations!R$1","v":0},{"$f":"'Absorbance Data'!V3683-Calculations!S$1","v":0},{"$f":"'Absorbance Data'!W3683-Calculations!T$1","v":0},{"$f":"'Absorbance Data'!X3683-Calculations!U$1","v":0},{"$f":"'Absorbance Data'!Y3683-Calculations!V$1","v":0},{"$f":"'Absorbance Data'!Z3683-Calculations!W$1","v":0}]
[{"$f":"'Absorbance Data'!D3684","v":731.6324462890625},{"$f":"'Absorbance Data'!E3684-Calculations!B$1","v":0},{"$f":"'Absorbance Data'!F3684-Calculations!C$1","v":0},{"$f":"'Absorbance Data'!G3684-Calculations!D$1","v":0},{"$f":"'Absorbance Data'!H3684-Calculations!E$1","v":0},{"$f":"'Absorbance Data'!I3684-Calculations!F$1","v":0},{"$f":"'Absorbance Data'!J3684-Calculations!G$1","v":0},{"$f":"'Absorbance Data'!K3684-Calculations!H$1","v":0},{"$f":"'Absorbance Data'!L3684-Calculations!I$1","v":0},{"$f":"'Absorbance Data'!M3684-Calculations!J$1","v":0},{"$f":"'Absorbance Data'!N3684-Calculations!K$1","v":0},{"$f":"'Absorbance Data'!O3684-Calculations!L$1","v":0},{"$f":"'Absorbance Data'!P3684-Calculations!M$1","v":0},{"$f":"'Absorbance Data'!Q3684-Calculations!N$1","v":0},{"$f":"'Absorbance Data'!R3684-Calculations!O$1","v":0},{"$f":"'Absorbance Data'!S3684-Calculations!P$1","v":0},{"$f":"'Absorbance Data'!T3684-Calculations!Q$1","v":0},{"$f":"'Absorbance Data'!U3684-Calculations!R$1","v":0},{"$f":"'Absorbance Data'!V3684-Calculations!S$1","v":0},{"$f":"'Absorbance Data'!W3684-Calculations!T$1","v":0},{"$f":"'Absorbance Data'!X3684-Calculations!U$1","v":0},{"$f":"'Absorbance Data'!Y3684-Calculations!V$1","v":0},{"$f":"'Absorbance Data'!Z3684-Calculations!W$1","v":0}]
[{"$f":"'Absorbance Data'!D3685","v":731.9346923828125},{"$f":"'Absorbance Data'!E3685-Calculations!B$1","v":0},{"$f":"'Absorbance Data'!F3685-Calculations!C$1","v":0},{"$f":"'Absorbance Data'!G3685-Calculations!D$1","v":0},{"$f":"'Absorbance Data'!H3685-Calculations!E$1","v":0},{"$f":"'Absorbance Data'!I3685-Calculations!F$1","v":0},{"$f":"'Absorbance Data'!J3685-Calculations!G$1","v":0},{"$f":"'Absorbance Data'!K3685-Calculations!H$1","v":0},{"$f":"'Absorbance Data'!L3685-Calculations!I$1","v":0},{"$f":"'Absorbance Data'!M3685-Calculations!J$1","v":0},{"$f":"'Absorbance Data'!N3685-Calculations!K$1","v":0},{"$f":"'Absorbance Data'!O3685-Calculations!L$1","v":0},{"$f":"'Absorbance Data'!P3685-Calculations!M$1","v":0},{"$f":"'Absorbance Data'!Q3685-Calculations!N$1","v":0},{"$f":"'Absorbance Data'!R3685-Calculations!O$1","v":0},{"$f":"'Absorbance Data'!S3685-Calculations!P$1","v":0},{"$f":"'Absorbance Data'!T3685-Calculations!Q$1","v":0},{"$f":"'Absorbance Data'!U3685-Calculations!R$1","v":0},{"$f":"'Absorbance Data'!V3685-Calculations!S$1","v":0},{"$f":"'Absorbance Data'!W3685-Calculations!T$1","v":0},{"$f":"'Absorbance Data'!X3685-Calculations!U$1","v":0},{"$f":"'Absorbance Data'!Y3685-Calculations!V$1","v":0},{"$f":"'Absorbance Data'!Z3685-Calculations!W$1","v":0}]
[{"$f":"'Absorbance Data'!D3686","v":732.2369384765625},{"$f":"'Absorbance Data'!E3686-Calculations!B$1","v":0},{"$f":"'Absorbance Data'!F3686-Calculations!C$1","v":0},{"$f":"'Absorbance Data'!G3686-Calculations!D$1","v":0},{"$f":"'Absorbance Data'!H3686-Calculations!E$1","v":0},{"$f":"'Absorbance Data'!I3686-Calculations!F$1","v":0},{"$f":"'Absorbance Data'!J3686-Calculations!G$1","v":0},{"$f":"'Absorbance Data'!K3686-Calculations!H$1","v":0},{"$f":"'Absorbance Data'!L3686-Calculations!I$1","v":0},{"$f":"'Absorbance Data'!M3686-Calculations!J$1","v":0},{"$f":"'Absorbance Data'!N3686-Calculations!K$1","v":0},{"$f":"'Absorbance Data'!O3686-Calculations!L$1","v":0},{"$f":"'Absorbance Data'!P3686-Calculations!M$1","v":0},{"$f":"'Absorbance Data'!Q3686-Calculations!N$1","v":0},{"$f":"'Absorbance Data'!R3686-Calculations!O$1","v":0},{"$f":"'Absorbance Data'!S3686-Calculations!P$1","v":0},{"$f":"'Absorbance Data'!T3686-Calculations!Q$1","v":0},{"$f":"'Absorbance Data'!U3686-Calculations!R$1","v":0},{"$f":"'Absorbance Data'!V3686-Calculations!S$1","v":0},{"$f":"'Absorbance Data'!W3686-Calculations!T$1","v":0},{"$f":"'Absorbance Data'!X3686-Calculations!U$1","v":0},{"$f":"'Absorbance Data'!Y3686-Calculations!V$1","v":0},{"$f":"'Absorbance Data'!Z3686-Calculations!W$1","v":0}]
[{"$f":"'Absorbance Data'!D3687","v":732.53912353515625},{"$f":"'Absorbance Data'!E3687-Calculations!B$1","v":0},{"$f":"'Absorbance Data'!F3687-Calculations!C$1","v":0},{"$f":"'Absorbance Data'!G3687-Calculations!D$1","v":0},{"$f":"'Absorbance Data'!H3687-Calculations!E$1","v":0},{"$f":"'Absorbance Data'!I3687-Calculations!F$1","v":0},{"$f":"'Absorbance Data'!J3687-Calculations!G$1","v":0},{"$f":"'Absorbance Data'!K3687-Calculations!H$1","v":0},{"$f":"'Absorbance Data'!L3687-Calculations!I$1","v":0},{"$f":"'Absorbance Data'!M3687-Calculations!J$1","v":0},{"$f":"'Absorbance Data'!N3687-Calculations!K$1","v":0},{"$f":"'Absorbance Data'!O3687-Calculations!L$1","v":0},{"$f":"'Absorbance Data'!P3687-Calculations!M$1","v":0},{"$f":"'Absorbance Data'!Q3687-Calculations!N$1","v":0},{"$f":"'Absorbance Data'!R3687-Calculations!O$1","v":0},{"$f":"'Absorbance Data'!S3687-Calculations!P$1","v":0},{"$f":"'Absorbance Data'!T3687-Calculations!Q$1","v":0},{"$f":"'Absorbance Data'!U3687-Calculations!R$1","v":0},{"$f":"'Absorbance Data'!V3687-Calculations!S$1","v":0},{"$f":"'Absorbance Data'!W3687-Calculations!T$1","v":0},{"$f":"'Absorbance Data'!X3687-Calculations!U$1","v":0},{"$f":"'Absorbance Data'!Y3687-Calculations!V$1","v":0},{"$f":"'Absorbance Data'!Z3687-Calculations!W$1","v":0}]
[{"$f":"'Absorbance Data'!D3688","v":732.84130859375},{"$f":"'Absorbance Data'!E3688-Calculations!B$1","v":0},{"$f":"'Absorbance Data'!F3688-Calculations!C$1","v":0},{"$f":"'Absorbance Data'!G3688-Calculations!D$1","v":0},{"$f":"'Absorbance Data'!H3688-Calculations!E$1","v":0},{"$f":"'Absorbance Data'!I3688-Calculations!F$1","v":0},{"$f":"'Absorbance Data'!J3688-Calculations!G$1","v":0},{"$f":"'Absorbance Data'!K3688-Calculations!H$1","v":0},{"$f":"'Absorbance Data'!L3688-Calculations!I$1","v":0},{"$f":"'Absorbance Data'!M3688-Calculations!J$1","v":0},{"$f":"'Absorbance Data'!N3688-Calculations!K$1","v":0},{"$f":"'Absorbance Data'!O3688-Calculations!L$1","v":0},{"$f":"'Absorbance Data'!P3688-Calculations!M$1","v":0},{"$f":"'Absorbance Data'!Q3688-Calculations!N$1","v":0},{"$f":"'Absorbance Data'!R3688-Calculations!O$1","v":0},{"$f":"'Absorbance Data'!S3688-Calculations!P$1","v":0},{"$f":"'Absorbance Data'!T3688-Calculations!Q$1","v":0},{"$f":"'Absorbance Data'!U3688-Calculations!R$1","v":0},{"$f":"'Absorbance Data'!V3688-Calculations!S$1","v":0},{"$f":"'Absorbance Data'!W3688-Calculations!T$1","v":0},{"$f":"'Absorbance Data'!X3688-Calculations!U$1","v":0},{"$f":"'Absorbance Data'!Y3688-Calculations!V$1","v":0},{"$f":"'Absorbance Data'!Z3688-Calculations!W$1","v":0}]
[{"$f":"'Absorbance Data'!D3689","v":733.14349365234375},{"$f":"'Absorbance Data'!E3689-Calculations!B$1","v":0},{"$f":"'Absorbance Data'!F3689-Calculations!C$1","v":0},{"$f":"'Absorbance Data'!G3689-Calculations!D$1","v":0},{"$f":"'Absorbance Data'!H3689-Calculations!E$1","v":0},{"$f":"'Absorbance Data'!I3689-Calculations!F$1","v":0},{"$f":"'Absorbance Data'!J3689-Calculations!G$1","v":0},{"$f":"'Absorbance Data'!K3689-Calculations!H$1","v":0},{"$f":"'Absorbance Data'!L3689-Calculations!I$1","v":0},{"$f":"'Absorbance Data'!M3689-Calculations!J$1","v":0},{"$f":"'Absorbance Data'!N3689-Calculations!K$1","v":0},{"$f":"'Absorbance Data'!O3689-Calculations!L$1","v":0},{"$f":"'Absorbance Data'!P3689-Calculations!M$1","v":0},{"$f":"'Absorbance Data'!Q3689-Calculations!N$1","v":0},{"$f":"'Absorbance Data'!R3689-Calculations!O$1","v":0},{"$f":"'Absorbance Data'!S3689-Calculations!P$1","v":0},{"$f":"'Absorbance Data'!T3689-Calculations!Q$1","v":0},{"$f":"'Absorbance Data'!U3689-Calculations!R$1","v":0},{"$f":"'Absorbance Data'!V3689-Calculations!S$1","v":0},{"$f":"'Absorbance Data'!W3689-Calculations!T$1","v":0},{"$f":"'Absorbance Data'!X3689-Calculations!U$1","v":0},{"$f":"'Absorbance Data'!Y3689-Calculations!V$1","v":0},{"$f":"'Absorbance Data'!Z3689-Calculations!W$1","v":0}]
[{"$f":"'Absorbance Data'!D3690","v":733.44549560546875},{"$f":"'Absorbance Data'!E3690-Calculations!B$1","v":0},{"$f":"'Absorbance Data'!F3690-Calculations!C$1","v":0},{"$f":"'Absorbance Data'!G3690-Calculations!D$1","v":0},{"$f":"'Absorbance Data'!H3690-Calculations!E$1","v":0},{"$f":"'Absorbance Data'!I3690-Calculations!F$1","v":0},{"$f":"'Absorbance Data'!J3690-Calculations!G$1","v":0},{"$f":"'Absorbance Data'!K3690-Calculations!H$1","v":0},{"$f":"'Absorbance Data'!L3690-Calculations!I$1","v":0},{"$f":"'Absorbance Data'!M3690-Calculations!J$1","v":0},{"$f":"'Absorbance Data'!N3690-Calculations!K$1","v":0},{"$f":"'Absorbance Data'!O3690-Calculations!L$1","v":0},{"$f":"'Absorbance Data'!P3690-Calculations!M$1","v":0},{"$f":"'Absorbance Data'!Q3690-Calculations!N$1","v":0},{"$f":"'Absorbance Data'!R3690-Calculations!O$1","v":0},{"$f":"'Absorbance Data'!S3690-Calculations!P$1","v":0},{"$f":"'Absorbance Data'!T3690-Calculations!Q$1","v":0},{"$f":"'Absorbance Data'!U3690-Calculations!R$1","v":0},{"$f":"'Absorbance Data'!V3690-Calculations!S$1","v":0},{"$f":"'Absorbance Data'!W3690-Calculations!T$1","v":0},{"$f":"'Absorbance Data'!X3690-Calculations!U$1","v":0},{"$f":"'Absorbance Data'!Y3690-Calculations!V$1","v":0},{"$f":"'Absorbance Data'!Z3690-Calculations!W$1","v":0}]
[{"$f":"'Absorbance Data'!D3691","v":733.74749755859375},{"$f":"'Absorbance Data'!E3691-Calculations!B$1","v":0},{"$f":"'Absorbance Data'!F3691-Calculations!C$1","v":0},{"$f":"'Absorbance Data'!G3691-Calculations!D$1","v":0},{"$f":"'Absorbance Data'!H3691-Calculations!E$1","v":0},{"$f":"'Absorbance Data'!I3691-Calculations!F$1","v":0},{"$f":"'Absorbance Data'!J3691-Calculations!G$1","v":0},{"$f":"'Absorbance Data'!K3691-Calculations!H$1","v":0},{"$f":"'Absorbance Data'!L3691-Calculations!I$1","v":0},{"$f":"'Absorbance Data'!M3691-Calculations!J$1","v":0},{"$f":"'Absorbance Data'!N3691-Calculations!K$1","v":0},{"$f":"'Absorbance Data'!O3691-Calculations!L$1","v":0},{"$f":"'Absorbance Data'!P3691-Calculations!M$1","v":0},{"$f":"'Absorbance Data'!Q3691-Calculations!N$1","v":0},{"$f":"'Absorbance Data'!R3691-Calculations!O$1","v":0},{"$f":"'Absorbance Data'!S3691-Calculations!P$1","v":0},{"$f":"'Absorbance Data'!T3691-Calculations!Q$1","v":0},{"$f":"'Absorbance Data'!U3691-Calculations!R$1","v":0},{"$f":"'Absorbance Data'!V3691-Calculations!S$1","v":0},{"$f":"'Absorbance Data'!W3691-Calculations!T$1","v":0},{"$f":"'Absorbance Data'!X3691-Calculations!U$1","v":0},{"$f":"'Absorbance Data'!Y3691-Calculations!V$1","v":0},{"$f":"'Absorbance Data'!Z3691-Calculations!W$1","v":0}]
[{"$f":"'Absorbance Data'!D3692","v":734.0494384765625},{"$f":"'Absorbance Data'!E3692-Calculations!B$1","v":0},{"$f":"'Absorbance Data'!F3692-Calculations!C$1","v":0},{"$f":"'Absorbance Data'!G3692-Calculations!D$1","v":0},{"$f":"'Absorbance Data'!H3692-Calculations!E$1","v":0},{"$f":"'Absorbance Data'!I3692-Calculations!F$1","v":0},{"$f":"'Absorbance Data'!J3692-Calculations!G$1","v":0},{"$f":"'Absorbance Data'!K3692-Calculations!H$1","v":0},{"$f":"'Absorbance Data'!L3692-Calculations!I$1","v":0},{"$f":"'Absorbance Data'!M3692-Calculations!J$1","v":0},{"$f":"'Absorbance Data'!N3692-Calculations!K$1","v":0},{"$f":"'Absorbance Data'!O3692-Calculations!L$1","v":0},{"$f":"'Absorbance Data'!P3692-Calculations!M$1","v":0},{"$f":"'Absorbance Data'!Q3692-Calculations!N$1","v":0},{"$f":"'Absorbance Data'!R3692-Calculations!O$1","v":0},{"$f":"'Absorbance Data'!S3692-Calculations!P$1","v":0},{"$f":"'Absorbance Data'!T3692-Calculations!Q$1","v":0},{"$f":"'Absorbance Data'!U3692-Calculations!R$1","v":0},{"$f":"'Absorbance Data'!V3692-Calculations!S$1","v":0},{"$f":"'Absorbance Data'!W3692-Calculations!T$1","v":0},{"$f":"'Absorbance Data'!X3692-Calculations!U$1","v":0},{"$f":"'Absorbance Data'!Y3692-Calculations!V$1","v":0},{"$f":"'Absorbance Data'!Z3692-Calculations!W$1","v":0}]
[{"$f":"'Absorbance Data'!D3693","v":734.35137939453125},{"$f":"'Absorbance Data'!E3693-Calculations!B$1","v":0},{"$f":"'Absorbance Data'!F3693-Calculations!C$1","v":0},{"$f":"'Absorbance Data'!G3693-Calculations!D$1","v":0},{"$f":"'Absorbance Data'!H3693-Calculations!E$1","v":0},{"$f":"'Absorbance Data'!I3693-Calculations!F$1","v":0},{"$f":"'Absorbance Data'!J3693-Calculations!G$1","v":0},{"$f":"'Absorbance Data'!K3693-Calculations!H$1","v":0},{"$f":"'Absorbance Data'!L3693-Calculations!I$1","v":0},{"$f":"'Absorbance Data'!M3693-Calculations!J$1","v":0},{"$f":"'Absorbance Data'!N3693-Calculations!K$1","v":0},{"$f":"'Absorbance Data'!O3693-Calculations!L$1","v":0},{"$f":"'Absorbance Data'!P3693-Calculations!M$1","v":0},{"$f":"'Absorbance Data'!Q3693-Calculations!N$1","v":0},{"$f":"'Absorbance Data'!R3693-Calculations!O$1","v":0},{"$f":"'Absorbance Data'!S3693-Calculations!P$1","v":0},{"$f":"'Absorbance Data'!T3693-Calculations!Q$1","v":0},{"$f":"'Absorbance Data'!U3693-Calculations!R$1","v":0},{"$f":"'Absorbance Data'!V3693-Calculations!S$1","v":0},{"$f":"'Absorbance Data'!W3693-Calculations!T$1","v":0},{"$f":"'Absorbance Data'!X3693-Calculations!U$1","v":0},{"$f":"'Absorbance Data'!Y3693-Calculations!V$1","v":0},{"$f":"'Absorbance Data'!Z3693-Calculations!W$1","v":0}]
[{"$f":"'Absorbance Data'!D3694","v":734.65325927734375},{"$f":"'Absorbance Data'!E3694-Calculations!B$1","v":0},{"$f":"'Absorbance Data'!F3694-Calculations!C$1","v":0},{"$f":"'Absorbance Data'!G3694-Calculations!D$1","v":0},{"$f":"'Absorbance Data'!H3694-Calculations!E$1","v":0},{"$f":"'Absorbance Data'!I3694-Calculations!F$1","v":0},{"$f":"'Absorbance Data'!J3694-Calculations!G$1","v":0},{"$f":"'Absorbance Data'!K3694-Calculations!H$1","v":0},{"$f":"'Absorbance Data'!L3694-Calculations!I$1","v":0},{"$f":"'Absorbance Data'!M3694-Calculations!J$1","v":0},{"$f":"'Absorbance Data'!N3694-Calculations!K$1","v":0},{"$f":"'Absorbance Data'!O3694-Calculations!L$1","v":0},{"$f":"'Absorbance Data'!P3694-Calculations!M$1","v":0},{"$f":"'Absorbance Data'!Q3694-Calculations!N$1","v":0},{"$f":"'Absorbance Data'!R3694-Calculations!O$1","v":0},{"$f":"'Absorbance Data'!S3694-Calculations!P$1","v":0},{"$f":"'Absorbance Data'!T3694-Calculations!Q$1","v":0},{"$f":"'Absorbance Data'!U3694-Calculations!R$1","v":0},{"$f":"'Absorbance Data'!V3694-Calculations!S$1","v":0},{"$f":"'Absorbance Data'!W3694-Calculations!T$1","v":0},{"$f":"'Absorbance Data'!X3694-Calculations!U$1","v":0},{"$f":"'Absorbance Data'!Y3694-Calculations!V$1","v":0},{"$f":"'Absorbance Data'!Z3694-Calculations!W$1","v":0}]
[{"$f":"'Absorbance Data'!D3695","v":734.955078125},{"$f":"'Absorbance Data'!E3695-Calculations!B$1","v":0},{"$f":"'Absorbance Data'!F3695-Calculations!C$1","v":0},{"$f":"'Absorbance Data'!G3695-Calculations!D$1","v":0},{"$f":"'Absorbance Data'!H3695-Calculations!E$1","v":0},{"$f":"'Absorbance Data'!I3695-Calculations!F$1","v":0},{"$f":"'Absorbance Data'!J3695-Calculations!G$1","v":0},{"$f":"'Absorbance Data'!K3695-Calculations!H$1","v":0},{"$f":"'Absorbance Data'!L3695-Calculations!I$1","v":0},{"$f":"'Absorbance Data'!M3695-Calculations!J$1","v":0},{"$f":"'Absorbance Data'!N3695-Calculations!K$1","v":0},{"$f":"'Absorbance Data'!O3695-Calculations!L$1","v":0},{"$f":"'Absorbance Data'!P3695-Calculations!M$1","v":0},{"$f":"'Absorbance Data'!Q3695-Calculations!N$1","v":0},{"$f":"'Absorbance Data'!R3695-Calculations!O$1","v":0},{"$f":"'Absorbance Data'!S3695-Calculations!P$1","v":0},{"$f":"'Absorbance Data'!T3695-Calculations!Q$1","v":0},{"$f":"'Absorbance Data'!U3695-Calculations!R$1","v":0},{"$f":"'Absorbance Data'!V3695-Calculations!S$1","v":0},{"$f":"'Absorbance Data'!W3695-Calculations!T$1","v":0},{"$f":"'Absorbance Data'!X3695-Calculations!U$1","v":0},{"$f":"'Absorbance Data'!Y3695-Calculations!V$1","v":0},{"$f":"'Absorbance Data'!Z3695-Calculations!W$1","v":0}]
[{"$f":"'Absorbance Data'!D3696","v":735.25677490234375},{"$f":"'Absorbance Data'!E3696-Calculations!B$1","v":0},{"$f":"'Absorbance Data'!F3696-Calculations!C$1","v":0},{"$f":"'Absorbance Data'!G3696-Calculations!D$1","v":0},{"$f":"'Absorbance Data'!H3696-Calculations!E$1","v":0},{"$f":"'Absorbance Data'!I3696-Calculations!F$1","v":0},{"$f":"'Absorbance Data'!J3696-Calculations!G$1","v":0},{"$f":"'Absorbance Data'!K3696-Calculations!H$1","v":0},{"$f":"'Absorbance Data'!L3696-Calculations!I$1","v":0},{"$f":"'Absorbance Data'!M3696-Calculations!J$1","v":0},{"$f":"'Absorbance Data'!N3696-Calculations!K$1","v":0},{"$f":"'Absorbance Data'!O3696-Calculations!L$1","v":0},{"$f":"'Absorbance Data'!P3696-Calculations!M$1","v":0},{"$f":"'Absorbance Data'!Q3696-Calculations!N$1","v":0},{"$f":"'Absorbance Data'!R3696-Calculations!O$1","v":0},{"$f":"'Absorbance Data'!S3696-Calculations!P$1","v":0},{"$f":"'Absorbance Data'!T3696-Calculations!Q$1","v":0},{"$f":"'Absorbance Data'!U3696-Calculations!R$1","v":0},{"$f":"'Absorbance Data'!V3696-Calculations!S$1","v":0},{"$f":"'Absorbance Data'!W3696-Calculations!T$1","v":0},{"$f":"'Absorbance Data'!X3696-Calculations!U$1","v":0},{"$f":"'Absorbance Data'!Y3696-Calculations!V$1","v":0},{"$f":"'Absorbance Data'!Z3696-Calculations!W$1","v":0}]
[{"$f":"'Absorbance Data'!D3697","v":735.55859375},{"$f":"'Absorbance Data'!E3697-Calculations!B$1","v":0},{"$f":"'Absorbance Data'!F3697-Calculations!C$1","v":0},{"$f":"'Absorbance Data'!G3697-Calculations!D$1","v":0},{"$f":"'Absorbance Data'!H3697-Calculations!E$1","v":0},{"$f":"'Absorbance Data'!I3697-Calculations!F$1","v":0},{"$f":"'Absorbance Data'!J3697-Calculations!G$1","v":0},{"$f":"'Absorbance Data'!K3697-Calculations!H$1","v":0},{"$f":"'Absorbance Data'!L3697-Calculations!I$1","v":0},{"$f":"'Absorbance Data'!M3697-Calculations!J$1","v":0},{"$f":"'Absorbance Data'!N3697-Calculations!K$1","v":0},{"$f":"'Absorbance Data'!O3697-Calculations!L$1","v":0},{"$f":"'Absorbance Data'!P3697-Calculations!M$1","v":0},{"$f":"'Absorbance Data'!Q3697-Calculations!N$1","v":0},{"$f":"'Absorbance Data'!R3697-Calculations!O$1","v":0},{"$f":"'Absorbance Data'!S3697-Calculations!P$1","v":0},{"$f":"'Absorbance Data'!T3697-Calculations!Q$1","v":0},{"$f":"'Absorbance Data'!U3697-Calculations!R$1","v":0},{"$f":"'Absorbance Data'!V3697-Calculations!S$1","v":0},{"$f":"'Absorbance Data'!W3697-Calculations!T$1","v":0},{"$f":"'Absorbance Data'!X3697-Calculations!U$1","v":0},{"$f":"'Absorbance Data'!Y3697-Calculations!V$1","v":0},{"$f":"'Absorbance Data'!Z3697-Calculations!W$1","v":0}]
[{"$f":"'Absorbance Data'!D3698","v":735.86029052734375},{"$f":"'Absorbance Data'!E3698-Calculations!B$1","v":0},{"$f":"'Absorbance Data'!F3698-Calculations!C$1","v":0},{"$f":"'Absorbance Data'!G3698-Calculations!D$1","v":0},{"$f":"'Absorbance Data'!H3698-Calculations!E$1","v":0},{"$f":"'Absorbance Data'!I3698-Calculations!F$1","v":0},{"$f":"'Absorbance Data'!J3698-Calculations!G$1","v":0},{"$f":"'Absorbance Data'!K3698-Calculations!H$1","v":0},{"$f":"'Absorbance Data'!L3698-Calculations!I$1","v":0},{"$f":"'Absorbance Data'!M3698-Calculations!J$1","v":0},{"$f":"'Absorbance Data'!N3698-Calculations!K$1","v":0},{"$f":"'Absorbance Data'!O3698-Calculations!L$1","v":0},{"$f":"'Absorbance Data'!P3698-Calculations!M$1","v":0},{"$f":"'Absorbance Data'!Q3698-Calculations!N$1","v":0},{"$f":"'Absorbance Data'!R3698-Calculations!O$1","v":0},{"$f":"'Absorbance Data'!S3698-Calculations!P$1","v":0},{"$f":"'Absorbance Data'!T3698-Calculations!Q$1","v":0},{"$f":"'Absorbance Data'!U3698-Calculations!R$1","v":0},{"$f":"'Absorbance Data'!V3698-Calculations!S$1","v":0},{"$f":"'Absorbance Data'!W3698-Calculations!T$1","v":0},{"$f":"'Absorbance Data'!X3698-Calculations!U$1","v":0},{"$f":"'Absorbance Data'!Y3698-Calculations!V$1","v":0},{"$f":"'Absorbance Data'!Z3698-Calculations!W$1","v":0}]
[{"$f":"'Absorbance Data'!D3699","v":736.16192626953125},{"$f":"'Absorbance Data'!E3699-Calculations!B$1","v":0},{"$f":"'Absorbance Data'!F3699-Calculations!C$1","v":0},{"$f":"'Absorbance Data'!G3699-Calculations!D$1","v":0},{"$f":"'Absorbance Data'!H3699-Calculations!E$1","v":0},{"$f":"'Absorbance Data'!I3699-Calculations!F$1","v":0},{"$f":"'Absorbance Data'!J3699-Calculations!G$1","v":0},{"$f":"'Absorbance Data'!K3699-Calculations!H$1","v":0},{"$f":"'Absorbance Data'!L3699-Calculations!I$1","v":0},{"$f":"'Absorbance Data'!M3699-Calculations!J$1","v":0},{"$f":"'Absorbance Data'!N3699-Calculations!K$1","v":0},{"$f":"'Absorbance Data'!O3699-Calculations!L$1","v":0},{"$f":"'Absorbance Data'!P3699-Calculations!M$1","v":0},{"$f":"'Absorbance Data'!Q3699-Calculations!N$1","v":0},{"$f":"'Absorbance Data'!R3699-Calculations!O$1","v":0},{"$f":"'Absorbance Data'!S3699-Calculations!P$1","v":0},{"$f":"'Absorbance Data'!T3699-Calculations!Q$1","v":0},{"$f":"'Absorbance Data'!U3699-Calculations!R$1","v":0},{"$f":"'Absorbance Data'!V3699-Calculations!S$1","v":0},{"$f":"'Absorbance Data'!W3699-Calculations!T$1","v":0},{"$f":"'Absorbance Data'!X3699-Calculations!U$1","v":0},{"$f":"'Absorbance Data'!Y3699-Calculations!V$1","v":0},{"$f":"'Absorbance Data'!Z3699-Calculations!W$1","v":0}]
[{"$f":"'Absorbance Data'!D3700","v":736.4635009765625},{"$f":"'Absorbance Data'!E3700-Calculations!B$1","v":0},{"$f":"'Absorbance Data'!F3700-Calculations!C$1","v":0},{"$f":"'Absorbance Data'!G3700-Calculations!D$1","v":0},{"$f":"'Absorbance Data'!H3700-Calculations!E$1","v":0},{"$f":"'Absorbance Data'!I3700-Calculations!F$1","v":0},{"$f":"'Absorbance Data'!J3700-Calculations!G$1","v":0},{"$f":"'Absorbance Data'!K3700-Calculations!H$1","v":0},{"$f":"'Absorbance Data'!L3700-Calculations!I$1","v":0},{"$f":"'Absorbance Data'!M3700-Calculations!J$1","v":0},{"$f":"'Absorbance Data'!N3700-Calculations!K$1","v":0},{"$f":"'Absorbance Data'!O3700-Calculations!L$1","v":0},{"$f":"'Absorbance Data'!P3700-Calculations!M$1","v":0},{"$f":"'Absorbance Data'!Q3700-Calculations!N$1","v":0},{"$f":"'Absorbance Data'!R3700-Calculations!O$1","v":0},{"$f":"'Absorbance Data'!S3700-Calculations!P$1","v":0},{"$f":"'Absorbance Data'!T3700-Calculations!Q$1","v":0},{"$f":"'Absorbance Data'!U3700-Calculations!R$1","v":0},{"$f":"'Absorbance Data'!V3700-Calculations!S$1","v":0},{"$f":"'Absorbance Data'!W3700-Calculations!T$1","v":0},{"$f":"'Absorbance Data'!X3700-Calculations!U$1","v":0},{"$f":"'Absorbance Data'!Y3700-Calculations!V$1","v":0},{"$f":"'Absorbance Data'!Z3700-Calculations!W$1","v":0}]
[{"$f":"'Absorbance Data'!D3701","v":736.76507568359375},{"$f":"'Absorbance Data'!E3701-Calculations!B$1","v":0},{"$f":"'Absorbance Data'!F3701-Calculations!C$1","v":0},{"$f":"'Absorbance Data'!G3701-Calculations!D$1","v":0},{"$f":"'Absorbance Data'!H3701-Calculations!E$1","v":0},{"$f":"'Absorbance Data'!I3701-Calculations!F$1","v":0},{"$f":"'Absorbance Data'!J3701-Calculations!G$1","v":0},{"$f":"'Absorbance Data'!K3701-Calculations!H$1","v":0},{"$f":"'Absorbance Data'!L3701-Calculations!I$1","v":0},{"$f":"'Absorbance Data'!M3701-Calculations!J$1","v":0},{"$f":"'Absorbance Data'!N3701-Calculations!K$1","v":0},{"$f":"'Absorbance Data'!O3701-Calculations!L$1","v":0},{"$f":"'Absorbance Data'!P3701-Calculations!M$1","v":0},{"$f":"'Absorbance Data'!Q3701-Calculations!N$1","v":0},{"$f":"'Absorbance Data'!R3701-Calculations!O$1","v":0},{"$f":"'Absorbance Data'!S3701-Calculations!P$1","v":0},{"$f":"'Absorbance Data'!T3701-Calculations!Q$1","v":0},{"$f":"'Absorbance Data'!U3701-Calculations!R$1","v":0},{"$f":"'Absorbance Data'!V3701-Calculations!S$1","v":0},{"$f":"'Absorbance Data'!W3701-Calculations!T$1","v":0},{"$f":"'Absorbance Data'!X3701-Calculations!U$1","v":0},{"$f":"'Absorbance Data'!Y3701-Calculations!V$1","v":0},{"$f":"'Absorbance Data'!Z3701-Calculations!W$1","v":0}]
[{"$f":"'Absorbance Data'!D3702","v":737.0665283203125},{"$f":"'Absorbance Data'!E3702-Calculations!B$1","v":0},{"$f":"'Absorbance Data'!F3702-Calculations!C$1","v":0},{"$f":"'Absorbance Data'!G3702-Calculations!D$1","v":0},{"$f":"'Absorbance Data'!H3702-Calculations!E$1","v":0},{"$f":"'Absorbance Data'!I3702-Calculations!F$1","v":0},{"$f":"'Absorbance Data'!J3702-Calculations!G$1","v":0},{"$f":"'Absorbance Data'!K3702-Calculations!H$1","v":0},{"$f":"'Absorbance Data'!L3702-Calculations!I$1","v":0},{"$f":"'Absorbance Data'!M3702-Calculations!J$1","v":0},{"$f":"'Absorbance Data'!N3702-Calculations!K$1","v":0},{"$f":"'Absorbance Data'!O3702-Calculations!L$1","v":0},{"$f":"'Absorbance Data'!P3702-Calculations!M$1","v":0},{"$f":"'Absorbance Data'!Q3702-Calculations!N$1","v":0},{"$f":"'Absorbance Data'!R3702-Calculations!O$1","v":0},{"$f":"'Absorbance Data'!S3702-Calculations!P$1","v":0},{"$f":"'Absorbance Data'!T3702-Calculations!Q$1","v":0},{"$f":"'Absorbance Data'!U3702-Calculations!R$1","v":0},{"$f":"'Absorbance Data'!V3702-Calculations!S$1","v":0},{"$f":"'Absorbance Data'!W3702-Calculations!T$1","v":0},{"$f":"'Absorbance Data'!X3702-Calculations!U$1","v":0},{"$f":"'Absorbance Data'!Y3702-Calculations!V$1","v":0},{"$f":"'Absorbance Data'!Z3702-Calculations!W$1","v":0}]
[{"$f":"'Absorbance Data'!D3703","v":737.3680419921875},{"$f":"'Absorbance Data'!E3703-Calculations!B$1","v":0},{"$f":"'Absorbance Data'!F3703-Calculations!C$1","v":0},{"$f":"'Absorbance Data'!G3703-Calculations!D$1","v":0},{"$f":"'Absorbance Data'!H3703-Calculations!E$1","v":0},{"$f":"'Absorbance Data'!I3703-Calculations!F$1","v":0},{"$f":"'Absorbance Data'!J3703-Calculations!G$1","v":0},{"$f":"'Absorbance Data'!K3703-Calculations!H$1","v":0},{"$f":"'Absorbance Data'!L3703-Calculations!I$1","v":0},{"$f":"'Absorbance Data'!M3703-Calculations!J$1","v":0},{"$f":"'Absorbance Data'!N3703-Calculations!K$1","v":0},{"$f":"'Absorbance Data'!O3703-Calculations!L$1","v":0},{"$f":"'Absorbance Data'!P3703-Calculations!M$1","v":0},{"$f":"'Absorbance Data'!Q3703-Calculations!N$1","v":0},{"$f":"'Absorbance Data'!R3703-Calculations!O$1","v":0},{"$f":"'Absorbance Data'!S3703-Calculations!P$1","v":0},{"$f":"'Absorbance Data'!T3703-Calculations!Q$1","v":0},{"$f":"'Absorbance Data'!U3703-Calculations!R$1","v":0},{"$f":"'Absorbance Data'!V3703-Calculations!S$1","v":0},{"$f":"'Absorbance Data'!W3703-Calculations!T$1","v":0},{"$f":"'Absorbance Data'!X3703-Calculations!U$1","v":0},{"$f":"'Absorbance Data'!Y3703-Calculations!V$1","v":0},{"$f":"'Absorbance Data'!Z3703-Calculations!W$1","v":0}]
[{"$f":"'Absorbance Data'!D3704","v":737.66943359375},{"$f":"'Absorbance Data'!E3704-Calculations!B$1","v":0},{"$f":"'Absorbance Data'!F3704-Calculations!C$1","v":0},{"$f":"'Absorbance Data'!G3704-Calculations!D$1","v":0},{"$f":"'Absorbance Data'!H3704-Calculations!E$1","v":0},{"$f":"'Absorbance Data'!I3704-Calculations!F$1","v":0},{"$f":"'Absorbance Data'!J3704-Calculations!G$1","v":0},{"$f":"'Absorbance Data'!K3704-Calculations!H$1","v":0},{"$f":"'Absorbance Data'!L3704-Calculations!I$1","v":0},{"$f":"'Absorbance Data'!M3704-Calculations!J$1","v":0},{"$f":"'Absorbance Data'!N3704-Calculations!K$1","v":0},{"$f":"'Absorbance Data'!O3704-Calculations!L$1","v":0},{"$f":"'Absorbance Data'!P3704-Calculations!M$1","v":0},{"$f":"'Absorbance Data'!Q3704-Calculations!N$1","v":0},{"$f":"'Absorbance Data'!R3704-Calculations!O$1","v":0},{"$f":"'Absorbance Data'!S3704-Calculations!P$1","v":0},{"$f":"'Absorbance Data'!T3704-Calculations!Q$1","v":0},{"$f":"'Absorbance Data'!U3704-Calculations!R$1","v":0},{"$f":"'Absorbance Data'!V3704-Calculations!S$1","v":0},{"$f":"'Absorbance Data'!W3704-Calculations!T$1","v":0},{"$f":"'Absorbance Data'!X3704-Calculations!U$1","v":0},{"$f":"'Absorbance Data'!Y3704-Calculations!V$1","v":0},{"$f":"'Absorbance Data'!Z3704-Calculations!W$1","v":0}]
[{"$f":"'Absorbance Data'!D3705","v":737.9708251953125},{"$f":"'Absorbance Data'!E3705-Calculations!B$1","v":0},{"$f":"'Absorbance Data'!F3705-Calculations!C$1","v":0},{"$f":"'Absorbance Data'!G3705-Calculations!D$1","v":0},{"$f":"'Absorbance Data'!H3705-Calculations!E$1","v":0},{"$f":"'Absorbance Data'!I3705-Calculations!F$1","v":0},{"$f":"'Absorbance Data'!J3705-Calculations!G$1","v":0},{"$f":"'Absorbance Data'!K3705-Calculations!H$1","v":0},{"$f":"'Absorbance Data'!L3705-Calculations!I$1","v":0},{"$f":"'Absorbance Data'!M3705-Calculations!J$1","v":0},{"$f":"'Absorbance Data'!N3705-Calculations!K$1","v":0},{"$f":"'Absorbance Data'!O3705-Calculations!L$1","v":0},{"$f":"'Absorbance Data'!P3705-Calculations!M$1","v":0},{"$f":"'Absorbance Data'!Q3705-Calculations!N$1","v":0},{"$f":"'Absorbance Data'!R3705-Calculations!O$1","v":0},{"$f":"'Absorbance Data'!S3705-Calculations!P$1","v":0},{"$f":"'Absorbance Data'!T3705-Calculations!Q$1","v":0},{"$f":"'Absorbance Data'!U3705-Calculations!R$1","v":0},{"$f":"'Absorbance Data'!V3705-Calculations!S$1","v":0},{"$f":"'Absorbance Data'!W3705-Calculations!T$1","v":0},{"$f":"'Absorbance Data'!X3705-Calculations!U$1","v":0},{"$f":"'Absorbance Data'!Y3705-Calculations!V$1","v":0},{"$f":"'Absorbance Data'!Z3705-Calculations!W$1","v":0}]
[{"$f":"'Absorbance Data'!D3706","v":738.2720947265625},{"$f":"'Absorbance Data'!E3706-Calculations!B$1","v":0},{"$f":"'Absorbance Data'!F3706-Calculations!C$1","v":0},{"$f":"'Absorbance Data'!G3706-Calculations!D$1","v":0},{"$f":"'Absorbance Data'!H3706-Calculations!E$1","v":0},{"$f":"'Absorbance Data'!I3706-Calculations!F$1","v":0},{"$f":"'Absorbance Data'!J3706-Calculations!G$1","v":0},{"$f":"'Absorbance Data'!K3706-Calculations!H$1","v":0},{"$f":"'Absorbance Data'!L3706-Calculations!I$1","v":0},{"$f":"'Absorbance Data'!M3706-Calculations!J$1","v":0},{"$f":"'Absorbance Data'!N3706-Calculations!K$1","v":0},{"$f":"'Absorbance Data'!O3706-Calculations!L$1","v":0},{"$f":"'Absorbance Data'!P3706-Calculations!M$1","v":0},{"$f":"'Absorbance Data'!Q3706-Calculations!N$1","v":0},{"$f":"'Absorbance Data'!R3706-Calculations!O$1","v":0},{"$f":"'Absorbance Data'!S3706-Calculations!P$1","v":0},{"$f":"'Absorbance Data'!T3706-Calculations!Q$1","v":0},{"$f":"'Absorbance Data'!U3706-Calculations!R$1","v":0},{"$f":"'Absorbance Data'!V3706-Calculations!S$1","v":0},{"$f":"'Absorbance Data'!W3706-Calculations!T$1","v":0},{"$f":"'Absorbance Data'!X3706-Calculations!U$1","v":0},{"$f":"'Absorbance Data'!Y3706-Calculations!V$1","v":0},{"$f":"'Absorbance Data'!Z3706-Calculations!W$1","v":0}]
[{"$f":"'Absorbance Data'!D3707","v":738.5733642578125},{"$f":"'Absorbance Data'!E3707-Calculations!B$1","v":0},{"$f":"'Absorbance Data'!F3707-Calculations!C$1","v":0},{"$f":"'Absorbance Data'!G3707-Calculations!D$1","v":0},{"$f":"'Absorbance Data'!H3707-Calculations!E$1","v":0},{"$f":"'Absorbance Data'!I3707-Calculations!F$1","v":0},{"$f":"'Absorbance Data'!J3707-Calculations!G$1","v":0},{"$f":"'Absorbance Data'!K3707-Calculations!H$1","v":0},{"$f":"'Absorbance Data'!L3707-Calculations!I$1","v":0},{"$f":"'Absorbance Data'!M3707-Calculations!J$1","v":0},{"$f":"'Absorbance Data'!N3707-Calculations!K$1","v":0},{"$f":"'Absorbance Data'!O3707-Calculations!L$1","v":0},{"$f":"'Absorbance Data'!P3707-Calculations!M$1","v":0},{"$f":"'Absorbance Data'!Q3707-Calculations!N$1","v":0},{"$f":"'Absorbance Data'!R3707-Calculations!O$1","v":0},{"$f":"'Absorbance Data'!S3707-Calculations!P$1","v":0},{"$f":"'Absorbance Data'!T3707-Calculations!Q$1","v":0},{"$f":"'Absorbance Data'!U3707-Calculations!R$1","v":0},{"$f":"'Absorbance Data'!V3707-Calculations!S$1","v":0},{"$f":"'Absorbance Data'!W3707-Calculations!T$1","v":0},{"$f":"'Absorbance Data'!X3707-Calculations!U$1","v":0},{"$f":"'Absorbance Data'!Y3707-Calculations!V$1","v":0},{"$f":"'Absorbance Data'!Z3707-Calculations!W$1","v":0}]
[{"$f":"'Absorbance Data'!D3708","v":738.8746337890625},{"$f":"'Absorbance Data'!E3708-Calculations!B$1","v":0},{"$f":"'Absorbance Data'!F3708-Calculations!C$1","v":0},{"$f":"'Absorbance Data'!G3708-Calculations!D$1","v":0},{"$f":"'Absorbance Data'!H3708-Calculations!E$1","v":0},{"$f":"'Absorbance Data'!I3708-Calculations!F$1","v":0},{"$f":"'Absorbance Data'!J3708-Calculations!G$1","v":0},{"$f":"'Absorbance Data'!K3708-Calculations!H$1","v":0},{"$f":"'Absorbance Data'!L3708-Calculations!I$1","v":0},{"$f":"'Absorbance Data'!M3708-Calculations!J$1","v":0},{"$f":"'Absorbance Data'!N3708-Calculations!K$1","v":0},{"$f":"'Absorbance Data'!O3708-Calculations!L$1","v":0},{"$f":"'Absorbance Data'!P3708-Calculations!M$1","v":0},{"$f":"'Absorbance Data'!Q3708-Calculations!N$1","v":0},{"$f":"'Absorbance Data'!R3708-Calculations!O$1","v":0},{"$f":"'Absorbance Data'!S3708-Calculations!P$1","v":0},{"$f":"'Absorbance Data'!T3708-Calculations!Q$1","v":0},{"$f":"'Absorbance Data'!U3708-Calculations!R$1","v":0},{"$f":"'Absorbance Data'!V3708-Calculations!S$1","v":0},{"$f":"'Absorbance Data'!W3708-Calculations!T$1","v":0},{"$f":"'Absorbance Data'!X3708-Calculations!U$1","v":0},{"$f":"'Absorbance Data'!Y3708-Calculations!V$1","v":0},{"$f":"'Absorbance Data'!Z3708-Calculations!W$1","v":0}]
[{"$f":"'Absorbance Data'!D3709","v":739.17578125},{"$f":"'Absorbance Data'!E3709-Calculations!B$1","v":0},{"$f":"'Absorbance Data'!F3709-Calculations!C$1","v":0},{"$f":"'Absorbance Data'!G3709-Calculations!D$1","v":0},{"$f":"'Absorbance Data'!H3709-Calculations!E$1","v":0},{"$f":"'Absorbance Data'!I3709-Calculations!F$1","v":0},{"$f":"'Absorbance Data'!J3709-Calculations!G$1","v":0},{"$f":"'Absorbance Data'!K3709-Calculations!H$1","v":0},{"$f":"'Absorbance Data'!L3709-Calculations!I$1","v":0},{"$f":"'Absorbance Data'!M3709-Calculations!J$1","v":0},{"$f":"'Absorbance Data'!N3709-Calculations!K$1","v":0},{"$f":"'Absorbance Data'!O3709-Calculations!L$1","v":0},{"$f":"'Absorbance Data'!P3709-Calculations!M$1","v":0},{"$f":"'Absorbance Data'!Q3709-Calculations!N$1","v":0},{"$f":"'Absorbance Data'!R3709-Calculations!O$1","v":0},{"$f":"'Absorbance Data'!S3709-Calculations!P$1","v":0},{"$f":"'Absorbance Data'!T3709-Calculations!Q$1","v":0},{"$f":"'Absorbance Data'!U3709-Calculations!R$1","v":0},{"$f":"'Absorbance Data'!V3709-Calculations!S$1","v":0},{"$f":"'Absorbance Data'!W3709-Calculations!T$1","v":0},{"$f":"'Absorbance Data'!X3709-Calculations!U$1","v":0},{"$f":"'Absorbance Data'!Y3709-Calculations!V$1","v":0},{"$f":"'Absorbance Data'!Z3709-Calculations!W$1","v":0}]
[{"$f":"'Absorbance Data'!D3710","v":739.4769287109375},{"$f":"'Absorbance Data'!E3710-Calculations!B$1","v":0},{"$f":"'Absorbance Data'!F3710-Calculations!C$1","v":0},{"$f":"'Absorbance Data'!G3710-Calculations!D$1","v":0},{"$f":"'Absorbance Data'!H3710-Calculations!E$1","v":0},{"$f":"'Absorbance Data'!I3710-Calculations!F$1","v":0},{"$f":"'Absorbance Data'!J3710-Calculations!G$1","v":0},{"$f":"'Absorbance Data'!K3710-Calculations!H$1","v":0},{"$f":"'Absorbance Data'!L3710-Calculations!I$1","v":0},{"$f":"'Absorbance Data'!M3710-Calculations!J$1","v":0},{"$f":"'Absorbance Data'!N3710-Calculations!K$1","v":0},{"$f":"'Absorbance Data'!O3710-Calculations!L$1","v":0},{"$f":"'Absorbance Data'!P3710-Calculations!M$1","v":0},{"$f":"'Absorbance Data'!Q3710-Calculations!N$1","v":0},{"$f":"'Absorbance Data'!R3710-Calculations!O$1","v":0},{"$f":"'Absorbance Data'!S3710-Calculations!P$1","v":0},{"$f":"'Absorbance Data'!T3710-Calculations!Q$1","v":0},{"$f":"'Absorbance Data'!U3710-Calculations!R$1","v":0},{"$f":"'Absorbance Data'!V3710-Calculations!S$1","v":0},{"$f":"'Absorbance Data'!W3710-Calculations!T$1","v":0},{"$f":"'Absorbance Data'!X3710-Calculations!U$1","v":0},{"$f":"'Absorbance Data'!Y3710-Calculations!V$1","v":0},{"$f":"'Absorbance Data'!Z3710-Calculations!W$1","v":0}]
[{"$f":"'Absorbance Data'!D3711","v":739.778076171875},{"$f":"'Absorbance Data'!E3711-Calculations!B$1","v":0},{"$f":"'Absorbance Data'!F3711-Calculations!C$1","v":0},{"$f":"'Absorbance Data'!G3711-Calculations!D$1","v":0},{"$f":"'Absorbance Data'!H3711-Calculations!E$1","v":0},{"$f":"'Absorbance Data'!I3711-Calculations!F$1","v":0},{"$f":"'Absorbance Data'!J3711-Calculations!G$1","v":0},{"$f":"'Absorbance Data'!K3711-Calculations!H$1","v":0},{"$f":"'Absorbance Data'!L3711-Calculations!I$1","v":0},{"$f":"'Absorbance Data'!M3711-Calculations!J$1","v":0},{"$f":"'Absorbance Data'!N3711-Calculations!K$1","v":0},{"$f":"'Absorbance Data'!O3711-Calculations!L$1","v":0},{"$f":"'Absorbance Data'!P3711-Calculations!M$1","v":0},{"$f":"'Absorbance Data'!Q3711-Calculations!N$1","v":0},{"$f":"'Absorbance Data'!R3711-Calculations!O$1","v":0},{"$f":"'Absorbance Data'!S3711-Calculations!P$1","v":0},{"$f":"'Absorbance Data'!T3711-Calculations!Q$1","v":0},{"$f":"'Absorbance Data'!U3711-Calculations!R$1","v":0},{"$f":"'Absorbance Data'!V3711-Calculations!S$1","v":0},{"$f":"'Absorbance Data'!W3711-Calculations!T$1","v":0},{"$f":"'Absorbance Data'!X3711-Calculations!U$1","v":0},{"$f":"'Absorbance Data'!Y3711-Calculations!V$1","v":0},{"$f":"'Absorbance Data'!Z3711-Calculations!W$1","v":0}]
[{"$f":"'Absorbance Data'!D3712","v":740.07904052734375},{"$f":"'Absorbance Data'!E3712-Calculations!B$1","v":0},{"$f":"'Absorbance Data'!F3712-Calculations!C$1","v":0},{"$f":"'Absorbance Data'!G3712-Calculations!D$1","v":0},{"$f":"'Absorbance Data'!H3712-Calculations!E$1","v":0},{"$f":"'Absorbance Data'!I3712-Calculations!F$1","v":0},{"$f":"'Absorbance Data'!J3712-Calculations!G$1","v":0},{"$f":"'Absorbance Data'!K3712-Calculations!H$1","v":0},{"$f":"'Absorbance Data'!L3712-Calculations!I$1","v":0},{"$f":"'Absorbance Data'!M3712-Calculations!J$1","v":0},{"$f":"'Absorbance Data'!N3712-Calculations!K$1","v":0},{"$f":"'Absorbance Data'!O3712-Calculations!L$1","v":0},{"$f":"'Absorbance Data'!P3712-Calculations!M$1","v":0},{"$f":"'Absorbance Data'!Q3712-Calculations!N$1","v":0},{"$f":"'Absorbance Data'!R3712-Calculations!O$1","v":0},{"$f":"'Absorbance Data'!S3712-Calculations!P$1","v":0},{"$f":"'Absorbance Data'!T3712-Calculations!Q$1","v":0},{"$f":"'Absorbance Data'!U3712-Calculations!R$1","v":0},{"$f":"'Absorbance Data'!V3712-Calculations!S$1","v":0},{"$f":"'Absorbance Data'!W3712-Calculations!T$1","v":0},{"$f":"'Absorbance Data'!X3712-Calculations!U$1","v":0},{"$f":"'Absorbance Data'!Y3712-Calculations!V$1","v":0},{"$f":"'Absorbance Data'!Z3712-Calculations!W$1","v":0}]
[{"$f":"'Absorbance Data'!D3713","v":740.380126953125},{"$f":"'Absorbance Data'!E3713-Calculations!B$1","v":0},{"$f":"'Absorbance Data'!F3713-Calculations!C$1","v":0},{"$f":"'Absorbance Data'!G3713-Calculations!D$1","v":0},{"$f":"'Absorbance Data'!H3713-Calculations!E$1","v":0},{"$f":"'Absorbance Data'!I3713-Calculations!F$1","v":0},{"$f":"'Absorbance Data'!J3713-Calculations!G$1","v":0},{"$f":"'Absorbance Data'!K3713-Calculations!H$1","v":0},{"$f":"'Absorbance Data'!L3713-Calculations!I$1","v":0},{"$f":"'Absorbance Data'!M3713-Calculations!J$1","v":0},{"$f":"'Absorbance Data'!N3713-Calculations!K$1","v":0},{"$f":"'Absorbance Data'!O3713-Calculations!L$1","v":0},{"$f":"'Absorbance Data'!P3713-Calculations!M$1","v":0},{"$f":"'Absorbance Data'!Q3713-Calculations!N$1","v":0},{"$f":"'Absorbance Data'!R3713-Calculations!O$1","v":0},{"$f":"'Absorbance Data'!S3713-Calculations!P$1","v":0},{"$f":"'Absorbance Data'!T3713-Calculations!Q$1","v":0},{"$f":"'Absorbance Data'!U3713-Calculations!R$1","v":0},{"$f":"'Absorbance Data'!V3713-Calculations!S$1","v":0},{"$f":"'Absorbance Data'!W3713-Calculations!T$1","v":0},{"$f":"'Absorbance Data'!X3713-Calculations!U$1","v":0},{"$f":"'Absorbance Data'!Y3713-Calculations!V$1","v":0},{"$f":"'Absorbance Data'!Z3713-Calculations!W$1","v":0}]
[{"$f":"'Absorbance Data'!D3714","v":740.6810302734375},{"$f":"'Absorbance Data'!E3714-Calculations!B$1","v":0},{"$f":"'Absorbance Data'!F3714-Calculations!C$1","v":0},{"$f":"'Absorbance Data'!G3714-Calculations!D$1","v":0},{"$f":"'Absorbance Data'!H3714-Calculations!E$1","v":0},{"$f":"'Absorbance Data'!I3714-Calculations!F$1","v":0},{"$f":"'Absorbance Data'!J3714-Calculations!G$1","v":0},{"$f":"'Absorbance Data'!K3714-Calculations!H$1","v":0},{"$f":"'Absorbance Data'!L3714-Calculations!I$1","v":0},{"$f":"'Absorbance Data'!M3714-Calculations!J$1","v":0},{"$f":"'Absorbance Data'!N3714-Calculations!K$1","v":0},{"$f":"'Absorbance Data'!O3714-Calculations!L$1","v":0},{"$f":"'Absorbance Data'!P3714-Calculations!M$1","v":0},{"$f":"'Absorbance Data'!Q3714-Calculations!N$1","v":0},{"$f":"'Absorbance Data'!R3714-Calculations!O$1","v":0},{"$f":"'Absorbance Data'!S3714-Calculations!P$1","v":0},{"$f":"'Absorbance Data'!T3714-Calculations!Q$1","v":0},{"$f":"'Absorbance Data'!U3714-Calculations!R$1","v":0},{"$f":"'Absorbance Data'!V3714-Calculations!S$1","v":0},{"$f":"'Absorbance Data'!W3714-Calculations!T$1","v":0},{"$f":"'Absorbance Data'!X3714-Calculations!U$1","v":0},{"$f":"'Absorbance Data'!Y3714-Calculations!V$1","v":0},{"$f":"'Absorbance Data'!Z3714-Calculations!W$1","v":0}]
[{"$f":"'Absorbance Data'!D3715","v":740.98193359375},{"$f":"'Absorbance Data'!E3715-Calculations!B$1","v":0},{"$f":"'Absorbance Data'!F3715-Calculations!C$1","v":0},{"$f":"'Absorbance Data'!G3715-Calculations!D$1","v":0},{"$f":"'Absorbance Data'!H3715-Calculations!E$1","v":0},{"$f":"'Absorbance Data'!I3715-Calculations!F$1","v":0},{"$f":"'Absorbance Data'!J3715-Calculations!G$1","v":0},{"$f":"'Absorbance Data'!K3715-Calculations!H$1","v":0},{"$f":"'Absorbance Data'!L3715-Calculations!I$1","v":0},{"$f":"'Absorbance Data'!M3715-Calculations!J$1","v":0},{"$f":"'Absorbance Data'!N3715-Calculations!K$1","v":0},{"$f":"'Absorbance Data'!O3715-Calculations!L$1","v":0},{"$f":"'Absorbance Data'!P3715-Calculations!M$1","v":0},{"$f":"'Absorbance Data'!Q3715-Calculations!N$1","v":0},{"$f":"'Absorbance Data'!R3715-Calculations!O$1","v":0},{"$f":"'Absorbance Data'!S3715-Calculations!P$1","v":0},{"$f":"'Absorbance Data'!T3715-Calculations!Q$1","v":0},{"$f":"'Absorbance Data'!U3715-Calculations!R$1","v":0},{"$f":"'Absorbance Data'!V3715-Calculations!S$1","v":0},{"$f":"'Absorbance Data'!W3715-Calculations!T$1","v":0},{"$f":"'Absorbance Data'!X3715-Calculations!U$1","v":0},{"$f":"'Absorbance Data'!Y3715-Calculations!V$1","v":0},{"$f":"'Absorbance Data'!Z3715-Calculations!W$1","v":0}]
[{"$f":"'Absorbance Data'!D3716","v":741.28277587890625},{"$f":"'Absorbance Data'!E3716-Calculations!B$1","v":0},{"$f":"'Absorbance Data'!F3716-Calculations!C$1","v":0},{"$f":"'Absorbance Data'!G3716-Calculations!D$1","v":0},{"$f":"'Absorbance Data'!H3716-Calculations!E$1","v":0},{"$f":"'Absorbance Data'!I3716-Calculations!F$1","v":0},{"$f":"'Absorbance Data'!J3716-Calculations!G$1","v":0},{"$f":"'Absorbance Data'!K3716-Calculations!H$1","v":0},{"$f":"'Absorbance Data'!L3716-Calculations!I$1","v":0},{"$f":"'Absorbance Data'!M3716-Calculations!J$1","v":0},{"$f":"'Absorbance Data'!N3716-Calculations!K$1","v":0},{"$f":"'Absorbance Data'!O3716-Calculations!L$1","v":0},{"$f":"'Absorbance Data'!P3716-Calculations!M$1","v":0},{"$f":"'Absorbance Data'!Q3716-Calculations!N$1","v":0},{"$f":"'Absorbance Data'!R3716-Calculations!O$1","v":0},{"$f":"'Absorbance Data'!S3716-Calculations!P$1","v":0},{"$f":"'Absorbance Data'!T3716-Calculations!Q$1","v":0},{"$f":"'Absorbance Data'!U3716-Calculations!R$1","v":0},{"$f":"'Absorbance Data'!V3716-Calculations!S$1","v":0},{"$f":"'Absorbance Data'!W3716-Calculations!T$1","v":0},{"$f":"'Absorbance Data'!X3716-Calculations!U$1","v":0},{"$f":"'Absorbance Data'!Y3716-Calculations!V$1","v":0},{"$f":"'Absorbance Data'!Z3716-Calculations!W$1","v":0}]
[{"$f":"'Absorbance Data'!D3717","v":741.5836181640625},{"$f":"'Absorbance Data'!E3717-Calculations!B$1","v":0},{"$f":"'Absorbance Data'!F3717-Calculations!C$1","v":0},{"$f":"'Absorbance Data'!G3717-Calculations!D$1","v":0},{"$f":"'Absorbance Data'!H3717-Calculations!E$1","v":0},{"$f":"'Absorbance Data'!I3717-Calculations!F$1","v":0},{"$f":"'Absorbance Data'!J3717-Calculations!G$1","v":0},{"$f":"'Absorbance Data'!K3717-Calculations!H$1","v":0},{"$f":"'Absorbance Data'!L3717-Calculations!I$1","v":0},{"$f":"'Absorbance Data'!M3717-Calculations!J$1","v":0},{"$f":"'Absorbance Data'!N3717-Calculations!K$1","v":0},{"$f":"'Absorbance Data'!O3717-Calculations!L$1","v":0},{"$f":"'Absorbance Data'!P3717-Calculations!M$1","v":0},{"$f":"'Absorbance Data'!Q3717-Calculations!N$1","v":0},{"$f":"'Absorbance Data'!R3717-Calculations!O$1","v":0},{"$f":"'Absorbance Data'!S3717-Calculations!P$1","v":0},{"$f":"'Absorbance Data'!T3717-Calculations!Q$1","v":0},{"$f":"'Absorbance Data'!U3717-Calculations!R$1","v":0},{"$f":"'Absorbance Data'!V3717-Calculations!S$1","v":0},{"$f":"'Absorbance Data'!W3717-Calculations!T$1","v":0},{"$f":"'Absorbance Data'!X3717-Calculations!U$1","v":0},{"$f":"'Absorbance Data'!Y3717-Calculations!V$1","v":0},{"$f":"'Absorbance Data'!Z3717-Calculations!W$1","v":0}]
[{"$f":"'Absorbance Data'!D3718","v":741.88433837890625},{"$f":"'Absorbance Data'!E3718-Calculations!B$1","v":0},{"$f":"'Absorbance Data'!F3718-Calculations!C$1","v":0},{"$f":"'Absorbance Data'!G3718-Calculations!D$1","v":0},{"$f":"'Absorbance Data'!H3718-Calculations!E$1","v":0},{"$f":"'Absorbance Data'!I3718-Calculations!F$1","v":0},{"$f":"'Absorbance Data'!J3718-Calculations!G$1","v":0},{"$f":"'Absorbance Data'!K3718-Calculations!H$1","v":0},{"$f":"'Absorbance Data'!L3718-Calculations!I$1","v":0},{"$f":"'Absorbance Data'!M3718-Calculations!J$1","v":0},{"$f":"'Absorbance Data'!N3718-Calculations!K$1","v":0},{"$f":"'Absorbance Data'!O3718-Calculations!L$1","v":0},{"$f":"'Absorbance Data'!P3718-Calculations!M$1","v":0},{"$f":"'Absorbance Data'!Q3718-Calculations!N$1","v":0},{"$f":"'Absorbance Data'!R3718-Calculations!O$1","v":0},{"$f":"'Absorbance Data'!S3718-Calculations!P$1","v":0},{"$f":"'Absorbance Data'!T3718-Calculations!Q$1","v":0},{"$f":"'Absorbance Data'!U3718-Calculations!R$1","v":0},{"$f":"'Absorbance Data'!V3718-Calculations!S$1","v":0},{"$f":"'Absorbance Data'!W3718-Calculations!T$1","v":0},{"$f":"'Absorbance Data'!X3718-Calculations!U$1","v":0},{"$f":"'Absorbance Data'!Y3718-Calculations!V$1","v":0},{"$f":"'Absorbance Data'!Z3718-Calculations!W$1","v":0}]
[{"$f":"'Absorbance Data'!D3719","v":742.18511962890625},{"$f":"'Absorbance Data'!E3719-Calculations!B$1","v":0},{"$f":"'Absorbance Data'!F3719-Calculations!C$1","v":0},{"$f":"'Absorbance Data'!G3719-Calculations!D$1","v":0},{"$f":"'Absorbance Data'!H3719-Calculations!E$1","v":0},{"$f":"'Absorbance Data'!I3719-Calculations!F$1","v":0},{"$f":"'Absorbance Data'!J3719-Calculations!G$1","v":0},{"$f":"'Absorbance Data'!K3719-Calculations!H$1","v":0},{"$f":"'Absorbance Data'!L3719-Calculations!I$1","v":0},{"$f":"'Absorbance Data'!M3719-Calculations!J$1","v":0},{"$f":"'Absorbance Data'!N3719-Calculations!K$1","v":0},{"$f":"'Absorbance Data'!O3719-Calculations!L$1","v":0},{"$f":"'Absorbance Data'!P3719-Calculations!M$1","v":0},{"$f":"'Absorbance Data'!Q3719-Calculations!N$1","v":0},{"$f":"'Absorbance Data'!R3719-Calculations!O$1","v":0},{"$f":"'Absorbance Data'!S3719-Calculations!P$1","v":0},{"$f":"'Absorbance Data'!T3719-Calculations!Q$1","v":0},{"$f":"'Absorbance Data'!U3719-Calculations!R$1","v":0},{"$f":"'Absorbance Data'!V3719-Calculations!S$1","v":0},{"$f":"'Absorbance Data'!W3719-Calculations!T$1","v":0},{"$f":"'Absorbance Data'!X3719-Calculations!U$1","v":0},{"$f":"'Absorbance Data'!Y3719-Calculations!V$1","v":0},{"$f":"'Absorbance Data'!Z3719-Calculations!W$1","v":0}]
[{"$f":"'Absorbance Data'!D3720","v":742.48583984375},{"$f":"'Absorbance Data'!E3720-Calculations!B$1","v":0},{"$f":"'Absorbance Data'!F3720-Calculations!C$1","v":0},{"$f":"'Absorbance Data'!G3720-Calculations!D$1","v":0},{"$f":"'Absorbance Data'!H3720-Calculations!E$1","v":0},{"$f":"'Absorbance Data'!I3720-Calculations!F$1","v":0},{"$f":"'Absorbance Data'!J3720-Calculations!G$1","v":0},{"$f":"'Absorbance Data'!K3720-Calculations!H$1","v":0},{"$f":"'Absorbance Data'!L3720-Calculations!I$1","v":0},{"$f":"'Absorbance Data'!M3720-Calculations!J$1","v":0},{"$f":"'Absorbance Data'!N3720-Calculations!K$1","v":0},{"$f":"'Absorbance Data'!O3720-Calculations!L$1","v":0},{"$f":"'Absorbance Data'!P3720-Calculations!M$1","v":0},{"$f":"'Absorbance Data'!Q3720-Calculations!N$1","v":0},{"$f":"'Absorbance Data'!R3720-Calculations!O$1","v":0},{"$f":"'Absorbance Data'!S3720-Calculations!P$1","v":0},{"$f":"'Absorbance Data'!T3720-Calculations!Q$1","v":0},{"$f":"'Absorbance Data'!U3720-Calculations!R$1","v":0},{"$f":"'Absorbance Data'!V3720-Calculations!S$1","v":0},{"$f":"'Absorbance Data'!W3720-Calculations!T$1","v":0},{"$f":"'Absorbance Data'!X3720-Calculations!U$1","v":0},{"$f":"'Absorbance Data'!Y3720-Calculations!V$1","v":0},{"$f":"'Absorbance Data'!Z3720-Calculations!W$1","v":0}]
[{"$f":"'Absorbance Data'!D3721","v":742.786376953125},{"$f":"'Absorbance Data'!E3721-Calculations!B$1","v":0},{"$f":"'Absorbance Data'!F3721-Calculations!C$1","v":0},{"$f":"'Absorbance Data'!G3721-Calculations!D$1","v":0},{"$f":"'Absorbance Data'!H3721-Calculations!E$1","v":0},{"$f":"'Absorbance Data'!I3721-Calculations!F$1","v":0},{"$f":"'Absorbance Data'!J3721-Calculations!G$1","v":0},{"$f":"'Absorbance Data'!K3721-Calculations!H$1","v":0},{"$f":"'Absorbance Data'!L3721-Calculations!I$1","v":0},{"$f":"'Absorbance Data'!M3721-Calculations!J$1","v":0},{"$f":"'Absorbance Data'!N3721-Calculations!K$1","v":0},{"$f":"'Absorbance Data'!O3721-Calculations!L$1","v":0},{"$f":"'Absorbance Data'!P3721-Calculations!M$1","v":0},{"$f":"'Absorbance Data'!Q3721-Calculations!N$1","v":0},{"$f":"'Absorbance Data'!R3721-Calculations!O$1","v":0},{"$f":"'Absorbance Data'!S3721-Calculations!P$1","v":0},{"$f":"'Absorbance Data'!T3721-Calculations!Q$1","v":0},{"$f":"'Absorbance Data'!U3721-Calculations!R$1","v":0},{"$f":"'Absorbance Data'!V3721-Calculations!S$1","v":0},{"$f":"'Absorbance Data'!W3721-Calculations!T$1","v":0},{"$f":"'Absorbance Data'!X3721-Calculations!U$1","v":0},{"$f":"'Absorbance Data'!Y3721-Calculations!V$1","v":0},{"$f":"'Absorbance Data'!Z3721-Calculations!W$1","v":0}]
[{"$f":"'Absorbance Data'!D3722","v":743.0870361328125},{"$f":"'Absorbance Data'!E3722-Calculations!B$1","v":0},{"$f":"'Absorbance Data'!F3722-Calculations!C$1","v":0},{"$f":"'Absorbance Data'!G3722-Calculations!D$1","v":0},{"$f":"'Absorbance Data'!H3722-Calculations!E$1","v":0},{"$f":"'Absorbance Data'!I3722-Calculations!F$1","v":0},{"$f":"'Absorbance Data'!J3722-Calculations!G$1","v":0},{"$f":"'Absorbance Data'!K3722-Calculations!H$1","v":0},{"$f":"'Absorbance Data'!L3722-Calculations!I$1","v":0},{"$f":"'Absorbance Data'!M3722-Calculations!J$1","v":0},{"$f":"'Absorbance Data'!N3722-Calculations!K$1","v":0},{"$f":"'Absorbance Data'!O3722-Calculations!L$1","v":0},{"$f":"'Absorbance Data'!P3722-Calculations!M$1","v":0},{"$f":"'Absorbance Data'!Q3722-Calculations!N$1","v":0},{"$f":"'Absorbance Data'!R3722-Calculations!O$1","v":0},{"$f":"'Absorbance Data'!S3722-Calculations!P$1","v":0},{"$f":"'Absorbance Data'!T3722-Calculations!Q$1","v":0},{"$f":"'Absorbance Data'!U3722-Calculations!R$1","v":0},{"$f":"'Absorbance Data'!V3722-Calculations!S$1","v":0},{"$f":"'Absorbance Data'!W3722-Calculations!T$1","v":0},{"$f":"'Absorbance Data'!X3722-Calculations!U$1","v":0},{"$f":"'Absorbance Data'!Y3722-Calculations!V$1","v":0},{"$f":"'Absorbance Data'!Z3722-Calculations!W$1","v":0}]
[{"$f":"'Absorbance Data'!D3723","v":743.38751220703125},{"$f":"'Absorbance Data'!E3723-Calculations!B$1","v":0},{"$f":"'Absorbance Data'!F3723-Calculations!C$1","v":0},{"$f":"'Absorbance Data'!G3723-Calculations!D$1","v":0},{"$f":"'Absorbance Data'!H3723-Calculations!E$1","v":0},{"$f":"'Absorbance Data'!I3723-Calculations!F$1","v":0},{"$f":"'Absorbance Data'!J3723-Calculations!G$1","v":0},{"$f":"'Absorbance Data'!K3723-Calculations!H$1","v":0},{"$f":"'Absorbance Data'!L3723-Calculations!I$1","v":0},{"$f":"'Absorbance Data'!M3723-Calculations!J$1","v":0},{"$f":"'Absorbance Data'!N3723-Calculations!K$1","v":0},{"$f":"'Absorbance Data'!O3723-Calculations!L$1","v":0},{"$f":"'Absorbance Data'!P3723-Calculations!M$1","v":0},{"$f":"'Absorbance Data'!Q3723-Calculations!N$1","v":0},{"$f":"'Absorbance Data'!R3723-Calculations!O$1","v":0},{"$f":"'Absorbance Data'!S3723-Calculations!P$1","v":0},{"$f":"'Absorbance Data'!T3723-Calculations!Q$1","v":0},{"$f":"'Absorbance Data'!U3723-Calculations!R$1","v":0},{"$f":"'Absorbance Data'!V3723-Calculations!S$1","v":0},{"$f":"'Absorbance Data'!W3723-Calculations!T$1","v":0},{"$f":"'Absorbance Data'!X3723-Calculations!U$1","v":0},{"$f":"'Absorbance Data'!Y3723-Calculations!V$1","v":0},{"$f":"'Absorbance Data'!Z3723-Calculations!W$1","v":0}]
[{"$f":"'Absorbance Data'!D3724","v":743.68798828125},{"$f":"'Absorbance Data'!E3724-Calculations!B$1","v":0},{"$f":"'Absorbance Data'!F3724-Calculations!C$1","v":0},{"$f":"'Absorbance Data'!G3724-Calculations!D$1","v":0},{"$f":"'Absorbance Data'!H3724-Calculations!E$1","v":0},{"$f":"'Absorbance Data'!I3724-Calculations!F$1","v":0},{"$f":"'Absorbance Data'!J3724-Calculations!G$1","v":0},{"$f":"'Absorbance Data'!K3724-Calculations!H$1","v":0},{"$f":"'Absorbance Data'!L3724-Calculations!I$1","v":0},{"$f":"'Absorbance Data'!M3724-Calculations!J$1","v":0},{"$f":"'Absorbance Data'!N3724-Calculations!K$1","v":0},{"$f":"'Absorbance Data'!O3724-Calculations!L$1","v":0},{"$f":"'Absorbance Data'!P3724-Calculations!M$1","v":0},{"$f":"'Absorbance Data'!Q3724-Calculations!N$1","v":0},{"$f":"'Absorbance Data'!R3724-Calculations!O$1","v":0},{"$f":"'Absorbance Data'!S3724-Calculations!P$1","v":0},{"$f":"'Absorbance Data'!T3724-Calculations!Q$1","v":0},{"$f":"'Absorbance Data'!U3724-Calculations!R$1","v":0},{"$f":"'Absorbance Data'!V3724-Calculations!S$1","v":0},{"$f":"'Absorbance Data'!W3724-Calculations!T$1","v":0},{"$f":"'Absorbance Data'!X3724-Calculations!U$1","v":0},{"$f":"'Absorbance Data'!Y3724-Calculations!V$1","v":0},{"$f":"'Absorbance Data'!Z3724-Calculations!W$1","v":0}]
[{"$f":"'Absorbance Data'!D3725","v":743.98846435546875},{"$f":"'Absorbance Data'!E3725-Calculations!B$1","v":0},{"$f":"'Absorbance Data'!F3725-Calculations!C$1","v":0},{"$f":"'Absorbance Data'!G3725-Calculations!D$1","v":0},{"$f":"'Absorbance Data'!H3725-Calculations!E$1","v":0},{"$f":"'Absorbance Data'!I3725-Calculations!F$1","v":0},{"$f":"'Absorbance Data'!J3725-Calculations!G$1","v":0},{"$f":"'Absorbance Data'!K3725-Calculations!H$1","v":0},{"$f":"'Absorbance Data'!L3725-Calculations!I$1","v":0},{"$f":"'Absorbance Data'!M3725-Calculations!J$1","v":0},{"$f":"'Absorbance Data'!N3725-Calculations!K$1","v":0},{"$f":"'Absorbance Data'!O3725-Calculations!L$1","v":0},{"$f":"'Absorbance Data'!P3725-Calculations!M$1","v":0},{"$f":"'Absorbance Data'!Q3725-Calculations!N$1","v":0},{"$f":"'Absorbance Data'!R3725-Calculations!O$1","v":0},{"$f":"'Absorbance Data'!S3725-Calculations!P$1","v":0},{"$f":"'Absorbance Data'!T3725-Calculations!Q$1","v":0},{"$f":"'Absorbance Data'!U3725-Calculations!R$1","v":0},{"$f":"'Absorbance Data'!V3725-Calculations!S$1","v":0},{"$f":"'Absorbance Data'!W3725-Calculations!T$1","v":0},{"$f":"'Absorbance Data'!X3725-Calculations!U$1","v":0},{"$f":"'Absorbance Data'!Y3725-Calculations!V$1","v":0},{"$f":"'Absorbance Data'!Z3725-Calculations!W$1","v":0}]
[{"$f":"'Absorbance Data'!D3726","v":744.288818359375},{"$f":"'Absorbance Data'!E3726-Calculations!B$1","v":0},{"$f":"'Absorbance Data'!F3726-Calculations!C$1","v":0},{"$f":"'Absorbance Data'!G3726-Calculations!D$1","v":0},{"$f":"'Absorbance Data'!H3726-Calculations!E$1","v":0},{"$f":"'Absorbance Data'!I3726-Calculations!F$1","v":0},{"$f":"'Absorbance Data'!J3726-Calculations!G$1","v":0},{"$f":"'Absorbance Data'!K3726-Calculations!H$1","v":0},{"$f":"'Absorbance Data'!L3726-Calculations!I$1","v":0},{"$f":"'Absorbance Data'!M3726-Calculations!J$1","v":0},{"$f":"'Absorbance Data'!N3726-Calculations!K$1","v":0},{"$f":"'Absorbance Data'!O3726-Calculations!L$1","v":0},{"$f":"'Absorbance Data'!P3726-Calculations!M$1","v":0},{"$f":"'Absorbance Data'!Q3726-Calculations!N$1","v":0},{"$f":"'Absorbance Data'!R3726-Calculations!O$1","v":0},{"$f":"'Absorbance Data'!S3726-Calculations!P$1","v":0},{"$f":"'Absorbance Data'!T3726-Calculations!Q$1","v":0},{"$f":"'Absorbance Data'!U3726-Calculations!R$1","v":0},{"$f":"'Absorbance Data'!V3726-Calculations!S$1","v":0},{"$f":"'Absorbance Data'!W3726-Calculations!T$1","v":0},{"$f":"'Absorbance Data'!X3726-Calculations!U$1","v":0},{"$f":"'Absorbance Data'!Y3726-Calculations!V$1","v":0},{"$f":"'Absorbance Data'!Z3726-Calculations!W$1","v":0}]
[{"$f":"'Absorbance Data'!D3727","v":744.58917236328125},{"$f":"'Absorbance Data'!E3727-Calculations!B$1","v":0},{"$f":"'Absorbance Data'!F3727-Calculations!C$1","v":0},{"$f":"'Absorbance Data'!G3727-Calculations!D$1","v":0},{"$f":"'Absorbance Data'!H3727-Calculations!E$1","v":0},{"$f":"'Absorbance Data'!I3727-Calculations!F$1","v":0},{"$f":"'Absorbance Data'!J3727-Calculations!G$1","v":0},{"$f":"'Absorbance Data'!K3727-Calculations!H$1","v":0},{"$f":"'Absorbance Data'!L3727-Calculations!I$1","v":0},{"$f":"'Absorbance Data'!M3727-Calculations!J$1","v":0},{"$f":"'Absorbance Data'!N3727-Calculations!K$1","v":0},{"$f":"'Absorbance Data'!O3727-Calculations!L$1","v":0},{"$f":"'Absorbance Data'!P3727-Calculations!M$1","v":0},{"$f":"'Absorbance Data'!Q3727-Calculations!N$1","v":0},{"$f":"'Absorbance Data'!R3727-Calculations!O$1","v":0},{"$f":"'Absorbance Data'!S3727-Calculations!P$1","v":0},{"$f":"'Absorbance Data'!T3727-Calculations!Q$1","v":0},{"$f":"'Absorbance Data'!U3727-Calculations!R$1","v":0},{"$f":"'Absorbance Data'!V3727-Calculations!S$1","v":0},{"$f":"'Absorbance Data'!W3727-Calculations!T$1","v":0},{"$f":"'Absorbance Data'!X3727-Calculations!U$1","v":0},{"$f":"'Absorbance Data'!Y3727-Calculations!V$1","v":0},{"$f":"'Absorbance Data'!Z3727-Calculations!W$1","v":0}]
[{"$f":"'Absorbance Data'!D3728","v":744.8895263671875},{"$f":"'Absorbance Data'!E3728-Calculations!B$1","v":0},{"$f":"'Absorbance Data'!F3728-Calculations!C$1","v":0},{"$f":"'Absorbance Data'!G3728-Calculations!D$1","v":0},{"$f":"'Absorbance Data'!H3728-Calculations!E$1","v":0},{"$f":"'Absorbance Data'!I3728-Calculations!F$1","v":0},{"$f":"'Absorbance Data'!J3728-Calculations!G$1","v":0},{"$f":"'Absorbance Data'!K3728-Calculations!H$1","v":0},{"$f":"'Absorbance Data'!L3728-Calculations!I$1","v":0},{"$f":"'Absorbance Data'!M3728-Calculations!J$1","v":0},{"$f":"'Absorbance Data'!N3728-Calculations!K$1","v":0},{"$f":"'Absorbance Data'!O3728-Calculations!L$1","v":0},{"$f":"'Absorbance Data'!P3728-Calculations!M$1","v":0},{"$f":"'Absorbance Data'!Q3728-Calculations!N$1","v":0},{"$f":"'Absorbance Data'!R3728-Calculations!O$1","v":0},{"$f":"'Absorbance Data'!S3728-Calculations!P$1","v":0},{"$f":"'Absorbance Data'!T3728-Calculations!Q$1","v":0},{"$f":"'Absorbance Data'!U3728-Calculations!R$1","v":0},{"$f":"'Absorbance Data'!V3728-Calculations!S$1","v":0},{"$f":"'Absorbance Data'!W3728-Calculations!T$1","v":0},{"$f":"'Absorbance Data'!X3728-Calculations!U$1","v":0},{"$f":"'Absorbance Data'!Y3728-Calculations!V$1","v":0},{"$f":"'Absorbance Data'!Z3728-Calculations!W$1","v":0}]
[{"$f":"'Absorbance Data'!D3729","v":745.18975830078125},{"$f":"'Absorbance Data'!E3729-Calculations!B$1","v":0},{"$f":"'Absorbance Data'!F3729-Calculations!C$1","v":0},{"$f":"'Absorbance Data'!G3729-Calculations!D$1","v":0},{"$f":"'Absorbance Data'!H3729-Calculations!E$1","v":0},{"$f":"'Absorbance Data'!I3729-Calculations!F$1","v":0},{"$f":"'Absorbance Data'!J3729-Calculations!G$1","v":0},{"$f":"'Absorbance Data'!K3729-Calculations!H$1","v":0},{"$f":"'Absorbance Data'!L3729-Calculations!I$1","v":0},{"$f":"'Absorbance Data'!M3729-Calculations!J$1","v":0},{"$f":"'Absorbance Data'!N3729-Calculations!K$1","v":0},{"$f":"'Absorbance Data'!O3729-Calculations!L$1","v":0},{"$f":"'Absorbance Data'!P3729-Calculations!M$1","v":0},{"$f":"'Absorbance Data'!Q3729-Calculations!N$1","v":0},{"$f":"'Absorbance Data'!R3729-Calculations!O$1","v":0},{"$f":"'Absorbance Data'!S3729-Calculations!P$1","v":0},{"$f":"'Absorbance Data'!T3729-Calculations!Q$1","v":0},{"$f":"'Absorbance Data'!U3729-Calculations!R$1","v":0},{"$f":"'Absorbance Data'!V3729-Calculations!S$1","v":0},{"$f":"'Absorbance Data'!W3729-Calculations!T$1","v":0},{"$f":"'Absorbance Data'!X3729-Calculations!U$1","v":0},{"$f":"'Absorbance Data'!Y3729-Calculations!V$1","v":0},{"$f":"'Absorbance Data'!Z3729-Calculations!W$1","v":0}]
[{"$f":"'Absorbance Data'!D3730","v":745.489990234375},{"$f":"'Absorbance Data'!E3730-Calculations!B$1","v":0},{"$f":"'Absorbance Data'!F3730-Calculations!C$1","v":0},{"$f":"'Absorbance Data'!G3730-Calculations!D$1","v":0},{"$f":"'Absorbance Data'!H3730-Calculations!E$1","v":0},{"$f":"'Absorbance Data'!I3730-Calculations!F$1","v":0},{"$f":"'Absorbance Data'!J3730-Calculations!G$1","v":0},{"$f":"'Absorbance Data'!K3730-Calculations!H$1","v":0},{"$f":"'Absorbance Data'!L3730-Calculations!I$1","v":0},{"$f":"'Absorbance Data'!M3730-Calculations!J$1","v":0},{"$f":"'Absorbance Data'!N3730-Calculations!K$1","v":0},{"$f":"'Absorbance Data'!O3730-Calculations!L$1","v":0},{"$f":"'Absorbance Data'!P3730-Calculations!M$1","v":0},{"$f":"'Absorbance Data'!Q3730-Calculations!N$1","v":0},{"$f":"'Absorbance Data'!R3730-Calculations!O$1","v":0},{"$f":"'Absorbance Data'!S3730-Calculations!P$1","v":0},{"$f":"'Absorbance Data'!T3730-Calculations!Q$1","v":0},{"$f":"'Absorbance Data'!U3730-Calculations!R$1","v":0},{"$f":"'Absorbance Data'!V3730-Calculations!S$1","v":0},{"$f":"'Absorbance Data'!W3730-Calculations!T$1","v":0},{"$f":"'Absorbance Data'!X3730-Calculations!U$1","v":0},{"$f":"'Absorbance Data'!Y3730-Calculations!V$1","v":0},{"$f":"'Absorbance Data'!Z3730-Calculations!W$1","v":0}]
[{"$f":"'Absorbance Data'!D3731","v":745.79010009765625},{"$f":"'Absorbance Data'!E3731-Calculations!B$1","v":0},{"$f":"'Absorbance Data'!F3731-Calculations!C$1","v":0},{"$f":"'Absorbance Data'!G3731-Calculations!D$1","v":0},{"$f":"'Absorbance Data'!H3731-Calculations!E$1","v":0},{"$f":"'Absorbance Data'!I3731-Calculations!F$1","v":0},{"$f":"'Absorbance Data'!J3731-Calculations!G$1","v":0},{"$f":"'Absorbance Data'!K3731-Calculations!H$1","v":0},{"$f":"'Absorbance Data'!L3731-Calculations!I$1","v":0},{"$f":"'Absorbance Data'!M3731-Calculations!J$1","v":0},{"$f":"'Absorbance Data'!N3731-Calculations!K$1","v":0},{"$f":"'Absorbance Data'!O3731-Calculations!L$1","v":0},{"$f":"'Absorbance Data'!P3731-Calculations!M$1","v":0},{"$f":"'Absorbance Data'!Q3731-Calculations!N$1","v":0},{"$f":"'Absorbance Data'!R3731-Calculations!O$1","v":0},{"$f":"'Absorbance Data'!S3731-Calculations!P$1","v":0},{"$f":"'Absorbance Data'!T3731-Calculations!Q$1","v":0},{"$f":"'Absorbance Data'!U3731-Calculations!R$1","v":0},{"$f":"'Absorbance Data'!V3731-Calculations!S$1","v":0},{"$f":"'Absorbance Data'!W3731-Calculations!T$1","v":0},{"$f":"'Absorbance Data'!X3731-Calculations!U$1","v":0},{"$f":"'Absorbance Data'!Y3731-Calculations!V$1","v":0},{"$f":"'Absorbance Data'!Z3731-Calculations!W$1","v":0}]
[{"$f":"'Absorbance Data'!D3732","v":746.09027099609375},{"$f":"'Absorbance Data'!E3732-Calculations!B$1","v":0},{"$f":"'Absorbance Data'!F3732-Calculations!C$1","v":0},{"$f":"'Absorbance Data'!G3732-Calculations!D$1","v":0},{"$f":"'Absorbance Data'!H3732-Calculations!E$1","v":0},{"$f":"'Absorbance Data'!I3732-Calculations!F$1","v":0},{"$f":"'Absorbance Data'!J3732-Calculations!G$1","v":0},{"$f":"'Absorbance Data'!K3732-Calculations!H$1","v":0},{"$f":"'Absorbance Data'!L3732-Calculations!I$1","v":0},{"$f":"'Absorbance Data'!M3732-Calculations!J$1","v":0},{"$f":"'Absorbance Data'!N3732-Calculations!K$1","v":0},{"$f":"'Absorbance Data'!O3732-Calculations!L$1","v":0},{"$f":"'Absorbance Data'!P3732-Calculations!M$1","v":0},{"$f":"'Absorbance Data'!Q3732-Calculations!N$1","v":0},{"$f":"'Absorbance Data'!R3732-Calculations!O$1","v":0},{"$f":"'Absorbance Data'!S3732-Calculations!P$1","v":0},{"$f":"'Absorbance Data'!T3732-Calculations!Q$1","v":0},{"$f":"'Absorbance Data'!U3732-Calculations!R$1","v":0},{"$f":"'Absorbance Data'!V3732-Calculations!S$1","v":0},{"$f":"'Absorbance Data'!W3732-Calculations!T$1","v":0},{"$f":"'Absorbance Data'!X3732-Calculations!U$1","v":0},{"$f":"'Absorbance Data'!Y3732-Calculations!V$1","v":0},{"$f":"'Absorbance Data'!Z3732-Calculations!W$1","v":0}]
[{"$f":"'Absorbance Data'!D3733","v":746.3902587890625},{"$f":"'Absorbance Data'!E3733-Calculations!B$1","v":0},{"$f":"'Absorbance Data'!F3733-Calculations!C$1","v":0},{"$f":"'Absorbance Data'!G3733-Calculations!D$1","v":0},{"$f":"'Absorbance Data'!H3733-Calculations!E$1","v":0},{"$f":"'Absorbance Data'!I3733-Calculations!F$1","v":0},{"$f":"'Absorbance Data'!J3733-Calculations!G$1","v":0},{"$f":"'Absorbance Data'!K3733-Calculations!H$1","v":0},{"$f":"'Absorbance Data'!L3733-Calculations!I$1","v":0},{"$f":"'Absorbance Data'!M3733-Calculations!J$1","v":0},{"$f":"'Absorbance Data'!N3733-Calculations!K$1","v":0},{"$f":"'Absorbance Data'!O3733-Calculations!L$1","v":0},{"$f":"'Absorbance Data'!P3733-Calculations!M$1","v":0},{"$f":"'Absorbance Data'!Q3733-Calculations!N$1","v":0},{"$f":"'Absorbance Data'!R3733-Calculations!O$1","v":0},{"$f":"'Absorbance Data'!S3733-Calculations!P$1","v":0},{"$f":"'Absorbance Data'!T3733-Calculations!Q$1","v":0},{"$f":"'Absorbance Data'!U3733-Calculations!R$1","v":0},{"$f":"'Absorbance Data'!V3733-Calculations!S$1","v":0},{"$f":"'Absorbance Data'!W3733-Calculations!T$1","v":0},{"$f":"'Absorbance Data'!X3733-Calculations!U$1","v":0},{"$f":"'Absorbance Data'!Y3733-Calculations!V$1","v":0},{"$f":"'Absorbance Data'!Z3733-Calculations!W$1","v":0}]
[{"$f":"'Absorbance Data'!D3734","v":746.69036865234375},{"$f":"'Absorbance Data'!E3734-Calculations!B$1","v":0},{"$f":"'Absorbance Data'!F3734-Calculations!C$1","v":0},{"$f":"'Absorbance Data'!G3734-Calculations!D$1","v":0},{"$f":"'Absorbance Data'!H3734-Calculations!E$1","v":0},{"$f":"'Absorbance Data'!I3734-Calculations!F$1","v":0},{"$f":"'Absorbance Data'!J3734-Calculations!G$1","v":0},{"$f":"'Absorbance Data'!K3734-Calculations!H$1","v":0},{"$f":"'Absorbance Data'!L3734-Calculations!I$1","v":0},{"$f":"'Absorbance Data'!M3734-Calculations!J$1","v":0},{"$f":"'Absorbance Data'!N3734-Calculations!K$1","v":0},{"$f":"'Absorbance Data'!O3734-Calculations!L$1","v":0},{"$f":"'Absorbance Data'!P3734-Calculations!M$1","v":0},{"$f":"'Absorbance Data'!Q3734-Calculations!N$1","v":0},{"$f":"'Absorbance Data'!R3734-Calculations!O$1","v":0},{"$f":"'Absorbance Data'!S3734-Calculations!P$1","v":0},{"$f":"'Absorbance Data'!T3734-Calculations!Q$1","v":0},{"$f":"'Absorbance Data'!U3734-Calculations!R$1","v":0},{"$f":"'Absorbance Data'!V3734-Calculations!S$1","v":0},{"$f":"'Absorbance Data'!W3734-Calculations!T$1","v":0},{"$f":"'Absorbance Data'!X3734-Calculations!U$1","v":0},{"$f":"'Absorbance Data'!Y3734-Calculations!V$1","v":0},{"$f":"'Absorbance Data'!Z3734-Calculations!W$1","v":0}]
[{"$f":"'Absorbance Data'!D3735","v":746.99029541015625},{"$f":"'Absorbance Data'!E3735-Calculations!B$1","v":0},{"$f":"'Absorbance Data'!F3735-Calculations!C$1","v":0},{"$f":"'Absorbance Data'!G3735-Calculations!D$1","v":0},{"$f":"'Absorbance Data'!H3735-Calculations!E$1","v":0},{"$f":"'Absorbance Data'!I3735-Calculations!F$1","v":0},{"$f":"'Absorbance Data'!J3735-Calculations!G$1","v":0},{"$f":"'Absorbance Data'!K3735-Calculations!H$1","v":0},{"$f":"'Absorbance Data'!L3735-Calculations!I$1","v":0},{"$f":"'Absorbance Data'!M3735-Calculations!J$1","v":0},{"$f":"'Absorbance Data'!N3735-Calculations!K$1","v":0},{"$f":"'Absorbance Data'!O3735-Calculations!L$1","v":0},{"$f":"'Absorbance Data'!P3735-Calculations!M$1","v":0},{"$f":"'Absorbance Data'!Q3735-Calculations!N$1","v":0},{"$f":"'Absorbance Data'!R3735-Calculations!O$1","v":0},{"$f":"'Absorbance Data'!S3735-Calculations!P$1","v":0},{"$f":"'Absorbance Data'!T3735-Calculations!Q$1","v":0},{"$f":"'Absorbance Data'!U3735-Calculations!R$1","v":0},{"$f":"'Absorbance Data'!V3735-Calculations!S$1","v":0},{"$f":"'Absorbance Data'!W3735-Calculations!T$1","v":0},{"$f":"'Absorbance Data'!X3735-Calculations!U$1","v":0},{"$f":"'Absorbance Data'!Y3735-Calculations!V$1","v":0},{"$f":"'Absorbance Data'!Z3735-Calculations!W$1","v":0}]
[{"$f":"'Absorbance Data'!D3736","v":747.290283203125},{"$f":"'Absorbance Data'!E3736-Calculations!B$1","v":0},{"$f":"'Absorbance Data'!F3736-Calculations!C$1","v":0},{"$f":"'Absorbance Data'!G3736-Calculations!D$1","v":0},{"$f":"'Absorbance Data'!H3736-Calculations!E$1","v":0},{"$f":"'Absorbance Data'!I3736-Calculations!F$1","v":0},{"$f":"'Absorbance Data'!J3736-Calculations!G$1","v":0},{"$f":"'Absorbance Data'!K3736-Calculations!H$1","v":0},{"$f":"'Absorbance Data'!L3736-Calculations!I$1","v":0},{"$f":"'Absorbance Data'!M3736-Calculations!J$1","v":0},{"$f":"'Absorbance Data'!N3736-Calculations!K$1","v":0},{"$f":"'Absorbance Data'!O3736-Calculations!L$1","v":0},{"$f":"'Absorbance Data'!P3736-Calculations!M$1","v":0},{"$f":"'Absorbance Data'!Q3736-Calculations!N$1","v":0},{"$f":"'Absorbance Data'!R3736-Calculations!O$1","v":0},{"$f":"'Absorbance Data'!S3736-Calculations!P$1","v":0},{"$f":"'Absorbance Data'!T3736-Calculations!Q$1","v":0},{"$f":"'Absorbance Data'!U3736-Calculations!R$1","v":0},{"$f":"'Absorbance Data'!V3736-Calculations!S$1","v":0},{"$f":"'Absorbance Data'!W3736-Calculations!T$1","v":0},{"$f":"'Absorbance Data'!X3736-Calculations!U$1","v":0},{"$f":"'Absorbance Data'!Y3736-Calculations!V$1","v":0},{"$f":"'Absorbance Data'!Z3736-Calculations!W$1","v":0}]
[{"$f":"'Absorbance Data'!D3737","v":747.59014892578125},{"$f":"'Absorbance Data'!E3737-Calculations!B$1","v":0},{"$f":"'Absorbance Data'!F3737-Calculations!C$1","v":0},{"$f":"'Absorbance Data'!G3737-Calculations!D$1","v":0},{"$f":"'Absorbance Data'!H3737-Calculations!E$1","v":0},{"$f":"'Absorbance Data'!I3737-Calculations!F$1","v":0},{"$f":"'Absorbance Data'!J3737-Calculations!G$1","v":0},{"$f":"'Absorbance Data'!K3737-Calculations!H$1","v":0},{"$f":"'Absorbance Data'!L3737-Calculations!I$1","v":0},{"$f":"'Absorbance Data'!M3737-Calculations!J$1","v":0},{"$f":"'Absorbance Data'!N3737-Calculations!K$1","v":0},{"$f":"'Absorbance Data'!O3737-Calculations!L$1","v":0},{"$f":"'Absorbance Data'!P3737-Calculations!M$1","v":0},{"$f":"'Absorbance Data'!Q3737-Calculations!N$1","v":0},{"$f":"'Absorbance Data'!R3737-Calculations!O$1","v":0},{"$f":"'Absorbance Data'!S3737-Calculations!P$1","v":0},{"$f":"'Absorbance Data'!T3737-Calculations!Q$1","v":0},{"$f":"'Absorbance Data'!U3737-Calculations!R$1","v":0},{"$f":"'Absorbance Data'!V3737-Calculations!S$1","v":0},{"$f":"'Absorbance Data'!W3737-Calculations!T$1","v":0},{"$f":"'Absorbance Data'!X3737-Calculations!U$1","v":0},{"$f":"'Absorbance Data'!Y3737-Calculations!V$1","v":0},{"$f":"'Absorbance Data'!Z3737-Calculations!W$1","v":0}]
[{"$f":"'Absorbance Data'!D3738","v":747.8900146484375},{"$f":"'Absorbance Data'!E3738-Calculations!B$1","v":0},{"$f":"'Absorbance Data'!F3738-Calculations!C$1","v":0},{"$f":"'Absorbance Data'!G3738-Calculations!D$1","v":0},{"$f":"'Absorbance Data'!H3738-Calculations!E$1","v":0},{"$f":"'Absorbance Data'!I3738-Calculations!F$1","v":0},{"$f":"'Absorbance Data'!J3738-Calculations!G$1","v":0},{"$f":"'Absorbance Data'!K3738-Calculations!H$1","v":0},{"$f":"'Absorbance Data'!L3738-Calculations!I$1","v":0},{"$f":"'Absorbance Data'!M3738-Calculations!J$1","v":0},{"$f":"'Absorbance Data'!N3738-Calculations!K$1","v":0},{"$f":"'Absorbance Data'!O3738-Calculations!L$1","v":0},{"$f":"'Absorbance Data'!P3738-Calculations!M$1","v":0},{"$f":"'Absorbance Data'!Q3738-Calculations!N$1","v":0},{"$f":"'Absorbance Data'!R3738-Calculations!O$1","v":0},{"$f":"'Absorbance Data'!S3738-Calculations!P$1","v":0},{"$f":"'Absorbance Data'!T3738-Calculations!Q$1","v":0},{"$f":"'Absorbance Data'!U3738-Calculations!R$1","v":0},{"$f":"'Absorbance Data'!V3738-Calculations!S$1","v":0},{"$f":"'Absorbance Data'!W3738-Calculations!T$1","v":0},{"$f":"'Absorbance Data'!X3738-Calculations!U$1","v":0},{"$f":"'Absorbance Data'!Y3738-Calculations!V$1","v":0},{"$f":"'Absorbance Data'!Z3738-Calculations!W$1","v":0}]
[{"$f":"'Absorbance Data'!D3739","v":748.18975830078125},{"$f":"'Absorbance Data'!E3739-Calculations!B$1","v":0},{"$f":"'Absorbance Data'!F3739-Calculations!C$1","v":0},{"$f":"'Absorbance Data'!G3739-Calculations!D$1","v":0},{"$f":"'Absorbance Data'!H3739-Calculations!E$1","v":0},{"$f":"'Absorbance Data'!I3739-Calculations!F$1","v":0},{"$f":"'Absorbance Data'!J3739-Calculations!G$1","v":0},{"$f":"'Absorbance Data'!K3739-Calculations!H$1","v":0},{"$f":"'Absorbance Data'!L3739-Calculations!I$1","v":0},{"$f":"'Absorbance Data'!M3739-Calculations!J$1","v":0},{"$f":"'Absorbance Data'!N3739-Calculations!K$1","v":0},{"$f":"'Absorbance Data'!O3739-Calculations!L$1","v":0},{"$f":"'Absorbance Data'!P3739-Calculations!M$1","v":0},{"$f":"'Absorbance Data'!Q3739-Calculations!N$1","v":0},{"$f":"'Absorbance Data'!R3739-Calculations!O$1","v":0},{"$f":"'Absorbance Data'!S3739-Calculations!P$1","v":0},{"$f":"'Absorbance Data'!T3739-Calculations!Q$1","v":0},{"$f":"'Absorbance Data'!U3739-Calculations!R$1","v":0},{"$f":"'Absorbance Data'!V3739-Calculations!S$1","v":0},{"$f":"'Absorbance Data'!W3739-Calculations!T$1","v":0},{"$f":"'Absorbance Data'!X3739-Calculations!U$1","v":0},{"$f":"'Absorbance Data'!Y3739-Calculations!V$1","v":0},{"$f":"'Absorbance Data'!Z3739-Calculations!W$1","v":0}]
[{"$f":"'Absorbance Data'!D3740","v":748.489501953125},{"$f":"'Absorbance Data'!E3740-Calculations!B$1","v":0},{"$f":"'Absorbance Data'!F3740-Calculations!C$1","v":0},{"$f":"'Absorbance Data'!G3740-Calculations!D$1","v":0},{"$f":"'Absorbance Data'!H3740-Calculations!E$1","v":0},{"$f":"'Absorbance Data'!I3740-Calculations!F$1","v":0},{"$f":"'Absorbance Data'!J3740-Calculations!G$1","v":0},{"$f":"'Absorbance Data'!K3740-Calculations!H$1","v":0},{"$f":"'Absorbance Data'!L3740-Calculations!I$1","v":0},{"$f":"'Absorbance Data'!M3740-Calculations!J$1","v":0},{"$f":"'Absorbance Data'!N3740-Calculations!K$1","v":0},{"$f":"'Absorbance Data'!O3740-Calculations!L$1","v":0},{"$f":"'Absorbance Data'!P3740-Calculations!M$1","v":0},{"$f":"'Absorbance Data'!Q3740-Calculations!N$1","v":0},{"$f":"'Absorbance Data'!R3740-Calculations!O$1","v":0},{"$f":"'Absorbance Data'!S3740-Calculations!P$1","v":0},{"$f":"'Absorbance Data'!T3740-Calculations!Q$1","v":0},{"$f":"'Absorbance Data'!U3740-Calculations!R$1","v":0},{"$f":"'Absorbance Data'!V3740-Calculations!S$1","v":0},{"$f":"'Absorbance Data'!W3740-Calculations!T$1","v":0},{"$f":"'Absorbance Data'!X3740-Calculations!U$1","v":0},{"$f":"'Absorbance Data'!Y3740-Calculations!V$1","v":0},{"$f":"'Absorbance Data'!Z3740-Calculations!W$1","v":0}]
[{"$f":"'Absorbance Data'!D3741","v":748.7891845703125},{"$f":"'Absorbance Data'!E3741-Calculations!B$1","v":0},{"$f":"'Absorbance Data'!F3741-Calculations!C$1","v":0},{"$f":"'Absorbance Data'!G3741-Calculations!D$1","v":0},{"$f":"'Absorbance Data'!H3741-Calculations!E$1","v":0},{"$f":"'Absorbance Data'!I3741-Calculations!F$1","v":0},{"$f":"'Absorbance Data'!J3741-Calculations!G$1","v":0},{"$f":"'Absorbance Data'!K3741-Calculations!H$1","v":0},{"$f":"'Absorbance Data'!L3741-Calculations!I$1","v":0},{"$f":"'Absorbance Data'!M3741-Calculations!J$1","v":0},{"$f":"'Absorbance Data'!N3741-Calculations!K$1","v":0},{"$f":"'Absorbance Data'!O3741-Calculations!L$1","v":0},{"$f":"'Absorbance Data'!P3741-Calculations!M$1","v":0},{"$f":"'Absorbance Data'!Q3741-Calculations!N$1","v":0},{"$f":"'Absorbance Data'!R3741-Calculations!O$1","v":0},{"$f":"'Absorbance Data'!S3741-Calculations!P$1","v":0},{"$f":"'Absorbance Data'!T3741-Calculations!Q$1","v":0},{"$f":"'Absorbance Data'!U3741-Calculations!R$1","v":0},{"$f":"'Absorbance Data'!V3741-Calculations!S$1","v":0},{"$f":"'Absorbance Data'!W3741-Calculations!T$1","v":0},{"$f":"'Absorbance Data'!X3741-Calculations!U$1","v":0},{"$f":"'Absorbance Data'!Y3741-Calculations!V$1","v":0},{"$f":"'Absorbance Data'!Z3741-Calculations!W$1","v":0}]
[{"$f":"'Absorbance Data'!D3742","v":749.08892822265625},{"$f":"'Absorbance Data'!E3742-Calculations!B$1","v":0},{"$f":"'Absorbance Data'!F3742-Calculations!C$1","v":0},{"$f":"'Absorbance Data'!G3742-Calculations!D$1","v":0},{"$f":"'Absorbance Data'!H3742-Calculations!E$1","v":0},{"$f":"'Absorbance Data'!I3742-Calculations!F$1","v":0},{"$f":"'Absorbance Data'!J3742-Calculations!G$1","v":0},{"$f":"'Absorbance Data'!K3742-Calculations!H$1","v":0},{"$f":"'Absorbance Data'!L3742-Calculations!I$1","v":0},{"$f":"'Absorbance Data'!M3742-Calculations!J$1","v":0},{"$f":"'Absorbance Data'!N3742-Calculations!K$1","v":0},{"$f":"'Absorbance Data'!O3742-Calculations!L$1","v":0},{"$f":"'Absorbance Data'!P3742-Calculations!M$1","v":0},{"$f":"'Absorbance Data'!Q3742-Calculations!N$1","v":0},{"$f":"'Absorbance Data'!R3742-Calculations!O$1","v":0},{"$f":"'Absorbance Data'!S3742-Calculations!P$1","v":0},{"$f":"'Absorbance Data'!T3742-Calculations!Q$1","v":0},{"$f":"'Absorbance Data'!U3742-Calculations!R$1","v":0},{"$f":"'Absorbance Data'!V3742-Calculations!S$1","v":0},{"$f":"'Absorbance Data'!W3742-Calculations!T$1","v":0},{"$f":"'Absorbance Data'!X3742-Calculations!U$1","v":0},{"$f":"'Absorbance Data'!Y3742-Calculations!V$1","v":0},{"$f":"'Absorbance Data'!Z3742-Calculations!W$1","v":0}]
[{"$f":"'Absorbance Data'!D3743","v":749.38848876953125},{"$f":"'Absorbance Data'!E3743-Calculations!B$1","v":0},{"$f":"'Absorbance Data'!F3743-Calculations!C$1","v":0},{"$f":"'Absorbance Data'!G3743-Calculations!D$1","v":0},{"$f":"'Absorbance Data'!H3743-Calculations!E$1","v":0},{"$f":"'Absorbance Data'!I3743-Calculations!F$1","v":0},{"$f":"'Absorbance Data'!J3743-Calculations!G$1","v":0},{"$f":"'Absorbance Data'!K3743-Calculations!H$1","v":0},{"$f":"'Absorbance Data'!L3743-Calculations!I$1","v":0},{"$f":"'Absorbance Data'!M3743-Calculations!J$1","v":0},{"$f":"'Absorbance Data'!N3743-Calculations!K$1","v":0},{"$f":"'Absorbance Data'!O3743-Calculations!L$1","v":0},{"$f":"'Absorbance Data'!P3743-Calculations!M$1","v":0},{"$f":"'Absorbance Data'!Q3743-Calculations!N$1","v":0},{"$f":"'Absorbance Data'!R3743-Calculations!O$1","v":0},{"$f":"'Absorbance Data'!S3743-Calculations!P$1","v":0},{"$f":"'Absorbance Data'!T3743-Calculations!Q$1","v":0},{"$f":"'Absorbance Data'!U3743-Calculations!R$1","v":0},{"$f":"'Absorbance Data'!V3743-Calculations!S$1","v":0},{"$f":"'Absorbance Data'!W3743-Calculations!T$1","v":0},{"$f":"'Absorbance Data'!X3743-Calculations!U$1","v":0},{"$f":"'Absorbance Data'!Y3743-Calculations!V$1","v":0},{"$f":"'Absorbance Data'!Z3743-Calculations!W$1","v":0}]
[{"$f":"'Absorbance Data'!D3744","v":749.68804931640625},{"$f":"'Absorbance Data'!E3744-Calculations!B$1","v":0},{"$f":"'Absorbance Data'!F3744-Calculations!C$1","v":0},{"$f":"'Absorbance Data'!G3744-Calculations!D$1","v":0},{"$f":"'Absorbance Data'!H3744-Calculations!E$1","v":0},{"$f":"'Absorbance Data'!I3744-Calculations!F$1","v":0},{"$f":"'Absorbance Data'!J3744-Calculations!G$1","v":0},{"$f":"'Absorbance Data'!K3744-Calculations!H$1","v":0},{"$f":"'Absorbance Data'!L3744-Calculations!I$1","v":0},{"$f":"'Absorbance Data'!M3744-Calculations!J$1","v":0},{"$f":"'Absorbance Data'!N3744-Calculations!K$1","v":0},{"$f":"'Absorbance Data'!O3744-Calculations!L$1","v":0},{"$f":"'Absorbance Data'!P3744-Calculations!M$1","v":0},{"$f":"'Absorbance Data'!Q3744-Calculations!N$1","v":0},{"$f":"'Absorbance Data'!R3744-Calculations!O$1","v":0},{"$f":"'Absorbance Data'!S3744-Calculations!P$1","v":0},{"$f":"'Absorbance Data'!T3744-Calculations!Q$1","v":0},{"$f":"'Absorbance Data'!U3744-Calculations!R$1","v":0},{"$f":"'Absorbance Data'!V3744-Calculations!S$1","v":0},{"$f":"'Absorbance Data'!W3744-Calculations!T$1","v":0},{"$f":"'Absorbance Data'!X3744-Calculations!U$1","v":0},{"$f":"'Absorbance Data'!Y3744-Calculations!V$1","v":0},{"$f":"'Absorbance Data'!Z3744-Calculations!W$1","v":0}]
[{"$f":"'Absorbance Data'!D3745","v":749.987548828125},{"$f":"'Absorbance Data'!E3745-Calculations!B$1","v":0},{"$f":"'Absorbance Data'!F3745-Calculations!C$1","v":0},{"$f":"'Absorbance Data'!G3745-Calculations!D$1","v":0},{"$f":"'Absorbance Data'!H3745-Calculations!E$1","v":0},{"$f":"'Absorbance Data'!I3745-Calculations!F$1","v":0},{"$f":"'Absorbance Data'!J3745-Calculations!G$1","v":0},{"$f":"'Absorbance Data'!K3745-Calculations!H$1","v":0},{"$f":"'Absorbance Data'!L3745-Calculations!I$1","v":0},{"$f":"'Absorbance Data'!M3745-Calculations!J$1","v":0},{"$f":"'Absorbance Data'!N3745-Calculations!K$1","v":0},{"$f":"'Absorbance Data'!O3745-Calculations!L$1","v":0},{"$f":"'Absorbance Data'!P3745-Calculations!M$1","v":0},{"$f":"'Absorbance Data'!Q3745-Calculations!N$1","v":0},{"$f":"'Absorbance Data'!R3745-Calculations!O$1","v":0},{"$f":"'Absorbance Data'!S3745-Calculations!P$1","v":0},{"$f":"'Absorbance Data'!T3745-Calculations!Q$1","v":0},{"$f":"'Absorbance Data'!U3745-Calculations!R$1","v":0},{"$f":"'Absorbance Data'!V3745-Calculations!S$1","v":0},{"$f":"'Absorbance Data'!W3745-Calculations!T$1","v":0},{"$f":"'Absorbance Data'!X3745-Calculations!U$1","v":0},{"$f":"'Absorbance Data'!Y3745-Calculations!V$1","v":0},{"$f":"'Absorbance Data'!Z3745-Calculations!W$1","v":0}]
[{"$f":"'Absorbance Data'!D3746","v":750.28704833984375},{"$f":"'Absorbance Data'!E3746-Calculations!B$1","v":0},{"$f":"'Absorbance Data'!F3746-Calculations!C$1","v":0},{"$f":"'Absorbance Data'!G3746-Calculations!D$1","v":0},{"$f":"'Absorbance Data'!H3746-Calculations!E$1","v":0},{"$f":"'Absorbance Data'!I3746-Calculations!F$1","v":0},{"$f":"'Absorbance Data'!J3746-Calculations!G$1","v":0},{"$f":"'Absorbance Data'!K3746-Calculations!H$1","v":0},{"$f":"'Absorbance Data'!L3746-Calculations!I$1","v":0},{"$f":"'Absorbance Data'!M3746-Calculations!J$1","v":0},{"$f":"'Absorbance Data'!N3746-Calculations!K$1","v":0},{"$f":"'Absorbance Data'!O3746-Calculations!L$1","v":0},{"$f":"'Absorbance Data'!P3746-Calculations!M$1","v":0},{"$f":"'Absorbance Data'!Q3746-Calculations!N$1","v":0},{"$f":"'Absorbance Data'!R3746-Calculations!O$1","v":0},{"$f":"'Absorbance Data'!S3746-Calculations!P$1","v":0},{"$f":"'Absorbance Data'!T3746-Calculations!Q$1","v":0},{"$f":"'Absorbance Data'!U3746-Calculations!R$1","v":0},{"$f":"'Absorbance Data'!V3746-Calculations!S$1","v":0},{"$f":"'Absorbance Data'!W3746-Calculations!T$1","v":0},{"$f":"'Absorbance Data'!X3746-Calculations!U$1","v":0},{"$f":"'Absorbance Data'!Y3746-Calculations!V$1","v":0},{"$f":"'Absorbance Data'!Z3746-Calculations!W$1","v":0}]
[{"$f":"'Absorbance Data'!D3747","v":750.58636474609375},{"$f":"'Absorbance Data'!E3747-Calculations!B$1","v":0},{"$f":"'Absorbance Data'!F3747-Calculations!C$1","v":0},{"$f":"'Absorbance Data'!G3747-Calculations!D$1","v":0},{"$f":"'Absorbance Data'!H3747-Calculations!E$1","v":0},{"$f":"'Absorbance Data'!I3747-Calculations!F$1","v":0},{"$f":"'Absorbance Data'!J3747-Calculations!G$1","v":0},{"$f":"'Absorbance Data'!K3747-Calculations!H$1","v":0},{"$f":"'Absorbance Data'!L3747-Calculations!I$1","v":0},{"$f":"'Absorbance Data'!M3747-Calculations!J$1","v":0},{"$f":"'Absorbance Data'!N3747-Calculations!K$1","v":0},{"$f":"'Absorbance Data'!O3747-Calculations!L$1","v":0},{"$f":"'Absorbance Data'!P3747-Calculations!M$1","v":0},{"$f":"'Absorbance Data'!Q3747-Calculations!N$1","v":0},{"$f":"'Absorbance Data'!R3747-Calculations!O$1","v":0},{"$f":"'Absorbance Data'!S3747-Calculations!P$1","v":0},{"$f":"'Absorbance Data'!T3747-Calculations!Q$1","v":0},{"$f":"'Absorbance Data'!U3747-Calculations!R$1","v":0},{"$f":"'Absorbance Data'!V3747-Calculations!S$1","v":0},{"$f":"'Absorbance Data'!W3747-Calculations!T$1","v":0},{"$f":"'Absorbance Data'!X3747-Calculations!U$1","v":0},{"$f":"'Absorbance Data'!Y3747-Calculations!V$1","v":0},{"$f":"'Absorbance Data'!Z3747-Calculations!W$1","v":0}]
[{"$f":"'Absorbance Data'!D3748","v":750.8858642578125},{"$f":"'Absorbance Data'!E3748-Calculations!B$1","v":0},{"$f":"'Absorbance Data'!F3748-Calculations!C$1","v":0},{"$f":"'Absorbance Data'!G3748-Calculations!D$1","v":0},{"$f":"'Absorbance Data'!H3748-Calculations!E$1","v":0},{"$f":"'Absorbance Data'!I3748-Calculations!F$1","v":0},{"$f":"'Absorbance Data'!J3748-Calculations!G$1","v":0},{"$f":"'Absorbance Data'!K3748-Calculations!H$1","v":0},{"$f":"'Absorbance Data'!L3748-Calculations!I$1","v":0},{"$f":"'Absorbance Data'!M3748-Calculations!J$1","v":0},{"$f":"'Absorbance Data'!N3748-Calculations!K$1","v":0},{"$f":"'Absorbance Data'!O3748-Calculations!L$1","v":0},{"$f":"'Absorbance Data'!P3748-Calculations!M$1","v":0},{"$f":"'Absorbance Data'!Q3748-Calculations!N$1","v":0},{"$f":"'Absorbance Data'!R3748-Calculations!O$1","v":0},{"$f":"'Absorbance Data'!S3748-Calculations!P$1","v":0},{"$f":"'Absorbance Data'!T3748-Calculations!Q$1","v":0},{"$f":"'Absorbance Data'!U3748-Calculations!R$1","v":0},{"$f":"'Absorbance Data'!V3748-Calculations!S$1","v":0},{"$f":"'Absorbance Data'!W3748-Calculations!T$1","v":0},{"$f":"'Absorbance Data'!X3748-Calculations!U$1","v":0},{"$f":"'Absorbance Data'!Y3748-Calculations!V$1","v":0},{"$f":"'Absorbance Data'!Z3748-Calculations!W$1","v":0}]
[{"$f":"'Absorbance Data'!D3749","v":751.1851806640625},{"$f":"'Absorbance Data'!E3749-Calculations!B$1","v":0},{"$f":"'Absorbance Data'!F3749-Calculations!C$1","v":0},{"$f":"'Absorbance Data'!G3749-Calculations!D$1","v":0},{"$f":"'Absorbance Data'!H3749-Calculations!E$1","v":0},{"$f":"'Absorbance Data'!I3749-Calculations!F$1","v":0},{"$f":"'Absorbance Data'!J3749-Calculations!G$1","v":0},{"$f":"'Absorbance Data'!K3749-Calculations!H$1","v":0},{"$f":"'Absorbance Data'!L3749-Calculations!I$1","v":0},{"$f":"'Absorbance Data'!M3749-Calculations!J$1","v":0},{"$f":"'Absorbance Data'!N3749-Calculations!K$1","v":0},{"$f":"'Absorbance Data'!O3749-Calculations!L$1","v":0},{"$f":"'Absorbance Data'!P3749-Calculations!M$1","v":0},{"$f":"'Absorbance Data'!Q3749-Calculations!N$1","v":0},{"$f":"'Absorbance Data'!R3749-Calculations!O$1","v":0},{"$f":"'Absorbance Data'!S3749-Calculations!P$1","v":0},{"$f":"'Absorbance Data'!T3749-Calculations!Q$1","v":0},{"$f":"'Absorbance Data'!U3749-Calculations!R$1","v":0},{"$f":"'Absorbance Data'!V3749-Calculations!S$1","v":0},{"$f":"'Absorbance Data'!W3749-Calculations!T$1","v":0},{"$f":"'Absorbance Data'!X3749-Calculations!U$1","v":0},{"$f":"'Absorbance Data'!Y3749-Calculations!V$1","v":0},{"$f":"'Absorbance Data'!Z3749-Calculations!W$1","v":0}]
[{"$f":"'Absorbance Data'!D3750","v":751.484375},{"$f":"'Absorbance Data'!E3750-Calculations!B$1","v":0},{"$f":"'Absorbance Data'!F3750-Calculations!C$1","v":0},{"$f":"'Absorbance Data'!G3750-Calculations!D$1","v":0},{"$f":"'Absorbance Data'!H3750-Calculations!E$1","v":0},{"$f":"'Absorbance Data'!I3750-Calculations!F$1","v":0},{"$f":"'Absorbance Data'!J3750-Calculations!G$1","v":0},{"$f":"'Absorbance Data'!K3750-Calculations!H$1","v":0},{"$f":"'Absorbance Data'!L3750-Calculations!I$1","v":0},{"$f":"'Absorbance Data'!M3750-Calculations!J$1","v":0},{"$f":"'Absorbance Data'!N3750-Calculations!K$1","v":0},{"$f":"'Absorbance Data'!O3750-Calculations!L$1","v":0},{"$f":"'Absorbance Data'!P3750-Calculations!M$1","v":0},{"$f":"'Absorbance Data'!Q3750-Calculations!N$1","v":0},{"$f":"'Absorbance Data'!R3750-Calculations!O$1","v":0},{"$f":"'Absorbance Data'!S3750-Calculations!P$1","v":0},{"$f":"'Absorbance Data'!T3750-Calculations!Q$1","v":0},{"$f":"'Absorbance Data'!U3750-Calculations!R$1","v":0},{"$f":"'Absorbance Data'!V3750-Calculations!S$1","v":0},{"$f":"'Absorbance Data'!W3750-Calculations!T$1","v":0},{"$f":"'Absorbance Data'!X3750-Calculations!U$1","v":0},{"$f":"'Absorbance Data'!Y3750-Calculations!V$1","v":0},{"$f":"'Absorbance Data'!Z3750-Calculations!W$1","v":0}]
[{"$f":"'Absorbance Data'!D3751","v":751.78369140625},{"$f":"'Absorbance Data'!E3751-Calculations!B$1","v":0},{"$f":"'Absorbance Data'!F3751-Calculations!C$1","v":0},{"$f":"'Absorbance Data'!G3751-Calculations!D$1","v":0},{"$f":"'Absorbance Data'!H3751-Calculations!E$1","v":0},{"$f":"'Absorbance Data'!I3751-Calculations!F$1","v":0},{"$f":"'Absorbance Data'!J3751-Calculations!G$1","v":0},{"$f":"'Absorbance Data'!K3751-Calculations!H$1","v":0},{"$f":"'Absorbance Data'!L3751-Calculations!I$1","v":0},{"$f":"'Absorbance Data'!M3751-Calculations!J$1","v":0},{"$f":"'Absorbance Data'!N3751-Calculations!K$1","v":0},{"$f":"'Absorbance Data'!O3751-Calculations!L$1","v":0},{"$f":"'Absorbance Data'!P3751-Calculations!M$1","v":0},{"$f":"'Absorbance Data'!Q3751-Calculations!N$1","v":0},{"$f":"'Absorbance Data'!R3751-Calculations!O$1","v":0},{"$f":"'Absorbance Data'!S3751-Calculations!P$1","v":0},{"$f":"'Absorbance Data'!T3751-Calculations!Q$1","v":0},{"$f":"'Absorbance Data'!U3751-Calculations!R$1","v":0},{"$f":"'Absorbance Data'!V3751-Calculations!S$1","v":0},{"$f":"'Absorbance Data'!W3751-Calculations!T$1","v":0},{"$f":"'Absorbance Data'!X3751-Calculations!U$1","v":0},{"$f":"'Absorbance Data'!Y3751-Calculations!V$1","v":0},{"$f":"'Absorbance Data'!Z3751-Calculations!W$1","v":0}]
[{"$f":"'Absorbance Data'!D3752","v":752.0828857421875},{"$f":"'Absorbance Data'!E3752-Calculations!B$1","v":0},{"$f":"'Absorbance Data'!F3752-Calculations!C$1","v":0},{"$f":"'Absorbance Data'!G3752-Calculations!D$1","v":0},{"$f":"'Absorbance Data'!H3752-Calculations!E$1","v":0},{"$f":"'Absorbance Data'!I3752-Calculations!F$1","v":0},{"$f":"'Absorbance Data'!J3752-Calculations!G$1","v":0},{"$f":"'Absorbance Data'!K3752-Calculations!H$1","v":0},{"$f":"'Absorbance Data'!L3752-Calculations!I$1","v":0},{"$f":"'Absorbance Data'!M3752-Calculations!J$1","v":0},{"$f":"'Absorbance Data'!N3752-Calculations!K$1","v":0},{"$f":"'Absorbance Data'!O3752-Calculations!L$1","v":0},{"$f":"'Absorbance Data'!P3752-Calculations!M$1","v":0},{"$f":"'Absorbance Data'!Q3752-Calculations!N$1","v":0},{"$f":"'Absorbance Data'!R3752-Calculations!O$1","v":0},{"$f":"'Absorbance Data'!S3752-Calculations!P$1","v":0},{"$f":"'Absorbance Data'!T3752-Calculations!Q$1","v":0},{"$f":"'Absorbance Data'!U3752-Calculations!R$1","v":0},{"$f":"'Absorbance Data'!V3752-Calculations!S$1","v":0},{"$f":"'Absorbance Data'!W3752-Calculations!T$1","v":0},{"$f":"'Absorbance Data'!X3752-Calculations!U$1","v":0},{"$f":"'Absorbance Data'!Y3752-Calculations!V$1","v":0},{"$f":"'Absorbance Data'!Z3752-Calculations!W$1","v":0}]
[{"$f":"'Absorbance Data'!D3753","v":752.38201904296875},{"$f":"'Absorbance Data'!E3753-Calculations!B$1","v":0},{"$f":"'Absorbance Data'!F3753-Calculations!C$1","v":0},{"$f":"'Absorbance Data'!G3753-Calculations!D$1","v":0},{"$f":"'Absorbance Data'!H3753-Calculations!E$1","v":0},{"$f":"'Absorbance Data'!I3753-Calculations!F$1","v":0},{"$f":"'Absorbance Data'!J3753-Calculations!G$1","v":0},{"$f":"'Absorbance Data'!K3753-Calculations!H$1","v":0},{"$f":"'Absorbance Data'!L3753-Calculations!I$1","v":0},{"$f":"'Absorbance Data'!M3753-Calculations!J$1","v":0},{"$f":"'Absorbance Data'!N3753-Calculations!K$1","v":0},{"$f":"'Absorbance Data'!O3753-Calculations!L$1","v":0},{"$f":"'Absorbance Data'!P3753-Calculations!M$1","v":0},{"$f":"'Absorbance Data'!Q3753-Calculations!N$1","v":0},{"$f":"'Absorbance Data'!R3753-Calculations!O$1","v":0},{"$f":"'Absorbance Data'!S3753-Calculations!P$1","v":0},{"$f":"'Absorbance Data'!T3753-Calculations!Q$1","v":0},{"$f":"'Absorbance Data'!U3753-Calculations!R$1","v":0},{"$f":"'Absorbance Data'!V3753-Calculations!S$1","v":0},{"$f":"'Absorbance Data'!W3753-Calculations!T$1","v":0},{"$f":"'Absorbance Data'!X3753-Calculations!U$1","v":0},{"$f":"'Absorbance Data'!Y3753-Calculations!V$1","v":0},{"$f":"'Absorbance Data'!Z3753-Calculations!W$1","v":0}]
[{"$f":"'Absorbance Data'!D3754","v":752.68109130859375},{"$f":"'Absorbance Data'!E3754-Calculations!B$1","v":0},{"$f":"'Absorbance Data'!F3754-Calculations!C$1","v":0},{"$f":"'Absorbance Data'!G3754-Calculations!D$1","v":0},{"$f":"'Absorbance Data'!H3754-Calculations!E$1","v":0},{"$f":"'Absorbance Data'!I3754-Calculations!F$1","v":0},{"$f":"'Absorbance Data'!J3754-Calculations!G$1","v":0},{"$f":"'Absorbance Data'!K3754-Calculations!H$1","v":0},{"$f":"'Absorbance Data'!L3754-Calculations!I$1","v":0},{"$f":"'Absorbance Data'!M3754-Calculations!J$1","v":0},{"$f":"'Absorbance Data'!N3754-Calculations!K$1","v":0},{"$f":"'Absorbance Data'!O3754-Calculations!L$1","v":0},{"$f":"'Absorbance Data'!P3754-Calculations!M$1","v":0},{"$f":"'Absorbance Data'!Q3754-Calculations!N$1","v":0},{"$f":"'Absorbance Data'!R3754-Calculations!O$1","v":0},{"$f":"'Absorbance Data'!S3754-Calculations!P$1","v":0},{"$f":"'Absorbance Data'!T3754-Calculations!Q$1","v":0},{"$f":"'Absorbance Data'!U3754-Calculations!R$1","v":0},{"$f":"'Absorbance Data'!V3754-Calculations!S$1","v":0},{"$f":"'Absorbance Data'!W3754-Calculations!T$1","v":0},{"$f":"'Absorbance Data'!X3754-Calculations!U$1","v":0},{"$f":"'Absorbance Data'!Y3754-Calculations!V$1","v":0},{"$f":"'Absorbance Data'!Z3754-Calculations!W$1","v":0}]
[{"$f":"'Absorbance Data'!D3755","v":752.98016357421875},{"$f":"'Absorbance Data'!E3755-Calculations!B$1","v":0},{"$f":"'Absorbance Data'!F3755-Calculations!C$1","v":0},{"$f":"'Absorbance Data'!G3755-Calculations!D$1","v":0},{"$f":"'Absorbance Data'!H3755-Calculations!E$1","v":0},{"$f":"'Absorbance Data'!I3755-Calculations!F$1","v":0},{"$f":"'Absorbance Data'!J3755-Calculations!G$1","v":0},{"$f":"'Absorbance Data'!K3755-Calculations!H$1","v":0},{"$f":"'Absorbance Data'!L3755-Calculations!I$1","v":0},{"$f":"'Absorbance Data'!M3755-Calculations!J$1","v":0},{"$f":"'Absorbance Data'!N3755-Calculations!K$1","v":0},{"$f":"'Absorbance Data'!O3755-Calculations!L$1","v":0},{"$f":"'Absorbance Data'!P3755-Calculations!M$1","v":0},{"$f":"'Absorbance Data'!Q3755-Calculations!N$1","v":0},{"$f":"'Absorbance Data'!R3755-Calculations!O$1","v":0},{"$f":"'Absorbance Data'!S3755-Calculations!P$1","v":0},{"$f":"'Absorbance Data'!T3755-Calculations!Q$1","v":0},{"$f":"'Absorbance Data'!U3755-Calculations!R$1","v":0},{"$f":"'Absorbance Data'!V3755-Calculations!S$1","v":0},{"$f":"'Absorbance Data'!W3755-Calculations!T$1","v":0},{"$f":"'Absorbance Data'!X3755-Calculations!U$1","v":0},{"$f":"'Absorbance Data'!Y3755-Calculations!V$1","v":0},{"$f":"'Absorbance Data'!Z3755-Calculations!W$1","v":0}]
[{"$f":"'Absorbance Data'!D3756","v":753.27911376953125},{"$f":"'Absorbance Data'!E3756-Calculations!B$1","v":0},{"$f":"'Absorbance Data'!F3756-Calculations!C$1","v":0},{"$f":"'Absorbance Data'!G3756-Calculations!D$1","v":0},{"$f":"'Absorbance Data'!H3756-Calculations!E$1","v":0},{"$f":"'Absorbance Data'!I3756-Calculations!F$1","v":0},{"$f":"'Absorbance Data'!J3756-Calculations!G$1","v":0},{"$f":"'Absorbance Data'!K3756-Calculations!H$1","v":0},{"$f":"'Absorbance Data'!L3756-Calculations!I$1","v":0},{"$f":"'Absorbance Data'!M3756-Calculations!J$1","v":0},{"$f":"'Absorbance Data'!N3756-Calculations!K$1","v":0},{"$f":"'Absorbance Data'!O3756-Calculations!L$1","v":0},{"$f":"'Absorbance Data'!P3756-Calculations!M$1","v":0},{"$f":"'Absorbance Data'!Q3756-Calculations!N$1","v":0},{"$f":"'Absorbance Data'!R3756-Calculations!O$1","v":0},{"$f":"'Absorbance Data'!S3756-Calculations!P$1","v":0},{"$f":"'Absorbance Data'!T3756-Calculations!Q$1","v":0},{"$f":"'Absorbance Data'!U3756-Calculations!R$1","v":0},{"$f":"'Absorbance Data'!V3756-Calculations!S$1","v":0},{"$f":"'Absorbance Data'!W3756-Calculations!T$1","v":0},{"$f":"'Absorbance Data'!X3756-Calculations!U$1","v":0},{"$f":"'Absorbance Data'!Y3756-Calculations!V$1","v":0},{"$f":"'Absorbance Data'!Z3756-Calculations!W$1","v":0}]
[{"$f":"'Absorbance Data'!D3757","v":753.578125},{"$f":"'Absorbance Data'!E3757-Calculations!B$1","v":0},{"$f":"'Absorbance Data'!F3757-Calculations!C$1","v":0},{"$f":"'Absorbance Data'!G3757-Calculations!D$1","v":0},{"$f":"'Absorbance Data'!H3757-Calculations!E$1","v":0},{"$f":"'Absorbance Data'!I3757-Calculations!F$1","v":0},{"$f":"'Absorbance Data'!J3757-Calculations!G$1","v":0},{"$f":"'Absorbance Data'!K3757-Calculations!H$1","v":0},{"$f":"'Absorbance Data'!L3757-Calculations!I$1","v":0},{"$f":"'Absorbance Data'!M3757-Calculations!J$1","v":0},{"$f":"'Absorbance Data'!N3757-Calculations!K$1","v":0},{"$f":"'Absorbance Data'!O3757-Calculations!L$1","v":0},{"$f":"'Absorbance Data'!P3757-Calculations!M$1","v":0},{"$f":"'Absorbance Data'!Q3757-Calculations!N$1","v":0},{"$f":"'Absorbance Data'!R3757-Calculations!O$1","v":0},{"$f":"'Absorbance Data'!S3757-Calculations!P$1","v":0},{"$f":"'Absorbance Data'!T3757-Calculations!Q$1","v":0},{"$f":"'Absorbance Data'!U3757-Calculations!R$1","v":0},{"$f":"'Absorbance Data'!V3757-Calculations!S$1","v":0},{"$f":"'Absorbance Data'!W3757-Calculations!T$1","v":0},{"$f":"'Absorbance Data'!X3757-Calculations!U$1","v":0},{"$f":"'Absorbance Data'!Y3757-Calculations!V$1","v":0},{"$f":"'Absorbance Data'!Z3757-Calculations!W$1","v":0}]
[{"$f":"'Absorbance Data'!D3758","v":753.87701416015625},{"$f":"'Absorbance Data'!E3758-Calculations!B$1","v":0},{"$f":"'Absorbance Data'!F3758-Calculations!C$1","v":0},{"$f":"'Absorbance Data'!G3758-Calculations!D$1","v":0},{"$f":"'Absorbance Data'!H3758-Calculations!E$1","v":0},{"$f":"'Absorbance Data'!I3758-Calculations!F$1","v":0},{"$f":"'Absorbance Data'!J3758-Calculations!G$1","v":0},{"$f":"'Absorbance Data'!K3758-Calculations!H$1","v":0},{"$f":"'Absorbance Data'!L3758-Calculations!I$1","v":0},{"$f":"'Absorbance Data'!M3758-Calculations!J$1","v":0},{"$f":"'Absorbance Data'!N3758-Calculations!K$1","v":0},{"$f":"'Absorbance Data'!O3758-Calculations!L$1","v":0},{"$f":"'Absorbance Data'!P3758-Calculations!M$1","v":0},{"$f":"'Absorbance Data'!Q3758-Calculations!N$1","v":0},{"$f":"'Absorbance Data'!R3758-Calculations!O$1","v":0},{"$f":"'Absorbance Data'!S3758-Calculations!P$1","v":0},{"$f":"'Absorbance Data'!T3758-Calculations!Q$1","v":0},{"$f":"'Absorbance Data'!U3758-Calculations!R$1","v":0},{"$f":"'Absorbance Data'!V3758-Calculations!S$1","v":0},{"$f":"'Absorbance Data'!W3758-Calculations!T$1","v":0},{"$f":"'Absorbance Data'!X3758-Calculations!U$1","v":0},{"$f":"'Absorbance Data'!Y3758-Calculations!V$1","v":0},{"$f":"'Absorbance Data'!Z3758-Calculations!W$1","v":0}]
[{"$f":"'Absorbance Data'!D3759","v":754.1759033203125},{"$f":"'Absorbance Data'!E3759-Calculations!B$1","v":0},{"$f":"'Absorbance Data'!F3759-Calculations!C$1","v":0},{"$f":"'Absorbance Data'!G3759-Calculations!D$1","v":0},{"$f":"'Absorbance Data'!H3759-Calculations!E$1","v":0},{"$f":"'Absorbance Data'!I3759-Calculations!F$1","v":0},{"$f":"'Absorbance Data'!J3759-Calculations!G$1","v":0},{"$f":"'Absorbance Data'!K3759-Calculations!H$1","v":0},{"$f":"'Absorbance Data'!L3759-Calculations!I$1","v":0},{"$f":"'Absorbance Data'!M3759-Calculations!J$1","v":0},{"$f":"'Absorbance Data'!N3759-Calculations!K$1","v":0},{"$f":"'Absorbance Data'!O3759-Calculations!L$1","v":0},{"$f":"'Absorbance Data'!P3759-Calculations!M$1","v":0},{"$f":"'Absorbance Data'!Q3759-Calculations!N$1","v":0},{"$f":"'Absorbance Data'!R3759-Calculations!O$1","v":0},{"$f":"'Absorbance Data'!S3759-Calculations!P$1","v":0},{"$f":"'Absorbance Data'!T3759-Calculations!Q$1","v":0},{"$f":"'Absorbance Data'!U3759-Calculations!R$1","v":0},{"$f":"'Absorbance Data'!V3759-Calculations!S$1","v":0},{"$f":"'Absorbance Data'!W3759-Calculations!T$1","v":0},{"$f":"'Absorbance Data'!X3759-Calculations!U$1","v":0},{"$f":"'Absorbance Data'!Y3759-Calculations!V$1","v":0},{"$f":"'Absorbance Data'!Z3759-Calculations!W$1","v":0}]
[{"$f":"'Absorbance Data'!D3760","v":754.47467041015625},{"$f":"'Absorbance Data'!E3760-Calculations!B$1","v":0},{"$f":"'Absorbance Data'!F3760-Calculations!C$1","v":0},{"$f":"'Absorbance Data'!G3760-Calculations!D$1","v":0},{"$f":"'Absorbance Data'!H3760-Calculations!E$1","v":0},{"$f":"'Absorbance Data'!I3760-Calculations!F$1","v":0},{"$f":"'Absorbance Data'!J3760-Calculations!G$1","v":0},{"$f":"'Absorbance Data'!K3760-Calculations!H$1","v":0},{"$f":"'Absorbance Data'!L3760-Calculations!I$1","v":0},{"$f":"'Absorbance Data'!M3760-Calculations!J$1","v":0},{"$f":"'Absorbance Data'!N3760-Calculations!K$1","v":0},{"$f":"'Absorbance Data'!O3760-Calculations!L$1","v":0},{"$f":"'Absorbance Data'!P3760-Calculations!M$1","v":0},{"$f":"'Absorbance Data'!Q3760-Calculations!N$1","v":0},{"$f":"'Absorbance Data'!R3760-Calculations!O$1","v":0},{"$f":"'Absorbance Data'!S3760-Calculations!P$1","v":0},{"$f":"'Absorbance Data'!T3760-Calculations!Q$1","v":0},{"$f":"'Absorbance Data'!U3760-Calculations!R$1","v":0},{"$f":"'Absorbance Data'!V3760-Calculations!S$1","v":0},{"$f":"'Absorbance Data'!W3760-Calculations!T$1","v":0},{"$f":"'Absorbance Data'!X3760-Calculations!U$1","v":0},{"$f":"'Absorbance Data'!Y3760-Calculations!V$1","v":0},{"$f":"'Absorbance Data'!Z3760-Calculations!W$1","v":0}]
[{"$f":"'Absorbance Data'!D3761","v":754.77349853515625},{"$f":"'Absorbance Data'!E3761-Calculations!B$1","v":0},{"$f":"'Absorbance Data'!F3761-Calculations!C$1","v":0},{"$f":"'Absorbance Data'!G3761-Calculations!D$1","v":0},{"$f":"'Absorbance Data'!H3761-Calculations!E$1","v":0},{"$f":"'Absorbance Data'!I3761-Calculations!F$1","v":0},{"$f":"'Absorbance Data'!J3761-Calculations!G$1","v":0},{"$f":"'Absorbance Data'!K3761-Calculations!H$1","v":0},{"$f":"'Absorbance Data'!L3761-Calculations!I$1","v":0},{"$f":"'Absorbance Data'!M3761-Calculations!J$1","v":0},{"$f":"'Absorbance Data'!N3761-Calculations!K$1","v":0},{"$f":"'Absorbance Data'!O3761-Calculations!L$1","v":0},{"$f":"'Absorbance Data'!P3761-Calculations!M$1","v":0},{"$f":"'Absorbance Data'!Q3761-Calculations!N$1","v":0},{"$f":"'Absorbance Data'!R3761-Calculations!O$1","v":0},{"$f":"'Absorbance Data'!S3761-Calculations!P$1","v":0},{"$f":"'Absorbance Data'!T3761-Calculations!Q$1","v":0},{"$f":"'Absorbance Data'!U3761-Calculations!R$1","v":0},{"$f":"'Absorbance Data'!V3761-Calculations!S$1","v":0},{"$f":"'Absorbance Data'!W3761-Calculations!T$1","v":0},{"$f":"'Absorbance Data'!X3761-Calculations!U$1","v":0},{"$f":"'Absorbance Data'!Y3761-Calculations!V$1","v":0},{"$f":"'Absorbance Data'!Z3761-Calculations!W$1","v":0}]
[{"$f":"'Absorbance Data'!D3762","v":755.0721435546875},{"$f":"'Absorbance Data'!E3762-Calculations!B$1","v":0},{"$f":"'Absorbance Data'!F3762-Calculations!C$1","v":0},{"$f":"'Absorbance Data'!G3762-Calculations!D$1","v":0},{"$f":"'Absorbance Data'!H3762-Calculations!E$1","v":0},{"$f":"'Absorbance Data'!I3762-Calculations!F$1","v":0},{"$f":"'Absorbance Data'!J3762-Calculations!G$1","v":0},{"$f":"'Absorbance Data'!K3762-Calculations!H$1","v":0},{"$f":"'Absorbance Data'!L3762-Calculations!I$1","v":0},{"$f":"'Absorbance Data'!M3762-Calculations!J$1","v":0},{"$f":"'Absorbance Data'!N3762-Calculations!K$1","v":0},{"$f":"'Absorbance Data'!O3762-Calculations!L$1","v":0},{"$f":"'Absorbance Data'!P3762-Calculations!M$1","v":0},{"$f":"'Absorbance Data'!Q3762-Calculations!N$1","v":0},{"$f":"'Absorbance Data'!R3762-Calculations!O$1","v":0},{"$f":"'Absorbance Data'!S3762-Calculations!P$1","v":0},{"$f":"'Absorbance Data'!T3762-Calculations!Q$1","v":0},{"$f":"'Absorbance Data'!U3762-Calculations!R$1","v":0},{"$f":"'Absorbance Data'!V3762-Calculations!S$1","v":0},{"$f":"'Absorbance Data'!W3762-Calculations!T$1","v":0},{"$f":"'Absorbance Data'!X3762-Calculations!U$1","v":0},{"$f":"'Absorbance Data'!Y3762-Calculations!V$1","v":0},{"$f":"'Absorbance Data'!Z3762-Calculations!W$1","v":0}]
[{"$f":"'Absorbance Data'!D3763","v":755.370849609375},{"$f":"'Absorbance Data'!E3763-Calculations!B$1","v":0},{"$f":"'Absorbance Data'!F3763-Calculations!C$1","v":0},{"$f":"'Absorbance Data'!G3763-Calculations!D$1","v":0},{"$f":"'Absorbance Data'!H3763-Calculations!E$1","v":0},{"$f":"'Absorbance Data'!I3763-Calculations!F$1","v":0},{"$f":"'Absorbance Data'!J3763-Calculations!G$1","v":0},{"$f":"'Absorbance Data'!K3763-Calculations!H$1","v":0},{"$f":"'Absorbance Data'!L3763-Calculations!I$1","v":0},{"$f":"'Absorbance Data'!M3763-Calculations!J$1","v":0},{"$f":"'Absorbance Data'!N3763-Calculations!K$1","v":0},{"$f":"'Absorbance Data'!O3763-Calculations!L$1","v":0},{"$f":"'Absorbance Data'!P3763-Calculations!M$1","v":0},{"$f":"'Absorbance Data'!Q3763-Calculations!N$1","v":0},{"$f":"'Absorbance Data'!R3763-Calculations!O$1","v":0},{"$f":"'Absorbance Data'!S3763-Calculations!P$1","v":0},{"$f":"'Absorbance Data'!T3763-Calculations!Q$1","v":0},{"$f":"'Absorbance Data'!U3763-Calculations!R$1","v":0},{"$f":"'Absorbance Data'!V3763-Calculations!S$1","v":0},{"$f":"'Absorbance Data'!W3763-Calculations!T$1","v":0},{"$f":"'Absorbance Data'!X3763-Calculations!U$1","v":0},{"$f":"'Absorbance Data'!Y3763-Calculations!V$1","v":0},{"$f":"'Absorbance Data'!Z3763-Calculations!W$1","v":0}]
[{"$f":"'Absorbance Data'!D3764","v":755.66943359375},{"$f":"'Absorbance Data'!E3764-Calculations!B$1","v":0},{"$f":"'Absorbance Data'!F3764-Calculations!C$1","v":0},{"$f":"'Absorbance Data'!G3764-Calculations!D$1","v":0},{"$f":"'Absorbance Data'!H3764-Calculations!E$1","v":0},{"$f":"'Absorbance Data'!I3764-Calculations!F$1","v":0},{"$f":"'Absorbance Data'!J3764-Calculations!G$1","v":0},{"$f":"'Absorbance Data'!K3764-Calculations!H$1","v":0},{"$f":"'Absorbance Data'!L3764-Calculations!I$1","v":0},{"$f":"'Absorbance Data'!M3764-Calculations!J$1","v":0},{"$f":"'Absorbance Data'!N3764-Calculations!K$1","v":0},{"$f":"'Absorbance Data'!O3764-Calculations!L$1","v":0},{"$f":"'Absorbance Data'!P3764-Calculations!M$1","v":0},{"$f":"'Absorbance Data'!Q3764-Calculations!N$1","v":0},{"$f":"'Absorbance Data'!R3764-Calculations!O$1","v":0},{"$f":"'Absorbance Data'!S3764-Calculations!P$1","v":0},{"$f":"'Absorbance Data'!T3764-Calculations!Q$1","v":0},{"$f":"'Absorbance Data'!U3764-Calculations!R$1","v":0},{"$f":"'Absorbance Data'!V3764-Calculations!S$1","v":0},{"$f":"'Absorbance Data'!W3764-Calculations!T$1","v":0},{"$f":"'Absorbance Data'!X3764-Calculations!U$1","v":0},{"$f":"'Absorbance Data'!Y3764-Calculations!V$1","v":0},{"$f":"'Absorbance Data'!Z3764-Calculations!W$1","v":0}]
[{"$f":"'Absorbance Data'!D3765","v":755.968017578125},{"$f":"'Absorbance Data'!E3765-Calculations!B$1","v":0},{"$f":"'Absorbance Data'!F3765-Calculations!C$1","v":0},{"$f":"'Absorbance Data'!G3765-Calculations!D$1","v":0},{"$f":"'Absorbance Data'!H3765-Calculations!E$1","v":0},{"$f":"'Absorbance Data'!I3765-Calculations!F$1","v":0},{"$f":"'Absorbance Data'!J3765-Calculations!G$1","v":0},{"$f":"'Absorbance Data'!K3765-Calculations!H$1","v":0},{"$f":"'Absorbance Data'!L3765-Calculations!I$1","v":0},{"$f":"'Absorbance Data'!M3765-Calculations!J$1","v":0},{"$f":"'Absorbance Data'!N3765-Calculations!K$1","v":0},{"$f":"'Absorbance Data'!O3765-Calculations!L$1","v":0},{"$f":"'Absorbance Data'!P3765-Calculations!M$1","v":0},{"$f":"'Absorbance Data'!Q3765-Calculations!N$1","v":0},{"$f":"'Absorbance Data'!R3765-Calculations!O$1","v":0},{"$f":"'Absorbance Data'!S3765-Calculations!P$1","v":0},{"$f":"'Absorbance Data'!T3765-Calculations!Q$1","v":0},{"$f":"'Absorbance Data'!U3765-Calculations!R$1","v":0},{"$f":"'Absorbance Data'!V3765-Calculations!S$1","v":0},{"$f":"'Absorbance Data'!W3765-Calculations!T$1","v":0},{"$f":"'Absorbance Data'!X3765-Calculations!U$1","v":0},{"$f":"'Absorbance Data'!Y3765-Calculations!V$1","v":0},{"$f":"'Absorbance Data'!Z3765-Calculations!W$1","v":0}]
[{"$f":"'Absorbance Data'!D3766","v":756.26654052734375},{"$f":"'Absorbance Data'!E3766-Calculations!B$1","v":0},{"$f":"'Absorbance Data'!F3766-Calculations!C$1","v":0},{"$f":"'Absorbance Data'!G3766-Calculations!D$1","v":0},{"$f":"'Absorbance Data'!H3766-Calculations!E$1","v":0},{"$f":"'Absorbance Data'!I3766-Calculations!F$1","v":0},{"$f":"'Absorbance Data'!J3766-Calculations!G$1","v":0},{"$f":"'Absorbance Data'!K3766-Calculations!H$1","v":0},{"$f":"'Absorbance Data'!L3766-Calculations!I$1","v":0},{"$f":"'Absorbance Data'!M3766-Calculations!J$1","v":0},{"$f":"'Absorbance Data'!N3766-Calculations!K$1","v":0},{"$f":"'Absorbance Data'!O3766-Calculations!L$1","v":0},{"$f":"'Absorbance Data'!P3766-Calculations!M$1","v":0},{"$f":"'Absorbance Data'!Q3766-Calculations!N$1","v":0},{"$f":"'Absorbance Data'!R3766-Calculations!O$1","v":0},{"$f":"'Absorbance Data'!S3766-Calculations!P$1","v":0},{"$f":"'Absorbance Data'!T3766-Calculations!Q$1","v":0},{"$f":"'Absorbance Data'!U3766-Calculations!R$1","v":0},{"$f":"'Absorbance Data'!V3766-Calculations!S$1","v":0},{"$f":"'Absorbance Data'!W3766-Calculations!T$1","v":0},{"$f":"'Absorbance Data'!X3766-Calculations!U$1","v":0},{"$f":"'Absorbance Data'!Y3766-Calculations!V$1","v":0},{"$f":"'Absorbance Data'!Z3766-Calculations!W$1","v":0}]
[{"$f":"'Absorbance Data'!D3767","v":756.5650634765625},{"$f":"'Absorbance Data'!E3767-Calculations!B$1","v":0},{"$f":"'Absorbance Data'!F3767-Calculations!C$1","v":0},{"$f":"'Absorbance Data'!G3767-Calculations!D$1","v":0},{"$f":"'Absorbance Data'!H3767-Calculations!E$1","v":0},{"$f":"'Absorbance Data'!I3767-Calculations!F$1","v":0},{"$f":"'Absorbance Data'!J3767-Calculations!G$1","v":0},{"$f":"'Absorbance Data'!K3767-Calculations!H$1","v":0},{"$f":"'Absorbance Data'!L3767-Calculations!I$1","v":0},{"$f":"'Absorbance Data'!M3767-Calculations!J$1","v":0},{"$f":"'Absorbance Data'!N3767-Calculations!K$1","v":0},{"$f":"'Absorbance Data'!O3767-Calculations!L$1","v":0},{"$f":"'Absorbance Data'!P3767-Calculations!M$1","v":0},{"$f":"'Absorbance Data'!Q3767-Calculations!N$1","v":0},{"$f":"'Absorbance Data'!R3767-Calculations!O$1","v":0},{"$f":"'Absorbance Data'!S3767-Calculations!P$1","v":0},{"$f":"'Absorbance Data'!T3767-Calculations!Q$1","v":0},{"$f":"'Absorbance Data'!U3767-Calculations!R$1","v":0},{"$f":"'Absorbance Data'!V3767-Calculations!S$1","v":0},{"$f":"'Absorbance Data'!W3767-Calculations!T$1","v":0},{"$f":"'Absorbance Data'!X3767-Calculations!U$1","v":0},{"$f":"'Absorbance Data'!Y3767-Calculations!V$1","v":0},{"$f":"'Absorbance Data'!Z3767-Calculations!W$1","v":0}]
[{"$f":"'Absorbance Data'!D3768","v":756.86346435546875},{"$f":"'Absorbance Data'!E3768-Calculations!B$1","v":0},{"$f":"'Absorbance Data'!F3768-Calculations!C$1","v":0},{"$f":"'Absorbance Data'!G3768-Calculations!D$1","v":0},{"$f":"'Absorbance Data'!H3768-Calculations!E$1","v":0},{"$f":"'Absorbance Data'!I3768-Calculations!F$1","v":0},{"$f":"'Absorbance Data'!J3768-Calculations!G$1","v":0},{"$f":"'Absorbance Data'!K3768-Calculations!H$1","v":0},{"$f":"'Absorbance Data'!L3768-Calculations!I$1","v":0},{"$f":"'Absorbance Data'!M3768-Calculations!J$1","v":0},{"$f":"'Absorbance Data'!N3768-Calculations!K$1","v":0},{"$f":"'Absorbance Data'!O3768-Calculations!L$1","v":0},{"$f":"'Absorbance Data'!P3768-Calculations!M$1","v":0},{"$f":"'Absorbance Data'!Q3768-Calculations!N$1","v":0},{"$f":"'Absorbance Data'!R3768-Calculations!O$1","v":0},{"$f":"'Absorbance Data'!S3768-Calculations!P$1","v":0},{"$f":"'Absorbance Data'!T3768-Calculations!Q$1","v":0},{"$f":"'Absorbance Data'!U3768-Calculations!R$1","v":0},{"$f":"'Absorbance Data'!V3768-Calculations!S$1","v":0},{"$f":"'Absorbance Data'!W3768-Calculations!T$1","v":0},{"$f":"'Absorbance Data'!X3768-Calculations!U$1","v":0},{"$f":"'Absorbance Data'!Y3768-Calculations!V$1","v":0},{"$f":"'Absorbance Data'!Z3768-Calculations!W$1","v":0}]
[{"$f":"'Absorbance Data'!D3769","v":757.161865234375},{"$f":"'Absorbance Data'!E3769-Calculations!B$1","v":0},{"$f":"'Absorbance Data'!F3769-Calculations!C$1","v":0},{"$f":"'Absorbance Data'!G3769-Calculations!D$1","v":0},{"$f":"'Absorbance Data'!H3769-Calculations!E$1","v":0},{"$f":"'Absorbance Data'!I3769-Calculations!F$1","v":0},{"$f":"'Absorbance Data'!J3769-Calculations!G$1","v":0},{"$f":"'Absorbance Data'!K3769-Calculations!H$1","v":0},{"$f":"'Absorbance Data'!L3769-Calculations!I$1","v":0},{"$f":"'Absorbance Data'!M3769-Calculations!J$1","v":0},{"$f":"'Absorbance Data'!N3769-Calculations!K$1","v":0},{"$f":"'Absorbance Data'!O3769-Calculations!L$1","v":0},{"$f":"'Absorbance Data'!P3769-Calculations!M$1","v":0},{"$f":"'Absorbance Data'!Q3769-Calculations!N$1","v":0},{"$f":"'Absorbance Data'!R3769-Calculations!O$1","v":0},{"$f":"'Absorbance Data'!S3769-Calculations!P$1","v":0},{"$f":"'Absorbance Data'!T3769-Calculations!Q$1","v":0},{"$f":"'Absorbance Data'!U3769-Calculations!R$1","v":0},{"$f":"'Absorbance Data'!V3769-Calculations!S$1","v":0},{"$f":"'Absorbance Data'!W3769-Calculations!T$1","v":0},{"$f":"'Absorbance Data'!X3769-Calculations!U$1","v":0},{"$f":"'Absorbance Data'!Y3769-Calculations!V$1","v":0},{"$f":"'Absorbance Data'!Z3769-Calculations!W$1","v":0}]
[{"$f":"'Absorbance Data'!D3770","v":757.460205078125},{"$f":"'Absorbance Data'!E3770-Calculations!B$1","v":0},{"$f":"'Absorbance Data'!F3770-Calculations!C$1","v":0},{"$f":"'Absorbance Data'!G3770-Calculations!D$1","v":0},{"$f":"'Absorbance Data'!H3770-Calculations!E$1","v":0},{"$f":"'Absorbance Data'!I3770-Calculations!F$1","v":0},{"$f":"'Absorbance Data'!J3770-Calculations!G$1","v":0},{"$f":"'Absorbance Data'!K3770-Calculations!H$1","v":0},{"$f":"'Absorbance Data'!L3770-Calculations!I$1","v":0},{"$f":"'Absorbance Data'!M3770-Calculations!J$1","v":0},{"$f":"'Absorbance Data'!N3770-Calculations!K$1","v":0},{"$f":"'Absorbance Data'!O3770-Calculations!L$1","v":0},{"$f":"'Absorbance Data'!P3770-Calculations!M$1","v":0},{"$f":"'Absorbance Data'!Q3770-Calculations!N$1","v":0},{"$f":"'Absorbance Data'!R3770-Calculations!O$1","v":0},{"$f":"'Absorbance Data'!S3770-Calculations!P$1","v":0},{"$f":"'Absorbance Data'!T3770-Calculations!Q$1","v":0},{"$f":"'Absorbance Data'!U3770-Calculations!R$1","v":0},{"$f":"'Absorbance Data'!V3770-Calculations!S$1","v":0},{"$f":"'Absorbance Data'!W3770-Calculations!T$1","v":0},{"$f":"'Absorbance Data'!X3770-Calculations!U$1","v":0},{"$f":"'Absorbance Data'!Y3770-Calculations!V$1","v":0},{"$f":"'Absorbance Data'!Z3770-Calculations!W$1","v":0}]
[{"$f":"'Absorbance Data'!D3771","v":757.758544921875},{"$f":"'Absorbance Data'!E3771-Calculations!B$1","v":0},{"$f":"'Absorbance Data'!F3771-Calculations!C$1","v":0},{"$f":"'Absorbance Data'!G3771-Calculations!D$1","v":0},{"$f":"'Absorbance Data'!H3771-Calculations!E$1","v":0},{"$f":"'Absorbance Data'!I3771-Calculations!F$1","v":0},{"$f":"'Absorbance Data'!J3771-Calculations!G$1","v":0},{"$f":"'Absorbance Data'!K3771-Calculations!H$1","v":0},{"$f":"'Absorbance Data'!L3771-Calculations!I$1","v":0},{"$f":"'Absorbance Data'!M3771-Calculations!J$1","v":0},{"$f":"'Absorbance Data'!N3771-Calculations!K$1","v":0},{"$f":"'Absorbance Data'!O3771-Calculations!L$1","v":0},{"$f":"'Absorbance Data'!P3771-Calculations!M$1","v":0},{"$f":"'Absorbance Data'!Q3771-Calculations!N$1","v":0},{"$f":"'Absorbance Data'!R3771-Calculations!O$1","v":0},{"$f":"'Absorbance Data'!S3771-Calculations!P$1","v":0},{"$f":"'Absorbance Data'!T3771-Calculations!Q$1","v":0},{"$f":"'Absorbance Data'!U3771-Calculations!R$1","v":0},{"$f":"'Absorbance Data'!V3771-Calculations!S$1","v":0},{"$f":"'Absorbance Data'!W3771-Calculations!T$1","v":0},{"$f":"'Absorbance Data'!X3771-Calculations!U$1","v":0},{"$f":"'Absorbance Data'!Y3771-Calculations!V$1","v":0},{"$f":"'Absorbance Data'!Z3771-Calculations!W$1","v":0}]
[{"$f":"'Absorbance Data'!D3772","v":758.0567626953125},{"$f":"'Absorbance Data'!E3772-Calculations!B$1","v":0},{"$f":"'Absorbance Data'!F3772-Calculations!C$1","v":0},{"$f":"'Absorbance Data'!G3772-Calculations!D$1","v":0},{"$f":"'Absorbance Data'!H3772-Calculations!E$1","v":0},{"$f":"'Absorbance Data'!I3772-Calculations!F$1","v":0},{"$f":"'Absorbance Data'!J3772-Calculations!G$1","v":0},{"$f":"'Absorbance Data'!K3772-Calculations!H$1","v":0},{"$f":"'Absorbance Data'!L3772-Calculations!I$1","v":0},{"$f":"'Absorbance Data'!M3772-Calculations!J$1","v":0},{"$f":"'Absorbance Data'!N3772-Calculations!K$1","v":0},{"$f":"'Absorbance Data'!O3772-Calculations!L$1","v":0},{"$f":"'Absorbance Data'!P3772-Calculations!M$1","v":0},{"$f":"'Absorbance Data'!Q3772-Calculations!N$1","v":0},{"$f":"'Absorbance Data'!R3772-Calculations!O$1","v":0},{"$f":"'Absorbance Data'!S3772-Calculations!P$1","v":0},{"$f":"'Absorbance Data'!T3772-Calculations!Q$1","v":0},{"$f":"'Absorbance Data'!U3772-Calculations!R$1","v":0},{"$f":"'Absorbance Data'!V3772-Calculations!S$1","v":0},{"$f":"'Absorbance Data'!W3772-Calculations!T$1","v":0},{"$f":"'Absorbance Data'!X3772-Calculations!U$1","v":0},{"$f":"'Absorbance Data'!Y3772-Calculations!V$1","v":0},{"$f":"'Absorbance Data'!Z3772-Calculations!W$1","v":0}]
[{"$f":"'Absorbance Data'!D3773","v":758.35504150390625},{"$f":"'Absorbance Data'!E3773-Calculations!B$1","v":0},{"$f":"'Absorbance Data'!F3773-Calculations!C$1","v":0},{"$f":"'Absorbance Data'!G3773-Calculations!D$1","v":0},{"$f":"'Absorbance Data'!H3773-Calculations!E$1","v":0},{"$f":"'Absorbance Data'!I3773-Calculations!F$1","v":0},{"$f":"'Absorbance Data'!J3773-Calculations!G$1","v":0},{"$f":"'Absorbance Data'!K3773-Calculations!H$1","v":0},{"$f":"'Absorbance Data'!L3773-Calculations!I$1","v":0},{"$f":"'Absorbance Data'!M3773-Calculations!J$1","v":0},{"$f":"'Absorbance Data'!N3773-Calculations!K$1","v":0},{"$f":"'Absorbance Data'!O3773-Calculations!L$1","v":0},{"$f":"'Absorbance Data'!P3773-Calculations!M$1","v":0},{"$f":"'Absorbance Data'!Q3773-Calculations!N$1","v":0},{"$f":"'Absorbance Data'!R3773-Calculations!O$1","v":0},{"$f":"'Absorbance Data'!S3773-Calculations!P$1","v":0},{"$f":"'Absorbance Data'!T3773-Calculations!Q$1","v":0},{"$f":"'Absorbance Data'!U3773-Calculations!R$1","v":0},{"$f":"'Absorbance Data'!V3773-Calculations!S$1","v":0},{"$f":"'Absorbance Data'!W3773-Calculations!T$1","v":0},{"$f":"'Absorbance Data'!X3773-Calculations!U$1","v":0},{"$f":"'Absorbance Data'!Y3773-Calculations!V$1","v":0},{"$f":"'Absorbance Data'!Z3773-Calculations!W$1","v":0}]
[{"$f":"'Absorbance Data'!D3774","v":758.65313720703125},{"$f":"'Absorbance Data'!E3774-Calculations!B$1","v":0},{"$f":"'Absorbance Data'!F3774-Calculations!C$1","v":0},{"$f":"'Absorbance Data'!G3774-Calculations!D$1","v":0},{"$f":"'Absorbance Data'!H3774-Calculations!E$1","v":0},{"$f":"'Absorbance Data'!I3774-Calculations!F$1","v":0},{"$f":"'Absorbance Data'!J3774-Calculations!G$1","v":0},{"$f":"'Absorbance Data'!K3774-Calculations!H$1","v":0},{"$f":"'Absorbance Data'!L3774-Calculations!I$1","v":0},{"$f":"'Absorbance Data'!M3774-Calculations!J$1","v":0},{"$f":"'Absorbance Data'!N3774-Calculations!K$1","v":0},{"$f":"'Absorbance Data'!O3774-Calculations!L$1","v":0},{"$f":"'Absorbance Data'!P3774-Calculations!M$1","v":0},{"$f":"'Absorbance Data'!Q3774-Calculations!N$1","v":0},{"$f":"'Absorbance Data'!R3774-Calculations!O$1","v":0},{"$f":"'Absorbance Data'!S3774-Calculations!P$1","v":0},{"$f":"'Absorbance Data'!T3774-Calculations!Q$1","v":0},{"$f":"'Absorbance Data'!U3774-Calculations!R$1","v":0},{"$f":"'Absorbance Data'!V3774-Calculations!S$1","v":0},{"$f":"'Absorbance Data'!W3774-Calculations!T$1","v":0},{"$f":"'Absorbance Data'!X3774-Calculations!U$1","v":0},{"$f":"'Absorbance Data'!Y3774-Calculations!V$1","v":0},{"$f":"'Absorbance Data'!Z3774-Calculations!W$1","v":0}]
[{"$f":"'Absorbance Data'!D3775","v":758.9512939453125},{"$f":"'Absorbance Data'!E3775-Calculations!B$1","v":0},{"$f":"'Absorbance Data'!F3775-Calculations!C$1","v":0},{"$f":"'Absorbance Data'!G3775-Calculations!D$1","v":0},{"$f":"'Absorbance Data'!H3775-Calculations!E$1","v":0},{"$f":"'Absorbance Data'!I3775-Calculations!F$1","v":0},{"$f":"'Absorbance Data'!J3775-Calculations!G$1","v":0},{"$f":"'Absorbance Data'!K3775-Calculations!H$1","v":0},{"$f":"'Absorbance Data'!L3775-Calculations!I$1","v":0},{"$f":"'Absorbance Data'!M3775-Calculations!J$1","v":0},{"$f":"'Absorbance Data'!N3775-Calculations!K$1","v":0},{"$f":"'Absorbance Data'!O3775-Calculations!L$1","v":0},{"$f":"'Absorbance Data'!P3775-Calculations!M$1","v":0},{"$f":"'Absorbance Data'!Q3775-Calculations!N$1","v":0},{"$f":"'Absorbance Data'!R3775-Calculations!O$1","v":0},{"$f":"'Absorbance Data'!S3775-Calculations!P$1","v":0},{"$f":"'Absorbance Data'!T3775-Calculations!Q$1","v":0},{"$f":"'Absorbance Data'!U3775-Calculations!R$1","v":0},{"$f":"'Absorbance Data'!V3775-Calculations!S$1","v":0},{"$f":"'Absorbance Data'!W3775-Calculations!T$1","v":0},{"$f":"'Absorbance Data'!X3775-Calculations!U$1","v":0},{"$f":"'Absorbance Data'!Y3775-Calculations!V$1","v":0},{"$f":"'Absorbance Data'!Z3775-Calculations!W$1","v":0}]
[{"$f":"'Absorbance Data'!D3776","v":759.24932861328125},{"$f":"'Absorbance Data'!E3776-Calculations!B$1","v":0},{"$f":"'Absorbance Data'!F3776-Calculations!C$1","v":0},{"$f":"'Absorbance Data'!G3776-Calculations!D$1","v":0},{"$f":"'Absorbance Data'!H3776-Calculations!E$1","v":0},{"$f":"'Absorbance Data'!I3776-Calculations!F$1","v":0},{"$f":"'Absorbance Data'!J3776-Calculations!G$1","v":0},{"$f":"'Absorbance Data'!K3776-Calculations!H$1","v":0},{"$f":"'Absorbance Data'!L3776-Calculations!I$1","v":0},{"$f":"'Absorbance Data'!M3776-Calculations!J$1","v":0},{"$f":"'Absorbance Data'!N3776-Calculations!K$1","v":0},{"$f":"'Absorbance Data'!O3776-Calculations!L$1","v":0},{"$f":"'Absorbance Data'!P3776-Calculations!M$1","v":0},{"$f":"'Absorbance Data'!Q3776-Calculations!N$1","v":0},{"$f":"'Absorbance Data'!R3776-Calculations!O$1","v":0},{"$f":"'Absorbance Data'!S3776-Calculations!P$1","v":0},{"$f":"'Absorbance Data'!T3776-Calculations!Q$1","v":0},{"$f":"'Absorbance Data'!U3776-Calculations!R$1","v":0},{"$f":"'Absorbance Data'!V3776-Calculations!S$1","v":0},{"$f":"'Absorbance Data'!W3776-Calculations!T$1","v":0},{"$f":"'Absorbance Data'!X3776-Calculations!U$1","v":0},{"$f":"'Absorbance Data'!Y3776-Calculations!V$1","v":0},{"$f":"'Absorbance Data'!Z3776-Calculations!W$1","v":0}]
[{"$f":"'Absorbance Data'!D3777","v":759.54736328125},{"$f":"'Absorbance Data'!E3777-Calculations!B$1","v":0},{"$f":"'Absorbance Data'!F3777-Calculations!C$1","v":0},{"$f":"'Absorbance Data'!G3777-Calculations!D$1","v":0},{"$f":"'Absorbance Data'!H3777-Calculations!E$1","v":0},{"$f":"'Absorbance Data'!I3777-Calculations!F$1","v":0},{"$f":"'Absorbance Data'!J3777-Calculations!G$1","v":0},{"$f":"'Absorbance Data'!K3777-Calculations!H$1","v":0},{"$f":"'Absorbance Data'!L3777-Calculations!I$1","v":0},{"$f":"'Absorbance Data'!M3777-Calculations!J$1","v":0},{"$f":"'Absorbance Data'!N3777-Calculations!K$1","v":0},{"$f":"'Absorbance Data'!O3777-Calculations!L$1","v":0},{"$f":"'Absorbance Data'!P3777-Calculations!M$1","v":0},{"$f":"'Absorbance Data'!Q3777-Calculations!N$1","v":0},{"$f":"'Absorbance Data'!R3777-Calculations!O$1","v":0},{"$f":"'Absorbance Data'!S3777-Calculations!P$1","v":0},{"$f":"'Absorbance Data'!T3777-Calculations!Q$1","v":0},{"$f":"'Absorbance Data'!U3777-Calculations!R$1","v":0},{"$f":"'Absorbance Data'!V3777-Calculations!S$1","v":0},{"$f":"'Absorbance Data'!W3777-Calculations!T$1","v":0},{"$f":"'Absorbance Data'!X3777-Calculations!U$1","v":0},{"$f":"'Absorbance Data'!Y3777-Calculations!V$1","v":0},{"$f":"'Absorbance Data'!Z3777-Calculations!W$1","v":0}]
[{"$f":"'Absorbance Data'!D3778","v":759.8453369140625},{"$f":"'Absorbance Data'!E3778-Calculations!B$1","v":0},{"$f":"'Absorbance Data'!F3778-Calculations!C$1","v":0},{"$f":"'Absorbance Data'!G3778-Calculations!D$1","v":0},{"$f":"'Absorbance Data'!H3778-Calculations!E$1","v":0},{"$f":"'Absorbance Data'!I3778-Calculations!F$1","v":0},{"$f":"'Absorbance Data'!J3778-Calculations!G$1","v":0},{"$f":"'Absorbance Data'!K3778-Calculations!H$1","v":0},{"$f":"'Absorbance Data'!L3778-Calculations!I$1","v":0},{"$f":"'Absorbance Data'!M3778-Calculations!J$1","v":0},{"$f":"'Absorbance Data'!N3778-Calculations!K$1","v":0},{"$f":"'Absorbance Data'!O3778-Calculations!L$1","v":0},{"$f":"'Absorbance Data'!P3778-Calculations!M$1","v":0},{"$f":"'Absorbance Data'!Q3778-Calculations!N$1","v":0},{"$f":"'Absorbance Data'!R3778-Calculations!O$1","v":0},{"$f":"'Absorbance Data'!S3778-Calculations!P$1","v":0},{"$f":"'Absorbance Data'!T3778-Calculations!Q$1","v":0},{"$f":"'Absorbance Data'!U3778-Calculations!R$1","v":0},{"$f":"'Absorbance Data'!V3778-Calculations!S$1","v":0},{"$f":"'Absorbance Data'!W3778-Calculations!T$1","v":0},{"$f":"'Absorbance Data'!X3778-Calculations!U$1","v":0},{"$f":"'Absorbance Data'!Y3778-Calculations!V$1","v":0},{"$f":"'Absorbance Data'!Z3778-Calculations!W$1","v":0}]
[{"$f":"'Absorbance Data'!D3779","v":760.14324951171875},{"$f":"'Absorbance Data'!E3779-Calculations!B$1","v":0},{"$f":"'Absorbance Data'!F3779-Calculations!C$1","v":0},{"$f":"'Absorbance Data'!G3779-Calculations!D$1","v":0},{"$f":"'Absorbance Data'!H3779-Calculations!E$1","v":0},{"$f":"'Absorbance Data'!I3779-Calculations!F$1","v":0},{"$f":"'Absorbance Data'!J3779-Calculations!G$1","v":0},{"$f":"'Absorbance Data'!K3779-Calculations!H$1","v":0},{"$f":"'Absorbance Data'!L3779-Calculations!I$1","v":0},{"$f":"'Absorbance Data'!M3779-Calculations!J$1","v":0},{"$f":"'Absorbance Data'!N3779-Calculations!K$1","v":0},{"$f":"'Absorbance Data'!O3779-Calculations!L$1","v":0},{"$f":"'Absorbance Data'!P3779-Calculations!M$1","v":0},{"$f":"'Absorbance Data'!Q3779-Calculations!N$1","v":0},{"$f":"'Absorbance Data'!R3779-Calculations!O$1","v":0},{"$f":"'Absorbance Data'!S3779-Calculations!P$1","v":0},{"$f":"'Absorbance Data'!T3779-Calculations!Q$1","v":0},{"$f":"'Absorbance Data'!U3779-Calculations!R$1","v":0},{"$f":"'Absorbance Data'!V3779-Calculations!S$1","v":0},{"$f":"'Absorbance Data'!W3779-Calculations!T$1","v":0},{"$f":"'Absorbance Data'!X3779-Calculations!U$1","v":0},{"$f":"'Absorbance Data'!Y3779-Calculations!V$1","v":0},{"$f":"'Absorbance Data'!Z3779-Calculations!W$1","v":0}]
[{"$f":"'Absorbance Data'!D3780","v":760.441162109375},{"$f":"'Absorbance Data'!E3780-Calculations!B$1","v":0},{"$f":"'Absorbance Data'!F3780-Calculations!C$1","v":0},{"$f":"'Absorbance Data'!G3780-Calculations!D$1","v":0},{"$f":"'Absorbance Data'!H3780-Calculations!E$1","v":0},{"$f":"'Absorbance Data'!I3780-Calculations!F$1","v":0},{"$f":"'Absorbance Data'!J3780-Calculations!G$1","v":0},{"$f":"'Absorbance Data'!K3780-Calculations!H$1","v":0},{"$f":"'Absorbance Data'!L3780-Calculations!I$1","v":0},{"$f":"'Absorbance Data'!M3780-Calculations!J$1","v":0},{"$f":"'Absorbance Data'!N3780-Calculations!K$1","v":0},{"$f":"'Absorbance Data'!O3780-Calculations!L$1","v":0},{"$f":"'Absorbance Data'!P3780-Calculations!M$1","v":0},{"$f":"'Absorbance Data'!Q3780-Calculations!N$1","v":0},{"$f":"'Absorbance Data'!R3780-Calculations!O$1","v":0},{"$f":"'Absorbance Data'!S3780-Calculations!P$1","v":0},{"$f":"'Absorbance Data'!T3780-Calculations!Q$1","v":0},{"$f":"'Absorbance Data'!U3780-Calculations!R$1","v":0},{"$f":"'Absorbance Data'!V3780-Calculations!S$1","v":0},{"$f":"'Absorbance Data'!W3780-Calculations!T$1","v":0},{"$f":"'Absorbance Data'!X3780-Calculations!U$1","v":0},{"$f":"'Absorbance Data'!Y3780-Calculations!V$1","v":0},{"$f":"'Absorbance Data'!Z3780-Calculations!W$1","v":0}]
[{"$f":"'Absorbance Data'!D3781","v":760.73895263671875},{"$f":"'Absorbance Data'!E3781-Calculations!B$1","v":0},{"$f":"'Absorbance Data'!F3781-Calculations!C$1","v":0},{"$f":"'Absorbance Data'!G3781-Calculations!D$1","v":0},{"$f":"'Absorbance Data'!H3781-Calculations!E$1","v":0},{"$f":"'Absorbance Data'!I3781-Calculations!F$1","v":0},{"$f":"'Absorbance Data'!J3781-Calculations!G$1","v":0},{"$f":"'Absorbance Data'!K3781-Calculations!H$1","v":0},{"$f":"'Absorbance Data'!L3781-Calculations!I$1","v":0},{"$f":"'Absorbance Data'!M3781-Calculations!J$1","v":0},{"$f":"'Absorbance Data'!N3781-Calculations!K$1","v":0},{"$f":"'Absorbance Data'!O3781-Calculations!L$1","v":0},{"$f":"'Absorbance Data'!P3781-Calculations!M$1","v":0},{"$f":"'Absorbance Data'!Q3781-Calculations!N$1","v":0},{"$f":"'Absorbance Data'!R3781-Calculations!O$1","v":0},{"$f":"'Absorbance Data'!S3781-Calculations!P$1","v":0},{"$f":"'Absorbance Data'!T3781-Calculations!Q$1","v":0},{"$f":"'Absorbance Data'!U3781-Calculations!R$1","v":0},{"$f":"'Absorbance Data'!V3781-Calculations!S$1","v":0},{"$f":"'Absorbance Data'!W3781-Calculations!T$1","v":0},{"$f":"'Absorbance Data'!X3781-Calculations!U$1","v":0},{"$f":"'Absorbance Data'!Y3781-Calculations!V$1","v":0},{"$f":"'Absorbance Data'!Z3781-Calculations!W$1","v":0}]
[{"$f":"'Absorbance Data'!D3782","v":761.0367431640625},{"$f":"'Absorbance Data'!E3782-Calculations!B$1","v":0},{"$f":"'Absorbance Data'!F3782-Calculations!C$1","v":0},{"$f":"'Absorbance Data'!G3782-Calculations!D$1","v":0},{"$f":"'Absorbance Data'!H3782-Calculations!E$1","v":0},{"$f":"'Absorbance Data'!I3782-Calculations!F$1","v":0},{"$f":"'Absorbance Data'!J3782-Calculations!G$1","v":0},{"$f":"'Absorbance Data'!K3782-Calculations!H$1","v":0},{"$f":"'Absorbance Data'!L3782-Calculations!I$1","v":0},{"$f":"'Absorbance Data'!M3782-Calculations!J$1","v":0},{"$f":"'Absorbance Data'!N3782-Calculations!K$1","v":0},{"$f":"'Absorbance Data'!O3782-Calculations!L$1","v":0},{"$f":"'Absorbance Data'!P3782-Calculations!M$1","v":0},{"$f":"'Absorbance Data'!Q3782-Calculations!N$1","v":0},{"$f":"'Absorbance Data'!R3782-Calculations!O$1","v":0},{"$f":"'Absorbance Data'!S3782-Calculations!P$1","v":0},{"$f":"'Absorbance Data'!T3782-Calculations!Q$1","v":0},{"$f":"'Absorbance Data'!U3782-Calculations!R$1","v":0},{"$f":"'Absorbance Data'!V3782-Calculations!S$1","v":0},{"$f":"'Absorbance Data'!W3782-Calculations!T$1","v":0},{"$f":"'Absorbance Data'!X3782-Calculations!U$1","v":0},{"$f":"'Absorbance Data'!Y3782-Calculations!V$1","v":0},{"$f":"'Absorbance Data'!Z3782-Calculations!W$1","v":0}]
[{"$f":"'Absorbance Data'!D3783","v":761.33441162109375},{"$f":"'Absorbance Data'!E3783-Calculations!B$1","v":0},{"$f":"'Absorbance Data'!F3783-Calculations!C$1","v":0},{"$f":"'Absorbance Data'!G3783-Calculations!D$1","v":0},{"$f":"'Absorbance Data'!H3783-Calculations!E$1","v":0},{"$f":"'Absorbance Data'!I3783-Calculations!F$1","v":0},{"$f":"'Absorbance Data'!J3783-Calculations!G$1","v":0},{"$f":"'Absorbance Data'!K3783-Calculations!H$1","v":0},{"$f":"'Absorbance Data'!L3783-Calculations!I$1","v":0},{"$f":"'Absorbance Data'!M3783-Calculations!J$1","v":0},{"$f":"'Absorbance Data'!N3783-Calculations!K$1","v":0},{"$f":"'Absorbance Data'!O3783-Calculations!L$1","v":0},{"$f":"'Absorbance Data'!P3783-Calculations!M$1","v":0},{"$f":"'Absorbance Data'!Q3783-Calculations!N$1","v":0},{"$f":"'Absorbance Data'!R3783-Calculations!O$1","v":0},{"$f":"'Absorbance Data'!S3783-Calculations!P$1","v":0},{"$f":"'Absorbance Data'!T3783-Calculations!Q$1","v":0},{"$f":"'Absorbance Data'!U3783-Calculations!R$1","v":0},{"$f":"'Absorbance Data'!V3783-Calculations!S$1","v":0},{"$f":"'Absorbance Data'!W3783-Calculations!T$1","v":0},{"$f":"'Absorbance Data'!X3783-Calculations!U$1","v":0},{"$f":"'Absorbance Data'!Y3783-Calculations!V$1","v":0},{"$f":"'Absorbance Data'!Z3783-Calculations!W$1","v":0}]
[{"$f":"'Absorbance Data'!D3784","v":761.6322021484375},{"$f":"'Absorbance Data'!E3784-Calculations!B$1","v":0},{"$f":"'Absorbance Data'!F3784-Calculations!C$1","v":0},{"$f":"'Absorbance Data'!G3784-Calculations!D$1","v":0},{"$f":"'Absorbance Data'!H3784-Calculations!E$1","v":0},{"$f":"'Absorbance Data'!I3784-Calculations!F$1","v":0},{"$f":"'Absorbance Data'!J3784-Calculations!G$1","v":0},{"$f":"'Absorbance Data'!K3784-Calculations!H$1","v":0},{"$f":"'Absorbance Data'!L3784-Calculations!I$1","v":0},{"$f":"'Absorbance Data'!M3784-Calculations!J$1","v":0},{"$f":"'Absorbance Data'!N3784-Calculations!K$1","v":0},{"$f":"'Absorbance Data'!O3784-Calculations!L$1","v":0},{"$f":"'Absorbance Data'!P3784-Calculations!M$1","v":0},{"$f":"'Absorbance Data'!Q3784-Calculations!N$1","v":0},{"$f":"'Absorbance Data'!R3784-Calculations!O$1","v":0},{"$f":"'Absorbance Data'!S3784-Calculations!P$1","v":0},{"$f":"'Absorbance Data'!T3784-Calculations!Q$1","v":0},{"$f":"'Absorbance Data'!U3784-Calculations!R$1","v":0},{"$f":"'Absorbance Data'!V3784-Calculations!S$1","v":0},{"$f":"'Absorbance Data'!W3784-Calculations!T$1","v":0},{"$f":"'Absorbance Data'!X3784-Calculations!U$1","v":0},{"$f":"'Absorbance Data'!Y3784-Calculations!V$1","v":0},{"$f":"'Absorbance Data'!Z3784-Calculations!W$1","v":0}]
[{"$f":"'Absorbance Data'!D3785","v":761.92974853515625},{"$f":"'Absorbance Data'!E3785-Calculations!B$1","v":0},{"$f":"'Absorbance Data'!F3785-Calculations!C$1","v":0},{"$f":"'Absorbance Data'!G3785-Calculations!D$1","v":0},{"$f":"'Absorbance Data'!H3785-Calculations!E$1","v":0},{"$f":"'Absorbance Data'!I3785-Calculations!F$1","v":0},{"$f":"'Absorbance Data'!J3785-Calculations!G$1","v":0},{"$f":"'Absorbance Data'!K3785-Calculations!H$1","v":0},{"$f":"'Absorbance Data'!L3785-Calculations!I$1","v":0},{"$f":"'Absorbance Data'!M3785-Calculations!J$1","v":0},{"$f":"'Absorbance Data'!N3785-Calculations!K$1","v":0},{"$f":"'Absorbance Data'!O3785-Calculations!L$1","v":0},{"$f":"'Absorbance Data'!P3785-Calculations!M$1","v":0},{"$f":"'Absorbance Data'!Q3785-Calculations!N$1","v":0},{"$f":"'Absorbance Data'!R3785-Calculations!O$1","v":0},{"$f":"'Absorbance Data'!S3785-Calculations!P$1","v":0},{"$f":"'Absorbance Data'!T3785-Calculations!Q$1","v":0},{"$f":"'Absorbance Data'!U3785-Calculations!R$1","v":0},{"$f":"'Absorbance Data'!V3785-Calculations!S$1","v":0},{"$f":"'Absorbance Data'!W3785-Calculations!T$1","v":0},{"$f":"'Absorbance Data'!X3785-Calculations!U$1","v":0},{"$f":"'Absorbance Data'!Y3785-Calculations!V$1","v":0},{"$f":"'Absorbance Data'!Z3785-Calculations!W$1","v":0}]
[{"$f":"'Absorbance Data'!D3786","v":762.2274169921875},{"$f":"'Absorbance Data'!E3786-Calculations!B$1","v":0},{"$f":"'Absorbance Data'!F3786-Calculations!C$1","v":0},{"$f":"'Absorbance Data'!G3786-Calculations!D$1","v":0},{"$f":"'Absorbance Data'!H3786-Calculations!E$1","v":0},{"$f":"'Absorbance Data'!I3786-Calculations!F$1","v":0},{"$f":"'Absorbance Data'!J3786-Calculations!G$1","v":0},{"$f":"'Absorbance Data'!K3786-Calculations!H$1","v":0},{"$f":"'Absorbance Data'!L3786-Calculations!I$1","v":0},{"$f":"'Absorbance Data'!M3786-Calculations!J$1","v":0},{"$f":"'Absorbance Data'!N3786-Calculations!K$1","v":0},{"$f":"'Absorbance Data'!O3786-Calculations!L$1","v":0},{"$f":"'Absorbance Data'!P3786-Calculations!M$1","v":0},{"$f":"'Absorbance Data'!Q3786-Calculations!N$1","v":0},{"$f":"'Absorbance Data'!R3786-Calculations!O$1","v":0},{"$f":"'Absorbance Data'!S3786-Calculations!P$1","v":0},{"$f":"'Absorbance Data'!T3786-Calculations!Q$1","v":0},{"$f":"'Absorbance Data'!U3786-Calculations!R$1","v":0},{"$f":"'Absorbance Data'!V3786-Calculations!S$1","v":0},{"$f":"'Absorbance Data'!W3786-Calculations!T$1","v":0},{"$f":"'Absorbance Data'!X3786-Calculations!U$1","v":0},{"$f":"'Absorbance Data'!Y3786-Calculations!V$1","v":0},{"$f":"'Absorbance Data'!Z3786-Calculations!W$1","v":0}]
[{"$f":"'Absorbance Data'!D3787","v":762.52490234375},{"$f":"'Absorbance Data'!E3787-Calculations!B$1","v":0},{"$f":"'Absorbance Data'!F3787-Calculations!C$1","v":0},{"$f":"'Absorbance Data'!G3787-Calculations!D$1","v":0},{"$f":"'Absorbance Data'!H3787-Calculations!E$1","v":0},{"$f":"'Absorbance Data'!I3787-Calculations!F$1","v":0},{"$f":"'Absorbance Data'!J3787-Calculations!G$1","v":0},{"$f":"'Absorbance Data'!K3787-Calculations!H$1","v":0},{"$f":"'Absorbance Data'!L3787-Calculations!I$1","v":0},{"$f":"'Absorbance Data'!M3787-Calculations!J$1","v":0},{"$f":"'Absorbance Data'!N3787-Calculations!K$1","v":0},{"$f":"'Absorbance Data'!O3787-Calculations!L$1","v":0},{"$f":"'Absorbance Data'!P3787-Calculations!M$1","v":0},{"$f":"'Absorbance Data'!Q3787-Calculations!N$1","v":0},{"$f":"'Absorbance Data'!R3787-Calculations!O$1","v":0},{"$f":"'Absorbance Data'!S3787-Calculations!P$1","v":0},{"$f":"'Absorbance Data'!T3787-Calculations!Q$1","v":0},{"$f":"'Absorbance Data'!U3787-Calculations!R$1","v":0},{"$f":"'Absorbance Data'!V3787-Calculations!S$1","v":0},{"$f":"'Absorbance Data'!W3787-Calculations!T$1","v":0},{"$f":"'Absorbance Data'!X3787-Calculations!U$1","v":0},{"$f":"'Absorbance Data'!Y3787-Calculations!V$1","v":0},{"$f":"'Absorbance Data'!Z3787-Calculations!W$1","v":0}]
[{"$f":"'Absorbance Data'!D3788","v":762.82244873046875},{"$f":"'Absorbance Data'!E3788-Calculations!B$1","v":0},{"$f":"'Absorbance Data'!F3788-Calculations!C$1","v":0},{"$f":"'Absorbance Data'!G3788-Calculations!D$1","v":0},{"$f":"'Absorbance Data'!H3788-Calculations!E$1","v":0},{"$f":"'Absorbance Data'!I3788-Calculations!F$1","v":0},{"$f":"'Absorbance Data'!J3788-Calculations!G$1","v":0},{"$f":"'Absorbance Data'!K3788-Calculations!H$1","v":0},{"$f":"'Absorbance Data'!L3788-Calculations!I$1","v":0},{"$f":"'Absorbance Data'!M3788-Calculations!J$1","v":0},{"$f":"'Absorbance Data'!N3788-Calculations!K$1","v":0},{"$f":"'Absorbance Data'!O3788-Calculations!L$1","v":0},{"$f":"'Absorbance Data'!P3788-Calculations!M$1","v":0},{"$f":"'Absorbance Data'!Q3788-Calculations!N$1","v":0},{"$f":"'Absorbance Data'!R3788-Calculations!O$1","v":0},{"$f":"'Absorbance Data'!S3788-Calculations!P$1","v":0},{"$f":"'Absorbance Data'!T3788-Calculations!Q$1","v":0},{"$f":"'Absorbance Data'!U3788-Calculations!R$1","v":0},{"$f":"'Absorbance Data'!V3788-Calculations!S$1","v":0},{"$f":"'Absorbance Data'!W3788-Calculations!T$1","v":0},{"$f":"'Absorbance Data'!X3788-Calculations!U$1","v":0},{"$f":"'Absorbance Data'!Y3788-Calculations!V$1","v":0},{"$f":"'Absorbance Data'!Z3788-Calculations!W$1","v":0}]
[{"$f":"'Absorbance Data'!D3789","v":763.119873046875},{"$f":"'Absorbance Data'!E3789-Calculations!B$1","v":0},{"$f":"'Absorbance Data'!F3789-Calculations!C$1","v":0},{"$f":"'Absorbance Data'!G3789-Calculations!D$1","v":0},{"$f":"'Absorbance Data'!H3789-Calculations!E$1","v":0},{"$f":"'Absorbance Data'!I3789-Calculations!F$1","v":0},{"$f":"'Absorbance Data'!J3789-Calculations!G$1","v":0},{"$f":"'Absorbance Data'!K3789-Calculations!H$1","v":0},{"$f":"'Absorbance Data'!L3789-Calculations!I$1","v":0},{"$f":"'Absorbance Data'!M3789-Calculations!J$1","v":0},{"$f":"'Absorbance Data'!N3789-Calculations!K$1","v":0},{"$f":"'Absorbance Data'!O3789-Calculations!L$1","v":0},{"$f":"'Absorbance Data'!P3789-Calculations!M$1","v":0},{"$f":"'Absorbance Data'!Q3789-Calculations!N$1","v":0},{"$f":"'Absorbance Data'!R3789-Calculations!O$1","v":0},{"$f":"'Absorbance Data'!S3789-Calculations!P$1","v":0},{"$f":"'Absorbance Data'!T3789-Calculations!Q$1","v":0},{"$f":"'Absorbance Data'!U3789-Calculations!R$1","v":0},{"$f":"'Absorbance Data'!V3789-Calculations!S$1","v":0},{"$f":"'Absorbance Data'!W3789-Calculations!T$1","v":0},{"$f":"'Absorbance Data'!X3789-Calculations!U$1","v":0},{"$f":"'Absorbance Data'!Y3789-Calculations!V$1","v":0},{"$f":"'Absorbance Data'!Z3789-Calculations!W$1","v":0}]
[{"$f":"'Absorbance Data'!D3790","v":763.41729736328125},{"$f":"'Absorbance Data'!E3790-Calculations!B$1","v":0},{"$f":"'Absorbance Data'!F3790-Calculations!C$1","v":0},{"$f":"'Absorbance Data'!G3790-Calculations!D$1","v":0},{"$f":"'Absorbance Data'!H3790-Calculations!E$1","v":0},{"$f":"'Absorbance Data'!I3790-Calculations!F$1","v":0},{"$f":"'Absorbance Data'!J3790-Calculations!G$1","v":0},{"$f":"'Absorbance Data'!K3790-Calculations!H$1","v":0},{"$f":"'Absorbance Data'!L3790-Calculations!I$1","v":0},{"$f":"'Absorbance Data'!M3790-Calculations!J$1","v":0},{"$f":"'Absorbance Data'!N3790-Calculations!K$1","v":0},{"$f":"'Absorbance Data'!O3790-Calculations!L$1","v":0},{"$f":"'Absorbance Data'!P3790-Calculations!M$1","v":0},{"$f":"'Absorbance Data'!Q3790-Calculations!N$1","v":0},{"$f":"'Absorbance Data'!R3790-Calculations!O$1","v":0},{"$f":"'Absorbance Data'!S3790-Calculations!P$1","v":0},{"$f":"'Absorbance Data'!T3790-Calculations!Q$1","v":0},{"$f":"'Absorbance Data'!U3790-Calculations!R$1","v":0},{"$f":"'Absorbance Data'!V3790-Calculations!S$1","v":0},{"$f":"'Absorbance Data'!W3790-Calculations!T$1","v":0},{"$f":"'Absorbance Data'!X3790-Calculations!U$1","v":0},{"$f":"'Absorbance Data'!Y3790-Calculations!V$1","v":0},{"$f":"'Absorbance Data'!Z3790-Calculations!W$1","v":0}]
[{"$f":"'Absorbance Data'!D3791","v":763.71466064453125},{"$f":"'Absorbance Data'!E3791-Calculations!B$1","v":0},{"$f":"'Absorbance Data'!F3791-Calculations!C$1","v":0},{"$f":"'Absorbance Data'!G3791-Calculations!D$1","v":0},{"$f":"'Absorbance Data'!H3791-Calculations!E$1","v":0},{"$f":"'Absorbance Data'!I3791-Calculations!F$1","v":0},{"$f":"'Absorbance Data'!J3791-Calculations!G$1","v":0},{"$f":"'Absorbance Data'!K3791-Calculations!H$1","v":0},{"$f":"'Absorbance Data'!L3791-Calculations!I$1","v":0},{"$f":"'Absorbance Data'!M3791-Calculations!J$1","v":0},{"$f":"'Absorbance Data'!N3791-Calculations!K$1","v":0},{"$f":"'Absorbance Data'!O3791-Calculations!L$1","v":0},{"$f":"'Absorbance Data'!P3791-Calculations!M$1","v":0},{"$f":"'Absorbance Data'!Q3791-Calculations!N$1","v":0},{"$f":"'Absorbance Data'!R3791-Calculations!O$1","v":0},{"$f":"'Absorbance Data'!S3791-Calculations!P$1","v":0},{"$f":"'Absorbance Data'!T3791-Calculations!Q$1","v":0},{"$f":"'Absorbance Data'!U3791-Calculations!R$1","v":0},{"$f":"'Absorbance Data'!V3791-Calculations!S$1","v":0},{"$f":"'Absorbance Data'!W3791-Calculations!T$1","v":0},{"$f":"'Absorbance Data'!X3791-Calculations!U$1","v":0},{"$f":"'Absorbance Data'!Y3791-Calculations!V$1","v":0},{"$f":"'Absorbance Data'!Z3791-Calculations!W$1","v":0}]
[{"$f":"'Absorbance Data'!D3792","v":764.011962890625},{"$f":"'Absorbance Data'!E3792-Calculations!B$1","v":0},{"$f":"'Absorbance Data'!F3792-Calculations!C$1","v":0},{"$f":"'Absorbance Data'!G3792-Calculations!D$1","v":0},{"$f":"'Absorbance Data'!H3792-Calculations!E$1","v":0},{"$f":"'Absorbance Data'!I3792-Calculations!F$1","v":0},{"$f":"'Absorbance Data'!J3792-Calculations!G$1","v":0},{"$f":"'Absorbance Data'!K3792-Calculations!H$1","v":0},{"$f":"'Absorbance Data'!L3792-Calculations!I$1","v":0},{"$f":"'Absorbance Data'!M3792-Calculations!J$1","v":0},{"$f":"'Absorbance Data'!N3792-Calculations!K$1","v":0},{"$f":"'Absorbance Data'!O3792-Calculations!L$1","v":0},{"$f":"'Absorbance Data'!P3792-Calculations!M$1","v":0},{"$f":"'Absorbance Data'!Q3792-Calculations!N$1","v":0},{"$f":"'Absorbance Data'!R3792-Calculations!O$1","v":0},{"$f":"'Absorbance Data'!S3792-Calculations!P$1","v":0},{"$f":"'Absorbance Data'!T3792-Calculations!Q$1","v":0},{"$f":"'Absorbance Data'!U3792-Calculations!R$1","v":0},{"$f":"'Absorbance Data'!V3792-Calculations!S$1","v":0},{"$f":"'Absorbance Data'!W3792-Calculations!T$1","v":0},{"$f":"'Absorbance Data'!X3792-Calculations!U$1","v":0},{"$f":"'Absorbance Data'!Y3792-Calculations!V$1","v":0},{"$f":"'Absorbance Data'!Z3792-Calculations!W$1","v":0}]
[{"$f":"'Absorbance Data'!D3793","v":764.3092041015625},{"$f":"'Absorbance Data'!E3793-Calculations!B$1","v":0},{"$f":"'Absorbance Data'!F3793-Calculations!C$1","v":0},{"$f":"'Absorbance Data'!G3793-Calculations!D$1","v":0},{"$f":"'Absorbance Data'!H3793-Calculations!E$1","v":0},{"$f":"'Absorbance Data'!I3793-Calculations!F$1","v":0},{"$f":"'Absorbance Data'!J3793-Calculations!G$1","v":0},{"$f":"'Absorbance Data'!K3793-Calculations!H$1","v":0},{"$f":"'Absorbance Data'!L3793-Calculations!I$1","v":0},{"$f":"'Absorbance Data'!M3793-Calculations!J$1","v":0},{"$f":"'Absorbance Data'!N3793-Calculations!K$1","v":0},{"$f":"'Absorbance Data'!O3793-Calculations!L$1","v":0},{"$f":"'Absorbance Data'!P3793-Calculations!M$1","v":0},{"$f":"'Absorbance Data'!Q3793-Calculations!N$1","v":0},{"$f":"'Absorbance Data'!R3793-Calculations!O$1","v":0},{"$f":"'Absorbance Data'!S3793-Calculations!P$1","v":0},{"$f":"'Absorbance Data'!T3793-Calculations!Q$1","v":0},{"$f":"'Absorbance Data'!U3793-Calculations!R$1","v":0},{"$f":"'Absorbance Data'!V3793-Calculations!S$1","v":0},{"$f":"'Absorbance Data'!W3793-Calculations!T$1","v":0},{"$f":"'Absorbance Data'!X3793-Calculations!U$1","v":0},{"$f":"'Absorbance Data'!Y3793-Calculations!V$1","v":0},{"$f":"'Absorbance Data'!Z3793-Calculations!W$1","v":0}]
[{"$f":"'Absorbance Data'!D3794","v":764.60650634765625},{"$f":"'Absorbance Data'!E3794-Calculations!B$1","v":0},{"$f":"'Absorbance Data'!F3794-Calculations!C$1","v":0},{"$f":"'Absorbance Data'!G3794-Calculations!D$1","v":0},{"$f":"'Absorbance Data'!H3794-Calculations!E$1","v":0},{"$f":"'Absorbance Data'!I3794-Calculations!F$1","v":0},{"$f":"'Absorbance Data'!J3794-Calculations!G$1","v":0},{"$f":"'Absorbance Data'!K3794-Calculations!H$1","v":0},{"$f":"'Absorbance Data'!L3794-Calculations!I$1","v":0},{"$f":"'Absorbance Data'!M3794-Calculations!J$1","v":0},{"$f":"'Absorbance Data'!N3794-Calculations!K$1","v":0},{"$f":"'Absorbance Data'!O3794-Calculations!L$1","v":0},{"$f":"'Absorbance Data'!P3794-Calculations!M$1","v":0},{"$f":"'Absorbance Data'!Q3794-Calculations!N$1","v":0},{"$f":"'Absorbance Data'!R3794-Calculations!O$1","v":0},{"$f":"'Absorbance Data'!S3794-Calculations!P$1","v":0},{"$f":"'Absorbance Data'!T3794-Calculations!Q$1","v":0},{"$f":"'Absorbance Data'!U3794-Calculations!R$1","v":0},{"$f":"'Absorbance Data'!V3794-Calculations!S$1","v":0},{"$f":"'Absorbance Data'!W3794-Calculations!T$1","v":0},{"$f":"'Absorbance Data'!X3794-Calculations!U$1","v":0},{"$f":"'Absorbance Data'!Y3794-Calculations!V$1","v":0},{"$f":"'Absorbance Data'!Z3794-Calculations!W$1","v":0}]
[{"$f":"'Absorbance Data'!D3795","v":764.903564453125},{"$f":"'Absorbance Data'!E3795-Calculations!B$1","v":0},{"$f":"'Absorbance Data'!F3795-Calculations!C$1","v":0},{"$f":"'Absorbance Data'!G3795-Calculations!D$1","v":0},{"$f":"'Absorbance Data'!H3795-Calculations!E$1","v":0},{"$f":"'Absorbance Data'!I3795-Calculations!F$1","v":0},{"$f":"'Absorbance Data'!J3795-Calculations!G$1","v":0},{"$f":"'Absorbance Data'!K3795-Calculations!H$1","v":0},{"$f":"'Absorbance Data'!L3795-Calculations!I$1","v":0},{"$f":"'Absorbance Data'!M3795-Calculations!J$1","v":0},{"$f":"'Absorbance Data'!N3795-Calculations!K$1","v":0},{"$f":"'Absorbance Data'!O3795-Calculations!L$1","v":0},{"$f":"'Absorbance Data'!P3795-Calculations!M$1","v":0},{"$f":"'Absorbance Data'!Q3795-Calculations!N$1","v":0},{"$f":"'Absorbance Data'!R3795-Calculations!O$1","v":0},{"$f":"'Absorbance Data'!S3795-Calculations!P$1","v":0},{"$f":"'Absorbance Data'!T3795-Calculations!Q$1","v":0},{"$f":"'Absorbance Data'!U3795-Calculations!R$1","v":0},{"$f":"'Absorbance Data'!V3795-Calculations!S$1","v":0},{"$f":"'Absorbance Data'!W3795-Calculations!T$1","v":0},{"$f":"'Absorbance Data'!X3795-Calculations!U$1","v":0},{"$f":"'Absorbance Data'!Y3795-Calculations!V$1","v":0},{"$f":"'Absorbance Data'!Z3795-Calculations!W$1","v":0}]
[{"$f":"'Absorbance Data'!D3796","v":765.20074462890625},{"$f":"'Absorbance Data'!E3796-Calculations!B$1","v":0},{"$f":"'Absorbance Data'!F3796-Calculations!C$1","v":0},{"$f":"'Absorbance Data'!G3796-Calculations!D$1","v":0},{"$f":"'Absorbance Data'!H3796-Calculations!E$1","v":0},{"$f":"'Absorbance Data'!I3796-Calculations!F$1","v":0},{"$f":"'Absorbance Data'!J3796-Calculations!G$1","v":0},{"$f":"'Absorbance Data'!K3796-Calculations!H$1","v":0},{"$f":"'Absorbance Data'!L3796-Calculations!I$1","v":0},{"$f":"'Absorbance Data'!M3796-Calculations!J$1","v":0},{"$f":"'Absorbance Data'!N3796-Calculations!K$1","v":0},{"$f":"'Absorbance Data'!O3796-Calculations!L$1","v":0},{"$f":"'Absorbance Data'!P3796-Calculations!M$1","v":0},{"$f":"'Absorbance Data'!Q3796-Calculations!N$1","v":0},{"$f":"'Absorbance Data'!R3796-Calculations!O$1","v":0},{"$f":"'Absorbance Data'!S3796-Calculations!P$1","v":0},{"$f":"'Absorbance Data'!T3796-Calculations!Q$1","v":0},{"$f":"'Absorbance Data'!U3796-Calculations!R$1","v":0},{"$f":"'Absorbance Data'!V3796-Calculations!S$1","v":0},{"$f":"'Absorbance Data'!W3796-Calculations!T$1","v":0},{"$f":"'Absorbance Data'!X3796-Calculations!U$1","v":0},{"$f":"'Absorbance Data'!Y3796-Calculations!V$1","v":0},{"$f":"'Absorbance Data'!Z3796-Calculations!W$1","v":0}]
[{"$f":"'Absorbance Data'!D3797","v":765.497802734375},{"$f":"'Absorbance Data'!E3797-Calculations!B$1","v":0},{"$f":"'Absorbance Data'!F3797-Calculations!C$1","v":0},{"$f":"'Absorbance Data'!G3797-Calculations!D$1","v":0},{"$f":"'Absorbance Data'!H3797-Calculations!E$1","v":0},{"$f":"'Absorbance Data'!I3797-Calculations!F$1","v":0},{"$f":"'Absorbance Data'!J3797-Calculations!G$1","v":0},{"$f":"'Absorbance Data'!K3797-Calculations!H$1","v":0},{"$f":"'Absorbance Data'!L3797-Calculations!I$1","v":0},{"$f":"'Absorbance Data'!M3797-Calculations!J$1","v":0},{"$f":"'Absorbance Data'!N3797-Calculations!K$1","v":0},{"$f":"'Absorbance Data'!O3797-Calculations!L$1","v":0},{"$f":"'Absorbance Data'!P3797-Calculations!M$1","v":0},{"$f":"'Absorbance Data'!Q3797-Calculations!N$1","v":0},{"$f":"'Absorbance Data'!R3797-Calculations!O$1","v":0},{"$f":"'Absorbance Data'!S3797-Calculations!P$1","v":0},{"$f":"'Absorbance Data'!T3797-Calculations!Q$1","v":0},{"$f":"'Absorbance Data'!U3797-Calculations!R$1","v":0},{"$f":"'Absorbance Data'!V3797-Calculations!S$1","v":0},{"$f":"'Absorbance Data'!W3797-Calculations!T$1","v":0},{"$f":"'Absorbance Data'!X3797-Calculations!U$1","v":0},{"$f":"'Absorbance Data'!Y3797-Calculations!V$1","v":0},{"$f":"'Absorbance Data'!Z3797-Calculations!W$1","v":0}]
[{"$f":"'Absorbance Data'!D3798","v":765.79486083984375},{"$f":"'Absorbance Data'!E3798-Calculations!B$1","v":0},{"$f":"'Absorbance Data'!F3798-Calculations!C$1","v":0},{"$f":"'Absorbance Data'!G3798-Calculations!D$1","v":0},{"$f":"'Absorbance Data'!H3798-Calculations!E$1","v":0},{"$f":"'Absorbance Data'!I3798-Calculations!F$1","v":0},{"$f":"'Absorbance Data'!J3798-Calculations!G$1","v":0},{"$f":"'Absorbance Data'!K3798-Calculations!H$1","v":0},{"$f":"'Absorbance Data'!L3798-Calculations!I$1","v":0},{"$f":"'Absorbance Data'!M3798-Calculations!J$1","v":0},{"$f":"'Absorbance Data'!N3798-Calculations!K$1","v":0},{"$f":"'Absorbance Data'!O3798-Calculations!L$1","v":0},{"$f":"'Absorbance Data'!P3798-Calculations!M$1","v":0},{"$f":"'Absorbance Data'!Q3798-Calculations!N$1","v":0},{"$f":"'Absorbance Data'!R3798-Calculations!O$1","v":0},{"$f":"'Absorbance Data'!S3798-Calculations!P$1","v":0},{"$f":"'Absorbance Data'!T3798-Calculations!Q$1","v":0},{"$f":"'Absorbance Data'!U3798-Calculations!R$1","v":0},{"$f":"'Absorbance Data'!V3798-Calculations!S$1","v":0},{"$f":"'Absorbance Data'!W3798-Calculations!T$1","v":0},{"$f":"'Absorbance Data'!X3798-Calculations!U$1","v":0},{"$f":"'Absorbance Data'!Y3798-Calculations!V$1","v":0},{"$f":"'Absorbance Data'!Z3798-Calculations!W$1","v":0}]
[{"$f":"'Absorbance Data'!D3799","v":766.091796875},{"$f":"'Absorbance Data'!E3799-Calculations!B$1","v":0},{"$f":"'Absorbance Data'!F3799-Calculations!C$1","v":0},{"$f":"'Absorbance Data'!G3799-Calculations!D$1","v":0},{"$f":"'Absorbance Data'!H3799-Calculations!E$1","v":0},{"$f":"'Absorbance Data'!I3799-Calculations!F$1","v":0},{"$f":"'Absorbance Data'!J3799-Calculations!G$1","v":0},{"$f":"'Absorbance Data'!K3799-Calculations!H$1","v":0},{"$f":"'Absorbance Data'!L3799-Calculations!I$1","v":0},{"$f":"'Absorbance Data'!M3799-Calculations!J$1","v":0},{"$f":"'Absorbance Data'!N3799-Calculations!K$1","v":0},{"$f":"'Absorbance Data'!O3799-Calculations!L$1","v":0},{"$f":"'Absorbance Data'!P3799-Calculations!M$1","v":0},{"$f":"'Absorbance Data'!Q3799-Calculations!N$1","v":0},{"$f":"'Absorbance Data'!R3799-Calculations!O$1","v":0},{"$f":"'Absorbance Data'!S3799-Calculations!P$1","v":0},{"$f":"'Absorbance Data'!T3799-Calculations!Q$1","v":0},{"$f":"'Absorbance Data'!U3799-Calculations!R$1","v":0},{"$f":"'Absorbance Data'!V3799-Calculations!S$1","v":0},{"$f":"'Absorbance Data'!W3799-Calculations!T$1","v":0},{"$f":"'Absorbance Data'!X3799-Calculations!U$1","v":0},{"$f":"'Absorbance Data'!Y3799-Calculations!V$1","v":0},{"$f":"'Absorbance Data'!Z3799-Calculations!W$1","v":0}]
[{"$f":"'Absorbance Data'!D3800","v":766.3887939453125},{"$f":"'Absorbance Data'!E3800-Calculations!B$1","v":0},{"$f":"'Absorbance Data'!F3800-Calculations!C$1","v":0},{"$f":"'Absorbance Data'!G3800-Calculations!D$1","v":0},{"$f":"'Absorbance Data'!H3800-Calculations!E$1","v":0},{"$f":"'Absorbance Data'!I3800-Calculations!F$1","v":0},{"$f":"'Absorbance Data'!J3800-Calculations!G$1","v":0},{"$f":"'Absorbance Data'!K3800-Calculations!H$1","v":0},{"$f":"'Absorbance Data'!L3800-Calculations!I$1","v":0},{"$f":"'Absorbance Data'!M3800-Calculations!J$1","v":0},{"$f":"'Absorbance Data'!N3800-Calculations!K$1","v":0},{"$f":"'Absorbance Data'!O3800-Calculations!L$1","v":0},{"$f":"'Absorbance Data'!P3800-Calculations!M$1","v":0},{"$f":"'Absorbance Data'!Q3800-Calculations!N$1","v":0},{"$f":"'Absorbance Data'!R3800-Calculations!O$1","v":0},{"$f":"'Absorbance Data'!S3800-Calculations!P$1","v":0},{"$f":"'Absorbance Data'!T3800-Calculations!Q$1","v":0},{"$f":"'Absorbance Data'!U3800-Calculations!R$1","v":0},{"$f":"'Absorbance Data'!V3800-Calculations!S$1","v":0},{"$f":"'Absorbance Data'!W3800-Calculations!T$1","v":0},{"$f":"'Absorbance Data'!X3800-Calculations!U$1","v":0},{"$f":"'Absorbance Data'!Y3800-Calculations!V$1","v":0},{"$f":"'Absorbance Data'!Z3800-Calculations!W$1","v":0}]
[{"$f":"'Absorbance Data'!D3801","v":766.6856689453125},{"$f":"'Absorbance Data'!E3801-Calculations!B$1","v":0},{"$f":"'Absorbance Data'!F3801-Calculations!C$1","v":0},{"$f":"'Absorbance Data'!G3801-Calculations!D$1","v":0},{"$f":"'Absorbance Data'!H3801-Calculations!E$1","v":0},{"$f":"'Absorbance Data'!I3801-Calculations!F$1","v":0},{"$f":"'Absorbance Data'!J3801-Calculations!G$1","v":0},{"$f":"'Absorbance Data'!K3801-Calculations!H$1","v":0},{"$f":"'Absorbance Data'!L3801-Calculations!I$1","v":0},{"$f":"'Absorbance Data'!M3801-Calculations!J$1","v":0},{"$f":"'Absorbance Data'!N3801-Calculations!K$1","v":0},{"$f":"'Absorbance Data'!O3801-Calculations!L$1","v":0},{"$f":"'Absorbance Data'!P3801-Calculations!M$1","v":0},{"$f":"'Absorbance Data'!Q3801-Calculations!N$1","v":0},{"$f":"'Absorbance Data'!R3801-Calculations!O$1","v":0},{"$f":"'Absorbance Data'!S3801-Calculations!P$1","v":0},{"$f":"'Absorbance Data'!T3801-Calculations!Q$1","v":0},{"$f":"'Absorbance Data'!U3801-Calculations!R$1","v":0},{"$f":"'Absorbance Data'!V3801-Calculations!S$1","v":0},{"$f":"'Absorbance Data'!W3801-Calculations!T$1","v":0},{"$f":"'Absorbance Data'!X3801-Calculations!U$1","v":0},{"$f":"'Absorbance Data'!Y3801-Calculations!V$1","v":0},{"$f":"'Absorbance Data'!Z3801-Calculations!W$1","v":0}]
[{"$f":"'Absorbance Data'!D3802","v":766.98248291015625},{"$f":"'Absorbance Data'!E3802-Calculations!B$1","v":0},{"$f":"'Absorbance Data'!F3802-Calculations!C$1","v":0},{"$f":"'Absorbance Data'!G3802-Calculations!D$1","v":0},{"$f":"'Absorbance Data'!H3802-Calculations!E$1","v":0},{"$f":"'Absorbance Data'!I3802-Calculations!F$1","v":0},{"$f":"'Absorbance Data'!J3802-Calculations!G$1","v":0},{"$f":"'Absorbance Data'!K3802-Calculations!H$1","v":0},{"$f":"'Absorbance Data'!L3802-Calculations!I$1","v":0},{"$f":"'Absorbance Data'!M3802-Calculations!J$1","v":0},{"$f":"'Absorbance Data'!N3802-Calculations!K$1","v":0},{"$f":"'Absorbance Data'!O3802-Calculations!L$1","v":0},{"$f":"'Absorbance Data'!P3802-Calculations!M$1","v":0},{"$f":"'Absorbance Data'!Q3802-Calculations!N$1","v":0},{"$f":"'Absorbance Data'!R3802-Calculations!O$1","v":0},{"$f":"'Absorbance Data'!S3802-Calculations!P$1","v":0},{"$f":"'Absorbance Data'!T3802-Calculations!Q$1","v":0},{"$f":"'Absorbance Data'!U3802-Calculations!R$1","v":0},{"$f":"'Absorbance Data'!V3802-Calculations!S$1","v":0},{"$f":"'Absorbance Data'!W3802-Calculations!T$1","v":0},{"$f":"'Absorbance Data'!X3802-Calculations!U$1","v":0},{"$f":"'Absorbance Data'!Y3802-Calculations!V$1","v":0},{"$f":"'Absorbance Data'!Z3802-Calculations!W$1","v":0}]
[{"$f":"'Absorbance Data'!D3803","v":767.27923583984375},{"$f":"'Absorbance Data'!E3803-Calculations!B$1","v":0},{"$f":"'Absorbance Data'!F3803-Calculations!C$1","v":0},{"$f":"'Absorbance Data'!G3803-Calculations!D$1","v":0},{"$f":"'Absorbance Data'!H3803-Calculations!E$1","v":0},{"$f":"'Absorbance Data'!I3803-Calculations!F$1","v":0},{"$f":"'Absorbance Data'!J3803-Calculations!G$1","v":0},{"$f":"'Absorbance Data'!K3803-Calculations!H$1","v":0},{"$f":"'Absorbance Data'!L3803-Calculations!I$1","v":0},{"$f":"'Absorbance Data'!M3803-Calculations!J$1","v":0},{"$f":"'Absorbance Data'!N3803-Calculations!K$1","v":0},{"$f":"'Absorbance Data'!O3803-Calculations!L$1","v":0},{"$f":"'Absorbance Data'!P3803-Calculations!M$1","v":0},{"$f":"'Absorbance Data'!Q3803-Calculations!N$1","v":0},{"$f":"'Absorbance Data'!R3803-Calculations!O$1","v":0},{"$f":"'Absorbance Data'!S3803-Calculations!P$1","v":0},{"$f":"'Absorbance Data'!T3803-Calculations!Q$1","v":0},{"$f":"'Absorbance Data'!U3803-Calculations!R$1","v":0},{"$f":"'Absorbance Data'!V3803-Calculations!S$1","v":0},{"$f":"'Absorbance Data'!W3803-Calculations!T$1","v":0},{"$f":"'Absorbance Data'!X3803-Calculations!U$1","v":0},{"$f":"'Absorbance Data'!Y3803-Calculations!V$1","v":0},{"$f":"'Absorbance Data'!Z3803-Calculations!W$1","v":0}]
[{"$f":"'Absorbance Data'!D3804","v":767.57598876953125},{"$f":"'Absorbance Data'!E3804-Calculations!B$1","v":0},{"$f":"'Absorbance Data'!F3804-Calculations!C$1","v":0},{"$f":"'Absorbance Data'!G3804-Calculations!D$1","v":0},{"$f":"'Absorbance Data'!H3804-Calculations!E$1","v":0},{"$f":"'Absorbance Data'!I3804-Calculations!F$1","v":0},{"$f":"'Absorbance Data'!J3804-Calculations!G$1","v":0},{"$f":"'Absorbance Data'!K3804-Calculations!H$1","v":0},{"$f":"'Absorbance Data'!L3804-Calculations!I$1","v":0},{"$f":"'Absorbance Data'!M3804-Calculations!J$1","v":0},{"$f":"'Absorbance Data'!N3804-Calculations!K$1","v":0},{"$f":"'Absorbance Data'!O3804-Calculations!L$1","v":0},{"$f":"'Absorbance Data'!P3804-Calculations!M$1","v":0},{"$f":"'Absorbance Data'!Q3804-Calculations!N$1","v":0},{"$f":"'Absorbance Data'!R3804-Calculations!O$1","v":0},{"$f":"'Absorbance Data'!S3804-Calculations!P$1","v":0},{"$f":"'Absorbance Data'!T3804-Calculations!Q$1","v":0},{"$f":"'Absorbance Data'!U3804-Calculations!R$1","v":0},{"$f":"'Absorbance Data'!V3804-Calculations!S$1","v":0},{"$f":"'Absorbance Data'!W3804-Calculations!T$1","v":0},{"$f":"'Absorbance Data'!X3804-Calculations!U$1","v":0},{"$f":"'Absorbance Data'!Y3804-Calculations!V$1","v":0},{"$f":"'Absorbance Data'!Z3804-Calculations!W$1","v":0}]
[{"$f":"'Absorbance Data'!D3805","v":767.8726806640625},{"$f":"'Absorbance Data'!E3805-Calculations!B$1","v":0},{"$f":"'Absorbance Data'!F3805-Calculations!C$1","v":0},{"$f":"'Absorbance Data'!G3805-Calculations!D$1","v":0},{"$f":"'Absorbance Data'!H3805-Calculations!E$1","v":0},{"$f":"'Absorbance Data'!I3805-Calculations!F$1","v":0},{"$f":"'Absorbance Data'!J3805-Calculations!G$1","v":0},{"$f":"'Absorbance Data'!K3805-Calculations!H$1","v":0},{"$f":"'Absorbance Data'!L3805-Calculations!I$1","v":0},{"$f":"'Absorbance Data'!M3805-Calculations!J$1","v":0},{"$f":"'Absorbance Data'!N3805-Calculations!K$1","v":0},{"$f":"'Absorbance Data'!O3805-Calculations!L$1","v":0},{"$f":"'Absorbance Data'!P3805-Calculations!M$1","v":0},{"$f":"'Absorbance Data'!Q3805-Calculations!N$1","v":0},{"$f":"'Absorbance Data'!R3805-Calculations!O$1","v":0},{"$f":"'Absorbance Data'!S3805-Calculations!P$1","v":0},{"$f":"'Absorbance Data'!T3805-Calculations!Q$1","v":0},{"$f":"'Absorbance Data'!U3805-Calculations!R$1","v":0},{"$f":"'Absorbance Data'!V3805-Calculations!S$1","v":0},{"$f":"'Absorbance Data'!W3805-Calculations!T$1","v":0},{"$f":"'Absorbance Data'!X3805-Calculations!U$1","v":0},{"$f":"'Absorbance Data'!Y3805-Calculations!V$1","v":0},{"$f":"'Absorbance Data'!Z3805-Calculations!W$1","v":0}]
[{"$f":"'Absorbance Data'!D3806","v":768.1693115234375},{"$f":"'Absorbance Data'!E3806-Calculations!B$1","v":0},{"$f":"'Absorbance Data'!F3806-Calculations!C$1","v":0},{"$f":"'Absorbance Data'!G3806-Calculations!D$1","v":0},{"$f":"'Absorbance Data'!H3806-Calculations!E$1","v":0},{"$f":"'Absorbance Data'!I3806-Calculations!F$1","v":0},{"$f":"'Absorbance Data'!J3806-Calculations!G$1","v":0},{"$f":"'Absorbance Data'!K3806-Calculations!H$1","v":0},{"$f":"'Absorbance Data'!L3806-Calculations!I$1","v":0},{"$f":"'Absorbance Data'!M3806-Calculations!J$1","v":0},{"$f":"'Absorbance Data'!N3806-Calculations!K$1","v":0},{"$f":"'Absorbance Data'!O3806-Calculations!L$1","v":0},{"$f":"'Absorbance Data'!P3806-Calculations!M$1","v":0},{"$f":"'Absorbance Data'!Q3806-Calculations!N$1","v":0},{"$f":"'Absorbance Data'!R3806-Calculations!O$1","v":0},{"$f":"'Absorbance Data'!S3806-Calculations!P$1","v":0},{"$f":"'Absorbance Data'!T3806-Calculations!Q$1","v":0},{"$f":"'Absorbance Data'!U3806-Calculations!R$1","v":0},{"$f":"'Absorbance Data'!V3806-Calculations!S$1","v":0},{"$f":"'Absorbance Data'!W3806-Calculations!T$1","v":0},{"$f":"'Absorbance Data'!X3806-Calculations!U$1","v":0},{"$f":"'Absorbance Data'!Y3806-Calculations!V$1","v":0},{"$f":"'Absorbance Data'!Z3806-Calculations!W$1","v":0}]
[{"$f":"'Absorbance Data'!D3807","v":768.4659423828125},{"$f":"'Absorbance Data'!E3807-Calculations!B$1","v":0},{"$f":"'Absorbance Data'!F3807-Calculations!C$1","v":0},{"$f":"'Absorbance Data'!G3807-Calculations!D$1","v":0},{"$f":"'Absorbance Data'!H3807-Calculations!E$1","v":0},{"$f":"'Absorbance Data'!I3807-Calculations!F$1","v":0},{"$f":"'Absorbance Data'!J3807-Calculations!G$1","v":0},{"$f":"'Absorbance Data'!K3807-Calculations!H$1","v":0},{"$f":"'Absorbance Data'!L3807-Calculations!I$1","v":0},{"$f":"'Absorbance Data'!M3807-Calculations!J$1","v":0},{"$f":"'Absorbance Data'!N3807-Calculations!K$1","v":0},{"$f":"'Absorbance Data'!O3807-Calculations!L$1","v":0},{"$f":"'Absorbance Data'!P3807-Calculations!M$1","v":0},{"$f":"'Absorbance Data'!Q3807-Calculations!N$1","v":0},{"$f":"'Absorbance Data'!R3807-Calculations!O$1","v":0},{"$f":"'Absorbance Data'!S3807-Calculations!P$1","v":0},{"$f":"'Absorbance Data'!T3807-Calculations!Q$1","v":0},{"$f":"'Absorbance Data'!U3807-Calculations!R$1","v":0},{"$f":"'Absorbance Data'!V3807-Calculations!S$1","v":0},{"$f":"'Absorbance Data'!W3807-Calculations!T$1","v":0},{"$f":"'Absorbance Data'!X3807-Calculations!U$1","v":0},{"$f":"'Absorbance Data'!Y3807-Calculations!V$1","v":0},{"$f":"'Absorbance Data'!Z3807-Calculations!W$1","v":0}]
[{"$f":"'Absorbance Data'!D3808","v":768.76251220703125},{"$f":"'Absorbance Data'!E3808-Calculations!B$1","v":0},{"$f":"'Absorbance Data'!F3808-Calculations!C$1","v":0},{"$f":"'Absorbance Data'!G3808-Calculations!D$1","v":0},{"$f":"'Absorbance Data'!H3808-Calculations!E$1","v":0},{"$f":"'Absorbance Data'!I3808-Calculations!F$1","v":0},{"$f":"'Absorbance Data'!J3808-Calculations!G$1","v":0},{"$f":"'Absorbance Data'!K3808-Calculations!H$1","v":0},{"$f":"'Absorbance Data'!L3808-Calculations!I$1","v":0},{"$f":"'Absorbance Data'!M3808-Calculations!J$1","v":0},{"$f":"'Absorbance Data'!N3808-Calculations!K$1","v":0},{"$f":"'Absorbance Data'!O3808-Calculations!L$1","v":0},{"$f":"'Absorbance Data'!P3808-Calculations!M$1","v":0},{"$f":"'Absorbance Data'!Q3808-Calculations!N$1","v":0},{"$f":"'Absorbance Data'!R3808-Calculations!O$1","v":0},{"$f":"'Absorbance Data'!S3808-Calculations!P$1","v":0},{"$f":"'Absorbance Data'!T3808-Calculations!Q$1","v":0},{"$f":"'Absorbance Data'!U3808-Calculations!R$1","v":0},{"$f":"'Absorbance Data'!V3808-Calculations!S$1","v":0},{"$f":"'Absorbance Data'!W3808-Calculations!T$1","v":0},{"$f":"'Absorbance Data'!X3808-Calculations!U$1","v":0},{"$f":"'Absorbance Data'!Y3808-Calculations!V$1","v":0},{"$f":"'Absorbance Data'!Z3808-Calculations!W$1","v":0}]
[{"$f":"'Absorbance Data'!D3809","v":769.05908203125},{"$f":"'Absorbance Data'!E3809-Calculations!B$1","v":0},{"$f":"'Absorbance Data'!F3809-Calculations!C$1","v":0},{"$f":"'Absorbance Data'!G3809-Calculations!D$1","v":0},{"$f":"'Absorbance Data'!H3809-Calculations!E$1","v":0},{"$f":"'Absorbance Data'!I3809-Calculations!F$1","v":0},{"$f":"'Absorbance Data'!J3809-Calculations!G$1","v":0},{"$f":"'Absorbance Data'!K3809-Calculations!H$1","v":0},{"$f":"'Absorbance Data'!L3809-Calculations!I$1","v":0},{"$f":"'Absorbance Data'!M3809-Calculations!J$1","v":0},{"$f":"'Absorbance Data'!N3809-Calculations!K$1","v":0},{"$f":"'Absorbance Data'!O3809-Calculations!L$1","v":0},{"$f":"'Absorbance Data'!P3809-Calculations!M$1","v":0},{"$f":"'Absorbance Data'!Q3809-Calculations!N$1","v":0},{"$f":"'Absorbance Data'!R3809-Calculations!O$1","v":0},{"$f":"'Absorbance Data'!S3809-Calculations!P$1","v":0},{"$f":"'Absorbance Data'!T3809-Calculations!Q$1","v":0},{"$f":"'Absorbance Data'!U3809-Calculations!R$1","v":0},{"$f":"'Absorbance Data'!V3809-Calculations!S$1","v":0},{"$f":"'Absorbance Data'!W3809-Calculations!T$1","v":0},{"$f":"'Absorbance Data'!X3809-Calculations!U$1","v":0},{"$f":"'Absorbance Data'!Y3809-Calculations!V$1","v":0},{"$f":"'Absorbance Data'!Z3809-Calculations!W$1","v":0}]
[{"$f":"'Absorbance Data'!D3810","v":769.35546875},{"$f":"'Absorbance Data'!E3810-Calculations!B$1","v":0},{"$f":"'Absorbance Data'!F3810-Calculations!C$1","v":0},{"$f":"'Absorbance Data'!G3810-Calculations!D$1","v":0},{"$f":"'Absorbance Data'!H3810-Calculations!E$1","v":0},{"$f":"'Absorbance Data'!I3810-Calculations!F$1","v":0},{"$f":"'Absorbance Data'!J3810-Calculations!G$1","v":0},{"$f":"'Absorbance Data'!K3810-Calculations!H$1","v":0},{"$f":"'Absorbance Data'!L3810-Calculations!I$1","v":0},{"$f":"'Absorbance Data'!M3810-Calculations!J$1","v":0},{"$f":"'Absorbance Data'!N3810-Calculations!K$1","v":0},{"$f":"'Absorbance Data'!O3810-Calculations!L$1","v":0},{"$f":"'Absorbance Data'!P3810-Calculations!M$1","v":0},{"$f":"'Absorbance Data'!Q3810-Calculations!N$1","v":0},{"$f":"'Absorbance Data'!R3810-Calculations!O$1","v":0},{"$f":"'Absorbance Data'!S3810-Calculations!P$1","v":0},{"$f":"'Absorbance Data'!T3810-Calculations!Q$1","v":0},{"$f":"'Absorbance Data'!U3810-Calculations!R$1","v":0},{"$f":"'Absorbance Data'!V3810-Calculations!S$1","v":0},{"$f":"'Absorbance Data'!W3810-Calculations!T$1","v":0},{"$f":"'Absorbance Data'!X3810-Calculations!U$1","v":0},{"$f":"'Absorbance Data'!Y3810-Calculations!V$1","v":0},{"$f":"'Absorbance Data'!Z3810-Calculations!W$1","v":0}]
[{"$f":"'Absorbance Data'!D3811","v":769.65191650390625},{"$f":"'Absorbance Data'!E3811-Calculations!B$1","v":0},{"$f":"'Absorbance Data'!F3811-Calculations!C$1","v":0},{"$f":"'Absorbance Data'!G3811-Calculations!D$1","v":0},{"$f":"'Absorbance Data'!H3811-Calculations!E$1","v":0},{"$f":"'Absorbance Data'!I3811-Calculations!F$1","v":0},{"$f":"'Absorbance Data'!J3811-Calculations!G$1","v":0},{"$f":"'Absorbance Data'!K3811-Calculations!H$1","v":0},{"$f":"'Absorbance Data'!L3811-Calculations!I$1","v":0},{"$f":"'Absorbance Data'!M3811-Calculations!J$1","v":0},{"$f":"'Absorbance Data'!N3811-Calculations!K$1","v":0},{"$f":"'Absorbance Data'!O3811-Calculations!L$1","v":0},{"$f":"'Absorbance Data'!P3811-Calculations!M$1","v":0},{"$f":"'Absorbance Data'!Q3811-Calculations!N$1","v":0},{"$f":"'Absorbance Data'!R3811-Calculations!O$1","v":0},{"$f":"'Absorbance Data'!S3811-Calculations!P$1","v":0},{"$f":"'Absorbance Data'!T3811-Calculations!Q$1","v":0},{"$f":"'Absorbance Data'!U3811-Calculations!R$1","v":0},{"$f":"'Absorbance Data'!V3811-Calculations!S$1","v":0},{"$f":"'Absorbance Data'!W3811-Calculations!T$1","v":0},{"$f":"'Absorbance Data'!X3811-Calculations!U$1","v":0},{"$f":"'Absorbance Data'!Y3811-Calculations!V$1","v":0},{"$f":"'Absorbance Data'!Z3811-Calculations!W$1","v":0}]
[{"$f":"'Absorbance Data'!D3812","v":769.9482421875},{"$f":"'Absorbance Data'!E3812-Calculations!B$1","v":0},{"$f":"'Absorbance Data'!F3812-Calculations!C$1","v":0},{"$f":"'Absorbance Data'!G3812-Calculations!D$1","v":0},{"$f":"'Absorbance Data'!H3812-Calculations!E$1","v":0},{"$f":"'Absorbance Data'!I3812-Calculations!F$1","v":0},{"$f":"'Absorbance Data'!J3812-Calculations!G$1","v":0},{"$f":"'Absorbance Data'!K3812-Calculations!H$1","v":0},{"$f":"'Absorbance Data'!L3812-Calculations!I$1","v":0},{"$f":"'Absorbance Data'!M3812-Calculations!J$1","v":0},{"$f":"'Absorbance Data'!N3812-Calculations!K$1","v":0},{"$f":"'Absorbance Data'!O3812-Calculations!L$1","v":0},{"$f":"'Absorbance Data'!P3812-Calculations!M$1","v":0},{"$f":"'Absorbance Data'!Q3812-Calculations!N$1","v":0},{"$f":"'Absorbance Data'!R3812-Calculations!O$1","v":0},{"$f":"'Absorbance Data'!S3812-Calculations!P$1","v":0},{"$f":"'Absorbance Data'!T3812-Calculations!Q$1","v":0},{"$f":"'Absorbance Data'!U3812-Calculations!R$1","v":0},{"$f":"'Absorbance Data'!V3812-Calculations!S$1","v":0},{"$f":"'Absorbance Data'!W3812-Calculations!T$1","v":0},{"$f":"'Absorbance Data'!X3812-Calculations!U$1","v":0},{"$f":"'Absorbance Data'!Y3812-Calculations!V$1","v":0},{"$f":"'Absorbance Data'!Z3812-Calculations!W$1","v":0}]
[{"$f":"'Absorbance Data'!D3813","v":770.24456787109375},{"$f":"'Absorbance Data'!E3813-Calculations!B$1","v":0},{"$f":"'Absorbance Data'!F3813-Calculations!C$1","v":0},{"$f":"'Absorbance Data'!G3813-Calculations!D$1","v":0},{"$f":"'Absorbance Data'!H3813-Calculations!E$1","v":0},{"$f":"'Absorbance Data'!I3813-Calculations!F$1","v":0},{"$f":"'Absorbance Data'!J3813-Calculations!G$1","v":0},{"$f":"'Absorbance Data'!K3813-Calculations!H$1","v":0},{"$f":"'Absorbance Data'!L3813-Calculations!I$1","v":0},{"$f":"'Absorbance Data'!M3813-Calculations!J$1","v":0},{"$f":"'Absorbance Data'!N3813-Calculations!K$1","v":0},{"$f":"'Absorbance Data'!O3813-Calculations!L$1","v":0},{"$f":"'Absorbance Data'!P3813-Calculations!M$1","v":0},{"$f":"'Absorbance Data'!Q3813-Calculations!N$1","v":0},{"$f":"'Absorbance Data'!R3813-Calculations!O$1","v":0},{"$f":"'Absorbance Data'!S3813-Calculations!P$1","v":0},{"$f":"'Absorbance Data'!T3813-Calculations!Q$1","v":0},{"$f":"'Absorbance Data'!U3813-Calculations!R$1","v":0},{"$f":"'Absorbance Data'!V3813-Calculations!S$1","v":0},{"$f":"'Absorbance Data'!W3813-Calculations!T$1","v":0},{"$f":"'Absorbance Data'!X3813-Calculations!U$1","v":0},{"$f":"'Absorbance Data'!Y3813-Calculations!V$1","v":0},{"$f":"'Absorbance Data'!Z3813-Calculations!W$1","v":0}]
[{"$f":"'Absorbance Data'!D3814","v":770.54083251953125},{"$f":"'Absorbance Data'!E3814-Calculations!B$1","v":0},{"$f":"'Absorbance Data'!F3814-Calculations!C$1","v":0},{"$f":"'Absorbance Data'!G3814-Calculations!D$1","v":0},{"$f":"'Absorbance Data'!H3814-Calculations!E$1","v":0},{"$f":"'Absorbance Data'!I3814-Calculations!F$1","v":0},{"$f":"'Absorbance Data'!J3814-Calculations!G$1","v":0},{"$f":"'Absorbance Data'!K3814-Calculations!H$1","v":0},{"$f":"'Absorbance Data'!L3814-Calculations!I$1","v":0},{"$f":"'Absorbance Data'!M3814-Calculations!J$1","v":0},{"$f":"'Absorbance Data'!N3814-Calculations!K$1","v":0},{"$f":"'Absorbance Data'!O3814-Calculations!L$1","v":0},{"$f":"'Absorbance Data'!P3814-Calculations!M$1","v":0},{"$f":"'Absorbance Data'!Q3814-Calculations!N$1","v":0},{"$f":"'Absorbance Data'!R3814-Calculations!O$1","v":0},{"$f":"'Absorbance Data'!S3814-Calculations!P$1","v":0},{"$f":"'Absorbance Data'!T3814-Calculations!Q$1","v":0},{"$f":"'Absorbance Data'!U3814-Calculations!R$1","v":0},{"$f":"'Absorbance Data'!V3814-Calculations!S$1","v":0},{"$f":"'Absorbance Data'!W3814-Calculations!T$1","v":0},{"$f":"'Absorbance Data'!X3814-Calculations!U$1","v":0},{"$f":"'Absorbance Data'!Y3814-Calculations!V$1","v":0},{"$f":"'Absorbance Data'!Z3814-Calculations!W$1","v":0}]
[{"$f":"'Absorbance Data'!D3815","v":770.83709716796875},{"$f":"'Absorbance Data'!E3815-Calculations!B$1","v":0},{"$f":"'Absorbance Data'!F3815-Calculations!C$1","v":0},{"$f":"'Absorbance Data'!G3815-Calculations!D$1","v":0},{"$f":"'Absorbance Data'!H3815-Calculations!E$1","v":0},{"$f":"'Absorbance Data'!I3815-Calculations!F$1","v":0},{"$f":"'Absorbance Data'!J3815-Calculations!G$1","v":0},{"$f":"'Absorbance Data'!K3815-Calculations!H$1","v":0},{"$f":"'Absorbance Data'!L3815-Calculations!I$1","v":0},{"$f":"'Absorbance Data'!M3815-Calculations!J$1","v":0},{"$f":"'Absorbance Data'!N3815-Calculations!K$1","v":0},{"$f":"'Absorbance Data'!O3815-Calculations!L$1","v":0},{"$f":"'Absorbance Data'!P3815-Calculations!M$1","v":0},{"$f":"'Absorbance Data'!Q3815-Calculations!N$1","v":0},{"$f":"'Absorbance Data'!R3815-Calculations!O$1","v":0},{"$f":"'Absorbance Data'!S3815-Calculations!P$1","v":0},{"$f":"'Absorbance Data'!T3815-Calculations!Q$1","v":0},{"$f":"'Absorbance Data'!U3815-Calculations!R$1","v":0},{"$f":"'Absorbance Data'!V3815-Calculations!S$1","v":0},{"$f":"'Absorbance Data'!W3815-Calculations!T$1","v":0},{"$f":"'Absorbance Data'!X3815-Calculations!U$1","v":0},{"$f":"'Absorbance Data'!Y3815-Calculations!V$1","v":0},{"$f":"'Absorbance Data'!Z3815-Calculations!W$1","v":0}]
[{"$f":"'Absorbance Data'!D3816","v":771.13323974609375},{"$f":"'Absorbance Data'!E3816-Calculations!B$1","v":0},{"$f":"'Absorbance Data'!F3816-Calculations!C$1","v":0},{"$f":"'Absorbance Data'!G3816-Calculations!D$1","v":0},{"$f":"'Absorbance Data'!H3816-Calculations!E$1","v":0},{"$f":"'Absorbance Data'!I3816-Calculations!F$1","v":0},{"$f":"'Absorbance Data'!J3816-Calculations!G$1","v":0},{"$f":"'Absorbance Data'!K3816-Calculations!H$1","v":0},{"$f":"'Absorbance Data'!L3816-Calculations!I$1","v":0},{"$f":"'Absorbance Data'!M3816-Calculations!J$1","v":0},{"$f":"'Absorbance Data'!N3816-Calculations!K$1","v":0},{"$f":"'Absorbance Data'!O3816-Calculations!L$1","v":0},{"$f":"'Absorbance Data'!P3816-Calculations!M$1","v":0},{"$f":"'Absorbance Data'!Q3816-Calculations!N$1","v":0},{"$f":"'Absorbance Data'!R3816-Calculations!O$1","v":0},{"$f":"'Absorbance Data'!S3816-Calculations!P$1","v":0},{"$f":"'Absorbance Data'!T3816-Calculations!Q$1","v":0},{"$f":"'Absorbance Data'!U3816-Calculations!R$1","v":0},{"$f":"'Absorbance Data'!V3816-Calculations!S$1","v":0},{"$f":"'Absorbance Data'!W3816-Calculations!T$1","v":0},{"$f":"'Absorbance Data'!X3816-Calculations!U$1","v":0},{"$f":"'Absorbance Data'!Y3816-Calculations!V$1","v":0},{"$f":"'Absorbance Data'!Z3816-Calculations!W$1","v":0}]
[{"$f":"'Absorbance Data'!D3817","v":771.42938232421875},{"$f":"'Absorbance Data'!E3817-Calculations!B$1","v":0},{"$f":"'Absorbance Data'!F3817-Calculations!C$1","v":0},{"$f":"'Absorbance Data'!G3817-Calculations!D$1","v":0},{"$f":"'Absorbance Data'!H3817-Calculations!E$1","v":0},{"$f":"'Absorbance Data'!I3817-Calculations!F$1","v":0},{"$f":"'Absorbance Data'!J3817-Calculations!G$1","v":0},{"$f":"'Absorbance Data'!K3817-Calculations!H$1","v":0},{"$f":"'Absorbance Data'!L3817-Calculations!I$1","v":0},{"$f":"'Absorbance Data'!M3817-Calculations!J$1","v":0},{"$f":"'Absorbance Data'!N3817-Calculations!K$1","v":0},{"$f":"'Absorbance Data'!O3817-Calculations!L$1","v":0},{"$f":"'Absorbance Data'!P3817-Calculations!M$1","v":0},{"$f":"'Absorbance Data'!Q3817-Calculations!N$1","v":0},{"$f":"'Absorbance Data'!R3817-Calculations!O$1","v":0},{"$f":"'Absorbance Data'!S3817-Calculations!P$1","v":0},{"$f":"'Absorbance Data'!T3817-Calculations!Q$1","v":0},{"$f":"'Absorbance Data'!U3817-Calculations!R$1","v":0},{"$f":"'Absorbance Data'!V3817-Calculations!S$1","v":0},{"$f":"'Absorbance Data'!W3817-Calculations!T$1","v":0},{"$f":"'Absorbance Data'!X3817-Calculations!U$1","v":0},{"$f":"'Absorbance Data'!Y3817-Calculations!V$1","v":0},{"$f":"'Absorbance Data'!Z3817-Calculations!W$1","v":0}]
[{"$f":"'Absorbance Data'!D3818","v":771.7254638671875},{"$f":"'Absorbance Data'!E3818-Calculations!B$1","v":0},{"$f":"'Absorbance Data'!F3818-Calculations!C$1","v":0},{"$f":"'Absorbance Data'!G3818-Calculations!D$1","v":0},{"$f":"'Absorbance Data'!H3818-Calculations!E$1","v":0},{"$f":"'Absorbance Data'!I3818-Calculations!F$1","v":0},{"$f":"'Absorbance Data'!J3818-Calculations!G$1","v":0},{"$f":"'Absorbance Data'!K3818-Calculations!H$1","v":0},{"$f":"'Absorbance Data'!L3818-Calculations!I$1","v":0},{"$f":"'Absorbance Data'!M3818-Calculations!J$1","v":0},{"$f":"'Absorbance Data'!N3818-Calculations!K$1","v":0},{"$f":"'Absorbance Data'!O3818-Calculations!L$1","v":0},{"$f":"'Absorbance Data'!P3818-Calculations!M$1","v":0},{"$f":"'Absorbance Data'!Q3818-Calculations!N$1","v":0},{"$f":"'Absorbance Data'!R3818-Calculations!O$1","v":0},{"$f":"'Absorbance Data'!S3818-Calculations!P$1","v":0},{"$f":"'Absorbance Data'!T3818-Calculations!Q$1","v":0},{"$f":"'Absorbance Data'!U3818-Calculations!R$1","v":0},{"$f":"'Absorbance Data'!V3818-Calculations!S$1","v":0},{"$f":"'Absorbance Data'!W3818-Calculations!T$1","v":0},{"$f":"'Absorbance Data'!X3818-Calculations!U$1","v":0},{"$f":"'Absorbance Data'!Y3818-Calculations!V$1","v":0},{"$f":"'Absorbance Data'!Z3818-Calculations!W$1","v":0}]
[{"$f":"'Absorbance Data'!D3819","v":772.02154541015625},{"$f":"'Absorbance Data'!E3819-Calculations!B$1","v":0},{"$f":"'Absorbance Data'!F3819-Calculations!C$1","v":0},{"$f":"'Absorbance Data'!G3819-Calculations!D$1","v":0},{"$f":"'Absorbance Data'!H3819-Calculations!E$1","v":0},{"$f":"'Absorbance Data'!I3819-Calculations!F$1","v":0},{"$f":"'Absorbance Data'!J3819-Calculations!G$1","v":0},{"$f":"'Absorbance Data'!K3819-Calculations!H$1","v":0},{"$f":"'Absorbance Data'!L3819-Calculations!I$1","v":0},{"$f":"'Absorbance Data'!M3819-Calculations!J$1","v":0},{"$f":"'Absorbance Data'!N3819-Calculations!K$1","v":0},{"$f":"'Absorbance Data'!O3819-Calculations!L$1","v":0},{"$f":"'Absorbance Data'!P3819-Calculations!M$1","v":0},{"$f":"'Absorbance Data'!Q3819-Calculations!N$1","v":0},{"$f":"'Absorbance Data'!R3819-Calculations!O$1","v":0},{"$f":"'Absorbance Data'!S3819-Calculations!P$1","v":0},{"$f":"'Absorbance Data'!T3819-Calculations!Q$1","v":0},{"$f":"'Absorbance Data'!U3819-Calculations!R$1","v":0},{"$f":"'Absorbance Data'!V3819-Calculations!S$1","v":0},{"$f":"'Absorbance Data'!W3819-Calculations!T$1","v":0},{"$f":"'Absorbance Data'!X3819-Calculations!U$1","v":0},{"$f":"'Absorbance Data'!Y3819-Calculations!V$1","v":0},{"$f":"'Absorbance Data'!Z3819-Calculations!W$1","v":0}]
[{"$f":"'Absorbance Data'!D3820","v":772.3175048828125},{"$f":"'Absorbance Data'!E3820-Calculations!B$1","v":0},{"$f":"'Absorbance Data'!F3820-Calculations!C$1","v":0},{"$f":"'Absorbance Data'!G3820-Calculations!D$1","v":0},{"$f":"'Absorbance Data'!H3820-Calculations!E$1","v":0},{"$f":"'Absorbance Data'!I3820-Calculations!F$1","v":0},{"$f":"'Absorbance Data'!J3820-Calculations!G$1","v":0},{"$f":"'Absorbance Data'!K3820-Calculations!H$1","v":0},{"$f":"'Absorbance Data'!L3820-Calculations!I$1","v":0},{"$f":"'Absorbance Data'!M3820-Calculations!J$1","v":0},{"$f":"'Absorbance Data'!N3820-Calculations!K$1","v":0},{"$f":"'Absorbance Data'!O3820-Calculations!L$1","v":0},{"$f":"'Absorbance Data'!P3820-Calculations!M$1","v":0},{"$f":"'Absorbance Data'!Q3820-Calculations!N$1","v":0},{"$f":"'Absorbance Data'!R3820-Calculations!O$1","v":0},{"$f":"'Absorbance Data'!S3820-Calculations!P$1","v":0},{"$f":"'Absorbance Data'!T3820-Calculations!Q$1","v":0},{"$f":"'Absorbance Data'!U3820-Calculations!R$1","v":0},{"$f":"'Absorbance Data'!V3820-Calculations!S$1","v":0},{"$f":"'Absorbance Data'!W3820-Calculations!T$1","v":0},{"$f":"'Absorbance Data'!X3820-Calculations!U$1","v":0},{"$f":"'Absorbance Data'!Y3820-Calculations!V$1","v":0},{"$f":"'Absorbance Data'!Z3820-Calculations!W$1","v":0}]
[{"$f":"'Absorbance Data'!D3821","v":772.61346435546875},{"$f":"'Absorbance Data'!E3821-Calculations!B$1","v":0},{"$f":"'Absorbance Data'!F3821-Calculations!C$1","v":0},{"$f":"'Absorbance Data'!G3821-Calculations!D$1","v":0},{"$f":"'Absorbance Data'!H3821-Calculations!E$1","v":0},{"$f":"'Absorbance Data'!I3821-Calculations!F$1","v":0},{"$f":"'Absorbance Data'!J3821-Calculations!G$1","v":0},{"$f":"'Absorbance Data'!K3821-Calculations!H$1","v":0},{"$f":"'Absorbance Data'!L3821-Calculations!I$1","v":0},{"$f":"'Absorbance Data'!M3821-Calculations!J$1","v":0},{"$f":"'Absorbance Data'!N3821-Calculations!K$1","v":0},{"$f":"'Absorbance Data'!O3821-Calculations!L$1","v":0},{"$f":"'Absorbance Data'!P3821-Calculations!M$1","v":0},{"$f":"'Absorbance Data'!Q3821-Calculations!N$1","v":0},{"$f":"'Absorbance Data'!R3821-Calculations!O$1","v":0},{"$f":"'Absorbance Data'!S3821-Calculations!P$1","v":0},{"$f":"'Absorbance Data'!T3821-Calculations!Q$1","v":0},{"$f":"'Absorbance Data'!U3821-Calculations!R$1","v":0},{"$f":"'Absorbance Data'!V3821-Calculations!S$1","v":0},{"$f":"'Absorbance Data'!W3821-Calculations!T$1","v":0},{"$f":"'Absorbance Data'!X3821-Calculations!U$1","v":0},{"$f":"'Absorbance Data'!Y3821-Calculations!V$1","v":0},{"$f":"'Absorbance Data'!Z3821-Calculations!W$1","v":0}]
[{"$f":"'Absorbance Data'!D3822","v":772.9093017578125},{"$f":"'Absorbance Data'!E3822-Calculations!B$1","v":0},{"$f":"'Absorbance Data'!F3822-Calculations!C$1","v":0},{"$f":"'Absorbance Data'!G3822-Calculations!D$1","v":0},{"$f":"'Absorbance Data'!H3822-Calculations!E$1","v":0},{"$f":"'Absorbance Data'!I3822-Calculations!F$1","v":0},{"$f":"'Absorbance Data'!J3822-Calculations!G$1","v":0},{"$f":"'Absorbance Data'!K3822-Calculations!H$1","v":0},{"$f":"'Absorbance Data'!L3822-Calculations!I$1","v":0},{"$f":"'Absorbance Data'!M3822-Calculations!J$1","v":0},{"$f":"'Absorbance Data'!N3822-Calculations!K$1","v":0},{"$f":"'Absorbance Data'!O3822-Calculations!L$1","v":0},{"$f":"'Absorbance Data'!P3822-Calculations!M$1","v":0},{"$f":"'Absorbance Data'!Q3822-Calculations!N$1","v":0},{"$f":"'Absorbance Data'!R3822-Calculations!O$1","v":0},{"$f":"'Absorbance Data'!S3822-Calculations!P$1","v":0},{"$f":"'Absorbance Data'!T3822-Calculations!Q$1","v":0},{"$f":"'Absorbance Data'!U3822-Calculations!R$1","v":0},{"$f":"'Absorbance Data'!V3822-Calculations!S$1","v":0},{"$f":"'Absorbance Data'!W3822-Calculations!T$1","v":0},{"$f":"'Absorbance Data'!X3822-Calculations!U$1","v":0},{"$f":"'Absorbance Data'!Y3822-Calculations!V$1","v":0},{"$f":"'Absorbance Data'!Z3822-Calculations!W$1","v":0}]
[{"$f":"'Absorbance Data'!D3823","v":773.2052001953125},{"$f":"'Absorbance Data'!E3823-Calculations!B$1","v":0},{"$f":"'Absorbance Data'!F3823-Calculations!C$1","v":0},{"$f":"'Absorbance Data'!G3823-Calculations!D$1","v":0},{"$f":"'Absorbance Data'!H3823-Calculations!E$1","v":0},{"$f":"'Absorbance Data'!I3823-Calculations!F$1","v":0},{"$f":"'Absorbance Data'!J3823-Calculations!G$1","v":0},{"$f":"'Absorbance Data'!K3823-Calculations!H$1","v":0},{"$f":"'Absorbance Data'!L3823-Calculations!I$1","v":0},{"$f":"'Absorbance Data'!M3823-Calculations!J$1","v":0},{"$f":"'Absorbance Data'!N3823-Calculations!K$1","v":0},{"$f":"'Absorbance Data'!O3823-Calculations!L$1","v":0},{"$f":"'Absorbance Data'!P3823-Calculations!M$1","v":0},{"$f":"'Absorbance Data'!Q3823-Calculations!N$1","v":0},{"$f":"'Absorbance Data'!R3823-Calculations!O$1","v":0},{"$f":"'Absorbance Data'!S3823-Calculations!P$1","v":0},{"$f":"'Absorbance Data'!T3823-Calculations!Q$1","v":0},{"$f":"'Absorbance Data'!U3823-Calculations!R$1","v":0},{"$f":"'Absorbance Data'!V3823-Calculations!S$1","v":0},{"$f":"'Absorbance Data'!W3823-Calculations!T$1","v":0},{"$f":"'Absorbance Data'!X3823-Calculations!U$1","v":0},{"$f":"'Absorbance Data'!Y3823-Calculations!V$1","v":0},{"$f":"'Absorbance Data'!Z3823-Calculations!W$1","v":0}]
[{"$f":"'Absorbance Data'!D3824","v":773.50091552734375},{"$f":"'Absorbance Data'!E3824-Calculations!B$1","v":0},{"$f":"'Absorbance Data'!F3824-Calculations!C$1","v":0},{"$f":"'Absorbance Data'!G3824-Calculations!D$1","v":0},{"$f":"'Absorbance Data'!H3824-Calculations!E$1","v":0},{"$f":"'Absorbance Data'!I3824-Calculations!F$1","v":0},{"$f":"'Absorbance Data'!J3824-Calculations!G$1","v":0},{"$f":"'Absorbance Data'!K3824-Calculations!H$1","v":0},{"$f":"'Absorbance Data'!L3824-Calculations!I$1","v":0},{"$f":"'Absorbance Data'!M3824-Calculations!J$1","v":0},{"$f":"'Absorbance Data'!N3824-Calculations!K$1","v":0},{"$f":"'Absorbance Data'!O3824-Calculations!L$1","v":0},{"$f":"'Absorbance Data'!P3824-Calculations!M$1","v":0},{"$f":"'Absorbance Data'!Q3824-Calculations!N$1","v":0},{"$f":"'Absorbance Data'!R3824-Calculations!O$1","v":0},{"$f":"'Absorbance Data'!S3824-Calculations!P$1","v":0},{"$f":"'Absorbance Data'!T3824-Calculations!Q$1","v":0},{"$f":"'Absorbance Data'!U3824-Calculations!R$1","v":0},{"$f":"'Absorbance Data'!V3824-Calculations!S$1","v":0},{"$f":"'Absorbance Data'!W3824-Calculations!T$1","v":0},{"$f":"'Absorbance Data'!X3824-Calculations!U$1","v":0},{"$f":"'Absorbance Data'!Y3824-Calculations!V$1","v":0},{"$f":"'Absorbance Data'!Z3824-Calculations!W$1","v":0}]
[{"$f":"'Absorbance Data'!D3825","v":773.79669189453125},{"$f":"'Absorbance Data'!E3825-Calculations!B$1","v":0},{"$f":"'Absorbance Data'!F3825-Calculations!C$1","v":0},{"$f":"'Absorbance Data'!G3825-Calculations!D$1","v":0},{"$f":"'Absorbance Data'!H3825-Calculations!E$1","v":0},{"$f":"'Absorbance Data'!I3825-Calculations!F$1","v":0},{"$f":"'Absorbance Data'!J3825-Calculations!G$1","v":0},{"$f":"'Absorbance Data'!K3825-Calculations!H$1","v":0},{"$f":"'Absorbance Data'!L3825-Calculations!I$1","v":0},{"$f":"'Absorbance Data'!M3825-Calculations!J$1","v":0},{"$f":"'Absorbance Data'!N3825-Calculations!K$1","v":0},{"$f":"'Absorbance Data'!O3825-Calculations!L$1","v":0},{"$f":"'Absorbance Data'!P3825-Calculations!M$1","v":0},{"$f":"'Absorbance Data'!Q3825-Calculations!N$1","v":0},{"$f":"'Absorbance Data'!R3825-Calculations!O$1","v":0},{"$f":"'Absorbance Data'!S3825-Calculations!P$1","v":0},{"$f":"'Absorbance Data'!T3825-Calculations!Q$1","v":0},{"$f":"'Absorbance Data'!U3825-Calculations!R$1","v":0},{"$f":"'Absorbance Data'!V3825-Calculations!S$1","v":0},{"$f":"'Absorbance Data'!W3825-Calculations!T$1","v":0},{"$f":"'Absorbance Data'!X3825-Calculations!U$1","v":0},{"$f":"'Absorbance Data'!Y3825-Calculations!V$1","v":0},{"$f":"'Absorbance Data'!Z3825-Calculations!W$1","v":0}]
[{"$f":"'Absorbance Data'!D3826","v":774.0924072265625},{"$f":"'Absorbance Data'!E3826-Calculations!B$1","v":0},{"$f":"'Absorbance Data'!F3826-Calculations!C$1","v":0},{"$f":"'Absorbance Data'!G3826-Calculations!D$1","v":0},{"$f":"'Absorbance Data'!H3826-Calculations!E$1","v":0},{"$f":"'Absorbance Data'!I3826-Calculations!F$1","v":0},{"$f":"'Absorbance Data'!J3826-Calculations!G$1","v":0},{"$f":"'Absorbance Data'!K3826-Calculations!H$1","v":0},{"$f":"'Absorbance Data'!L3826-Calculations!I$1","v":0},{"$f":"'Absorbance Data'!M3826-Calculations!J$1","v":0},{"$f":"'Absorbance Data'!N3826-Calculations!K$1","v":0},{"$f":"'Absorbance Data'!O3826-Calculations!L$1","v":0},{"$f":"'Absorbance Data'!P3826-Calculations!M$1","v":0},{"$f":"'Absorbance Data'!Q3826-Calculations!N$1","v":0},{"$f":"'Absorbance Data'!R3826-Calculations!O$1","v":0},{"$f":"'Absorbance Data'!S3826-Calculations!P$1","v":0},{"$f":"'Absorbance Data'!T3826-Calculations!Q$1","v":0},{"$f":"'Absorbance Data'!U3826-Calculations!R$1","v":0},{"$f":"'Absorbance Data'!V3826-Calculations!S$1","v":0},{"$f":"'Absorbance Data'!W3826-Calculations!T$1","v":0},{"$f":"'Absorbance Data'!X3826-Calculations!U$1","v":0},{"$f":"'Absorbance Data'!Y3826-Calculations!V$1","v":0},{"$f":"'Absorbance Data'!Z3826-Calculations!W$1","v":0}]
[{"$f":"'Absorbance Data'!D3827","v":774.3880615234375},{"$f":"'Absorbance Data'!E3827-Calculations!B$1","v":0},{"$f":"'Absorbance Data'!F3827-Calculations!C$1","v":0},{"$f":"'Absorbance Data'!G3827-Calculations!D$1","v":0},{"$f":"'Absorbance Data'!H3827-Calculations!E$1","v":0},{"$f":"'Absorbance Data'!I3827-Calculations!F$1","v":0},{"$f":"'Absorbance Data'!J3827-Calculations!G$1","v":0},{"$f":"'Absorbance Data'!K3827-Calculations!H$1","v":0},{"$f":"'Absorbance Data'!L3827-Calculations!I$1","v":0},{"$f":"'Absorbance Data'!M3827-Calculations!J$1","v":0},{"$f":"'Absorbance Data'!N3827-Calculations!K$1","v":0},{"$f":"'Absorbance Data'!O3827-Calculations!L$1","v":0},{"$f":"'Absorbance Data'!P3827-Calculations!M$1","v":0},{"$f":"'Absorbance Data'!Q3827-Calculations!N$1","v":0},{"$f":"'Absorbance Data'!R3827-Calculations!O$1","v":0},{"$f":"'Absorbance Data'!S3827-Calculations!P$1","v":0},{"$f":"'Absorbance Data'!T3827-Calculations!Q$1","v":0},{"$f":"'Absorbance Data'!U3827-Calculations!R$1","v":0},{"$f":"'Absorbance Data'!V3827-Calculations!S$1","v":0},{"$f":"'Absorbance Data'!W3827-Calculations!T$1","v":0},{"$f":"'Absorbance Data'!X3827-Calculations!U$1","v":0},{"$f":"'Absorbance Data'!Y3827-Calculations!V$1","v":0},{"$f":"'Absorbance Data'!Z3827-Calculations!W$1","v":0}]
[{"$f":"'Absorbance Data'!D3828","v":774.68365478515625},{"$f":"'Absorbance Data'!E3828-Calculations!B$1","v":0},{"$f":"'Absorbance Data'!F3828-Calculations!C$1","v":0},{"$f":"'Absorbance Data'!G3828-Calculations!D$1","v":0},{"$f":"'Absorbance Data'!H3828-Calculations!E$1","v":0},{"$f":"'Absorbance Data'!I3828-Calculations!F$1","v":0},{"$f":"'Absorbance Data'!J3828-Calculations!G$1","v":0},{"$f":"'Absorbance Data'!K3828-Calculations!H$1","v":0},{"$f":"'Absorbance Data'!L3828-Calculations!I$1","v":0},{"$f":"'Absorbance Data'!M3828-Calculations!J$1","v":0},{"$f":"'Absorbance Data'!N3828-Calculations!K$1","v":0},{"$f":"'Absorbance Data'!O3828-Calculations!L$1","v":0},{"$f":"'Absorbance Data'!P3828-Calculations!M$1","v":0},{"$f":"'Absorbance Data'!Q3828-Calculations!N$1","v":0},{"$f":"'Absorbance Data'!R3828-Calculations!O$1","v":0},{"$f":"'Absorbance Data'!S3828-Calculations!P$1","v":0},{"$f":"'Absorbance Data'!T3828-Calculations!Q$1","v":0},{"$f":"'Absorbance Data'!U3828-Calculations!R$1","v":0},{"$f":"'Absorbance Data'!V3828-Calculations!S$1","v":0},{"$f":"'Absorbance Data'!W3828-Calculations!T$1","v":0},{"$f":"'Absorbance Data'!X3828-Calculations!U$1","v":0},{"$f":"'Absorbance Data'!Y3828-Calculations!V$1","v":0},{"$f":"'Absorbance Data'!Z3828-Calculations!W$1","v":0}]
[{"$f":"'Absorbance Data'!D3829","v":774.97918701171875},{"$f":"'Absorbance Data'!E3829-Calculations!B$1","v":0},{"$f":"'Absorbance Data'!F3829-Calculations!C$1","v":0},{"$f":"'Absorbance Data'!G3829-Calculations!D$1","v":0},{"$f":"'Absorbance Data'!H3829-Calculations!E$1","v":0},{"$f":"'Absorbance Data'!I3829-Calculations!F$1","v":0},{"$f":"'Absorbance Data'!J3829-Calculations!G$1","v":0},{"$f":"'Absorbance Data'!K3829-Calculations!H$1","v":0},{"$f":"'Absorbance Data'!L3829-Calculations!I$1","v":0},{"$f":"'Absorbance Data'!M3829-Calculations!J$1","v":0},{"$f":"'Absorbance Data'!N3829-Calculations!K$1","v":0},{"$f":"'Absorbance Data'!O3829-Calculations!L$1","v":0},{"$f":"'Absorbance Data'!P3829-Calculations!M$1","v":0},{"$f":"'Absorbance Data'!Q3829-Calculations!N$1","v":0},{"$f":"'Absorbance Data'!R3829-Calculations!O$1","v":0},{"$f":"'Absorbance Data'!S3829-Calculations!P$1","v":0},{"$f":"'Absorbance Data'!T3829-Calculations!Q$1","v":0},{"$f":"'Absorbance Data'!U3829-Calculations!R$1","v":0},{"$f":"'Absorbance Data'!V3829-Calculations!S$1","v":0},{"$f":"'Absorbance Data'!W3829-Calculations!T$1","v":0},{"$f":"'Absorbance Data'!X3829-Calculations!U$1","v":0},{"$f":"'Absorbance Data'!Y3829-Calculations!V$1","v":0},{"$f":"'Absorbance Data'!Z3829-Calculations!W$1","v":0}]
[{"$f":"'Absorbance Data'!D3830","v":775.27471923828125},{"$f":"'Absorbance Data'!E3830-Calculations!B$1","v":0},{"$f":"'Absorbance Data'!F3830-Calculations!C$1","v":0},{"$f":"'Absorbance Data'!G3830-Calculations!D$1","v":0},{"$f":"'Absorbance Data'!H3830-Calculations!E$1","v":0},{"$f":"'Absorbance Data'!I3830-Calculations!F$1","v":0},{"$f":"'Absorbance Data'!J3830-Calculations!G$1","v":0},{"$f":"'Absorbance Data'!K3830-Calculations!H$1","v":0},{"$f":"'Absorbance Data'!L3830-Calculations!I$1","v":0},{"$f":"'Absorbance Data'!M3830-Calculations!J$1","v":0},{"$f":"'Absorbance Data'!N3830-Calculations!K$1","v":0},{"$f":"'Absorbance Data'!O3830-Calculations!L$1","v":0},{"$f":"'Absorbance Data'!P3830-Calculations!M$1","v":0},{"$f":"'Absorbance Data'!Q3830-Calculations!N$1","v":0},{"$f":"'Absorbance Data'!R3830-Calculations!O$1","v":0},{"$f":"'Absorbance Data'!S3830-Calculations!P$1","v":0},{"$f":"'Absorbance Data'!T3830-Calculations!Q$1","v":0},{"$f":"'Absorbance Data'!U3830-Calculations!R$1","v":0},{"$f":"'Absorbance Data'!V3830-Calculations!S$1","v":0},{"$f":"'Absorbance Data'!W3830-Calculations!T$1","v":0},{"$f":"'Absorbance Data'!X3830-Calculations!U$1","v":0},{"$f":"'Absorbance Data'!Y3830-Calculations!V$1","v":0},{"$f":"'Absorbance Data'!Z3830-Calculations!W$1","v":0}]
[{"$f":"'Absorbance Data'!D3831","v":775.5701904296875},{"$f":"'Absorbance Data'!E3831-Calculations!B$1","v":0},{"$f":"'Absorbance Data'!F3831-Calculations!C$1","v":0},{"$f":"'Absorbance Data'!G3831-Calculations!D$1","v":0},{"$f":"'Absorbance Data'!H3831-Calculations!E$1","v":0},{"$f":"'Absorbance Data'!I3831-Calculations!F$1","v":0},{"$f":"'Absorbance Data'!J3831-Calculations!G$1","v":0},{"$f":"'Absorbance Data'!K3831-Calculations!H$1","v":0},{"$f":"'Absorbance Data'!L3831-Calculations!I$1","v":0},{"$f":"'Absorbance Data'!M3831-Calculations!J$1","v":0},{"$f":"'Absorbance Data'!N3831-Calculations!K$1","v":0},{"$f":"'Absorbance Data'!O3831-Calculations!L$1","v":0},{"$f":"'Absorbance Data'!P3831-Calculations!M$1","v":0},{"$f":"'Absorbance Data'!Q3831-Calculations!N$1","v":0},{"$f":"'Absorbance Data'!R3831-Calculations!O$1","v":0},{"$f":"'Absorbance Data'!S3831-Calculations!P$1","v":0},{"$f":"'Absorbance Data'!T3831-Calculations!Q$1","v":0},{"$f":"'Absorbance Data'!U3831-Calculations!R$1","v":0},{"$f":"'Absorbance Data'!V3831-Calculations!S$1","v":0},{"$f":"'Absorbance Data'!W3831-Calculations!T$1","v":0},{"$f":"'Absorbance Data'!X3831-Calculations!U$1","v":0},{"$f":"'Absorbance Data'!Y3831-Calculations!V$1","v":0},{"$f":"'Absorbance Data'!Z3831-Calculations!W$1","v":0}]
[{"$f":"'Absorbance Data'!D3832","v":775.8656005859375},{"$f":"'Absorbance Data'!E3832-Calculations!B$1","v":0},{"$f":"'Absorbance Data'!F3832-Calculations!C$1","v":0},{"$f":"'Absorbance Data'!G3832-Calculations!D$1","v":0},{"$f":"'Absorbance Data'!H3832-Calculations!E$1","v":0},{"$f":"'Absorbance Data'!I3832-Calculations!F$1","v":0},{"$f":"'Absorbance Data'!J3832-Calculations!G$1","v":0},{"$f":"'Absorbance Data'!K3832-Calculations!H$1","v":0},{"$f":"'Absorbance Data'!L3832-Calculations!I$1","v":0},{"$f":"'Absorbance Data'!M3832-Calculations!J$1","v":0},{"$f":"'Absorbance Data'!N3832-Calculations!K$1","v":0},{"$f":"'Absorbance Data'!O3832-Calculations!L$1","v":0},{"$f":"'Absorbance Data'!P3832-Calculations!M$1","v":0},{"$f":"'Absorbance Data'!Q3832-Calculations!N$1","v":0},{"$f":"'Absorbance Data'!R3832-Calculations!O$1","v":0},{"$f":"'Absorbance Data'!S3832-Calculations!P$1","v":0},{"$f":"'Absorbance Data'!T3832-Calculations!Q$1","v":0},{"$f":"'Absorbance Data'!U3832-Calculations!R$1","v":0},{"$f":"'Absorbance Data'!V3832-Calculations!S$1","v":0},{"$f":"'Absorbance Data'!W3832-Calculations!T$1","v":0},{"$f":"'Absorbance Data'!X3832-Calculations!U$1","v":0},{"$f":"'Absorbance Data'!Y3832-Calculations!V$1","v":0},{"$f":"'Absorbance Data'!Z3832-Calculations!W$1","v":0}]
[{"$f":"'Absorbance Data'!D3833","v":776.16094970703125},{"$f":"'Absorbance Data'!E3833-Calculations!B$1","v":0},{"$f":"'Absorbance Data'!F3833-Calculations!C$1","v":0},{"$f":"'Absorbance Data'!G3833-Calculations!D$1","v":0},{"$f":"'Absorbance Data'!H3833-Calculations!E$1","v":0},{"$f":"'Absorbance Data'!I3833-Calculations!F$1","v":0},{"$f":"'Absorbance Data'!J3833-Calculations!G$1","v":0},{"$f":"'Absorbance Data'!K3833-Calculations!H$1","v":0},{"$f":"'Absorbance Data'!L3833-Calculations!I$1","v":0},{"$f":"'Absorbance Data'!M3833-Calculations!J$1","v":0},{"$f":"'Absorbance Data'!N3833-Calculations!K$1","v":0},{"$f":"'Absorbance Data'!O3833-Calculations!L$1","v":0},{"$f":"'Absorbance Data'!P3833-Calculations!M$1","v":0},{"$f":"'Absorbance Data'!Q3833-Calculations!N$1","v":0},{"$f":"'Absorbance Data'!R3833-Calculations!O$1","v":0},{"$f":"'Absorbance Data'!S3833-Calculations!P$1","v":0},{"$f":"'Absorbance Data'!T3833-Calculations!Q$1","v":0},{"$f":"'Absorbance Data'!U3833-Calculations!R$1","v":0},{"$f":"'Absorbance Data'!V3833-Calculations!S$1","v":0},{"$f":"'Absorbance Data'!W3833-Calculations!T$1","v":0},{"$f":"'Absorbance Data'!X3833-Calculations!U$1","v":0},{"$f":"'Absorbance Data'!Y3833-Calculations!V$1","v":0},{"$f":"'Absorbance Data'!Z3833-Calculations!W$1","v":0}]
[{"$f":"'Absorbance Data'!D3834","v":776.456298828125},{"$f":"'Absorbance Data'!E3834-Calculations!B$1","v":0},{"$f":"'Absorbance Data'!F3834-Calculations!C$1","v":0},{"$f":"'Absorbance Data'!G3834-Calculations!D$1","v":0},{"$f":"'Absorbance Data'!H3834-Calculations!E$1","v":0},{"$f":"'Absorbance Data'!I3834-Calculations!F$1","v":0},{"$f":"'Absorbance Data'!J3834-Calculations!G$1","v":0},{"$f":"'Absorbance Data'!K3834-Calculations!H$1","v":0},{"$f":"'Absorbance Data'!L3834-Calculations!I$1","v":0},{"$f":"'Absorbance Data'!M3834-Calculations!J$1","v":0},{"$f":"'Absorbance Data'!N3834-Calculations!K$1","v":0},{"$f":"'Absorbance Data'!O3834-Calculations!L$1","v":0},{"$f":"'Absorbance Data'!P3834-Calculations!M$1","v":0},{"$f":"'Absorbance Data'!Q3834-Calculations!N$1","v":0},{"$f":"'Absorbance Data'!R3834-Calculations!O$1","v":0},{"$f":"'Absorbance Data'!S3834-Calculations!P$1","v":0},{"$f":"'Absorbance Data'!T3834-Calculations!Q$1","v":0},{"$f":"'Absorbance Data'!U3834-Calculations!R$1","v":0},{"$f":"'Absorbance Data'!V3834-Calculations!S$1","v":0},{"$f":"'Absorbance Data'!W3834-Calculations!T$1","v":0},{"$f":"'Absorbance Data'!X3834-Calculations!U$1","v":0},{"$f":"'Absorbance Data'!Y3834-Calculations!V$1","v":0},{"$f":"'Absorbance Data'!Z3834-Calculations!W$1","v":0}]
[{"$f":"'Absorbance Data'!D3835","v":776.75152587890625},{"$f":"'Absorbance Data'!E3835-Calculations!B$1","v":0},{"$f":"'Absorbance Data'!F3835-Calculations!C$1","v":0},{"$f":"'Absorbance Data'!G3835-Calculations!D$1","v":0},{"$f":"'Absorbance Data'!H3835-Calculations!E$1","v":0},{"$f":"'Absorbance Data'!I3835-Calculations!F$1","v":0},{"$f":"'Absorbance Data'!J3835-Calculations!G$1","v":0},{"$f":"'Absorbance Data'!K3835-Calculations!H$1","v":0},{"$f":"'Absorbance Data'!L3835-Calculations!I$1","v":0},{"$f":"'Absorbance Data'!M3835-Calculations!J$1","v":0},{"$f":"'Absorbance Data'!N3835-Calculations!K$1","v":0},{"$f":"'Absorbance Data'!O3835-Calculations!L$1","v":0},{"$f":"'Absorbance Data'!P3835-Calculations!M$1","v":0},{"$f":"'Absorbance Data'!Q3835-Calculations!N$1","v":0},{"$f":"'Absorbance Data'!R3835-Calculations!O$1","v":0},{"$f":"'Absorbance Data'!S3835-Calculations!P$1","v":0},{"$f":"'Absorbance Data'!T3835-Calculations!Q$1","v":0},{"$f":"'Absorbance Data'!U3835-Calculations!R$1","v":0},{"$f":"'Absorbance Data'!V3835-Calculations!S$1","v":0},{"$f":"'Absorbance Data'!W3835-Calculations!T$1","v":0},{"$f":"'Absorbance Data'!X3835-Calculations!U$1","v":0},{"$f":"'Absorbance Data'!Y3835-Calculations!V$1","v":0},{"$f":"'Absorbance Data'!Z3835-Calculations!W$1","v":0}]
[{"$f":"'Absorbance Data'!D3836","v":777.0467529296875},{"$f":"'Absorbance Data'!E3836-Calculations!B$1","v":0},{"$f":"'Absorbance Data'!F3836-Calculations!C$1","v":0},{"$f":"'Absorbance Data'!G3836-Calculations!D$1","v":0},{"$f":"'Absorbance Data'!H3836-Calculations!E$1","v":0},{"$f":"'Absorbance Data'!I3836-Calculations!F$1","v":0},{"$f":"'Absorbance Data'!J3836-Calculations!G$1","v":0},{"$f":"'Absorbance Data'!K3836-Calculations!H$1","v":0},{"$f":"'Absorbance Data'!L3836-Calculations!I$1","v":0},{"$f":"'Absorbance Data'!M3836-Calculations!J$1","v":0},{"$f":"'Absorbance Data'!N3836-Calculations!K$1","v":0},{"$f":"'Absorbance Data'!O3836-Calculations!L$1","v":0},{"$f":"'Absorbance Data'!P3836-Calculations!M$1","v":0},{"$f":"'Absorbance Data'!Q3836-Calculations!N$1","v":0},{"$f":"'Absorbance Data'!R3836-Calculations!O$1","v":0},{"$f":"'Absorbance Data'!S3836-Calculations!P$1","v":0},{"$f":"'Absorbance Data'!T3836-Calculations!Q$1","v":0},{"$f":"'Absorbance Data'!U3836-Calculations!R$1","v":0},{"$f":"'Absorbance Data'!V3836-Calculations!S$1","v":0},{"$f":"'Absorbance Data'!W3836-Calculations!T$1","v":0},{"$f":"'Absorbance Data'!X3836-Calculations!U$1","v":0},{"$f":"'Absorbance Data'!Y3836-Calculations!V$1","v":0},{"$f":"'Absorbance Data'!Z3836-Calculations!W$1","v":0}]
[{"$f":"'Absorbance Data'!D3837","v":777.34197998046875},{"$f":"'Absorbance Data'!E3837-Calculations!B$1","v":0},{"$f":"'Absorbance Data'!F3837-Calculations!C$1","v":0},{"$f":"'Absorbance Data'!G3837-Calculations!D$1","v":0},{"$f":"'Absorbance Data'!H3837-Calculations!E$1","v":0},{"$f":"'Absorbance Data'!I3837-Calculations!F$1","v":0},{"$f":"'Absorbance Data'!J3837-Calculations!G$1","v":0},{"$f":"'Absorbance Data'!K3837-Calculations!H$1","v":0},{"$f":"'Absorbance Data'!L3837-Calculations!I$1","v":0},{"$f":"'Absorbance Data'!M3837-Calculations!J$1","v":0},{"$f":"'Absorbance Data'!N3837-Calculations!K$1","v":0},{"$f":"'Absorbance Data'!O3837-Calculations!L$1","v":0},{"$f":"'Absorbance Data'!P3837-Calculations!M$1","v":0},{"$f":"'Absorbance Data'!Q3837-Calculations!N$1","v":0},{"$f":"'Absorbance Data'!R3837-Calculations!O$1","v":0},{"$f":"'Absorbance Data'!S3837-Calculations!P$1","v":0},{"$f":"'Absorbance Data'!T3837-Calculations!Q$1","v":0},{"$f":"'Absorbance Data'!U3837-Calculations!R$1","v":0},{"$f":"'Absorbance Data'!V3837-Calculations!S$1","v":0},{"$f":"'Absorbance Data'!W3837-Calculations!T$1","v":0},{"$f":"'Absorbance Data'!X3837-Calculations!U$1","v":0},{"$f":"'Absorbance Data'!Y3837-Calculations!V$1","v":0},{"$f":"'Absorbance Data'!Z3837-Calculations!W$1","v":0}]
[{"$f":"'Absorbance Data'!D3838","v":777.6370849609375},{"$f":"'Absorbance Data'!E3838-Calculations!B$1","v":0},{"$f":"'Absorbance Data'!F3838-Calculations!C$1","v":0},{"$f":"'Absorbance Data'!G3838-Calculations!D$1","v":0},{"$f":"'Absorbance Data'!H3838-Calculations!E$1","v":0},{"$f":"'Absorbance Data'!I3838-Calculations!F$1","v":0},{"$f":"'Absorbance Data'!J3838-Calculations!G$1","v":0},{"$f":"'Absorbance Data'!K3838-Calculations!H$1","v":0},{"$f":"'Absorbance Data'!L3838-Calculations!I$1","v":0},{"$f":"'Absorbance Data'!M3838-Calculations!J$1","v":0},{"$f":"'Absorbance Data'!N3838-Calculations!K$1","v":0},{"$f":"'Absorbance Data'!O3838-Calculations!L$1","v":0},{"$f":"'Absorbance Data'!P3838-Calculations!M$1","v":0},{"$f":"'Absorbance Data'!Q3838-Calculations!N$1","v":0},{"$f":"'Absorbance Data'!R3838-Calculations!O$1","v":0},{"$f":"'Absorbance Data'!S3838-Calculations!P$1","v":0},{"$f":"'Absorbance Data'!T3838-Calculations!Q$1","v":0},{"$f":"'Absorbance Data'!U3838-Calculations!R$1","v":0},{"$f":"'Absorbance Data'!V3838-Calculations!S$1","v":0},{"$f":"'Absorbance Data'!W3838-Calculations!T$1","v":0},{"$f":"'Absorbance Data'!X3838-Calculations!U$1","v":0},{"$f":"'Absorbance Data'!Y3838-Calculations!V$1","v":0},{"$f":"'Absorbance Data'!Z3838-Calculations!W$1","v":0}]
[{"$f":"'Absorbance Data'!D3839","v":777.93218994140625},{"$f":"'Absorbance Data'!E3839-Calculations!B$1","v":0},{"$f":"'Absorbance Data'!F3839-Calculations!C$1","v":0},{"$f":"'Absorbance Data'!G3839-Calculations!D$1","v":0},{"$f":"'Absorbance Data'!H3839-Calculations!E$1","v":0},{"$f":"'Absorbance Data'!I3839-Calculations!F$1","v":0},{"$f":"'Absorbance Data'!J3839-Calculations!G$1","v":0},{"$f":"'Absorbance Data'!K3839-Calculations!H$1","v":0},{"$f":"'Absorbance Data'!L3839-Calculations!I$1","v":0},{"$f":"'Absorbance Data'!M3839-Calculations!J$1","v":0},{"$f":"'Absorbance Data'!N3839-Calculations!K$1","v":0},{"$f":"'Absorbance Data'!O3839-Calculations!L$1","v":0},{"$f":"'Absorbance Data'!P3839-Calculations!M$1","v":0},{"$f":"'Absorbance Data'!Q3839-Calculations!N$1","v":0},{"$f":"'Absorbance Data'!R3839-Calculations!O$1","v":0},{"$f":"'Absorbance Data'!S3839-Calculations!P$1","v":0},{"$f":"'Absorbance Data'!T3839-Calculations!Q$1","v":0},{"$f":"'Absorbance Data'!U3839-Calculations!R$1","v":0},{"$f":"'Absorbance Data'!V3839-Calculations!S$1","v":0},{"$f":"'Absorbance Data'!W3839-Calculations!T$1","v":0},{"$f":"'Absorbance Data'!X3839-Calculations!U$1","v":0},{"$f":"'Absorbance Data'!Y3839-Calculations!V$1","v":0},{"$f":"'Absorbance Data'!Z3839-Calculations!W$1","v":0}]
[{"$f":"'Absorbance Data'!D3840","v":778.22723388671875},{"$f":"'Absorbance Data'!E3840-Calculations!B$1","v":0},{"$f":"'Absorbance Data'!F3840-Calculations!C$1","v":0},{"$f":"'Absorbance Data'!G3840-Calculations!D$1","v":0},{"$f":"'Absorbance Data'!H3840-Calculations!E$1","v":0},{"$f":"'Absorbance Data'!I3840-Calculations!F$1","v":0},{"$f":"'Absorbance Data'!J3840-Calculations!G$1","v":0},{"$f":"'Absorbance Data'!K3840-Calculations!H$1","v":0},{"$f":"'Absorbance Data'!L3840-Calculations!I$1","v":0},{"$f":"'Absorbance Data'!M3840-Calculations!J$1","v":0},{"$f":"'Absorbance Data'!N3840-Calculations!K$1","v":0},{"$f":"'Absorbance Data'!O3840-Calculations!L$1","v":0},{"$f":"'Absorbance Data'!P3840-Calculations!M$1","v":0},{"$f":"'Absorbance Data'!Q3840-Calculations!N$1","v":0},{"$f":"'Absorbance Data'!R3840-Calculations!O$1","v":0},{"$f":"'Absorbance Data'!S3840-Calculations!P$1","v":0},{"$f":"'Absorbance Data'!T3840-Calculations!Q$1","v":0},{"$f":"'Absorbance Data'!U3840-Calculations!R$1","v":0},{"$f":"'Absorbance Data'!V3840-Calculations!S$1","v":0},{"$f":"'Absorbance Data'!W3840-Calculations!T$1","v":0},{"$f":"'Absorbance Data'!X3840-Calculations!U$1","v":0},{"$f":"'Absorbance Data'!Y3840-Calculations!V$1","v":0},{"$f":"'Absorbance Data'!Z3840-Calculations!W$1","v":0}]
[{"$f":"'Absorbance Data'!D3841","v":778.52215576171875},{"$f":"'Absorbance Data'!E3841-Calculations!B$1","v":0},{"$f":"'Absorbance Data'!F3841-Calculations!C$1","v":0},{"$f":"'Absorbance Data'!G3841-Calculations!D$1","v":0},{"$f":"'Absorbance Data'!H3841-Calculations!E$1","v":0},{"$f":"'Absorbance Data'!I3841-Calculations!F$1","v":0},{"$f":"'Absorbance Data'!J3841-Calculations!G$1","v":0},{"$f":"'Absorbance Data'!K3841-Calculations!H$1","v":0},{"$f":"'Absorbance Data'!L3841-Calculations!I$1","v":0},{"$f":"'Absorbance Data'!M3841-Calculations!J$1","v":0},{"$f":"'Absorbance Data'!N3841-Calculations!K$1","v":0},{"$f":"'Absorbance Data'!O3841-Calculations!L$1","v":0},{"$f":"'Absorbance Data'!P3841-Calculations!M$1","v":0},{"$f":"'Absorbance Data'!Q3841-Calculations!N$1","v":0},{"$f":"'Absorbance Data'!R3841-Calculations!O$1","v":0},{"$f":"'Absorbance Data'!S3841-Calculations!P$1","v":0},{"$f":"'Absorbance Data'!T3841-Calculations!Q$1","v":0},{"$f":"'Absorbance Data'!U3841-Calculations!R$1","v":0},{"$f":"'Absorbance Data'!V3841-Calculations!S$1","v":0},{"$f":"'Absorbance Data'!W3841-Calculations!T$1","v":0},{"$f":"'Absorbance Data'!X3841-Calculations!U$1","v":0},{"$f":"'Absorbance Data'!Y3841-Calculations!V$1","v":0},{"$f":"'Absorbance Data'!Z3841-Calculations!W$1","v":0}]
[{"$f":"'Absorbance Data'!D3842","v":778.817138671875},{"$f":"'Absorbance Data'!E3842-Calculations!B$1","v":0},{"$f":"'Absorbance Data'!F3842-Calculations!C$1","v":0},{"$f":"'Absorbance Data'!G3842-Calculations!D$1","v":0},{"$f":"'Absorbance Data'!H3842-Calculations!E$1","v":0},{"$f":"'Absorbance Data'!I3842-Calculations!F$1","v":0},{"$f":"'Absorbance Data'!J3842-Calculations!G$1","v":0},{"$f":"'Absorbance Data'!K3842-Calculations!H$1","v":0},{"$f":"'Absorbance Data'!L3842-Calculations!I$1","v":0},{"$f":"'Absorbance Data'!M3842-Calculations!J$1","v":0},{"$f":"'Absorbance Data'!N3842-Calculations!K$1","v":0},{"$f":"'Absorbance Data'!O3842-Calculations!L$1","v":0},{"$f":"'Absorbance Data'!P3842-Calculations!M$1","v":0},{"$f":"'Absorbance Data'!Q3842-Calculations!N$1","v":0},{"$f":"'Absorbance Data'!R3842-Calculations!O$1","v":0},{"$f":"'Absorbance Data'!S3842-Calculations!P$1","v":0},{"$f":"'Absorbance Data'!T3842-Calculations!Q$1","v":0},{"$f":"'Absorbance Data'!U3842-Calculations!R$1","v":0},{"$f":"'Absorbance Data'!V3842-Calculations!S$1","v":0},{"$f":"'Absorbance Data'!W3842-Calculations!T$1","v":0},{"$f":"'Absorbance Data'!X3842-Calculations!U$1","v":0},{"$f":"'Absorbance Data'!Y3842-Calculations!V$1","v":0},{"$f":"'Absorbance Data'!Z3842-Calculations!W$1","v":0}]
[{"$f":"'Absorbance Data'!D3843","v":779.11199951171875},{"$f":"'Absorbance Data'!E3843-Calculations!B$1","v":0},{"$f":"'Absorbance Data'!F3843-Calculations!C$1","v":0},{"$f":"'Absorbance Data'!G3843-Calculations!D$1","v":0},{"$f":"'Absorbance Data'!H3843-Calculations!E$1","v":0},{"$f":"'Absorbance Data'!I3843-Calculations!F$1","v":0},{"$f":"'Absorbance Data'!J3843-Calculations!G$1","v":0},{"$f":"'Absorbance Data'!K3843-Calculations!H$1","v":0},{"$f":"'Absorbance Data'!L3843-Calculations!I$1","v":0},{"$f":"'Absorbance Data'!M3843-Calculations!J$1","v":0},{"$f":"'Absorbance Data'!N3843-Calculations!K$1","v":0},{"$f":"'Absorbance Data'!O3843-Calculations!L$1","v":0},{"$f":"'Absorbance Data'!P3843-Calculations!M$1","v":0},{"$f":"'Absorbance Data'!Q3843-Calculations!N$1","v":0},{"$f":"'Absorbance Data'!R3843-Calculations!O$1","v":0},{"$f":"'Absorbance Data'!S3843-Calculations!P$1","v":0},{"$f":"'Absorbance Data'!T3843-Calculations!Q$1","v":0},{"$f":"'Absorbance Data'!U3843-Calculations!R$1","v":0},{"$f":"'Absorbance Data'!V3843-Calculations!S$1","v":0},{"$f":"'Absorbance Data'!W3843-Calculations!T$1","v":0},{"$f":"'Absorbance Data'!X3843-Calculations!U$1","v":0},{"$f":"'Absorbance Data'!Y3843-Calculations!V$1","v":0},{"$f":"'Absorbance Data'!Z3843-Calculations!W$1","v":0}]
[{"$f":"'Absorbance Data'!D3844","v":779.4068603515625},{"$f":"'Absorbance Data'!E3844-Calculations!B$1","v":0},{"$f":"'Absorbance Data'!F3844-Calculations!C$1","v":0},{"$f":"'Absorbance Data'!G3844-Calculations!D$1","v":0},{"$f":"'Absorbance Data'!H3844-Calculations!E$1","v":0},{"$f":"'Absorbance Data'!I3844-Calculations!F$1","v":0},{"$f":"'Absorbance Data'!J3844-Calculations!G$1","v":0},{"$f":"'Absorbance Data'!K3844-Calculations!H$1","v":0},{"$f":"'Absorbance Data'!L3844-Calculations!I$1","v":0},{"$f":"'Absorbance Data'!M3844-Calculations!J$1","v":0},{"$f":"'Absorbance Data'!N3844-Calculations!K$1","v":0},{"$f":"'Absorbance Data'!O3844-Calculations!L$1","v":0},{"$f":"'Absorbance Data'!P3844-Calculations!M$1","v":0},{"$f":"'Absorbance Data'!Q3844-Calculations!N$1","v":0},{"$f":"'Absorbance Data'!R3844-Calculations!O$1","v":0},{"$f":"'Absorbance Data'!S3844-Calculations!P$1","v":0},{"$f":"'Absorbance Data'!T3844-Calculations!Q$1","v":0},{"$f":"'Absorbance Data'!U3844-Calculations!R$1","v":0},{"$f":"'Absorbance Data'!V3844-Calculations!S$1","v":0},{"$f":"'Absorbance Data'!W3844-Calculations!T$1","v":0},{"$f":"'Absorbance Data'!X3844-Calculations!U$1","v":0},{"$f":"'Absorbance Data'!Y3844-Calculations!V$1","v":0},{"$f":"'Absorbance Data'!Z3844-Calculations!W$1","v":0}]
[{"$f":"'Absorbance Data'!D3845","v":779.70159912109375},{"$f":"'Absorbance Data'!E3845-Calculations!B$1","v":0},{"$f":"'Absorbance Data'!F3845-Calculations!C$1","v":0},{"$f":"'Absorbance Data'!G3845-Calculations!D$1","v":0},{"$f":"'Absorbance Data'!H3845-Calculations!E$1","v":0},{"$f":"'Absorbance Data'!I3845-Calculations!F$1","v":0},{"$f":"'Absorbance Data'!J3845-Calculations!G$1","v":0},{"$f":"'Absorbance Data'!K3845-Calculations!H$1","v":0},{"$f":"'Absorbance Data'!L3845-Calculations!I$1","v":0},{"$f":"'Absorbance Data'!M3845-Calculations!J$1","v":0},{"$f":"'Absorbance Data'!N3845-Calculations!K$1","v":0},{"$f":"'Absorbance Data'!O3845-Calculations!L$1","v":0},{"$f":"'Absorbance Data'!P3845-Calculations!M$1","v":0},{"$f":"'Absorbance Data'!Q3845-Calculations!N$1","v":0},{"$f":"'Absorbance Data'!R3845-Calculations!O$1","v":0},{"$f":"'Absorbance Data'!S3845-Calculations!P$1","v":0},{"$f":"'Absorbance Data'!T3845-Calculations!Q$1","v":0},{"$f":"'Absorbance Data'!U3845-Calculations!R$1","v":0},{"$f":"'Absorbance Data'!V3845-Calculations!S$1","v":0},{"$f":"'Absorbance Data'!W3845-Calculations!T$1","v":0},{"$f":"'Absorbance Data'!X3845-Calculations!U$1","v":0},{"$f":"'Absorbance Data'!Y3845-Calculations!V$1","v":0},{"$f":"'Absorbance Data'!Z3845-Calculations!W$1","v":0}]
[{"$f":"'Absorbance Data'!D3846","v":779.99639892578125},{"$f":"'Absorbance Data'!E3846-Calculations!B$1","v":0},{"$f":"'Absorbance Data'!F3846-Calculations!C$1","v":0},{"$f":"'Absorbance Data'!G3846-Calculations!D$1","v":0},{"$f":"'Absorbance Data'!H3846-Calculations!E$1","v":0},{"$f":"'Absorbance Data'!I3846-Calculations!F$1","v":0},{"$f":"'Absorbance Data'!J3846-Calculations!G$1","v":0},{"$f":"'Absorbance Data'!K3846-Calculations!H$1","v":0},{"$f":"'Absorbance Data'!L3846-Calculations!I$1","v":0},{"$f":"'Absorbance Data'!M3846-Calculations!J$1","v":0},{"$f":"'Absorbance Data'!N3846-Calculations!K$1","v":0},{"$f":"'Absorbance Data'!O3846-Calculations!L$1","v":0},{"$f":"'Absorbance Data'!P3846-Calculations!M$1","v":0},{"$f":"'Absorbance Data'!Q3846-Calculations!N$1","v":0},{"$f":"'Absorbance Data'!R3846-Calculations!O$1","v":0},{"$f":"'Absorbance Data'!S3846-Calculations!P$1","v":0},{"$f":"'Absorbance Data'!T3846-Calculations!Q$1","v":0},{"$f":"'Absorbance Data'!U3846-Calculations!R$1","v":0},{"$f":"'Absorbance Data'!V3846-Calculations!S$1","v":0},{"$f":"'Absorbance Data'!W3846-Calculations!T$1","v":0},{"$f":"'Absorbance Data'!X3846-Calculations!U$1","v":0},{"$f":"'Absorbance Data'!Y3846-Calculations!V$1","v":0},{"$f":"'Absorbance Data'!Z3846-Calculations!W$1","v":0}]
[{"$f":"'Absorbance Data'!D3847","v":780.29107666015625},{"$f":"'Absorbance Data'!E3847-Calculations!B$1","v":0},{"$f":"'Absorbance Data'!F3847-Calculations!C$1","v":0},{"$f":"'Absorbance Data'!G3847-Calculations!D$1","v":0},{"$f":"'Absorbance Data'!H3847-Calculations!E$1","v":0},{"$f":"'Absorbance Data'!I3847-Calculations!F$1","v":0},{"$f":"'Absorbance Data'!J3847-Calculations!G$1","v":0},{"$f":"'Absorbance Data'!K3847-Calculations!H$1","v":0},{"$f":"'Absorbance Data'!L3847-Calculations!I$1","v":0},{"$f":"'Absorbance Data'!M3847-Calculations!J$1","v":0},{"$f":"'Absorbance Data'!N3847-Calculations!K$1","v":0},{"$f":"'Absorbance Data'!O3847-Calculations!L$1","v":0},{"$f":"'Absorbance Data'!P3847-Calculations!M$1","v":0},{"$f":"'Absorbance Data'!Q3847-Calculations!N$1","v":0},{"$f":"'Absorbance Data'!R3847-Calculations!O$1","v":0},{"$f":"'Absorbance Data'!S3847-Calculations!P$1","v":0},{"$f":"'Absorbance Data'!T3847-Calculations!Q$1","v":0},{"$f":"'Absorbance Data'!U3847-Calculations!R$1","v":0},{"$f":"'Absorbance Data'!V3847-Calculations!S$1","v":0},{"$f":"'Absorbance Data'!W3847-Calculations!T$1","v":0},{"$f":"'Absorbance Data'!X3847-Calculations!U$1","v":0},{"$f":"'Absorbance Data'!Y3847-Calculations!V$1","v":0},{"$f":"'Absorbance Data'!Z3847-Calculations!W$1","v":0}]
[{"$f":"'Absorbance Data'!D3848","v":780.58575439453125},{"$f":"'Absorbance Data'!E3848-Calculations!B$1","v":0},{"$f":"'Absorbance Data'!F3848-Calculations!C$1","v":0},{"$f":"'Absorbance Data'!G3848-Calculations!D$1","v":0},{"$f":"'Absorbance Data'!H3848-Calculations!E$1","v":0},{"$f":"'Absorbance Data'!I3848-Calculations!F$1","v":0},{"$f":"'Absorbance Data'!J3848-Calculations!G$1","v":0},{"$f":"'Absorbance Data'!K3848-Calculations!H$1","v":0},{"$f":"'Absorbance Data'!L3848-Calculations!I$1","v":0},{"$f":"'Absorbance Data'!M3848-Calculations!J$1","v":0},{"$f":"'Absorbance Data'!N3848-Calculations!K$1","v":0},{"$f":"'Absorbance Data'!O3848-Calculations!L$1","v":0},{"$f":"'Absorbance Data'!P3848-Calculations!M$1","v":0},{"$f":"'Absorbance Data'!Q3848-Calculations!N$1","v":0},{"$f":"'Absorbance Data'!R3848-Calculations!O$1","v":0},{"$f":"'Absorbance Data'!S3848-Calculations!P$1","v":0},{"$f":"'Absorbance Data'!T3848-Calculations!Q$1","v":0},{"$f":"'Absorbance Data'!U3848-Calculations!R$1","v":0},{"$f":"'Absorbance Data'!V3848-Calculations!S$1","v":0},{"$f":"'Absorbance Data'!W3848-Calculations!T$1","v":0},{"$f":"'Absorbance Data'!X3848-Calculations!U$1","v":0},{"$f":"'Absorbance Data'!Y3848-Calculations!V$1","v":0},{"$f":"'Absorbance Data'!Z3848-Calculations!W$1","v":0}]
[{"$f":"'Absorbance Data'!D3849","v":780.88031005859375},{"$f":"'Absorbance Data'!E3849-Calculations!B$1","v":0},{"$f":"'Absorbance Data'!F3849-Calculations!C$1","v":0},{"$f":"'Absorbance Data'!G3849-Calculations!D$1","v":0},{"$f":"'Absorbance Data'!H3849-Calculations!E$1","v":0},{"$f":"'Absorbance Data'!I3849-Calculations!F$1","v":0},{"$f":"'Absorbance Data'!J3849-Calculations!G$1","v":0},{"$f":"'Absorbance Data'!K3849-Calculations!H$1","v":0},{"$f":"'Absorbance Data'!L3849-Calculations!I$1","v":0},{"$f":"'Absorbance Data'!M3849-Calculations!J$1","v":0},{"$f":"'Absorbance Data'!N3849-Calculations!K$1","v":0},{"$f":"'Absorbance Data'!O3849-Calculations!L$1","v":0},{"$f":"'Absorbance Data'!P3849-Calculations!M$1","v":0},{"$f":"'Absorbance Data'!Q3849-Calculations!N$1","v":0},{"$f":"'Absorbance Data'!R3849-Calculations!O$1","v":0},{"$f":"'Absorbance Data'!S3849-Calculations!P$1","v":0},{"$f":"'Absorbance Data'!T3849-Calculations!Q$1","v":0},{"$f":"'Absorbance Data'!U3849-Calculations!R$1","v":0},{"$f":"'Absorbance Data'!V3849-Calculations!S$1","v":0},{"$f":"'Absorbance Data'!W3849-Calculations!T$1","v":0},{"$f":"'Absorbance Data'!X3849-Calculations!U$1","v":0},{"$f":"'Absorbance Data'!Y3849-Calculations!V$1","v":0},{"$f":"'Absorbance Data'!Z3849-Calculations!W$1","v":0}]
[{"$f":"'Absorbance Data'!D3850","v":781.17486572265625},{"$f":"'Absorbance Data'!E3850-Calculations!B$1","v":0},{"$f":"'Absorbance Data'!F3850-Calculations!C$1","v":0},{"$f":"'Absorbance Data'!G3850-Calculations!D$1","v":0},{"$f":"'Absorbance Data'!H3850-Calculations!E$1","v":0},{"$f":"'Absorbance Data'!I3850-Calculations!F$1","v":0},{"$f":"'Absorbance Data'!J3850-Calculations!G$1","v":0},{"$f":"'Absorbance Data'!K3850-Calculations!H$1","v":0},{"$f":"'Absorbance Data'!L3850-Calculations!I$1","v":0},{"$f":"'Absorbance Data'!M3850-Calculations!J$1","v":0},{"$f":"'Absorbance Data'!N3850-Calculations!K$1","v":0},{"$f":"'Absorbance Data'!O3850-Calculations!L$1","v":0},{"$f":"'Absorbance Data'!P3850-Calculations!M$1","v":0},{"$f":"'Absorbance Data'!Q3850-Calculations!N$1","v":0},{"$f":"'Absorbance Data'!R3850-Calculations!O$1","v":0},{"$f":"'Absorbance Data'!S3850-Calculations!P$1","v":0},{"$f":"'Absorbance Data'!T3850-Calculations!Q$1","v":0},{"$f":"'Absorbance Data'!U3850-Calculations!R$1","v":0},{"$f":"'Absorbance Data'!V3850-Calculations!S$1","v":0},{"$f":"'Absorbance Data'!W3850-Calculations!T$1","v":0},{"$f":"'Absorbance Data'!X3850-Calculations!U$1","v":0},{"$f":"'Absorbance Data'!Y3850-Calculations!V$1","v":0},{"$f":"'Absorbance Data'!Z3850-Calculations!W$1","v":0}]
[{"$f":"'Absorbance Data'!D3851","v":781.46942138671875},{"$f":"'Absorbance Data'!E3851-Calculations!B$1","v":0},{"$f":"'Absorbance Data'!F3851-Calculations!C$1","v":0},{"$f":"'Absorbance Data'!G3851-Calculations!D$1","v":0},{"$f":"'Absorbance Data'!H3851-Calculations!E$1","v":0},{"$f":"'Absorbance Data'!I3851-Calculations!F$1","v":0},{"$f":"'Absorbance Data'!J3851-Calculations!G$1","v":0},{"$f":"'Absorbance Data'!K3851-Calculations!H$1","v":0},{"$f":"'Absorbance Data'!L3851-Calculations!I$1","v":0},{"$f":"'Absorbance Data'!M3851-Calculations!J$1","v":0},{"$f":"'Absorbance Data'!N3851-Calculations!K$1","v":0},{"$f":"'Absorbance Data'!O3851-Calculations!L$1","v":0},{"$f":"'Absorbance Data'!P3851-Calculations!M$1","v":0},{"$f":"'Absorbance Data'!Q3851-Calculations!N$1","v":0},{"$f":"'Absorbance Data'!R3851-Calculations!O$1","v":0},{"$f":"'Absorbance Data'!S3851-Calculations!P$1","v":0},{"$f":"'Absorbance Data'!T3851-Calculations!Q$1","v":0},{"$f":"'Absorbance Data'!U3851-Calculations!R$1","v":0},{"$f":"'Absorbance Data'!V3851-Calculations!S$1","v":0},{"$f":"'Absorbance Data'!W3851-Calculations!T$1","v":0},{"$f":"'Absorbance Data'!X3851-Calculations!U$1","v":0},{"$f":"'Absorbance Data'!Y3851-Calculations!V$1","v":0},{"$f":"'Absorbance Data'!Z3851-Calculations!W$1","v":0}]
[{"$f":"'Absorbance Data'!D3852","v":781.76385498046875},{"$f":"'Absorbance Data'!E3852-Calculations!B$1","v":0},{"$f":"'Absorbance Data'!F3852-Calculations!C$1","v":0},{"$f":"'Absorbance Data'!G3852-Calculations!D$1","v":0},{"$f":"'Absorbance Data'!H3852-Calculations!E$1","v":0},{"$f":"'Absorbance Data'!I3852-Calculations!F$1","v":0},{"$f":"'Absorbance Data'!J3852-Calculations!G$1","v":0},{"$f":"'Absorbance Data'!K3852-Calculations!H$1","v":0},{"$f":"'Absorbance Data'!L3852-Calculations!I$1","v":0},{"$f":"'Absorbance Data'!M3852-Calculations!J$1","v":0},{"$f":"'Absorbance Data'!N3852-Calculations!K$1","v":0},{"$f":"'Absorbance Data'!O3852-Calculations!L$1","v":0},{"$f":"'Absorbance Data'!P3852-Calculations!M$1","v":0},{"$f":"'Absorbance Data'!Q3852-Calculations!N$1","v":0},{"$f":"'Absorbance Data'!R3852-Calculations!O$1","v":0},{"$f":"'Absorbance Data'!S3852-Calculations!P$1","v":0},{"$f":"'Absorbance Data'!T3852-Calculations!Q$1","v":0},{"$f":"'Absorbance Data'!U3852-Calculations!R$1","v":0},{"$f":"'Absorbance Data'!V3852-Calculations!S$1","v":0},{"$f":"'Absorbance Data'!W3852-Calculations!T$1","v":0},{"$f":"'Absorbance Data'!X3852-Calculations!U$1","v":0},{"$f":"'Absorbance Data'!Y3852-Calculations!V$1","v":0},{"$f":"'Absorbance Data'!Z3852-Calculations!W$1","v":0}]
[{"$f":"'Absorbance Data'!D3853","v":782.05828857421875},{"$f":"'Absorbance Data'!E3853-Calculations!B$1","v":0},{"$f":"'Absorbance Data'!F3853-Calculations!C$1","v":0},{"$f":"'Absorbance Data'!G3853-Calculations!D$1","v":0},{"$f":"'Absorbance Data'!H3853-Calculations!E$1","v":0},{"$f":"'Absorbance Data'!I3853-Calculations!F$1","v":0},{"$f":"'Absorbance Data'!J3853-Calculations!G$1","v":0},{"$f":"'Absorbance Data'!K3853-Calculations!H$1","v":0},{"$f":"'Absorbance Data'!L3853-Calculations!I$1","v":0},{"$f":"'Absorbance Data'!M3853-Calculations!J$1","v":0},{"$f":"'Absorbance Data'!N3853-Calculations!K$1","v":0},{"$f":"'Absorbance Data'!O3853-Calculations!L$1","v":0},{"$f":"'Absorbance Data'!P3853-Calculations!M$1","v":0},{"$f":"'Absorbance Data'!Q3853-Calculations!N$1","v":0},{"$f":"'Absorbance Data'!R3853-Calculations!O$1","v":0},{"$f":"'Absorbance Data'!S3853-Calculations!P$1","v":0},{"$f":"'Absorbance Data'!T3853-Calculations!Q$1","v":0},{"$f":"'Absorbance Data'!U3853-Calculations!R$1","v":0},{"$f":"'Absorbance Data'!V3853-Calculations!S$1","v":0},{"$f":"'Absorbance Data'!W3853-Calculations!T$1","v":0},{"$f":"'Absorbance Data'!X3853-Calculations!U$1","v":0},{"$f":"'Absorbance Data'!Y3853-Calculations!V$1","v":0},{"$f":"'Absorbance Data'!Z3853-Calculations!W$1","v":0}]
[{"$f":"'Absorbance Data'!D3854","v":782.3526611328125},{"$f":"'Absorbance Data'!E3854-Calculations!B$1","v":0},{"$f":"'Absorbance Data'!F3854-Calculations!C$1","v":0},{"$f":"'Absorbance Data'!G3854-Calculations!D$1","v":0},{"$f":"'Absorbance Data'!H3854-Calculations!E$1","v":0},{"$f":"'Absorbance Data'!I3854-Calculations!F$1","v":0},{"$f":"'Absorbance Data'!J3854-Calculations!G$1","v":0},{"$f":"'Absorbance Data'!K3854-Calculations!H$1","v":0},{"$f":"'Absorbance Data'!L3854-Calculations!I$1","v":0},{"$f":"'Absorbance Data'!M3854-Calculations!J$1","v":0},{"$f":"'Absorbance Data'!N3854-Calculations!K$1","v":0},{"$f":"'Absorbance Data'!O3854-Calculations!L$1","v":0},{"$f":"'Absorbance Data'!P3854-Calculations!M$1","v":0},{"$f":"'Absorbance Data'!Q3854-Calculations!N$1","v":0},{"$f":"'Absorbance Data'!R3854-Calculations!O$1","v":0},{"$f":"'Absorbance Data'!S3854-Calculations!P$1","v":0},{"$f":"'Absorbance Data'!T3854-Calculations!Q$1","v":0},{"$f":"'Absorbance Data'!U3854-Calculations!R$1","v":0},{"$f":"'Absorbance Data'!V3854-Calculations!S$1","v":0},{"$f":"'Absorbance Data'!W3854-Calculations!T$1","v":0},{"$f":"'Absorbance Data'!X3854-Calculations!U$1","v":0},{"$f":"'Absorbance Data'!Y3854-Calculations!V$1","v":0},{"$f":"'Absorbance Data'!Z3854-Calculations!W$1","v":0}]
[{"$f":"'Absorbance Data'!D3855","v":782.64691162109375},{"$f":"'Absorbance Data'!E3855-Calculations!B$1","v":0},{"$f":"'Absorbance Data'!F3855-Calculations!C$1","v":0},{"$f":"'Absorbance Data'!G3855-Calculations!D$1","v":0},{"$f":"'Absorbance Data'!H3855-Calculations!E$1","v":0},{"$f":"'Absorbance Data'!I3855-Calculations!F$1","v":0},{"$f":"'Absorbance Data'!J3855-Calculations!G$1","v":0},{"$f":"'Absorbance Data'!K3855-Calculations!H$1","v":0},{"$f":"'Absorbance Data'!L3855-Calculations!I$1","v":0},{"$f":"'Absorbance Data'!M3855-Calculations!J$1","v":0},{"$f":"'Absorbance Data'!N3855-Calculations!K$1","v":0},{"$f":"'Absorbance Data'!O3855-Calculations!L$1","v":0},{"$f":"'Absorbance Data'!P3855-Calculations!M$1","v":0},{"$f":"'Absorbance Data'!Q3855-Calculations!N$1","v":0},{"$f":"'Absorbance Data'!R3855-Calculations!O$1","v":0},{"$f":"'Absorbance Data'!S3855-Calculations!P$1","v":0},{"$f":"'Absorbance Data'!T3855-Calculations!Q$1","v":0},{"$f":"'Absorbance Data'!U3855-Calculations!R$1","v":0},{"$f":"'Absorbance Data'!V3855-Calculations!S$1","v":0},{"$f":"'Absorbance Data'!W3855-Calculations!T$1","v":0},{"$f":"'Absorbance Data'!X3855-Calculations!U$1","v":0},{"$f":"'Absorbance Data'!Y3855-Calculations!V$1","v":0},{"$f":"'Absorbance Data'!Z3855-Calculations!W$1","v":0}]
[{"$f":"'Absorbance Data'!D3856","v":782.94122314453125},{"$f":"'Absorbance Data'!E3856-Calculations!B$1","v":0},{"$f":"'Absorbance Data'!F3856-Calculations!C$1","v":0},{"$f":"'Absorbance Data'!G3856-Calculations!D$1","v":0},{"$f":"'Absorbance Data'!H3856-Calculations!E$1","v":0},{"$f":"'Absorbance Data'!I3856-Calculations!F$1","v":0},{"$f":"'Absorbance Data'!J3856-Calculations!G$1","v":0},{"$f":"'Absorbance Data'!K3856-Calculations!H$1","v":0},{"$f":"'Absorbance Data'!L3856-Calculations!I$1","v":0},{"$f":"'Absorbance Data'!M3856-Calculations!J$1","v":0},{"$f":"'Absorbance Data'!N3856-Calculations!K$1","v":0},{"$f":"'Absorbance Data'!O3856-Calculations!L$1","v":0},{"$f":"'Absorbance Data'!P3856-Calculations!M$1","v":0},{"$f":"'Absorbance Data'!Q3856-Calculations!N$1","v":0},{"$f":"'Absorbance Data'!R3856-Calculations!O$1","v":0},{"$f":"'Absorbance Data'!S3856-Calculations!P$1","v":0},{"$f":"'Absorbance Data'!T3856-Calculations!Q$1","v":0},{"$f":"'Absorbance Data'!U3856-Calculations!R$1","v":0},{"$f":"'Absorbance Data'!V3856-Calculations!S$1","v":0},{"$f":"'Absorbance Data'!W3856-Calculations!T$1","v":0},{"$f":"'Absorbance Data'!X3856-Calculations!U$1","v":0},{"$f":"'Absorbance Data'!Y3856-Calculations!V$1","v":0},{"$f":"'Absorbance Data'!Z3856-Calculations!W$1","v":0}]
[{"$f":"'Absorbance Data'!D3857","v":783.23541259765625},{"$f":"'Absorbance Data'!E3857-Calculations!B$1","v":0},{"$f":"'Absorbance Data'!F3857-Calculations!C$1","v":0},{"$f":"'Absorbance Data'!G3857-Calculations!D$1","v":0},{"$f":"'Absorbance Data'!H3857-Calculations!E$1","v":0},{"$f":"'Absorbance Data'!I3857-Calculations!F$1","v":0},{"$f":"'Absorbance Data'!J3857-Calculations!G$1","v":0},{"$f":"'Absorbance Data'!K3857-Calculations!H$1","v":0},{"$f":"'Absorbance Data'!L3857-Calculations!I$1","v":0},{"$f":"'Absorbance Data'!M3857-Calculations!J$1","v":0},{"$f":"'Absorbance Data'!N3857-Calculations!K$1","v":0},{"$f":"'Absorbance Data'!O3857-Calculations!L$1","v":0},{"$f":"'Absorbance Data'!P3857-Calculations!M$1","v":0},{"$f":"'Absorbance Data'!Q3857-Calculations!N$1","v":0},{"$f":"'Absorbance Data'!R3857-Calculations!O$1","v":0},{"$f":"'Absorbance Data'!S3857-Calculations!P$1","v":0},{"$f":"'Absorbance Data'!T3857-Calculations!Q$1","v":0},{"$f":"'Absorbance Data'!U3857-Calculations!R$1","v":0},{"$f":"'Absorbance Data'!V3857-Calculations!S$1","v":0},{"$f":"'Absorbance Data'!W3857-Calculations!T$1","v":0},{"$f":"'Absorbance Data'!X3857-Calculations!U$1","v":0},{"$f":"'Absorbance Data'!Y3857-Calculations!V$1","v":0},{"$f":"'Absorbance Data'!Z3857-Calculations!W$1","v":0}]
[{"$f":"'Absorbance Data'!D3858","v":783.52960205078125},{"$f":"'Absorbance Data'!E3858-Calculations!B$1","v":0},{"$f":"'Absorbance Data'!F3858-Calculations!C$1","v":0},{"$f":"'Absorbance Data'!G3858-Calculations!D$1","v":0},{"$f":"'Absorbance Data'!H3858-Calculations!E$1","v":0},{"$f":"'Absorbance Data'!I3858-Calculations!F$1","v":0},{"$f":"'Absorbance Data'!J3858-Calculations!G$1","v":0},{"$f":"'Absorbance Data'!K3858-Calculations!H$1","v":0},{"$f":"'Absorbance Data'!L3858-Calculations!I$1","v":0},{"$f":"'Absorbance Data'!M3858-Calculations!J$1","v":0},{"$f":"'Absorbance Data'!N3858-Calculations!K$1","v":0},{"$f":"'Absorbance Data'!O3858-Calculations!L$1","v":0},{"$f":"'Absorbance Data'!P3858-Calculations!M$1","v":0},{"$f":"'Absorbance Data'!Q3858-Calculations!N$1","v":0},{"$f":"'Absorbance Data'!R3858-Calculations!O$1","v":0},{"$f":"'Absorbance Data'!S3858-Calculations!P$1","v":0},{"$f":"'Absorbance Data'!T3858-Calculations!Q$1","v":0},{"$f":"'Absorbance Data'!U3858-Calculations!R$1","v":0},{"$f":"'Absorbance Data'!V3858-Calculations!S$1","v":0},{"$f":"'Absorbance Data'!W3858-Calculations!T$1","v":0},{"$f":"'Absorbance Data'!X3858-Calculations!U$1","v":0},{"$f":"'Absorbance Data'!Y3858-Calculations!V$1","v":0},{"$f":"'Absorbance Data'!Z3858-Calculations!W$1","v":0}]
[{"$f":"'Absorbance Data'!D3859","v":783.82366943359375},{"$f":"'Absorbance Data'!E3859-Calculations!B$1","v":0},{"$f":"'Absorbance Data'!F3859-Calculations!C$1","v":0},{"$f":"'Absorbance Data'!G3859-Calculations!D$1","v":0},{"$f":"'Absorbance Data'!H3859-Calculations!E$1","v":0},{"$f":"'Absorbance Data'!I3859-Calculations!F$1","v":0},{"$f":"'Absorbance Data'!J3859-Calculations!G$1","v":0},{"$f":"'Absorbance Data'!K3859-Calculations!H$1","v":0},{"$f":"'Absorbance Data'!L3859-Calculations!I$1","v":0},{"$f":"'Absorbance Data'!M3859-Calculations!J$1","v":0},{"$f":"'Absorbance Data'!N3859-Calculations!K$1","v":0},{"$f":"'Absorbance Data'!O3859-Calculations!L$1","v":0},{"$f":"'Absorbance Data'!P3859-Calculations!M$1","v":0},{"$f":"'Absorbance Data'!Q3859-Calculations!N$1","v":0},{"$f":"'Absorbance Data'!R3859-Calculations!O$1","v":0},{"$f":"'Absorbance Data'!S3859-Calculations!P$1","v":0},{"$f":"'Absorbance Data'!T3859-Calculations!Q$1","v":0},{"$f":"'Absorbance Data'!U3859-Calculations!R$1","v":0},{"$f":"'Absorbance Data'!V3859-Calculations!S$1","v":0},{"$f":"'Absorbance Data'!W3859-Calculations!T$1","v":0},{"$f":"'Absorbance Data'!X3859-Calculations!U$1","v":0},{"$f":"'Absorbance Data'!Y3859-Calculations!V$1","v":0},{"$f":"'Absorbance Data'!Z3859-Calculations!W$1","v":0}]
[{"$f":"'Absorbance Data'!D3860","v":784.1177978515625},{"$f":"'Absorbance Data'!E3860-Calculations!B$1","v":0},{"$f":"'Absorbance Data'!F3860-Calculations!C$1","v":0},{"$f":"'Absorbance Data'!G3860-Calculations!D$1","v":0},{"$f":"'Absorbance Data'!H3860-Calculations!E$1","v":0},{"$f":"'Absorbance Data'!I3860-Calculations!F$1","v":0},{"$f":"'Absorbance Data'!J3860-Calculations!G$1","v":0},{"$f":"'Absorbance Data'!K3860-Calculations!H$1","v":0},{"$f":"'Absorbance Data'!L3860-Calculations!I$1","v":0},{"$f":"'Absorbance Data'!M3860-Calculations!J$1","v":0},{"$f":"'Absorbance Data'!N3860-Calculations!K$1","v":0},{"$f":"'Absorbance Data'!O3860-Calculations!L$1","v":0},{"$f":"'Absorbance Data'!P3860-Calculations!M$1","v":0},{"$f":"'Absorbance Data'!Q3860-Calculations!N$1","v":0},{"$f":"'Absorbance Data'!R3860-Calculations!O$1","v":0},{"$f":"'Absorbance Data'!S3860-Calculations!P$1","v":0},{"$f":"'Absorbance Data'!T3860-Calculations!Q$1","v":0},{"$f":"'Absorbance Data'!U3860-Calculations!R$1","v":0},{"$f":"'Absorbance Data'!V3860-Calculations!S$1","v":0},{"$f":"'Absorbance Data'!W3860-Calculations!T$1","v":0},{"$f":"'Absorbance Data'!X3860-Calculations!U$1","v":0},{"$f":"'Absorbance Data'!Y3860-Calculations!V$1","v":0},{"$f":"'Absorbance Data'!Z3860-Calculations!W$1","v":0}]
[{"$f":"'Absorbance Data'!D3861","v":784.41180419921875},{"$f":"'Absorbance Data'!E3861-Calculations!B$1","v":0},{"$f":"'Absorbance Data'!F3861-Calculations!C$1","v":0},{"$f":"'Absorbance Data'!G3861-Calculations!D$1","v":0},{"$f":"'Absorbance Data'!H3861-Calculations!E$1","v":0},{"$f":"'Absorbance Data'!I3861-Calculations!F$1","v":0},{"$f":"'Absorbance Data'!J3861-Calculations!G$1","v":0},{"$f":"'Absorbance Data'!K3861-Calculations!H$1","v":0},{"$f":"'Absorbance Data'!L3861-Calculations!I$1","v":0},{"$f":"'Absorbance Data'!M3861-Calculations!J$1","v":0},{"$f":"'Absorbance Data'!N3861-Calculations!K$1","v":0},{"$f":"'Absorbance Data'!O3861-Calculations!L$1","v":0},{"$f":"'Absorbance Data'!P3861-Calculations!M$1","v":0},{"$f":"'Absorbance Data'!Q3861-Calculations!N$1","v":0},{"$f":"'Absorbance Data'!R3861-Calculations!O$1","v":0},{"$f":"'Absorbance Data'!S3861-Calculations!P$1","v":0},{"$f":"'Absorbance Data'!T3861-Calculations!Q$1","v":0},{"$f":"'Absorbance Data'!U3861-Calculations!R$1","v":0},{"$f":"'Absorbance Data'!V3861-Calculations!S$1","v":0},{"$f":"'Absorbance Data'!W3861-Calculations!T$1","v":0},{"$f":"'Absorbance Data'!X3861-Calculations!U$1","v":0},{"$f":"'Absorbance Data'!Y3861-Calculations!V$1","v":0},{"$f":"'Absorbance Data'!Z3861-Calculations!W$1","v":0}]
[{"$f":"'Absorbance Data'!D3862","v":784.705810546875},{"$f":"'Absorbance Data'!E3862-Calculations!B$1","v":0},{"$f":"'Absorbance Data'!F3862-Calculations!C$1","v":0},{"$f":"'Absorbance Data'!G3862-Calculations!D$1","v":0},{"$f":"'Absorbance Data'!H3862-Calculations!E$1","v":0},{"$f":"'Absorbance Data'!I3862-Calculations!F$1","v":0},{"$f":"'Absorbance Data'!J3862-Calculations!G$1","v":0},{"$f":"'Absorbance Data'!K3862-Calculations!H$1","v":0},{"$f":"'Absorbance Data'!L3862-Calculations!I$1","v":0},{"$f":"'Absorbance Data'!M3862-Calculations!J$1","v":0},{"$f":"'Absorbance Data'!N3862-Calculations!K$1","v":0},{"$f":"'Absorbance Data'!O3862-Calculations!L$1","v":0},{"$f":"'Absorbance Data'!P3862-Calculations!M$1","v":0},{"$f":"'Absorbance Data'!Q3862-Calculations!N$1","v":0},{"$f":"'Absorbance Data'!R3862-Calculations!O$1","v":0},{"$f":"'Absorbance Data'!S3862-Calculations!P$1","v":0},{"$f":"'Absorbance Data'!T3862-Calculations!Q$1","v":0},{"$f":"'Absorbance Data'!U3862-Calculations!R$1","v":0},{"$f":"'Absorbance Data'!V3862-Calculations!S$1","v":0},{"$f":"'Absorbance Data'!W3862-Calculations!T$1","v":0},{"$f":"'Absorbance Data'!X3862-Calculations!U$1","v":0},{"$f":"'Absorbance Data'!Y3862-Calculations!V$1","v":0},{"$f":"'Absorbance Data'!Z3862-Calculations!W$1","v":0}]
[{"$f":"'Absorbance Data'!D3863","v":784.999755859375},{"$f":"'Absorbance Data'!E3863-Calculations!B$1","v":0},{"$f":"'Absorbance Data'!F3863-Calculations!C$1","v":0},{"$f":"'Absorbance Data'!G3863-Calculations!D$1","v":0},{"$f":"'Absorbance Data'!H3863-Calculations!E$1","v":0},{"$f":"'Absorbance Data'!I3863-Calculations!F$1","v":0},{"$f":"'Absorbance Data'!J3863-Calculations!G$1","v":0},{"$f":"'Absorbance Data'!K3863-Calculations!H$1","v":0},{"$f":"'Absorbance Data'!L3863-Calculations!I$1","v":0},{"$f":"'Absorbance Data'!M3863-Calculations!J$1","v":0},{"$f":"'Absorbance Data'!N3863-Calculations!K$1","v":0},{"$f":"'Absorbance Data'!O3863-Calculations!L$1","v":0},{"$f":"'Absorbance Data'!P3863-Calculations!M$1","v":0},{"$f":"'Absorbance Data'!Q3863-Calculations!N$1","v":0},{"$f":"'Absorbance Data'!R3863-Calculations!O$1","v":0},{"$f":"'Absorbance Data'!S3863-Calculations!P$1","v":0},{"$f":"'Absorbance Data'!T3863-Calculations!Q$1","v":0},{"$f":"'Absorbance Data'!U3863-Calculations!R$1","v":0},{"$f":"'Absorbance Data'!V3863-Calculations!S$1","v":0},{"$f":"'Absorbance Data'!W3863-Calculations!T$1","v":0},{"$f":"'Absorbance Data'!X3863-Calculations!U$1","v":0},{"$f":"'Absorbance Data'!Y3863-Calculations!V$1","v":0},{"$f":"'Absorbance Data'!Z3863-Calculations!W$1","v":0}]
[{"$f":"'Absorbance Data'!D3864","v":785.2935791015625},{"$f":"'Absorbance Data'!E3864-Calculations!B$1","v":0},{"$f":"'Absorbance Data'!F3864-Calculations!C$1","v":0},{"$f":"'Absorbance Data'!G3864-Calculations!D$1","v":0},{"$f":"'Absorbance Data'!H3864-Calculations!E$1","v":0},{"$f":"'Absorbance Data'!I3864-Calculations!F$1","v":0},{"$f":"'Absorbance Data'!J3864-Calculations!G$1","v":0},{"$f":"'Absorbance Data'!K3864-Calculations!H$1","v":0},{"$f":"'Absorbance Data'!L3864-Calculations!I$1","v":0},{"$f":"'Absorbance Data'!M3864-Calculations!J$1","v":0},{"$f":"'Absorbance Data'!N3864-Calculations!K$1","v":0},{"$f":"'Absorbance Data'!O3864-Calculations!L$1","v":0},{"$f":"'Absorbance Data'!P3864-Calculations!M$1","v":0},{"$f":"'Absorbance Data'!Q3864-Calculations!N$1","v":0},{"$f":"'Absorbance Data'!R3864-Calculations!O$1","v":0},{"$f":"'Absorbance Data'!S3864-Calculations!P$1","v":0},{"$f":"'Absorbance Data'!T3864-Calculations!Q$1","v":0},{"$f":"'Absorbance Data'!U3864-Calculations!R$1","v":0},{"$f":"'Absorbance Data'!V3864-Calculations!S$1","v":0},{"$f":"'Absorbance Data'!W3864-Calculations!T$1","v":0},{"$f":"'Absorbance Data'!X3864-Calculations!U$1","v":0},{"$f":"'Absorbance Data'!Y3864-Calculations!V$1","v":0},{"$f":"'Absorbance Data'!Z3864-Calculations!W$1","v":0}]
[{"$f":"'Absorbance Data'!D3865","v":785.58746337890625},{"$f":"'Absorbance Data'!E3865-Calculations!B$1","v":0},{"$f":"'Absorbance Data'!F3865-Calculations!C$1","v":0},{"$f":"'Absorbance Data'!G3865-Calculations!D$1","v":0},{"$f":"'Absorbance Data'!H3865-Calculations!E$1","v":0},{"$f":"'Absorbance Data'!I3865-Calculations!F$1","v":0},{"$f":"'Absorbance Data'!J3865-Calculations!G$1","v":0},{"$f":"'Absorbance Data'!K3865-Calculations!H$1","v":0},{"$f":"'Absorbance Data'!L3865-Calculations!I$1","v":0},{"$f":"'Absorbance Data'!M3865-Calculations!J$1","v":0},{"$f":"'Absorbance Data'!N3865-Calculations!K$1","v":0},{"$f":"'Absorbance Data'!O3865-Calculations!L$1","v":0},{"$f":"'Absorbance Data'!P3865-Calculations!M$1","v":0},{"$f":"'Absorbance Data'!Q3865-Calculations!N$1","v":0},{"$f":"'Absorbance Data'!R3865-Calculations!O$1","v":0},{"$f":"'Absorbance Data'!S3865-Calculations!P$1","v":0},{"$f":"'Absorbance Data'!T3865-Calculations!Q$1","v":0},{"$f":"'Absorbance Data'!U3865-Calculations!R$1","v":0},{"$f":"'Absorbance Data'!V3865-Calculations!S$1","v":0},{"$f":"'Absorbance Data'!W3865-Calculations!T$1","v":0},{"$f":"'Absorbance Data'!X3865-Calculations!U$1","v":0},{"$f":"'Absorbance Data'!Y3865-Calculations!V$1","v":0},{"$f":"'Absorbance Data'!Z3865-Calculations!W$1","v":0}]
[{"$f":"'Absorbance Data'!D3866","v":785.8812255859375},{"$f":"'Absorbance Data'!E3866-Calculations!B$1","v":0},{"$f":"'Absorbance Data'!F3866-Calculations!C$1","v":0},{"$f":"'Absorbance Data'!G3866-Calculations!D$1","v":0},{"$f":"'Absorbance Data'!H3866-Calculations!E$1","v":0},{"$f":"'Absorbance Data'!I3866-Calculations!F$1","v":0},{"$f":"'Absorbance Data'!J3866-Calculations!G$1","v":0},{"$f":"'Absorbance Data'!K3866-Calculations!H$1","v":0},{"$f":"'Absorbance Data'!L3866-Calculations!I$1","v":0},{"$f":"'Absorbance Data'!M3866-Calculations!J$1","v":0},{"$f":"'Absorbance Data'!N3866-Calculations!K$1","v":0},{"$f":"'Absorbance Data'!O3866-Calculations!L$1","v":0},{"$f":"'Absorbance Data'!P3866-Calculations!M$1","v":0},{"$f":"'Absorbance Data'!Q3866-Calculations!N$1","v":0},{"$f":"'Absorbance Data'!R3866-Calculations!O$1","v":0},{"$f":"'Absorbance Data'!S3866-Calculations!P$1","v":0},{"$f":"'Absorbance Data'!T3866-Calculations!Q$1","v":0},{"$f":"'Absorbance Data'!U3866-Calculations!R$1","v":0},{"$f":"'Absorbance Data'!V3866-Calculations!S$1","v":0},{"$f":"'Absorbance Data'!W3866-Calculations!T$1","v":0},{"$f":"'Absorbance Data'!X3866-Calculations!U$1","v":0},{"$f":"'Absorbance Data'!Y3866-Calculations!V$1","v":0},{"$f":"'Absorbance Data'!Z3866-Calculations!W$1","v":0}]
[{"$f":"'Absorbance Data'!D3867","v":786.1749267578125},{"$f":"'Absorbance Data'!E3867-Calculations!B$1","v":0},{"$f":"'Absorbance Data'!F3867-Calculations!C$1","v":0},{"$f":"'Absorbance Data'!G3867-Calculations!D$1","v":0},{"$f":"'Absorbance Data'!H3867-Calculations!E$1","v":0},{"$f":"'Absorbance Data'!I3867-Calculations!F$1","v":0},{"$f":"'Absorbance Data'!J3867-Calculations!G$1","v":0},{"$f":"'Absorbance Data'!K3867-Calculations!H$1","v":0},{"$f":"'Absorbance Data'!L3867-Calculations!I$1","v":0},{"$f":"'Absorbance Data'!M3867-Calculations!J$1","v":0},{"$f":"'Absorbance Data'!N3867-Calculations!K$1","v":0},{"$f":"'Absorbance Data'!O3867-Calculations!L$1","v":0},{"$f":"'Absorbance Data'!P3867-Calculations!M$1","v":0},{"$f":"'Absorbance Data'!Q3867-Calculations!N$1","v":0},{"$f":"'Absorbance Data'!R3867-Calculations!O$1","v":0},{"$f":"'Absorbance Data'!S3867-Calculations!P$1","v":0},{"$f":"'Absorbance Data'!T3867-Calculations!Q$1","v":0},{"$f":"'Absorbance Data'!U3867-Calculations!R$1","v":0},{"$f":"'Absorbance Data'!V3867-Calculations!S$1","v":0},{"$f":"'Absorbance Data'!W3867-Calculations!T$1","v":0},{"$f":"'Absorbance Data'!X3867-Calculations!U$1","v":0},{"$f":"'Absorbance Data'!Y3867-Calculations!V$1","v":0},{"$f":"'Absorbance Data'!Z3867-Calculations!W$1","v":0}]
[{"$f":"'Absorbance Data'!D3868","v":786.4686279296875},{"$f":"'Absorbance Data'!E3868-Calculations!B$1","v":0},{"$f":"'Absorbance Data'!F3868-Calculations!C$1","v":0},{"$f":"'Absorbance Data'!G3868-Calculations!D$1","v":0},{"$f":"'Absorbance Data'!H3868-Calculations!E$1","v":0},{"$f":"'Absorbance Data'!I3868-Calculations!F$1","v":0},{"$f":"'Absorbance Data'!J3868-Calculations!G$1","v":0},{"$f":"'Absorbance Data'!K3868-Calculations!H$1","v":0},{"$f":"'Absorbance Data'!L3868-Calculations!I$1","v":0},{"$f":"'Absorbance Data'!M3868-Calculations!J$1","v":0},{"$f":"'Absorbance Data'!N3868-Calculations!K$1","v":0},{"$f":"'Absorbance Data'!O3868-Calculations!L$1","v":0},{"$f":"'Absorbance Data'!P3868-Calculations!M$1","v":0},{"$f":"'Absorbance Data'!Q3868-Calculations!N$1","v":0},{"$f":"'Absorbance Data'!R3868-Calculations!O$1","v":0},{"$f":"'Absorbance Data'!S3868-Calculations!P$1","v":0},{"$f":"'Absorbance Data'!T3868-Calculations!Q$1","v":0},{"$f":"'Absorbance Data'!U3868-Calculations!R$1","v":0},{"$f":"'Absorbance Data'!V3868-Calculations!S$1","v":0},{"$f":"'Absorbance Data'!W3868-Calculations!T$1","v":0},{"$f":"'Absorbance Data'!X3868-Calculations!U$1","v":0},{"$f":"'Absorbance Data'!Y3868-Calculations!V$1","v":0},{"$f":"'Absorbance Data'!Z3868-Calculations!W$1","v":0}]
[{"$f":"'Absorbance Data'!D3869","v":786.76226806640625},{"$f":"'Absorbance Data'!E3869-Calculations!B$1","v":0},{"$f":"'Absorbance Data'!F3869-Calculations!C$1","v":0},{"$f":"'Absorbance Data'!G3869-Calculations!D$1","v":0},{"$f":"'Absorbance Data'!H3869-Calculations!E$1","v":0},{"$f":"'Absorbance Data'!I3869-Calculations!F$1","v":0},{"$f":"'Absorbance Data'!J3869-Calculations!G$1","v":0},{"$f":"'Absorbance Data'!K3869-Calculations!H$1","v":0},{"$f":"'Absorbance Data'!L3869-Calculations!I$1","v":0},{"$f":"'Absorbance Data'!M3869-Calculations!J$1","v":0},{"$f":"'Absorbance Data'!N3869-Calculations!K$1","v":0},{"$f":"'Absorbance Data'!O3869-Calculations!L$1","v":0},{"$f":"'Absorbance Data'!P3869-Calculations!M$1","v":0},{"$f":"'Absorbance Data'!Q3869-Calculations!N$1","v":0},{"$f":"'Absorbance Data'!R3869-Calculations!O$1","v":0},{"$f":"'Absorbance Data'!S3869-Calculations!P$1","v":0},{"$f":"'Absorbance Data'!T3869-Calculations!Q$1","v":0},{"$f":"'Absorbance Data'!U3869-Calculations!R$1","v":0},{"$f":"'Absorbance Data'!V3869-Calculations!S$1","v":0},{"$f":"'Absorbance Data'!W3869-Calculations!T$1","v":0},{"$f":"'Absorbance Data'!X3869-Calculations!U$1","v":0},{"$f":"'Absorbance Data'!Y3869-Calculations!V$1","v":0},{"$f":"'Absorbance Data'!Z3869-Calculations!W$1","v":0}]
[{"$f":"'Absorbance Data'!D3870","v":787.05584716796875},{"$f":"'Absorbance Data'!E3870-Calculations!B$1","v":0},{"$f":"'Absorbance Data'!F3870-Calculations!C$1","v":0},{"$f":"'Absorbance Data'!G3870-Calculations!D$1","v":0},{"$f":"'Absorbance Data'!H3870-Calculations!E$1","v":0},{"$f":"'Absorbance Data'!I3870-Calculations!F$1","v":0},{"$f":"'Absorbance Data'!J3870-Calculations!G$1","v":0},{"$f":"'Absorbance Data'!K3870-Calculations!H$1","v":0},{"$f":"'Absorbance Data'!L3870-Calculations!I$1","v":0},{"$f":"'Absorbance Data'!M3870-Calculations!J$1","v":0},{"$f":"'Absorbance Data'!N3870-Calculations!K$1","v":0},{"$f":"'Absorbance Data'!O3870-Calculations!L$1","v":0},{"$f":"'Absorbance Data'!P3870-Calculations!M$1","v":0},{"$f":"'Absorbance Data'!Q3870-Calculations!N$1","v":0},{"$f":"'Absorbance Data'!R3870-Calculations!O$1","v":0},{"$f":"'Absorbance Data'!S3870-Calculations!P$1","v":0},{"$f":"'Absorbance Data'!T3870-Calculations!Q$1","v":0},{"$f":"'Absorbance Data'!U3870-Calculations!R$1","v":0},{"$f":"'Absorbance Data'!V3870-Calculations!S$1","v":0},{"$f":"'Absorbance Data'!W3870-Calculations!T$1","v":0},{"$f":"'Absorbance Data'!X3870-Calculations!U$1","v":0},{"$f":"'Absorbance Data'!Y3870-Calculations!V$1","v":0},{"$f":"'Absorbance Data'!Z3870-Calculations!W$1","v":0}]
[{"$f":"'Absorbance Data'!D3871","v":787.3494873046875},{"$f":"'Absorbance Data'!E3871-Calculations!B$1","v":0},{"$f":"'Absorbance Data'!F3871-Calculations!C$1","v":0},{"$f":"'Absorbance Data'!G3871-Calculations!D$1","v":0},{"$f":"'Absorbance Data'!H3871-Calculations!E$1","v":0},{"$f":"'Absorbance Data'!I3871-Calculations!F$1","v":0},{"$f":"'Absorbance Data'!J3871-Calculations!G$1","v":0},{"$f":"'Absorbance Data'!K3871-Calculations!H$1","v":0},{"$f":"'Absorbance Data'!L3871-Calculations!I$1","v":0},{"$f":"'Absorbance Data'!M3871-Calculations!J$1","v":0},{"$f":"'Absorbance Data'!N3871-Calculations!K$1","v":0},{"$f":"'Absorbance Data'!O3871-Calculations!L$1","v":0},{"$f":"'Absorbance Data'!P3871-Calculations!M$1","v":0},{"$f":"'Absorbance Data'!Q3871-Calculations!N$1","v":0},{"$f":"'Absorbance Data'!R3871-Calculations!O$1","v":0},{"$f":"'Absorbance Data'!S3871-Calculations!P$1","v":0},{"$f":"'Absorbance Data'!T3871-Calculations!Q$1","v":0},{"$f":"'Absorbance Data'!U3871-Calculations!R$1","v":0},{"$f":"'Absorbance Data'!V3871-Calculations!S$1","v":0},{"$f":"'Absorbance Data'!W3871-Calculations!T$1","v":0},{"$f":"'Absorbance Data'!X3871-Calculations!U$1","v":0},{"$f":"'Absorbance Data'!Y3871-Calculations!V$1","v":0},{"$f":"'Absorbance Data'!Z3871-Calculations!W$1","v":0}]
[{"$f":"'Absorbance Data'!D3872","v":787.6429443359375},{"$f":"'Absorbance Data'!E3872-Calculations!B$1","v":0},{"$f":"'Absorbance Data'!F3872-Calculations!C$1","v":0},{"$f":"'Absorbance Data'!G3872-Calculations!D$1","v":0},{"$f":"'Absorbance Data'!H3872-Calculations!E$1","v":0},{"$f":"'Absorbance Data'!I3872-Calculations!F$1","v":0},{"$f":"'Absorbance Data'!J3872-Calculations!G$1","v":0},{"$f":"'Absorbance Data'!K3872-Calculations!H$1","v":0},{"$f":"'Absorbance Data'!L3872-Calculations!I$1","v":0},{"$f":"'Absorbance Data'!M3872-Calculations!J$1","v":0},{"$f":"'Absorbance Data'!N3872-Calculations!K$1","v":0},{"$f":"'Absorbance Data'!O3872-Calculations!L$1","v":0},{"$f":"'Absorbance Data'!P3872-Calculations!M$1","v":0},{"$f":"'Absorbance Data'!Q3872-Calculations!N$1","v":0},{"$f":"'Absorbance Data'!R3872-Calculations!O$1","v":0},{"$f":"'Absorbance Data'!S3872-Calculations!P$1","v":0},{"$f":"'Absorbance Data'!T3872-Calculations!Q$1","v":0},{"$f":"'Absorbance Data'!U3872-Calculations!R$1","v":0},{"$f":"'Absorbance Data'!V3872-Calculations!S$1","v":0},{"$f":"'Absorbance Data'!W3872-Calculations!T$1","v":0},{"$f":"'Absorbance Data'!X3872-Calculations!U$1","v":0},{"$f":"'Absorbance Data'!Y3872-Calculations!V$1","v":0},{"$f":"'Absorbance Data'!Z3872-Calculations!W$1","v":0}]
[{"$f":"'Absorbance Data'!D3873","v":787.93646240234375},{"$f":"'Absorbance Data'!E3873-Calculations!B$1","v":0},{"$f":"'Absorbance Data'!F3873-Calculations!C$1","v":0},{"$f":"'Absorbance Data'!G3873-Calculations!D$1","v":0},{"$f":"'Absorbance Data'!H3873-Calculations!E$1","v":0},{"$f":"'Absorbance Data'!I3873-Calculations!F$1","v":0},{"$f":"'Absorbance Data'!J3873-Calculations!G$1","v":0},{"$f":"'Absorbance Data'!K3873-Calculations!H$1","v":0},{"$f":"'Absorbance Data'!L3873-Calculations!I$1","v":0},{"$f":"'Absorbance Data'!M3873-Calculations!J$1","v":0},{"$f":"'Absorbance Data'!N3873-Calculations!K$1","v":0},{"$f":"'Absorbance Data'!O3873-Calculations!L$1","v":0},{"$f":"'Absorbance Data'!P3873-Calculations!M$1","v":0},{"$f":"'Absorbance Data'!Q3873-Calculations!N$1","v":0},{"$f":"'Absorbance Data'!R3873-Calculations!O$1","v":0},{"$f":"'Absorbance Data'!S3873-Calculations!P$1","v":0},{"$f":"'Absorbance Data'!T3873-Calculations!Q$1","v":0},{"$f":"'Absorbance Data'!U3873-Calculations!R$1","v":0},{"$f":"'Absorbance Data'!V3873-Calculations!S$1","v":0},{"$f":"'Absorbance Data'!W3873-Calculations!T$1","v":0},{"$f":"'Absorbance Data'!X3873-Calculations!U$1","v":0},{"$f":"'Absorbance Data'!Y3873-Calculations!V$1","v":0},{"$f":"'Absorbance Data'!Z3873-Calculations!W$1","v":0}]
[{"$f":"'Absorbance Data'!D3874","v":788.229736328125},{"$f":"'Absorbance Data'!E3874-Calculations!B$1","v":0},{"$f":"'Absorbance Data'!F3874-Calculations!C$1","v":0},{"$f":"'Absorbance Data'!G3874-Calculations!D$1","v":0},{"$f":"'Absorbance Data'!H3874-Calculations!E$1","v":0},{"$f":"'Absorbance Data'!I3874-Calculations!F$1","v":0},{"$f":"'Absorbance Data'!J3874-Calculations!G$1","v":0},{"$f":"'Absorbance Data'!K3874-Calculations!H$1","v":0},{"$f":"'Absorbance Data'!L3874-Calculations!I$1","v":0},{"$f":"'Absorbance Data'!M3874-Calculations!J$1","v":0},{"$f":"'Absorbance Data'!N3874-Calculations!K$1","v":0},{"$f":"'Absorbance Data'!O3874-Calculations!L$1","v":0},{"$f":"'Absorbance Data'!P3874-Calculations!M$1","v":0},{"$f":"'Absorbance Data'!Q3874-Calculations!N$1","v":0},{"$f":"'Absorbance Data'!R3874-Calculations!O$1","v":0},{"$f":"'Absorbance Data'!S3874-Calculations!P$1","v":0},{"$f":"'Absorbance Data'!T3874-Calculations!Q$1","v":0},{"$f":"'Absorbance Data'!U3874-Calculations!R$1","v":0},{"$f":"'Absorbance Data'!V3874-Calculations!S$1","v":0},{"$f":"'Absorbance Data'!W3874-Calculations!T$1","v":0},{"$f":"'Absorbance Data'!X3874-Calculations!U$1","v":0},{"$f":"'Absorbance Data'!Y3874-Calculations!V$1","v":0},{"$f":"'Absorbance Data'!Z3874-Calculations!W$1","v":0}]
[{"$f":"'Absorbance Data'!D3875","v":788.52313232421875},{"$f":"'Absorbance Data'!E3875-Calculations!B$1","v":0},{"$f":"'Absorbance Data'!F3875-Calculations!C$1","v":0},{"$f":"'Absorbance Data'!G3875-Calculations!D$1","v":0},{"$f":"'Absorbance Data'!H3875-Calculations!E$1","v":0},{"$f":"'Absorbance Data'!I3875-Calculations!F$1","v":0},{"$f":"'Absorbance Data'!J3875-Calculations!G$1","v":0},{"$f":"'Absorbance Data'!K3875-Calculations!H$1","v":0},{"$f":"'Absorbance Data'!L3875-Calculations!I$1","v":0},{"$f":"'Absorbance Data'!M3875-Calculations!J$1","v":0},{"$f":"'Absorbance Data'!N3875-Calculations!K$1","v":0},{"$f":"'Absorbance Data'!O3875-Calculations!L$1","v":0},{"$f":"'Absorbance Data'!P3875-Calculations!M$1","v":0},{"$f":"'Absorbance Data'!Q3875-Calculations!N$1","v":0},{"$f":"'Absorbance Data'!R3875-Calculations!O$1","v":0},{"$f":"'Absorbance Data'!S3875-Calculations!P$1","v":0},{"$f":"'Absorbance Data'!T3875-Calculations!Q$1","v":0},{"$f":"'Absorbance Data'!U3875-Calculations!R$1","v":0},{"$f":"'Absorbance Data'!V3875-Calculations!S$1","v":0},{"$f":"'Absorbance Data'!W3875-Calculations!T$1","v":0},{"$f":"'Absorbance Data'!X3875-Calculations!U$1","v":0},{"$f":"'Absorbance Data'!Y3875-Calculations!V$1","v":0},{"$f":"'Absorbance Data'!Z3875-Calculations!W$1","v":0}]
[{"$f":"'Absorbance Data'!D3876","v":788.81640625},{"$f":"'Absorbance Data'!E3876-Calculations!B$1","v":0},{"$f":"'Absorbance Data'!F3876-Calculations!C$1","v":0},{"$f":"'Absorbance Data'!G3876-Calculations!D$1","v":0},{"$f":"'Absorbance Data'!H3876-Calculations!E$1","v":0},{"$f":"'Absorbance Data'!I3876-Calculations!F$1","v":0},{"$f":"'Absorbance Data'!J3876-Calculations!G$1","v":0},{"$f":"'Absorbance Data'!K3876-Calculations!H$1","v":0},{"$f":"'Absorbance Data'!L3876-Calculations!I$1","v":0},{"$f":"'Absorbance Data'!M3876-Calculations!J$1","v":0},{"$f":"'Absorbance Data'!N3876-Calculations!K$1","v":0},{"$f":"'Absorbance Data'!O3876-Calculations!L$1","v":0},{"$f":"'Absorbance Data'!P3876-Calculations!M$1","v":0},{"$f":"'Absorbance Data'!Q3876-Calculations!N$1","v":0},{"$f":"'Absorbance Data'!R3876-Calculations!O$1","v":0},{"$f":"'Absorbance Data'!S3876-Calculations!P$1","v":0},{"$f":"'Absorbance Data'!T3876-Calculations!Q$1","v":0},{"$f":"'Absorbance Data'!U3876-Calculations!R$1","v":0},{"$f":"'Absorbance Data'!V3876-Calculations!S$1","v":0},{"$f":"'Absorbance Data'!W3876-Calculations!T$1","v":0},{"$f":"'Absorbance Data'!X3876-Calculations!U$1","v":0},{"$f":"'Absorbance Data'!Y3876-Calculations!V$1","v":0},{"$f":"'Absorbance Data'!Z3876-Calculations!W$1","v":0}]
[{"$f":"'Absorbance Data'!D3877","v":789.1097412109375},{"$f":"'Absorbance Data'!E3877-Calculations!B$1","v":0},{"$f":"'Absorbance Data'!F3877-Calculations!C$1","v":0},{"$f":"'Absorbance Data'!G3877-Calculations!D$1","v":0},{"$f":"'Absorbance Data'!H3877-Calculations!E$1","v":0},{"$f":"'Absorbance Data'!I3877-Calculations!F$1","v":0},{"$f":"'Absorbance Data'!J3877-Calculations!G$1","v":0},{"$f":"'Absorbance Data'!K3877-Calculations!H$1","v":0},{"$f":"'Absorbance Data'!L3877-Calculations!I$1","v":0},{"$f":"'Absorbance Data'!M3877-Calculations!J$1","v":0},{"$f":"'Absorbance Data'!N3877-Calculations!K$1","v":0},{"$f":"'Absorbance Data'!O3877-Calculations!L$1","v":0},{"$f":"'Absorbance Data'!P3877-Calculations!M$1","v":0},{"$f":"'Absorbance Data'!Q3877-Calculations!N$1","v":0},{"$f":"'Absorbance Data'!R3877-Calculations!O$1","v":0},{"$f":"'Absorbance Data'!S3877-Calculations!P$1","v":0},{"$f":"'Absorbance Data'!T3877-Calculations!Q$1","v":0},{"$f":"'Absorbance Data'!U3877-Calculations!R$1","v":0},{"$f":"'Absorbance Data'!V3877-Calculations!S$1","v":0},{"$f":"'Absorbance Data'!W3877-Calculations!T$1","v":0},{"$f":"'Absorbance Data'!X3877-Calculations!U$1","v":0},{"$f":"'Absorbance Data'!Y3877-Calculations!V$1","v":0},{"$f":"'Absorbance Data'!Z3877-Calculations!W$1","v":0}]
[{"$f":"'Absorbance Data'!D3878","v":789.4029541015625},{"$f":"'Absorbance Data'!E3878-Calculations!B$1","v":0},{"$f":"'Absorbance Data'!F3878-Calculations!C$1","v":0},{"$f":"'Absorbance Data'!G3878-Calculations!D$1","v":0},{"$f":"'Absorbance Data'!H3878-Calculations!E$1","v":0},{"$f":"'Absorbance Data'!I3878-Calculations!F$1","v":0},{"$f":"'Absorbance Data'!J3878-Calculations!G$1","v":0},{"$f":"'Absorbance Data'!K3878-Calculations!H$1","v":0},{"$f":"'Absorbance Data'!L3878-Calculations!I$1","v":0},{"$f":"'Absorbance Data'!M3878-Calculations!J$1","v":0},{"$f":"'Absorbance Data'!N3878-Calculations!K$1","v":0},{"$f":"'Absorbance Data'!O3878-Calculations!L$1","v":0},{"$f":"'Absorbance Data'!P3878-Calculations!M$1","v":0},{"$f":"'Absorbance Data'!Q3878-Calculations!N$1","v":0},{"$f":"'Absorbance Data'!R3878-Calculations!O$1","v":0},{"$f":"'Absorbance Data'!S3878-Calculations!P$1","v":0},{"$f":"'Absorbance Data'!T3878-Calculations!Q$1","v":0},{"$f":"'Absorbance Data'!U3878-Calculations!R$1","v":0},{"$f":"'Absorbance Data'!V3878-Calculations!S$1","v":0},{"$f":"'Absorbance Data'!W3878-Calculations!T$1","v":0},{"$f":"'Absorbance Data'!X3878-Calculations!U$1","v":0},{"$f":"'Absorbance Data'!Y3878-Calculations!V$1","v":0},{"$f":"'Absorbance Data'!Z3878-Calculations!W$1","v":0}]
[{"$f":"'Absorbance Data'!D3879","v":789.69610595703125},{"$f":"'Absorbance Data'!E3879-Calculations!B$1","v":0},{"$f":"'Absorbance Data'!F3879-Calculations!C$1","v":0},{"$f":"'Absorbance Data'!G3879-Calculations!D$1","v":0},{"$f":"'Absorbance Data'!H3879-Calculations!E$1","v":0},{"$f":"'Absorbance Data'!I3879-Calculations!F$1","v":0},{"$f":"'Absorbance Data'!J3879-Calculations!G$1","v":0},{"$f":"'Absorbance Data'!K3879-Calculations!H$1","v":0},{"$f":"'Absorbance Data'!L3879-Calculations!I$1","v":0},{"$f":"'Absorbance Data'!M3879-Calculations!J$1","v":0},{"$f":"'Absorbance Data'!N3879-Calculations!K$1","v":0},{"$f":"'Absorbance Data'!O3879-Calculations!L$1","v":0},{"$f":"'Absorbance Data'!P3879-Calculations!M$1","v":0},{"$f":"'Absorbance Data'!Q3879-Calculations!N$1","v":0},{"$f":"'Absorbance Data'!R3879-Calculations!O$1","v":0},{"$f":"'Absorbance Data'!S3879-Calculations!P$1","v":0},{"$f":"'Absorbance Data'!T3879-Calculations!Q$1","v":0},{"$f":"'Absorbance Data'!U3879-Calculations!R$1","v":0},{"$f":"'Absorbance Data'!V3879-Calculations!S$1","v":0},{"$f":"'Absorbance Data'!W3879-Calculations!T$1","v":0},{"$f":"'Absorbance Data'!X3879-Calculations!U$1","v":0},{"$f":"'Absorbance Data'!Y3879-Calculations!V$1","v":0},{"$f":"'Absorbance Data'!Z3879-Calculations!W$1","v":0}]
[{"$f":"'Absorbance Data'!D3880","v":789.9891357421875},{"$f":"'Absorbance Data'!E3880-Calculations!B$1","v":0},{"$f":"'Absorbance Data'!F3880-Calculations!C$1","v":0},{"$f":"'Absorbance Data'!G3880-Calculations!D$1","v":0},{"$f":"'Absorbance Data'!H3880-Calculations!E$1","v":0},{"$f":"'Absorbance Data'!I3880-Calculations!F$1","v":0},{"$f":"'Absorbance Data'!J3880-Calculations!G$1","v":0},{"$f":"'Absorbance Data'!K3880-Calculations!H$1","v":0},{"$f":"'Absorbance Data'!L3880-Calculations!I$1","v":0},{"$f":"'Absorbance Data'!M3880-Calculations!J$1","v":0},{"$f":"'Absorbance Data'!N3880-Calculations!K$1","v":0},{"$f":"'Absorbance Data'!O3880-Calculations!L$1","v":0},{"$f":"'Absorbance Data'!P3880-Calculations!M$1","v":0},{"$f":"'Absorbance Data'!Q3880-Calculations!N$1","v":0},{"$f":"'Absorbance Data'!R3880-Calculations!O$1","v":0},{"$f":"'Absorbance Data'!S3880-Calculations!P$1","v":0},{"$f":"'Absorbance Data'!T3880-Calculations!Q$1","v":0},{"$f":"'Absorbance Data'!U3880-Calculations!R$1","v":0},{"$f":"'Absorbance Data'!V3880-Calculations!S$1","v":0},{"$f":"'Absorbance Data'!W3880-Calculations!T$1","v":0},{"$f":"'Absorbance Data'!X3880-Calculations!U$1","v":0},{"$f":"'Absorbance Data'!Y3880-Calculations!V$1","v":0},{"$f":"'Absorbance Data'!Z3880-Calculations!W$1","v":0}]
[{"$f":"'Absorbance Data'!D3881","v":790.28228759765625},{"$f":"'Absorbance Data'!E3881-Calculations!B$1","v":0},{"$f":"'Absorbance Data'!F3881-Calculations!C$1","v":0},{"$f":"'Absorbance Data'!G3881-Calculations!D$1","v":0},{"$f":"'Absorbance Data'!H3881-Calculations!E$1","v":0},{"$f":"'Absorbance Data'!I3881-Calculations!F$1","v":0},{"$f":"'Absorbance Data'!J3881-Calculations!G$1","v":0},{"$f":"'Absorbance Data'!K3881-Calculations!H$1","v":0},{"$f":"'Absorbance Data'!L3881-Calculations!I$1","v":0},{"$f":"'Absorbance Data'!M3881-Calculations!J$1","v":0},{"$f":"'Absorbance Data'!N3881-Calculations!K$1","v":0},{"$f":"'Absorbance Data'!O3881-Calculations!L$1","v":0},{"$f":"'Absorbance Data'!P3881-Calculations!M$1","v":0},{"$f":"'Absorbance Data'!Q3881-Calculations!N$1","v":0},{"$f":"'Absorbance Data'!R3881-Calculations!O$1","v":0},{"$f":"'Absorbance Data'!S3881-Calculations!P$1","v":0},{"$f":"'Absorbance Data'!T3881-Calculations!Q$1","v":0},{"$f":"'Absorbance Data'!U3881-Calculations!R$1","v":0},{"$f":"'Absorbance Data'!V3881-Calculations!S$1","v":0},{"$f":"'Absorbance Data'!W3881-Calculations!T$1","v":0},{"$f":"'Absorbance Data'!X3881-Calculations!U$1","v":0},{"$f":"'Absorbance Data'!Y3881-Calculations!V$1","v":0},{"$f":"'Absorbance Data'!Z3881-Calculations!W$1","v":0}]
[{"$f":"'Absorbance Data'!D3882","v":790.57525634765625},{"$f":"'Absorbance Data'!E3882-Calculations!B$1","v":0},{"$f":"'Absorbance Data'!F3882-Calculations!C$1","v":0},{"$f":"'Absorbance Data'!G3882-Calculations!D$1","v":0},{"$f":"'Absorbance Data'!H3882-Calculations!E$1","v":0},{"$f":"'Absorbance Data'!I3882-Calculations!F$1","v":0},{"$f":"'Absorbance Data'!J3882-Calculations!G$1","v":0},{"$f":"'Absorbance Data'!K3882-Calculations!H$1","v":0},{"$f":"'Absorbance Data'!L3882-Calculations!I$1","v":0},{"$f":"'Absorbance Data'!M3882-Calculations!J$1","v":0},{"$f":"'Absorbance Data'!N3882-Calculations!K$1","v":0},{"$f":"'Absorbance Data'!O3882-Calculations!L$1","v":0},{"$f":"'Absorbance Data'!P3882-Calculations!M$1","v":0},{"$f":"'Absorbance Data'!Q3882-Calculations!N$1","v":0},{"$f":"'Absorbance Data'!R3882-Calculations!O$1","v":0},{"$f":"'Absorbance Data'!S3882-Calculations!P$1","v":0},{"$f":"'Absorbance Data'!T3882-Calculations!Q$1","v":0},{"$f":"'Absorbance Data'!U3882-Calculations!R$1","v":0},{"$f":"'Absorbance Data'!V3882-Calculations!S$1","v":0},{"$f":"'Absorbance Data'!W3882-Calculations!T$1","v":0},{"$f":"'Absorbance Data'!X3882-Calculations!U$1","v":0},{"$f":"'Absorbance Data'!Y3882-Calculations!V$1","v":0},{"$f":"'Absorbance Data'!Z3882-Calculations!W$1","v":0}]
[{"$f":"'Absorbance Data'!D3883","v":790.86822509765625},{"$f":"'Absorbance Data'!E3883-Calculations!B$1","v":0},{"$f":"'Absorbance Data'!F3883-Calculations!C$1","v":0},{"$f":"'Absorbance Data'!G3883-Calculations!D$1","v":0},{"$f":"'Absorbance Data'!H3883-Calculations!E$1","v":0},{"$f":"'Absorbance Data'!I3883-Calculations!F$1","v":0},{"$f":"'Absorbance Data'!J3883-Calculations!G$1","v":0},{"$f":"'Absorbance Data'!K3883-Calculations!H$1","v":0},{"$f":"'Absorbance Data'!L3883-Calculations!I$1","v":0},{"$f":"'Absorbance Data'!M3883-Calculations!J$1","v":0},{"$f":"'Absorbance Data'!N3883-Calculations!K$1","v":0},{"$f":"'Absorbance Data'!O3883-Calculations!L$1","v":0},{"$f":"'Absorbance Data'!P3883-Calculations!M$1","v":0},{"$f":"'Absorbance Data'!Q3883-Calculations!N$1","v":0},{"$f":"'Absorbance Data'!R3883-Calculations!O$1","v":0},{"$f":"'Absorbance Data'!S3883-Calculations!P$1","v":0},{"$f":"'Absorbance Data'!T3883-Calculations!Q$1","v":0},{"$f":"'Absorbance Data'!U3883-Calculations!R$1","v":0},{"$f":"'Absorbance Data'!V3883-Calculations!S$1","v":0},{"$f":"'Absorbance Data'!W3883-Calculations!T$1","v":0},{"$f":"'Absorbance Data'!X3883-Calculations!U$1","v":0},{"$f":"'Absorbance Data'!Y3883-Calculations!V$1","v":0},{"$f":"'Absorbance Data'!Z3883-Calculations!W$1","v":0}]
[{"$f":"'Absorbance Data'!D3884","v":791.1611328125},{"$f":"'Absorbance Data'!E3884-Calculations!B$1","v":0},{"$f":"'Absorbance Data'!F3884-Calculations!C$1","v":0},{"$f":"'Absorbance Data'!G3884-Calculations!D$1","v":0},{"$f":"'Absorbance Data'!H3884-Calculations!E$1","v":0},{"$f":"'Absorbance Data'!I3884-Calculations!F$1","v":0},{"$f":"'Absorbance Data'!J3884-Calculations!G$1","v":0},{"$f":"'Absorbance Data'!K3884-Calculations!H$1","v":0},{"$f":"'Absorbance Data'!L3884-Calculations!I$1","v":0},{"$f":"'Absorbance Data'!M3884-Calculations!J$1","v":0},{"$f":"'Absorbance Data'!N3884-Calculations!K$1","v":0},{"$f":"'Absorbance Data'!O3884-Calculations!L$1","v":0},{"$f":"'Absorbance Data'!P3884-Calculations!M$1","v":0},{"$f":"'Absorbance Data'!Q3884-Calculations!N$1","v":0},{"$f":"'Absorbance Data'!R3884-Calculations!O$1","v":0},{"$f":"'Absorbance Data'!S3884-Calculations!P$1","v":0},{"$f":"'Absorbance Data'!T3884-Calculations!Q$1","v":0},{"$f":"'Absorbance Data'!U3884-Calculations!R$1","v":0},{"$f":"'Absorbance Data'!V3884-Calculations!S$1","v":0},{"$f":"'Absorbance Data'!W3884-Calculations!T$1","v":0},{"$f":"'Absorbance Data'!X3884-Calculations!U$1","v":0},{"$f":"'Absorbance Data'!Y3884-Calculations!V$1","v":0},{"$f":"'Absorbance Data'!Z3884-Calculations!W$1","v":0}]
[{"$f":"'Absorbance Data'!D3885","v":791.45404052734375},{"$f":"'Absorbance Data'!E3885-Calculations!B$1","v":0},{"$f":"'Absorbance Data'!F3885-Calculations!C$1","v":0},{"$f":"'Absorbance Data'!G3885-Calculations!D$1","v":0},{"$f":"'Absorbance Data'!H3885-Calculations!E$1","v":0},{"$f":"'Absorbance Data'!I3885-Calculations!F$1","v":0},{"$f":"'Absorbance Data'!J3885-Calculations!G$1","v":0},{"$f":"'Absorbance Data'!K3885-Calculations!H$1","v":0},{"$f":"'Absorbance Data'!L3885-Calculations!I$1","v":0},{"$f":"'Absorbance Data'!M3885-Calculations!J$1","v":0},{"$f":"'Absorbance Data'!N3885-Calculations!K$1","v":0},{"$f":"'Absorbance Data'!O3885-Calculations!L$1","v":0},{"$f":"'Absorbance Data'!P3885-Calculations!M$1","v":0},{"$f":"'Absorbance Data'!Q3885-Calculations!N$1","v":0},{"$f":"'Absorbance Data'!R3885-Calculations!O$1","v":0},{"$f":"'Absorbance Data'!S3885-Calculations!P$1","v":0},{"$f":"'Absorbance Data'!T3885-Calculations!Q$1","v":0},{"$f":"'Absorbance Data'!U3885-Calculations!R$1","v":0},{"$f":"'Absorbance Data'!V3885-Calculations!S$1","v":0},{"$f":"'Absorbance Data'!W3885-Calculations!T$1","v":0},{"$f":"'Absorbance Data'!X3885-Calculations!U$1","v":0},{"$f":"'Absorbance Data'!Y3885-Calculations!V$1","v":0},{"$f":"'Absorbance Data'!Z3885-Calculations!W$1","v":0}]
[{"$f":"'Absorbance Data'!D3886","v":791.746826171875},{"$f":"'Absorbance Data'!E3886-Calculations!B$1","v":0},{"$f":"'Absorbance Data'!F3886-Calculations!C$1","v":0},{"$f":"'Absorbance Data'!G3886-Calculations!D$1","v":0},{"$f":"'Absorbance Data'!H3886-Calculations!E$1","v":0},{"$f":"'Absorbance Data'!I3886-Calculations!F$1","v":0},{"$f":"'Absorbance Data'!J3886-Calculations!G$1","v":0},{"$f":"'Absorbance Data'!K3886-Calculations!H$1","v":0},{"$f":"'Absorbance Data'!L3886-Calculations!I$1","v":0},{"$f":"'Absorbance Data'!M3886-Calculations!J$1","v":0},{"$f":"'Absorbance Data'!N3886-Calculations!K$1","v":0},{"$f":"'Absorbance Data'!O3886-Calculations!L$1","v":0},{"$f":"'Absorbance Data'!P3886-Calculations!M$1","v":0},{"$f":"'Absorbance Data'!Q3886-Calculations!N$1","v":0},{"$f":"'Absorbance Data'!R3886-Calculations!O$1","v":0},{"$f":"'Absorbance Data'!S3886-Calculations!P$1","v":0},{"$f":"'Absorbance Data'!T3886-Calculations!Q$1","v":0},{"$f":"'Absorbance Data'!U3886-Calculations!R$1","v":0},{"$f":"'Absorbance Data'!V3886-Calculations!S$1","v":0},{"$f":"'Absorbance Data'!W3886-Calculations!T$1","v":0},{"$f":"'Absorbance Data'!X3886-Calculations!U$1","v":0},{"$f":"'Absorbance Data'!Y3886-Calculations!V$1","v":0},{"$f":"'Absorbance Data'!Z3886-Calculations!W$1","v":0}]
[{"$f":"'Absorbance Data'!D3887","v":792.03961181640625},{"$f":"'Absorbance Data'!E3887-Calculations!B$1","v":0},{"$f":"'Absorbance Data'!F3887-Calculations!C$1","v":0},{"$f":"'Absorbance Data'!G3887-Calculations!D$1","v":0},{"$f":"'Absorbance Data'!H3887-Calculations!E$1","v":0},{"$f":"'Absorbance Data'!I3887-Calculations!F$1","v":0},{"$f":"'Absorbance Data'!J3887-Calculations!G$1","v":0},{"$f":"'Absorbance Data'!K3887-Calculations!H$1","v":0},{"$f":"'Absorbance Data'!L3887-Calculations!I$1","v":0},{"$f":"'Absorbance Data'!M3887-Calculations!J$1","v":0},{"$f":"'Absorbance Data'!N3887-Calculations!K$1","v":0},{"$f":"'Absorbance Data'!O3887-Calculations!L$1","v":0},{"$f":"'Absorbance Data'!P3887-Calculations!M$1","v":0},{"$f":"'Absorbance Data'!Q3887-Calculations!N$1","v":0},{"$f":"'Absorbance Data'!R3887-Calculations!O$1","v":0},{"$f":"'Absorbance Data'!S3887-Calculations!P$1","v":0},{"$f":"'Absorbance Data'!T3887-Calculations!Q$1","v":0},{"$f":"'Absorbance Data'!U3887-Calculations!R$1","v":0},{"$f":"'Absorbance Data'!V3887-Calculations!S$1","v":0},{"$f":"'Absorbance Data'!W3887-Calculations!T$1","v":0},{"$f":"'Absorbance Data'!X3887-Calculations!U$1","v":0},{"$f":"'Absorbance Data'!Y3887-Calculations!V$1","v":0},{"$f":"'Absorbance Data'!Z3887-Calculations!W$1","v":0}]
[{"$f":"'Absorbance Data'!D3888","v":792.332275390625},{"$f":"'Absorbance Data'!E3888-Calculations!B$1","v":0},{"$f":"'Absorbance Data'!F3888-Calculations!C$1","v":0},{"$f":"'Absorbance Data'!G3888-Calculations!D$1","v":0},{"$f":"'Absorbance Data'!H3888-Calculations!E$1","v":0},{"$f":"'Absorbance Data'!I3888-Calculations!F$1","v":0},{"$f":"'Absorbance Data'!J3888-Calculations!G$1","v":0},{"$f":"'Absorbance Data'!K3888-Calculations!H$1","v":0},{"$f":"'Absorbance Data'!L3888-Calculations!I$1","v":0},{"$f":"'Absorbance Data'!M3888-Calculations!J$1","v":0},{"$f":"'Absorbance Data'!N3888-Calculations!K$1","v":0},{"$f":"'Absorbance Data'!O3888-Calculations!L$1","v":0},{"$f":"'Absorbance Data'!P3888-Calculations!M$1","v":0},{"$f":"'Absorbance Data'!Q3888-Calculations!N$1","v":0},{"$f":"'Absorbance Data'!R3888-Calculations!O$1","v":0},{"$f":"'Absorbance Data'!S3888-Calculations!P$1","v":0},{"$f":"'Absorbance Data'!T3888-Calculations!Q$1","v":0},{"$f":"'Absorbance Data'!U3888-Calculations!R$1","v":0},{"$f":"'Absorbance Data'!V3888-Calculations!S$1","v":0},{"$f":"'Absorbance Data'!W3888-Calculations!T$1","v":0},{"$f":"'Absorbance Data'!X3888-Calculations!U$1","v":0},{"$f":"'Absorbance Data'!Y3888-Calculations!V$1","v":0},{"$f":"'Absorbance Data'!Z3888-Calculations!W$1","v":0}]
[{"$f":"'Absorbance Data'!D3889","v":792.62506103515625},{"$f":"'Absorbance Data'!E3889-Calculations!B$1","v":0},{"$f":"'Absorbance Data'!F3889-Calculations!C$1","v":0},{"$f":"'Absorbance Data'!G3889-Calculations!D$1","v":0},{"$f":"'Absorbance Data'!H3889-Calculations!E$1","v":0},{"$f":"'Absorbance Data'!I3889-Calculations!F$1","v":0},{"$f":"'Absorbance Data'!J3889-Calculations!G$1","v":0},{"$f":"'Absorbance Data'!K3889-Calculations!H$1","v":0},{"$f":"'Absorbance Data'!L3889-Calculations!I$1","v":0},{"$f":"'Absorbance Data'!M3889-Calculations!J$1","v":0},{"$f":"'Absorbance Data'!N3889-Calculations!K$1","v":0},{"$f":"'Absorbance Data'!O3889-Calculations!L$1","v":0},{"$f":"'Absorbance Data'!P3889-Calculations!M$1","v":0},{"$f":"'Absorbance Data'!Q3889-Calculations!N$1","v":0},{"$f":"'Absorbance Data'!R3889-Calculations!O$1","v":0},{"$f":"'Absorbance Data'!S3889-Calculations!P$1","v":0},{"$f":"'Absorbance Data'!T3889-Calculations!Q$1","v":0},{"$f":"'Absorbance Data'!U3889-Calculations!R$1","v":0},{"$f":"'Absorbance Data'!V3889-Calculations!S$1","v":0},{"$f":"'Absorbance Data'!W3889-Calculations!T$1","v":0},{"$f":"'Absorbance Data'!X3889-Calculations!U$1","v":0},{"$f":"'Absorbance Data'!Y3889-Calculations!V$1","v":0},{"$f":"'Absorbance Data'!Z3889-Calculations!W$1","v":0}]
[{"$f":"'Absorbance Data'!D3890","v":792.91766357421875},{"$f":"'Absorbance Data'!E3890-Calculations!B$1","v":0},{"$f":"'Absorbance Data'!F3890-Calculations!C$1","v":0},{"$f":"'Absorbance Data'!G3890-Calculations!D$1","v":0},{"$f":"'Absorbance Data'!H3890-Calculations!E$1","v":0},{"$f":"'Absorbance Data'!I3890-Calculations!F$1","v":0},{"$f":"'Absorbance Data'!J3890-Calculations!G$1","v":0},{"$f":"'Absorbance Data'!K3890-Calculations!H$1","v":0},{"$f":"'Absorbance Data'!L3890-Calculations!I$1","v":0},{"$f":"'Absorbance Data'!M3890-Calculations!J$1","v":0},{"$f":"'Absorbance Data'!N3890-Calculations!K$1","v":0},{"$f":"'Absorbance Data'!O3890-Calculations!L$1","v":0},{"$f":"'Absorbance Data'!P3890-Calculations!M$1","v":0},{"$f":"'Absorbance Data'!Q3890-Calculations!N$1","v":0},{"$f":"'Absorbance Data'!R3890-Calculations!O$1","v":0},{"$f":"'Absorbance Data'!S3890-Calculations!P$1","v":0},{"$f":"'Absorbance Data'!T3890-Calculations!Q$1","v":0},{"$f":"'Absorbance Data'!U3890-Calculations!R$1","v":0},{"$f":"'Absorbance Data'!V3890-Calculations!S$1","v":0},{"$f":"'Absorbance Data'!W3890-Calculations!T$1","v":0},{"$f":"'Absorbance Data'!X3890-Calculations!U$1","v":0},{"$f":"'Absorbance Data'!Y3890-Calculations!V$1","v":0},{"$f":"'Absorbance Data'!Z3890-Calculations!W$1","v":0}]
[{"$f":"'Absorbance Data'!D3891","v":793.210205078125},{"$f":"'Absorbance Data'!E3891-Calculations!B$1","v":0},{"$f":"'Absorbance Data'!F3891-Calculations!C$1","v":0},{"$f":"'Absorbance Data'!G3891-Calculations!D$1","v":0},{"$f":"'Absorbance Data'!H3891-Calculations!E$1","v":0},{"$f":"'Absorbance Data'!I3891-Calculations!F$1","v":0},{"$f":"'Absorbance Data'!J3891-Calculations!G$1","v":0},{"$f":"'Absorbance Data'!K3891-Calculations!H$1","v":0},{"$f":"'Absorbance Data'!L3891-Calculations!I$1","v":0},{"$f":"'Absorbance Data'!M3891-Calculations!J$1","v":0},{"$f":"'Absorbance Data'!N3891-Calculations!K$1","v":0},{"$f":"'Absorbance Data'!O3891-Calculations!L$1","v":0},{"$f":"'Absorbance Data'!P3891-Calculations!M$1","v":0},{"$f":"'Absorbance Data'!Q3891-Calculations!N$1","v":0},{"$f":"'Absorbance Data'!R3891-Calculations!O$1","v":0},{"$f":"'Absorbance Data'!S3891-Calculations!P$1","v":0},{"$f":"'Absorbance Data'!T3891-Calculations!Q$1","v":0},{"$f":"'Absorbance Data'!U3891-Calculations!R$1","v":0},{"$f":"'Absorbance Data'!V3891-Calculations!S$1","v":0},{"$f":"'Absorbance Data'!W3891-Calculations!T$1","v":0},{"$f":"'Absorbance Data'!X3891-Calculations!U$1","v":0},{"$f":"'Absorbance Data'!Y3891-Calculations!V$1","v":0},{"$f":"'Absorbance Data'!Z3891-Calculations!W$1","v":0}]
[{"$f":"'Absorbance Data'!D3892","v":793.50274658203125},{"$f":"'Absorbance Data'!E3892-Calculations!B$1","v":0},{"$f":"'Absorbance Data'!F3892-Calculations!C$1","v":0},{"$f":"'Absorbance Data'!G3892-Calculations!D$1","v":0},{"$f":"'Absorbance Data'!H3892-Calculations!E$1","v":0},{"$f":"'Absorbance Data'!I3892-Calculations!F$1","v":0},{"$f":"'Absorbance Data'!J3892-Calculations!G$1","v":0},{"$f":"'Absorbance Data'!K3892-Calculations!H$1","v":0},{"$f":"'Absorbance Data'!L3892-Calculations!I$1","v":0},{"$f":"'Absorbance Data'!M3892-Calculations!J$1","v":0},{"$f":"'Absorbance Data'!N3892-Calculations!K$1","v":0},{"$f":"'Absorbance Data'!O3892-Calculations!L$1","v":0},{"$f":"'Absorbance Data'!P3892-Calculations!M$1","v":0},{"$f":"'Absorbance Data'!Q3892-Calculations!N$1","v":0},{"$f":"'Absorbance Data'!R3892-Calculations!O$1","v":0},{"$f":"'Absorbance Data'!S3892-Calculations!P$1","v":0},{"$f":"'Absorbance Data'!T3892-Calculations!Q$1","v":0},{"$f":"'Absorbance Data'!U3892-Calculations!R$1","v":0},{"$f":"'Absorbance Data'!V3892-Calculations!S$1","v":0},{"$f":"'Absorbance Data'!W3892-Calculations!T$1","v":0},{"$f":"'Absorbance Data'!X3892-Calculations!U$1","v":0},{"$f":"'Absorbance Data'!Y3892-Calculations!V$1","v":0},{"$f":"'Absorbance Data'!Z3892-Calculations!W$1","v":0}]
[{"$f":"'Absorbance Data'!D3893","v":793.79522705078125},{"$f":"'Absorbance Data'!E3893-Calculations!B$1","v":0},{"$f":"'Absorbance Data'!F3893-Calculations!C$1","v":0},{"$f":"'Absorbance Data'!G3893-Calculations!D$1","v":0},{"$f":"'Absorbance Data'!H3893-Calculations!E$1","v":0},{"$f":"'Absorbance Data'!I3893-Calculations!F$1","v":0},{"$f":"'Absorbance Data'!J3893-Calculations!G$1","v":0},{"$f":"'Absorbance Data'!K3893-Calculations!H$1","v":0},{"$f":"'Absorbance Data'!L3893-Calculations!I$1","v":0},{"$f":"'Absorbance Data'!M3893-Calculations!J$1","v":0},{"$f":"'Absorbance Data'!N3893-Calculations!K$1","v":0},{"$f":"'Absorbance Data'!O3893-Calculations!L$1","v":0},{"$f":"'Absorbance Data'!P3893-Calculations!M$1","v":0},{"$f":"'Absorbance Data'!Q3893-Calculations!N$1","v":0},{"$f":"'Absorbance Data'!R3893-Calculations!O$1","v":0},{"$f":"'Absorbance Data'!S3893-Calculations!P$1","v":0},{"$f":"'Absorbance Data'!T3893-Calculations!Q$1","v":0},{"$f":"'Absorbance Data'!U3893-Calculations!R$1","v":0},{"$f":"'Absorbance Data'!V3893-Calculations!S$1","v":0},{"$f":"'Absorbance Data'!W3893-Calculations!T$1","v":0},{"$f":"'Absorbance Data'!X3893-Calculations!U$1","v":0},{"$f":"'Absorbance Data'!Y3893-Calculations!V$1","v":0},{"$f":"'Absorbance Data'!Z3893-Calculations!W$1","v":0}]
[{"$f":"'Absorbance Data'!D3894","v":794.087646484375},{"$f":"'Absorbance Data'!E3894-Calculations!B$1","v":0},{"$f":"'Absorbance Data'!F3894-Calculations!C$1","v":0},{"$f":"'Absorbance Data'!G3894-Calculations!D$1","v":0},{"$f":"'Absorbance Data'!H3894-Calculations!E$1","v":0},{"$f":"'Absorbance Data'!I3894-Calculations!F$1","v":0},{"$f":"'Absorbance Data'!J3894-Calculations!G$1","v":0},{"$f":"'Absorbance Data'!K3894-Calculations!H$1","v":0},{"$f":"'Absorbance Data'!L3894-Calculations!I$1","v":0},{"$f":"'Absorbance Data'!M3894-Calculations!J$1","v":0},{"$f":"'Absorbance Data'!N3894-Calculations!K$1","v":0},{"$f":"'Absorbance Data'!O3894-Calculations!L$1","v":0},{"$f":"'Absorbance Data'!P3894-Calculations!M$1","v":0},{"$f":"'Absorbance Data'!Q3894-Calculations!N$1","v":0},{"$f":"'Absorbance Data'!R3894-Calculations!O$1","v":0},{"$f":"'Absorbance Data'!S3894-Calculations!P$1","v":0},{"$f":"'Absorbance Data'!T3894-Calculations!Q$1","v":0},{"$f":"'Absorbance Data'!U3894-Calculations!R$1","v":0},{"$f":"'Absorbance Data'!V3894-Calculations!S$1","v":0},{"$f":"'Absorbance Data'!W3894-Calculations!T$1","v":0},{"$f":"'Absorbance Data'!X3894-Calculations!U$1","v":0},{"$f":"'Absorbance Data'!Y3894-Calculations!V$1","v":0},{"$f":"'Absorbance Data'!Z3894-Calculations!W$1","v":0}]
[{"$f":"'Absorbance Data'!D3895","v":794.38006591796875},{"$f":"'Absorbance Data'!E3895-Calculations!B$1","v":0},{"$f":"'Absorbance Data'!F3895-Calculations!C$1","v":0},{"$f":"'Absorbance Data'!G3895-Calculations!D$1","v":0},{"$f":"'Absorbance Data'!H3895-Calculations!E$1","v":0},{"$f":"'Absorbance Data'!I3895-Calculations!F$1","v":0},{"$f":"'Absorbance Data'!J3895-Calculations!G$1","v":0},{"$f":"'Absorbance Data'!K3895-Calculations!H$1","v":0},{"$f":"'Absorbance Data'!L3895-Calculations!I$1","v":0},{"$f":"'Absorbance Data'!M3895-Calculations!J$1","v":0},{"$f":"'Absorbance Data'!N3895-Calculations!K$1","v":0},{"$f":"'Absorbance Data'!O3895-Calculations!L$1","v":0},{"$f":"'Absorbance Data'!P3895-Calculations!M$1","v":0},{"$f":"'Absorbance Data'!Q3895-Calculations!N$1","v":0},{"$f":"'Absorbance Data'!R3895-Calculations!O$1","v":0},{"$f":"'Absorbance Data'!S3895-Calculations!P$1","v":0},{"$f":"'Absorbance Data'!T3895-Calculations!Q$1","v":0},{"$f":"'Absorbance Data'!U3895-Calculations!R$1","v":0},{"$f":"'Absorbance Data'!V3895-Calculations!S$1","v":0},{"$f":"'Absorbance Data'!W3895-Calculations!T$1","v":0},{"$f":"'Absorbance Data'!X3895-Calculations!U$1","v":0},{"$f":"'Absorbance Data'!Y3895-Calculations!V$1","v":0},{"$f":"'Absorbance Data'!Z3895-Calculations!W$1","v":0}]
[{"$f":"'Absorbance Data'!D3896","v":794.67242431640625},{"$f":"'Absorbance Data'!E3896-Calculations!B$1","v":0},{"$f":"'Absorbance Data'!F3896-Calculations!C$1","v":0},{"$f":"'Absorbance Data'!G3896-Calculations!D$1","v":0},{"$f":"'Absorbance Data'!H3896-Calculations!E$1","v":0},{"$f":"'Absorbance Data'!I3896-Calculations!F$1","v":0},{"$f":"'Absorbance Data'!J3896-Calculations!G$1","v":0},{"$f":"'Absorbance Data'!K3896-Calculations!H$1","v":0},{"$f":"'Absorbance Data'!L3896-Calculations!I$1","v":0},{"$f":"'Absorbance Data'!M3896-Calculations!J$1","v":0},{"$f":"'Absorbance Data'!N3896-Calculations!K$1","v":0},{"$f":"'Absorbance Data'!O3896-Calculations!L$1","v":0},{"$f":"'Absorbance Data'!P3896-Calculations!M$1","v":0},{"$f":"'Absorbance Data'!Q3896-Calculations!N$1","v":0},{"$f":"'Absorbance Data'!R3896-Calculations!O$1","v":0},{"$f":"'Absorbance Data'!S3896-Calculations!P$1","v":0},{"$f":"'Absorbance Data'!T3896-Calculations!Q$1","v":0},{"$f":"'Absorbance Data'!U3896-Calculations!R$1","v":0},{"$f":"'Absorbance Data'!V3896-Calculations!S$1","v":0},{"$f":"'Absorbance Data'!W3896-Calculations!T$1","v":0},{"$f":"'Absorbance Data'!X3896-Calculations!U$1","v":0},{"$f":"'Absorbance Data'!Y3896-Calculations!V$1","v":0},{"$f":"'Absorbance Data'!Z3896-Calculations!W$1","v":0}]
[{"$f":"'Absorbance Data'!D3897","v":794.9647216796875},{"$f":"'Absorbance Data'!E3897-Calculations!B$1","v":0},{"$f":"'Absorbance Data'!F3897-Calculations!C$1","v":0},{"$f":"'Absorbance Data'!G3897-Calculations!D$1","v":0},{"$f":"'Absorbance Data'!H3897-Calculations!E$1","v":0},{"$f":"'Absorbance Data'!I3897-Calculations!F$1","v":0},{"$f":"'Absorbance Data'!J3897-Calculations!G$1","v":0},{"$f":"'Absorbance Data'!K3897-Calculations!H$1","v":0},{"$f":"'Absorbance Data'!L3897-Calculations!I$1","v":0},{"$f":"'Absorbance Data'!M3897-Calculations!J$1","v":0},{"$f":"'Absorbance Data'!N3897-Calculations!K$1","v":0},{"$f":"'Absorbance Data'!O3897-Calculations!L$1","v":0},{"$f":"'Absorbance Data'!P3897-Calculations!M$1","v":0},{"$f":"'Absorbance Data'!Q3897-Calculations!N$1","v":0},{"$f":"'Absorbance Data'!R3897-Calculations!O$1","v":0},{"$f":"'Absorbance Data'!S3897-Calculations!P$1","v":0},{"$f":"'Absorbance Data'!T3897-Calculations!Q$1","v":0},{"$f":"'Absorbance Data'!U3897-Calculations!R$1","v":0},{"$f":"'Absorbance Data'!V3897-Calculations!S$1","v":0},{"$f":"'Absorbance Data'!W3897-Calculations!T$1","v":0},{"$f":"'Absorbance Data'!X3897-Calculations!U$1","v":0},{"$f":"'Absorbance Data'!Y3897-Calculations!V$1","v":0},{"$f":"'Absorbance Data'!Z3897-Calculations!W$1","v":0}]
[{"$f":"'Absorbance Data'!D3898","v":795.25689697265625},{"$f":"'Absorbance Data'!E3898-Calculations!B$1","v":0},{"$f":"'Absorbance Data'!F3898-Calculations!C$1","v":0},{"$f":"'Absorbance Data'!G3898-Calculations!D$1","v":0},{"$f":"'Absorbance Data'!H3898-Calculations!E$1","v":0},{"$f":"'Absorbance Data'!I3898-Calculations!F$1","v":0},{"$f":"'Absorbance Data'!J3898-Calculations!G$1","v":0},{"$f":"'Absorbance Data'!K3898-Calculations!H$1","v":0},{"$f":"'Absorbance Data'!L3898-Calculations!I$1","v":0},{"$f":"'Absorbance Data'!M3898-Calculations!J$1","v":0},{"$f":"'Absorbance Data'!N3898-Calculations!K$1","v":0},{"$f":"'Absorbance Data'!O3898-Calculations!L$1","v":0},{"$f":"'Absorbance Data'!P3898-Calculations!M$1","v":0},{"$f":"'Absorbance Data'!Q3898-Calculations!N$1","v":0},{"$f":"'Absorbance Data'!R3898-Calculations!O$1","v":0},{"$f":"'Absorbance Data'!S3898-Calculations!P$1","v":0},{"$f":"'Absorbance Data'!T3898-Calculations!Q$1","v":0},{"$f":"'Absorbance Data'!U3898-Calculations!R$1","v":0},{"$f":"'Absorbance Data'!V3898-Calculations!S$1","v":0},{"$f":"'Absorbance Data'!W3898-Calculations!T$1","v":0},{"$f":"'Absorbance Data'!X3898-Calculations!U$1","v":0},{"$f":"'Absorbance Data'!Y3898-Calculations!V$1","v":0},{"$f":"'Absorbance Data'!Z3898-Calculations!W$1","v":0}]
[{"$f":"'Absorbance Data'!D3899","v":795.549072265625},{"$f":"'Absorbance Data'!E3899-Calculations!B$1","v":0},{"$f":"'Absorbance Data'!F3899-Calculations!C$1","v":0},{"$f":"'Absorbance Data'!G3899-Calculations!D$1","v":0},{"$f":"'Absorbance Data'!H3899-Calculations!E$1","v":0},{"$f":"'Absorbance Data'!I3899-Calculations!F$1","v":0},{"$f":"'Absorbance Data'!J3899-Calculations!G$1","v":0},{"$f":"'Absorbance Data'!K3899-Calculations!H$1","v":0},{"$f":"'Absorbance Data'!L3899-Calculations!I$1","v":0},{"$f":"'Absorbance Data'!M3899-Calculations!J$1","v":0},{"$f":"'Absorbance Data'!N3899-Calculations!K$1","v":0},{"$f":"'Absorbance Data'!O3899-Calculations!L$1","v":0},{"$f":"'Absorbance Data'!P3899-Calculations!M$1","v":0},{"$f":"'Absorbance Data'!Q3899-Calculations!N$1","v":0},{"$f":"'Absorbance Data'!R3899-Calculations!O$1","v":0},{"$f":"'Absorbance Data'!S3899-Calculations!P$1","v":0},{"$f":"'Absorbance Data'!T3899-Calculations!Q$1","v":0},{"$f":"'Absorbance Data'!U3899-Calculations!R$1","v":0},{"$f":"'Absorbance Data'!V3899-Calculations!S$1","v":0},{"$f":"'Absorbance Data'!W3899-Calculations!T$1","v":0},{"$f":"'Absorbance Data'!X3899-Calculations!U$1","v":0},{"$f":"'Absorbance Data'!Y3899-Calculations!V$1","v":0},{"$f":"'Absorbance Data'!Z3899-Calculations!W$1","v":0}]
[{"$f":"'Absorbance Data'!D3900","v":795.84130859375},{"$f":"'Absorbance Data'!E3900-Calculations!B$1","v":0},{"$f":"'Absorbance Data'!F3900-Calculations!C$1","v":0},{"$f":"'Absorbance Data'!G3900-Calculations!D$1","v":0},{"$f":"'Absorbance Data'!H3900-Calculations!E$1","v":0},{"$f":"'Absorbance Data'!I3900-Calculations!F$1","v":0},{"$f":"'Absorbance Data'!J3900-Calculations!G$1","v":0},{"$f":"'Absorbance Data'!K3900-Calculations!H$1","v":0},{"$f":"'Absorbance Data'!L3900-Calculations!I$1","v":0},{"$f":"'Absorbance Data'!M3900-Calculations!J$1","v":0},{"$f":"'Absorbance Data'!N3900-Calculations!K$1","v":0},{"$f":"'Absorbance Data'!O3900-Calculations!L$1","v":0},{"$f":"'Absorbance Data'!P3900-Calculations!M$1","v":0},{"$f":"'Absorbance Data'!Q3900-Calculations!N$1","v":0},{"$f":"'Absorbance Data'!R3900-Calculations!O$1","v":0},{"$f":"'Absorbance Data'!S3900-Calculations!P$1","v":0},{"$f":"'Absorbance Data'!T3900-Calculations!Q$1","v":0},{"$f":"'Absorbance Data'!U3900-Calculations!R$1","v":0},{"$f":"'Absorbance Data'!V3900-Calculations!S$1","v":0},{"$f":"'Absorbance Data'!W3900-Calculations!T$1","v":0},{"$f":"'Absorbance Data'!X3900-Calculations!U$1","v":0},{"$f":"'Absorbance Data'!Y3900-Calculations!V$1","v":0},{"$f":"'Absorbance Data'!Z3900-Calculations!W$1","v":0}]
[{"$f":"'Absorbance Data'!D3901","v":796.13336181640625},{"$f":"'Absorbance Data'!E3901-Calculations!B$1","v":0},{"$f":"'Absorbance Data'!F3901-Calculations!C$1","v":0},{"$f":"'Absorbance Data'!G3901-Calculations!D$1","v":0},{"$f":"'Absorbance Data'!H3901-Calculations!E$1","v":0},{"$f":"'Absorbance Data'!I3901-Calculations!F$1","v":0},{"$f":"'Absorbance Data'!J3901-Calculations!G$1","v":0},{"$f":"'Absorbance Data'!K3901-Calculations!H$1","v":0},{"$f":"'Absorbance Data'!L3901-Calculations!I$1","v":0},{"$f":"'Absorbance Data'!M3901-Calculations!J$1","v":0},{"$f":"'Absorbance Data'!N3901-Calculations!K$1","v":0},{"$f":"'Absorbance Data'!O3901-Calculations!L$1","v":0},{"$f":"'Absorbance Data'!P3901-Calculations!M$1","v":0},{"$f":"'Absorbance Data'!Q3901-Calculations!N$1","v":0},{"$f":"'Absorbance Data'!R3901-Calculations!O$1","v":0},{"$f":"'Absorbance Data'!S3901-Calculations!P$1","v":0},{"$f":"'Absorbance Data'!T3901-Calculations!Q$1","v":0},{"$f":"'Absorbance Data'!U3901-Calculations!R$1","v":0},{"$f":"'Absorbance Data'!V3901-Calculations!S$1","v":0},{"$f":"'Absorbance Data'!W3901-Calculations!T$1","v":0},{"$f":"'Absorbance Data'!X3901-Calculations!U$1","v":0},{"$f":"'Absorbance Data'!Y3901-Calculations!V$1","v":0},{"$f":"'Absorbance Data'!Z3901-Calculations!W$1","v":0}]
[{"$f":"'Absorbance Data'!D3902","v":796.42547607421875},{"$f":"'Absorbance Data'!E3902-Calculations!B$1","v":0},{"$f":"'Absorbance Data'!F3902-Calculations!C$1","v":0},{"$f":"'Absorbance Data'!G3902-Calculations!D$1","v":0},{"$f":"'Absorbance Data'!H3902-Calculations!E$1","v":0},{"$f":"'Absorbance Data'!I3902-Calculations!F$1","v":0},{"$f":"'Absorbance Data'!J3902-Calculations!G$1","v":0},{"$f":"'Absorbance Data'!K3902-Calculations!H$1","v":0},{"$f":"'Absorbance Data'!L3902-Calculations!I$1","v":0},{"$f":"'Absorbance Data'!M3902-Calculations!J$1","v":0},{"$f":"'Absorbance Data'!N3902-Calculations!K$1","v":0},{"$f":"'Absorbance Data'!O3902-Calculations!L$1","v":0},{"$f":"'Absorbance Data'!P3902-Calculations!M$1","v":0},{"$f":"'Absorbance Data'!Q3902-Calculations!N$1","v":0},{"$f":"'Absorbance Data'!R3902-Calculations!O$1","v":0},{"$f":"'Absorbance Data'!S3902-Calculations!P$1","v":0},{"$f":"'Absorbance Data'!T3902-Calculations!Q$1","v":0},{"$f":"'Absorbance Data'!U3902-Calculations!R$1","v":0},{"$f":"'Absorbance Data'!V3902-Calculations!S$1","v":0},{"$f":"'Absorbance Data'!W3902-Calculations!T$1","v":0},{"$f":"'Absorbance Data'!X3902-Calculations!U$1","v":0},{"$f":"'Absorbance Data'!Y3902-Calculations!V$1","v":0},{"$f":"'Absorbance Data'!Z3902-Calculations!W$1","v":0}]
[{"$f":"'Absorbance Data'!D3903","v":796.7174072265625},{"$f":"'Absorbance Data'!E3903-Calculations!B$1","v":0},{"$f":"'Absorbance Data'!F3903-Calculations!C$1","v":0},{"$f":"'Absorbance Data'!G3903-Calculations!D$1","v":0},{"$f":"'Absorbance Data'!H3903-Calculations!E$1","v":0},{"$f":"'Absorbance Data'!I3903-Calculations!F$1","v":0},{"$f":"'Absorbance Data'!J3903-Calculations!G$1","v":0},{"$f":"'Absorbance Data'!K3903-Calculations!H$1","v":0},{"$f":"'Absorbance Data'!L3903-Calculations!I$1","v":0},{"$f":"'Absorbance Data'!M3903-Calculations!J$1","v":0},{"$f":"'Absorbance Data'!N3903-Calculations!K$1","v":0},{"$f":"'Absorbance Data'!O3903-Calculations!L$1","v":0},{"$f":"'Absorbance Data'!P3903-Calculations!M$1","v":0},{"$f":"'Absorbance Data'!Q3903-Calculations!N$1","v":0},{"$f":"'Absorbance Data'!R3903-Calculations!O$1","v":0},{"$f":"'Absorbance Data'!S3903-Calculations!P$1","v":0},{"$f":"'Absorbance Data'!T3903-Calculations!Q$1","v":0},{"$f":"'Absorbance Data'!U3903-Calculations!R$1","v":0},{"$f":"'Absorbance Data'!V3903-Calculations!S$1","v":0},{"$f":"'Absorbance Data'!W3903-Calculations!T$1","v":0},{"$f":"'Absorbance Data'!X3903-Calculations!U$1","v":0},{"$f":"'Absorbance Data'!Y3903-Calculations!V$1","v":0},{"$f":"'Absorbance Data'!Z3903-Calculations!W$1","v":0}]
[{"$f":"'Absorbance Data'!D3904","v":797.00933837890625},{"$f":"'Absorbance Data'!E3904-Calculations!B$1","v":0},{"$f":"'Absorbance Data'!F3904-Calculations!C$1","v":0},{"$f":"'Absorbance Data'!G3904-Calculations!D$1","v":0},{"$f":"'Absorbance Data'!H3904-Calculations!E$1","v":0},{"$f":"'Absorbance Data'!I3904-Calculations!F$1","v":0},{"$f":"'Absorbance Data'!J3904-Calculations!G$1","v":0},{"$f":"'Absorbance Data'!K3904-Calculations!H$1","v":0},{"$f":"'Absorbance Data'!L3904-Calculations!I$1","v":0},{"$f":"'Absorbance Data'!M3904-Calculations!J$1","v":0},{"$f":"'Absorbance Data'!N3904-Calculations!K$1","v":0},{"$f":"'Absorbance Data'!O3904-Calculations!L$1","v":0},{"$f":"'Absorbance Data'!P3904-Calculations!M$1","v":0},{"$f":"'Absorbance Data'!Q3904-Calculations!N$1","v":0},{"$f":"'Absorbance Data'!R3904-Calculations!O$1","v":0},{"$f":"'Absorbance Data'!S3904-Calculations!P$1","v":0},{"$f":"'Absorbance Data'!T3904-Calculations!Q$1","v":0},{"$f":"'Absorbance Data'!U3904-Calculations!R$1","v":0},{"$f":"'Absorbance Data'!V3904-Calculations!S$1","v":0},{"$f":"'Absorbance Data'!W3904-Calculations!T$1","v":0},{"$f":"'Absorbance Data'!X3904-Calculations!U$1","v":0},{"$f":"'Absorbance Data'!Y3904-Calculations!V$1","v":0},{"$f":"'Absorbance Data'!Z3904-Calculations!W$1","v":0}]
[{"$f":"'Absorbance Data'!D3905","v":797.30126953125},{"$f":"'Absorbance Data'!E3905-Calculations!B$1","v":0},{"$f":"'Absorbance Data'!F3905-Calculations!C$1","v":0},{"$f":"'Absorbance Data'!G3905-Calculations!D$1","v":0},{"$f":"'Absorbance Data'!H3905-Calculations!E$1","v":0},{"$f":"'Absorbance Data'!I3905-Calculations!F$1","v":0},{"$f":"'Absorbance Data'!J3905-Calculations!G$1","v":0},{"$f":"'Absorbance Data'!K3905-Calculations!H$1","v":0},{"$f":"'Absorbance Data'!L3905-Calculations!I$1","v":0},{"$f":"'Absorbance Data'!M3905-Calculations!J$1","v":0},{"$f":"'Absorbance Data'!N3905-Calculations!K$1","v":0},{"$f":"'Absorbance Data'!O3905-Calculations!L$1","v":0},{"$f":"'Absorbance Data'!P3905-Calculations!M$1","v":0},{"$f":"'Absorbance Data'!Q3905-Calculations!N$1","v":0},{"$f":"'Absorbance Data'!R3905-Calculations!O$1","v":0},{"$f":"'Absorbance Data'!S3905-Calculations!P$1","v":0},{"$f":"'Absorbance Data'!T3905-Calculations!Q$1","v":0},{"$f":"'Absorbance Data'!U3905-Calculations!R$1","v":0},{"$f":"'Absorbance Data'!V3905-Calculations!S$1","v":0},{"$f":"'Absorbance Data'!W3905-Calculations!T$1","v":0},{"$f":"'Absorbance Data'!X3905-Calculations!U$1","v":0},{"$f":"'Absorbance Data'!Y3905-Calculations!V$1","v":0},{"$f":"'Absorbance Data'!Z3905-Calculations!W$1","v":0}]
[{"$f":"'Absorbance Data'!D3906","v":797.5931396484375},{"$f":"'Absorbance Data'!E3906-Calculations!B$1","v":0},{"$f":"'Absorbance Data'!F3906-Calculations!C$1","v":0},{"$f":"'Absorbance Data'!G3906-Calculations!D$1","v":0},{"$f":"'Absorbance Data'!H3906-Calculations!E$1","v":0},{"$f":"'Absorbance Data'!I3906-Calculations!F$1","v":0},{"$f":"'Absorbance Data'!J3906-Calculations!G$1","v":0},{"$f":"'Absorbance Data'!K3906-Calculations!H$1","v":0},{"$f":"'Absorbance Data'!L3906-Calculations!I$1","v":0},{"$f":"'Absorbance Data'!M3906-Calculations!J$1","v":0},{"$f":"'Absorbance Data'!N3906-Calculations!K$1","v":0},{"$f":"'Absorbance Data'!O3906-Calculations!L$1","v":0},{"$f":"'Absorbance Data'!P3906-Calculations!M$1","v":0},{"$f":"'Absorbance Data'!Q3906-Calculations!N$1","v":0},{"$f":"'Absorbance Data'!R3906-Calculations!O$1","v":0},{"$f":"'Absorbance Data'!S3906-Calculations!P$1","v":0},{"$f":"'Absorbance Data'!T3906-Calculations!Q$1","v":0},{"$f":"'Absorbance Data'!U3906-Calculations!R$1","v":0},{"$f":"'Absorbance Data'!V3906-Calculations!S$1","v":0},{"$f":"'Absorbance Data'!W3906-Calculations!T$1","v":0},{"$f":"'Absorbance Data'!X3906-Calculations!U$1","v":0},{"$f":"'Absorbance Data'!Y3906-Calculations!V$1","v":0},{"$f":"'Absorbance Data'!Z3906-Calculations!W$1","v":0}]
[{"$f":"'Absorbance Data'!D3907","v":797.8848876953125},{"$f":"'Absorbance Data'!E3907-Calculations!B$1","v":0},{"$f":"'Absorbance Data'!F3907-Calculations!C$1","v":0},{"$f":"'Absorbance Data'!G3907-Calculations!D$1","v":0},{"$f":"'Absorbance Data'!H3907-Calculations!E$1","v":0},{"$f":"'Absorbance Data'!I3907-Calculations!F$1","v":0},{"$f":"'Absorbance Data'!J3907-Calculations!G$1","v":0},{"$f":"'Absorbance Data'!K3907-Calculations!H$1","v":0},{"$f":"'Absorbance Data'!L3907-Calculations!I$1","v":0},{"$f":"'Absorbance Data'!M3907-Calculations!J$1","v":0},{"$f":"'Absorbance Data'!N3907-Calculations!K$1","v":0},{"$f":"'Absorbance Data'!O3907-Calculations!L$1","v":0},{"$f":"'Absorbance Data'!P3907-Calculations!M$1","v":0},{"$f":"'Absorbance Data'!Q3907-Calculations!N$1","v":0},{"$f":"'Absorbance Data'!R3907-Calculations!O$1","v":0},{"$f":"'Absorbance Data'!S3907-Calculations!P$1","v":0},{"$f":"'Absorbance Data'!T3907-Calculations!Q$1","v":0},{"$f":"'Absorbance Data'!U3907-Calculations!R$1","v":0},{"$f":"'Absorbance Data'!V3907-Calculations!S$1","v":0},{"$f":"'Absorbance Data'!W3907-Calculations!T$1","v":0},{"$f":"'Absorbance Data'!X3907-Calculations!U$1","v":0},{"$f":"'Absorbance Data'!Y3907-Calculations!V$1","v":0},{"$f":"'Absorbance Data'!Z3907-Calculations!W$1","v":0}]
[{"$f":"'Absorbance Data'!D3908","v":798.17669677734375},{"$f":"'Absorbance Data'!E3908-Calculations!B$1","v":0},{"$f":"'Absorbance Data'!F3908-Calculations!C$1","v":0},{"$f":"'Absorbance Data'!G3908-Calculations!D$1","v":0},{"$f":"'Absorbance Data'!H3908-Calculations!E$1","v":0},{"$f":"'Absorbance Data'!I3908-Calculations!F$1","v":0},{"$f":"'Absorbance Data'!J3908-Calculations!G$1","v":0},{"$f":"'Absorbance Data'!K3908-Calculations!H$1","v":0},{"$f":"'Absorbance Data'!L3908-Calculations!I$1","v":0},{"$f":"'Absorbance Data'!M3908-Calculations!J$1","v":0},{"$f":"'Absorbance Data'!N3908-Calculations!K$1","v":0},{"$f":"'Absorbance Data'!O3908-Calculations!L$1","v":0},{"$f":"'Absorbance Data'!P3908-Calculations!M$1","v":0},{"$f":"'Absorbance Data'!Q3908-Calculations!N$1","v":0},{"$f":"'Absorbance Data'!R3908-Calculations!O$1","v":0},{"$f":"'Absorbance Data'!S3908-Calculations!P$1","v":0},{"$f":"'Absorbance Data'!T3908-Calculations!Q$1","v":0},{"$f":"'Absorbance Data'!U3908-Calculations!R$1","v":0},{"$f":"'Absorbance Data'!V3908-Calculations!S$1","v":0},{"$f":"'Absorbance Data'!W3908-Calculations!T$1","v":0},{"$f":"'Absorbance Data'!X3908-Calculations!U$1","v":0},{"$f":"'Absorbance Data'!Y3908-Calculations!V$1","v":0},{"$f":"'Absorbance Data'!Z3908-Calculations!W$1","v":0}]
[{"$f":"'Absorbance Data'!D3909","v":798.4683837890625},{"$f":"'Absorbance Data'!E3909-Calculations!B$1","v":0},{"$f":"'Absorbance Data'!F3909-Calculations!C$1","v":0},{"$f":"'Absorbance Data'!G3909-Calculations!D$1","v":0},{"$f":"'Absorbance Data'!H3909-Calculations!E$1","v":0},{"$f":"'Absorbance Data'!I3909-Calculations!F$1","v":0},{"$f":"'Absorbance Data'!J3909-Calculations!G$1","v":0},{"$f":"'Absorbance Data'!K3909-Calculations!H$1","v":0},{"$f":"'Absorbance Data'!L3909-Calculations!I$1","v":0},{"$f":"'Absorbance Data'!M3909-Calculations!J$1","v":0},{"$f":"'Absorbance Data'!N3909-Calculations!K$1","v":0},{"$f":"'Absorbance Data'!O3909-Calculations!L$1","v":0},{"$f":"'Absorbance Data'!P3909-Calculations!M$1","v":0},{"$f":"'Absorbance Data'!Q3909-Calculations!N$1","v":0},{"$f":"'Absorbance Data'!R3909-Calculations!O$1","v":0},{"$f":"'Absorbance Data'!S3909-Calculations!P$1","v":0},{"$f":"'Absorbance Data'!T3909-Calculations!Q$1","v":0},{"$f":"'Absorbance Data'!U3909-Calculations!R$1","v":0},{"$f":"'Absorbance Data'!V3909-Calculations!S$1","v":0},{"$f":"'Absorbance Data'!W3909-Calculations!T$1","v":0},{"$f":"'Absorbance Data'!X3909-Calculations!U$1","v":0},{"$f":"'Absorbance Data'!Y3909-Calculations!V$1","v":0},{"$f":"'Absorbance Data'!Z3909-Calculations!W$1","v":0}]
[{"$f":"'Absorbance Data'!D3910","v":798.760009765625},{"$f":"'Absorbance Data'!E3910-Calculations!B$1","v":0},{"$f":"'Absorbance Data'!F3910-Calculations!C$1","v":0},{"$f":"'Absorbance Data'!G3910-Calculations!D$1","v":0},{"$f":"'Absorbance Data'!H3910-Calculations!E$1","v":0},{"$f":"'Absorbance Data'!I3910-Calculations!F$1","v":0},{"$f":"'Absorbance Data'!J3910-Calculations!G$1","v":0},{"$f":"'Absorbance Data'!K3910-Calculations!H$1","v":0},{"$f":"'Absorbance Data'!L3910-Calculations!I$1","v":0},{"$f":"'Absorbance Data'!M3910-Calculations!J$1","v":0},{"$f":"'Absorbance Data'!N3910-Calculations!K$1","v":0},{"$f":"'Absorbance Data'!O3910-Calculations!L$1","v":0},{"$f":"'Absorbance Data'!P3910-Calculations!M$1","v":0},{"$f":"'Absorbance Data'!Q3910-Calculations!N$1","v":0},{"$f":"'Absorbance Data'!R3910-Calculations!O$1","v":0},{"$f":"'Absorbance Data'!S3910-Calculations!P$1","v":0},{"$f":"'Absorbance Data'!T3910-Calculations!Q$1","v":0},{"$f":"'Absorbance Data'!U3910-Calculations!R$1","v":0},{"$f":"'Absorbance Data'!V3910-Calculations!S$1","v":0},{"$f":"'Absorbance Data'!W3910-Calculations!T$1","v":0},{"$f":"'Absorbance Data'!X3910-Calculations!U$1","v":0},{"$f":"'Absorbance Data'!Y3910-Calculations!V$1","v":0},{"$f":"'Absorbance Data'!Z3910-Calculations!W$1","v":0}]
[{"$f":"'Absorbance Data'!D3911","v":799.05157470703125},{"$f":"'Absorbance Data'!E3911-Calculations!B$1","v":0},{"$f":"'Absorbance Data'!F3911-Calculations!C$1","v":0},{"$f":"'Absorbance Data'!G3911-Calculations!D$1","v":0},{"$f":"'Absorbance Data'!H3911-Calculations!E$1","v":0},{"$f":"'Absorbance Data'!I3911-Calculations!F$1","v":0},{"$f":"'Absorbance Data'!J3911-Calculations!G$1","v":0},{"$f":"'Absorbance Data'!K3911-Calculations!H$1","v":0},{"$f":"'Absorbance Data'!L3911-Calculations!I$1","v":0},{"$f":"'Absorbance Data'!M3911-Calculations!J$1","v":0},{"$f":"'Absorbance Data'!N3911-Calculations!K$1","v":0},{"$f":"'Absorbance Data'!O3911-Calculations!L$1","v":0},{"$f":"'Absorbance Data'!P3911-Calculations!M$1","v":0},{"$f":"'Absorbance Data'!Q3911-Calculations!N$1","v":0},{"$f":"'Absorbance Data'!R3911-Calculations!O$1","v":0},{"$f":"'Absorbance Data'!S3911-Calculations!P$1","v":0},{"$f":"'Absorbance Data'!T3911-Calculations!Q$1","v":0},{"$f":"'Absorbance Data'!U3911-Calculations!R$1","v":0},{"$f":"'Absorbance Data'!V3911-Calculations!S$1","v":0},{"$f":"'Absorbance Data'!W3911-Calculations!T$1","v":0},{"$f":"'Absorbance Data'!X3911-Calculations!U$1","v":0},{"$f":"'Absorbance Data'!Y3911-Calculations!V$1","v":0},{"$f":"'Absorbance Data'!Z3911-Calculations!W$1","v":0}]
[{"$f":"'Absorbance Data'!D3912","v":799.34320068359375},{"$f":"'Absorbance Data'!E3912-Calculations!B$1","v":0},{"$f":"'Absorbance Data'!F3912-Calculations!C$1","v":0},{"$f":"'Absorbance Data'!G3912-Calculations!D$1","v":0},{"$f":"'Absorbance Data'!H3912-Calculations!E$1","v":0},{"$f":"'Absorbance Data'!I3912-Calculations!F$1","v":0},{"$f":"'Absorbance Data'!J3912-Calculations!G$1","v":0},{"$f":"'Absorbance Data'!K3912-Calculations!H$1","v":0},{"$f":"'Absorbance Data'!L3912-Calculations!I$1","v":0},{"$f":"'Absorbance Data'!M3912-Calculations!J$1","v":0},{"$f":"'Absorbance Data'!N3912-Calculations!K$1","v":0},{"$f":"'Absorbance Data'!O3912-Calculations!L$1","v":0},{"$f":"'Absorbance Data'!P3912-Calculations!M$1","v":0},{"$f":"'Absorbance Data'!Q3912-Calculations!N$1","v":0},{"$f":"'Absorbance Data'!R3912-Calculations!O$1","v":0},{"$f":"'Absorbance Data'!S3912-Calculations!P$1","v":0},{"$f":"'Absorbance Data'!T3912-Calculations!Q$1","v":0},{"$f":"'Absorbance Data'!U3912-Calculations!R$1","v":0},{"$f":"'Absorbance Data'!V3912-Calculations!S$1","v":0},{"$f":"'Absorbance Data'!W3912-Calculations!T$1","v":0},{"$f":"'Absorbance Data'!X3912-Calculations!U$1","v":0},{"$f":"'Absorbance Data'!Y3912-Calculations!V$1","v":0},{"$f":"'Absorbance Data'!Z3912-Calculations!W$1","v":0}]
[{"$f":"'Absorbance Data'!D3913","v":799.63470458984375},{"$f":"'Absorbance Data'!E3913-Calculations!B$1","v":0},{"$f":"'Absorbance Data'!F3913-Calculations!C$1","v":0},{"$f":"'Absorbance Data'!G3913-Calculations!D$1","v":0},{"$f":"'Absorbance Data'!H3913-Calculations!E$1","v":0},{"$f":"'Absorbance Data'!I3913-Calculations!F$1","v":0},{"$f":"'Absorbance Data'!J3913-Calculations!G$1","v":0},{"$f":"'Absorbance Data'!K3913-Calculations!H$1","v":0},{"$f":"'Absorbance Data'!L3913-Calculations!I$1","v":0},{"$f":"'Absorbance Data'!M3913-Calculations!J$1","v":0},{"$f":"'Absorbance Data'!N3913-Calculations!K$1","v":0},{"$f":"'Absorbance Data'!O3913-Calculations!L$1","v":0},{"$f":"'Absorbance Data'!P3913-Calculations!M$1","v":0},{"$f":"'Absorbance Data'!Q3913-Calculations!N$1","v":0},{"$f":"'Absorbance Data'!R3913-Calculations!O$1","v":0},{"$f":"'Absorbance Data'!S3913-Calculations!P$1","v":0},{"$f":"'Absorbance Data'!T3913-Calculations!Q$1","v":0},{"$f":"'Absorbance Data'!U3913-Calculations!R$1","v":0},{"$f":"'Absorbance Data'!V3913-Calculations!S$1","v":0},{"$f":"'Absorbance Data'!W3913-Calculations!T$1","v":0},{"$f":"'Absorbance Data'!X3913-Calculations!U$1","v":0},{"$f":"'Absorbance Data'!Y3913-Calculations!V$1","v":0},{"$f":"'Absorbance Data'!Z3913-Calculations!W$1","v":0}]
[{"$f":"'Absorbance Data'!D3914","v":799.92620849609375},{"$f":"'Absorbance Data'!E3914-Calculations!B$1","v":0},{"$f":"'Absorbance Data'!F3914-Calculations!C$1","v":0},{"$f":"'Absorbance Data'!G3914-Calculations!D$1","v":0},{"$f":"'Absorbance Data'!H3914-Calculations!E$1","v":0},{"$f":"'Absorbance Data'!I3914-Calculations!F$1","v":0},{"$f":"'Absorbance Data'!J3914-Calculations!G$1","v":0},{"$f":"'Absorbance Data'!K3914-Calculations!H$1","v":0},{"$f":"'Absorbance Data'!L3914-Calculations!I$1","v":0},{"$f":"'Absorbance Data'!M3914-Calculations!J$1","v":0},{"$f":"'Absorbance Data'!N3914-Calculations!K$1","v":0},{"$f":"'Absorbance Data'!O3914-Calculations!L$1","v":0},{"$f":"'Absorbance Data'!P3914-Calculations!M$1","v":0},{"$f":"'Absorbance Data'!Q3914-Calculations!N$1","v":0},{"$f":"'Absorbance Data'!R3914-Calculations!O$1","v":0},{"$f":"'Absorbance Data'!S3914-Calculations!P$1","v":0},{"$f":"'Absorbance Data'!T3914-Calculations!Q$1","v":0},{"$f":"'Absorbance Data'!U3914-Calculations!R$1","v":0},{"$f":"'Absorbance Data'!V3914-Calculations!S$1","v":0},{"$f":"'Absorbance Data'!W3914-Calculations!T$1","v":0},{"$f":"'Absorbance Data'!X3914-Calculations!U$1","v":0},{"$f":"'Absorbance Data'!Y3914-Calculations!V$1","v":0},{"$f":"'Absorbance Data'!Z3914-Calculations!W$1","v":0}]
[{"$f":"'Absorbance Data'!D3915","v":800.21759033203125},{"$f":"'Absorbance Data'!E3915-Calculations!B$1","v":0},{"$f":"'Absorbance Data'!F3915-Calculations!C$1","v":0},{"$f":"'Absorbance Data'!G3915-Calculations!D$1","v":0},{"$f":"'Absorbance Data'!H3915-Calculations!E$1","v":0},{"$f":"'Absorbance Data'!I3915-Calculations!F$1","v":0},{"$f":"'Absorbance Data'!J3915-Calculations!G$1","v":0},{"$f":"'Absorbance Data'!K3915-Calculations!H$1","v":0},{"$f":"'Absorbance Data'!L3915-Calculations!I$1","v":0},{"$f":"'Absorbance Data'!M3915-Calculations!J$1","v":0},{"$f":"'Absorbance Data'!N3915-Calculations!K$1","v":0},{"$f":"'Absorbance Data'!O3915-Calculations!L$1","v":0},{"$f":"'Absorbance Data'!P3915-Calculations!M$1","v":0},{"$f":"'Absorbance Data'!Q3915-Calculations!N$1","v":0},{"$f":"'Absorbance Data'!R3915-Calculations!O$1","v":0},{"$f":"'Absorbance Data'!S3915-Calculations!P$1","v":0},{"$f":"'Absorbance Data'!T3915-Calculations!Q$1","v":0},{"$f":"'Absorbance Data'!U3915-Calculations!R$1","v":0},{"$f":"'Absorbance Data'!V3915-Calculations!S$1","v":0},{"$f":"'Absorbance Data'!W3915-Calculations!T$1","v":0},{"$f":"'Absorbance Data'!X3915-Calculations!U$1","v":0},{"$f":"'Absorbance Data'!Y3915-Calculations!V$1","v":0},{"$f":"'Absorbance Data'!Z3915-Calculations!W$1","v":0}]
[{"$f":"'Absorbance Data'!D3916","v":800.50897216796875},{"$f":"'Absorbance Data'!E3916-Calculations!B$1","v":0},{"$f":"'Absorbance Data'!F3916-Calculations!C$1","v":0},{"$f":"'Absorbance Data'!G3916-Calculations!D$1","v":0},{"$f":"'Absorbance Data'!H3916-Calculations!E$1","v":0},{"$f":"'Absorbance Data'!I3916-Calculations!F$1","v":0},{"$f":"'Absorbance Data'!J3916-Calculations!G$1","v":0},{"$f":"'Absorbance Data'!K3916-Calculations!H$1","v":0},{"$f":"'Absorbance Data'!L3916-Calculations!I$1","v":0},{"$f":"'Absorbance Data'!M3916-Calculations!J$1","v":0},{"$f":"'Absorbance Data'!N3916-Calculations!K$1","v":0},{"$f":"'Absorbance Data'!O3916-Calculations!L$1","v":0},{"$f":"'Absorbance Data'!P3916-Calculations!M$1","v":0},{"$f":"'Absorbance Data'!Q3916-Calculations!N$1","v":0},{"$f":"'Absorbance Data'!R3916-Calculations!O$1","v":0},{"$f":"'Absorbance Data'!S3916-Calculations!P$1","v":0},{"$f":"'Absorbance Data'!T3916-Calculations!Q$1","v":0},{"$f":"'Absorbance Data'!U3916-Calculations!R$1","v":0},{"$f":"'Absorbance Data'!V3916-Calculations!S$1","v":0},{"$f":"'Absorbance Data'!W3916-Calculations!T$1","v":0},{"$f":"'Absorbance Data'!X3916-Calculations!U$1","v":0},{"$f":"'Absorbance Data'!Y3916-Calculations!V$1","v":0},{"$f":"'Absorbance Data'!Z3916-Calculations!W$1","v":0}]
[{"$f":"'Absorbance Data'!D3917","v":800.80023193359375},{"$f":"'Absorbance Data'!E3917-Calculations!B$1","v":0},{"$f":"'Absorbance Data'!F3917-Calculations!C$1","v":0},{"$f":"'Absorbance Data'!G3917-Calculations!D$1","v":0},{"$f":"'Absorbance Data'!H3917-Calculations!E$1","v":0},{"$f":"'Absorbance Data'!I3917-Calculations!F$1","v":0},{"$f":"'Absorbance Data'!J3917-Calculations!G$1","v":0},{"$f":"'Absorbance Data'!K3917-Calculations!H$1","v":0},{"$f":"'Absorbance Data'!L3917-Calculations!I$1","v":0},{"$f":"'Absorbance Data'!M3917-Calculations!J$1","v":0},{"$f":"'Absorbance Data'!N3917-Calculations!K$1","v":0},{"$f":"'Absorbance Data'!O3917-Calculations!L$1","v":0},{"$f":"'Absorbance Data'!P3917-Calculations!M$1","v":0},{"$f":"'Absorbance Data'!Q3917-Calculations!N$1","v":0},{"$f":"'Absorbance Data'!R3917-Calculations!O$1","v":0},{"$f":"'Absorbance Data'!S3917-Calculations!P$1","v":0},{"$f":"'Absorbance Data'!T3917-Calculations!Q$1","v":0},{"$f":"'Absorbance Data'!U3917-Calculations!R$1","v":0},{"$f":"'Absorbance Data'!V3917-Calculations!S$1","v":0},{"$f":"'Absorbance Data'!W3917-Calculations!T$1","v":0},{"$f":"'Absorbance Data'!X3917-Calculations!U$1","v":0},{"$f":"'Absorbance Data'!Y3917-Calculations!V$1","v":0},{"$f":"'Absorbance Data'!Z3917-Calculations!W$1","v":0}]
[{"$f":"'Absorbance Data'!D3918","v":801.091552734375},{"$f":"'Absorbance Data'!E3918-Calculations!B$1","v":0},{"$f":"'Absorbance Data'!F3918-Calculations!C$1","v":0},{"$f":"'Absorbance Data'!G3918-Calculations!D$1","v":0},{"$f":"'Absorbance Data'!H3918-Calculations!E$1","v":0},{"$f":"'Absorbance Data'!I3918-Calculations!F$1","v":0},{"$f":"'Absorbance Data'!J3918-Calculations!G$1","v":0},{"$f":"'Absorbance Data'!K3918-Calculations!H$1","v":0},{"$f":"'Absorbance Data'!L3918-Calculations!I$1","v":0},{"$f":"'Absorbance Data'!M3918-Calculations!J$1","v":0},{"$f":"'Absorbance Data'!N3918-Calculations!K$1","v":0},{"$f":"'Absorbance Data'!O3918-Calculations!L$1","v":0},{"$f":"'Absorbance Data'!P3918-Calculations!M$1","v":0},{"$f":"'Absorbance Data'!Q3918-Calculations!N$1","v":0},{"$f":"'Absorbance Data'!R3918-Calculations!O$1","v":0},{"$f":"'Absorbance Data'!S3918-Calculations!P$1","v":0},{"$f":"'Absorbance Data'!T3918-Calculations!Q$1","v":0},{"$f":"'Absorbance Data'!U3918-Calculations!R$1","v":0},{"$f":"'Absorbance Data'!V3918-Calculations!S$1","v":0},{"$f":"'Absorbance Data'!W3918-Calculations!T$1","v":0},{"$f":"'Absorbance Data'!X3918-Calculations!U$1","v":0},{"$f":"'Absorbance Data'!Y3918-Calculations!V$1","v":0},{"$f":"'Absorbance Data'!Z3918-Calculations!W$1","v":0}]
[{"$f":"'Absorbance Data'!D3919","v":801.38275146484375},{"$f":"'Absorbance Data'!E3919-Calculations!B$1","v":0},{"$f":"'Absorbance Data'!F3919-Calculations!C$1","v":0},{"$f":"'Absorbance Data'!G3919-Calculations!D$1","v":0},{"$f":"'Absorbance Data'!H3919-Calculations!E$1","v":0},{"$f":"'Absorbance Data'!I3919-Calculations!F$1","v":0},{"$f":"'Absorbance Data'!J3919-Calculations!G$1","v":0},{"$f":"'Absorbance Data'!K3919-Calculations!H$1","v":0},{"$f":"'Absorbance Data'!L3919-Calculations!I$1","v":0},{"$f":"'Absorbance Data'!M3919-Calculations!J$1","v":0},{"$f":"'Absorbance Data'!N3919-Calculations!K$1","v":0},{"$f":"'Absorbance Data'!O3919-Calculations!L$1","v":0},{"$f":"'Absorbance Data'!P3919-Calculations!M$1","v":0},{"$f":"'Absorbance Data'!Q3919-Calculations!N$1","v":0},{"$f":"'Absorbance Data'!R3919-Calculations!O$1","v":0},{"$f":"'Absorbance Data'!S3919-Calculations!P$1","v":0},{"$f":"'Absorbance Data'!T3919-Calculations!Q$1","v":0},{"$f":"'Absorbance Data'!U3919-Calculations!R$1","v":0},{"$f":"'Absorbance Data'!V3919-Calculations!S$1","v":0},{"$f":"'Absorbance Data'!W3919-Calculations!T$1","v":0},{"$f":"'Absorbance Data'!X3919-Calculations!U$1","v":0},{"$f":"'Absorbance Data'!Y3919-Calculations!V$1","v":0},{"$f":"'Absorbance Data'!Z3919-Calculations!W$1","v":0}]
[{"$f":"'Absorbance Data'!D3920","v":801.6739501953125},{"$f":"'Absorbance Data'!E3920-Calculations!B$1","v":0},{"$f":"'Absorbance Data'!F3920-Calculations!C$1","v":0},{"$f":"'Absorbance Data'!G3920-Calculations!D$1","v":0},{"$f":"'Absorbance Data'!H3920-Calculations!E$1","v":0},{"$f":"'Absorbance Data'!I3920-Calculations!F$1","v":0},{"$f":"'Absorbance Data'!J3920-Calculations!G$1","v":0},{"$f":"'Absorbance Data'!K3920-Calculations!H$1","v":0},{"$f":"'Absorbance Data'!L3920-Calculations!I$1","v":0},{"$f":"'Absorbance Data'!M3920-Calculations!J$1","v":0},{"$f":"'Absorbance Data'!N3920-Calculations!K$1","v":0},{"$f":"'Absorbance Data'!O3920-Calculations!L$1","v":0},{"$f":"'Absorbance Data'!P3920-Calculations!M$1","v":0},{"$f":"'Absorbance Data'!Q3920-Calculations!N$1","v":0},{"$f":"'Absorbance Data'!R3920-Calculations!O$1","v":0},{"$f":"'Absorbance Data'!S3920-Calculations!P$1","v":0},{"$f":"'Absorbance Data'!T3920-Calculations!Q$1","v":0},{"$f":"'Absorbance Data'!U3920-Calculations!R$1","v":0},{"$f":"'Absorbance Data'!V3920-Calculations!S$1","v":0},{"$f":"'Absorbance Data'!W3920-Calculations!T$1","v":0},{"$f":"'Absorbance Data'!X3920-Calculations!U$1","v":0},{"$f":"'Absorbance Data'!Y3920-Calculations!V$1","v":0},{"$f":"'Absorbance Data'!Z3920-Calculations!W$1","v":0}]
[{"$f":"'Absorbance Data'!D3921","v":801.96502685546875},{"$f":"'Absorbance Data'!E3921-Calculations!B$1","v":0},{"$f":"'Absorbance Data'!F3921-Calculations!C$1","v":0},{"$f":"'Absorbance Data'!G3921-Calculations!D$1","v":0},{"$f":"'Absorbance Data'!H3921-Calculations!E$1","v":0},{"$f":"'Absorbance Data'!I3921-Calculations!F$1","v":0},{"$f":"'Absorbance Data'!J3921-Calculations!G$1","v":0},{"$f":"'Absorbance Data'!K3921-Calculations!H$1","v":0},{"$f":"'Absorbance Data'!L3921-Calculations!I$1","v":0},{"$f":"'Absorbance Data'!M3921-Calculations!J$1","v":0},{"$f":"'Absorbance Data'!N3921-Calculations!K$1","v":0},{"$f":"'Absorbance Data'!O3921-Calculations!L$1","v":0},{"$f":"'Absorbance Data'!P3921-Calculations!M$1","v":0},{"$f":"'Absorbance Data'!Q3921-Calculations!N$1","v":0},{"$f":"'Absorbance Data'!R3921-Calculations!O$1","v":0},{"$f":"'Absorbance Data'!S3921-Calculations!P$1","v":0},{"$f":"'Absorbance Data'!T3921-Calculations!Q$1","v":0},{"$f":"'Absorbance Data'!U3921-Calculations!R$1","v":0},{"$f":"'Absorbance Data'!V3921-Calculations!S$1","v":0},{"$f":"'Absorbance Data'!W3921-Calculations!T$1","v":0},{"$f":"'Absorbance Data'!X3921-Calculations!U$1","v":0},{"$f":"'Absorbance Data'!Y3921-Calculations!V$1","v":0},{"$f":"'Absorbance Data'!Z3921-Calculations!W$1","v":0}]
[{"$f":"'Absorbance Data'!D3922","v":802.256103515625},{"$f":"'Absorbance Data'!E3922-Calculations!B$1","v":0},{"$f":"'Absorbance Data'!F3922-Calculations!C$1","v":0},{"$f":"'Absorbance Data'!G3922-Calculations!D$1","v":0},{"$f":"'Absorbance Data'!H3922-Calculations!E$1","v":0},{"$f":"'Absorbance Data'!I3922-Calculations!F$1","v":0},{"$f":"'Absorbance Data'!J3922-Calculations!G$1","v":0},{"$f":"'Absorbance Data'!K3922-Calculations!H$1","v":0},{"$f":"'Absorbance Data'!L3922-Calculations!I$1","v":0},{"$f":"'Absorbance Data'!M3922-Calculations!J$1","v":0},{"$f":"'Absorbance Data'!N3922-Calculations!K$1","v":0},{"$f":"'Absorbance Data'!O3922-Calculations!L$1","v":0},{"$f":"'Absorbance Data'!P3922-Calculations!M$1","v":0},{"$f":"'Absorbance Data'!Q3922-Calculations!N$1","v":0},{"$f":"'Absorbance Data'!R3922-Calculations!O$1","v":0},{"$f":"'Absorbance Data'!S3922-Calculations!P$1","v":0},{"$f":"'Absorbance Data'!T3922-Calculations!Q$1","v":0},{"$f":"'Absorbance Data'!U3922-Calculations!R$1","v":0},{"$f":"'Absorbance Data'!V3922-Calculations!S$1","v":0},{"$f":"'Absorbance Data'!W3922-Calculations!T$1","v":0},{"$f":"'Absorbance Data'!X3922-Calculations!U$1","v":0},{"$f":"'Absorbance Data'!Y3922-Calculations!V$1","v":0},{"$f":"'Absorbance Data'!Z3922-Calculations!W$1","v":0}]
[{"$f":"'Absorbance Data'!D3923","v":802.54718017578125},{"$f":"'Absorbance Data'!E3923-Calculations!B$1","v":0},{"$f":"'Absorbance Data'!F3923-Calculations!C$1","v":0},{"$f":"'Absorbance Data'!G3923-Calculations!D$1","v":0},{"$f":"'Absorbance Data'!H3923-Calculations!E$1","v":0},{"$f":"'Absorbance Data'!I3923-Calculations!F$1","v":0},{"$f":"'Absorbance Data'!J3923-Calculations!G$1","v":0},{"$f":"'Absorbance Data'!K3923-Calculations!H$1","v":0},{"$f":"'Absorbance Data'!L3923-Calculations!I$1","v":0},{"$f":"'Absorbance Data'!M3923-Calculations!J$1","v":0},{"$f":"'Absorbance Data'!N3923-Calculations!K$1","v":0},{"$f":"'Absorbance Data'!O3923-Calculations!L$1","v":0},{"$f":"'Absorbance Data'!P3923-Calculations!M$1","v":0},{"$f":"'Absorbance Data'!Q3923-Calculations!N$1","v":0},{"$f":"'Absorbance Data'!R3923-Calculations!O$1","v":0},{"$f":"'Absorbance Data'!S3923-Calculations!P$1","v":0},{"$f":"'Absorbance Data'!T3923-Calculations!Q$1","v":0},{"$f":"'Absorbance Data'!U3923-Calculations!R$1","v":0},{"$f":"'Absorbance Data'!V3923-Calculations!S$1","v":0},{"$f":"'Absorbance Data'!W3923-Calculations!T$1","v":0},{"$f":"'Absorbance Data'!X3923-Calculations!U$1","v":0},{"$f":"'Absorbance Data'!Y3923-Calculations!V$1","v":0},{"$f":"'Absorbance Data'!Z3923-Calculations!W$1","v":0}]
[{"$f":"'Absorbance Data'!D3924","v":802.838134765625},{"$f":"'Absorbance Data'!E3924-Calculations!B$1","v":0},{"$f":"'Absorbance Data'!F3924-Calculations!C$1","v":0},{"$f":"'Absorbance Data'!G3924-Calculations!D$1","v":0},{"$f":"'Absorbance Data'!H3924-Calculations!E$1","v":0},{"$f":"'Absorbance Data'!I3924-Calculations!F$1","v":0},{"$f":"'Absorbance Data'!J3924-Calculations!G$1","v":0},{"$f":"'Absorbance Data'!K3924-Calculations!H$1","v":0},{"$f":"'Absorbance Data'!L3924-Calculations!I$1","v":0},{"$f":"'Absorbance Data'!M3924-Calculations!J$1","v":0},{"$f":"'Absorbance Data'!N3924-Calculations!K$1","v":0},{"$f":"'Absorbance Data'!O3924-Calculations!L$1","v":0},{"$f":"'Absorbance Data'!P3924-Calculations!M$1","v":0},{"$f":"'Absorbance Data'!Q3924-Calculations!N$1","v":0},{"$f":"'Absorbance Data'!R3924-Calculations!O$1","v":0},{"$f":"'Absorbance Data'!S3924-Calculations!P$1","v":0},{"$f":"'Absorbance Data'!T3924-Calculations!Q$1","v":0},{"$f":"'Absorbance Data'!U3924-Calculations!R$1","v":0},{"$f":"'Absorbance Data'!V3924-Calculations!S$1","v":0},{"$f":"'Absorbance Data'!W3924-Calculations!T$1","v":0},{"$f":"'Absorbance Data'!X3924-Calculations!U$1","v":0},{"$f":"'Absorbance Data'!Y3924-Calculations!V$1","v":0},{"$f":"'Absorbance Data'!Z3924-Calculations!W$1","v":0}]
[{"$f":"'Absorbance Data'!D3925","v":803.1290283203125},{"$f":"'Absorbance Data'!E3925-Calculations!B$1","v":0},{"$f":"'Absorbance Data'!F3925-Calculations!C$1","v":0},{"$f":"'Absorbance Data'!G3925-Calculations!D$1","v":0},{"$f":"'Absorbance Data'!H3925-Calculations!E$1","v":0},{"$f":"'Absorbance Data'!I3925-Calculations!F$1","v":0},{"$f":"'Absorbance Data'!J3925-Calculations!G$1","v":0},{"$f":"'Absorbance Data'!K3925-Calculations!H$1","v":0},{"$f":"'Absorbance Data'!L3925-Calculations!I$1","v":0},{"$f":"'Absorbance Data'!M3925-Calculations!J$1","v":0},{"$f":"'Absorbance Data'!N3925-Calculations!K$1","v":0},{"$f":"'Absorbance Data'!O3925-Calculations!L$1","v":0},{"$f":"'Absorbance Data'!P3925-Calculations!M$1","v":0},{"$f":"'Absorbance Data'!Q3925-Calculations!N$1","v":0},{"$f":"'Absorbance Data'!R3925-Calculations!O$1","v":0},{"$f":"'Absorbance Data'!S3925-Calculations!P$1","v":0},{"$f":"'Absorbance Data'!T3925-Calculations!Q$1","v":0},{"$f":"'Absorbance Data'!U3925-Calculations!R$1","v":0},{"$f":"'Absorbance Data'!V3925-Calculations!S$1","v":0},{"$f":"'Absorbance Data'!W3925-Calculations!T$1","v":0},{"$f":"'Absorbance Data'!X3925-Calculations!U$1","v":0},{"$f":"'Absorbance Data'!Y3925-Calculations!V$1","v":0},{"$f":"'Absorbance Data'!Z3925-Calculations!W$1","v":0}]
[{"$f":"'Absorbance Data'!D3926","v":803.419921875},{"$f":"'Absorbance Data'!E3926-Calculations!B$1","v":0},{"$f":"'Absorbance Data'!F3926-Calculations!C$1","v":0},{"$f":"'Absorbance Data'!G3926-Calculations!D$1","v":0},{"$f":"'Absorbance Data'!H3926-Calculations!E$1","v":0},{"$f":"'Absorbance Data'!I3926-Calculations!F$1","v":0},{"$f":"'Absorbance Data'!J3926-Calculations!G$1","v":0},{"$f":"'Absorbance Data'!K3926-Calculations!H$1","v":0},{"$f":"'Absorbance Data'!L3926-Calculations!I$1","v":0},{"$f":"'Absorbance Data'!M3926-Calculations!J$1","v":0},{"$f":"'Absorbance Data'!N3926-Calculations!K$1","v":0},{"$f":"'Absorbance Data'!O3926-Calculations!L$1","v":0},{"$f":"'Absorbance Data'!P3926-Calculations!M$1","v":0},{"$f":"'Absorbance Data'!Q3926-Calculations!N$1","v":0},{"$f":"'Absorbance Data'!R3926-Calculations!O$1","v":0},{"$f":"'Absorbance Data'!S3926-Calculations!P$1","v":0},{"$f":"'Absorbance Data'!T3926-Calculations!Q$1","v":0},{"$f":"'Absorbance Data'!U3926-Calculations!R$1","v":0},{"$f":"'Absorbance Data'!V3926-Calculations!S$1","v":0},{"$f":"'Absorbance Data'!W3926-Calculations!T$1","v":0},{"$f":"'Absorbance Data'!X3926-Calculations!U$1","v":0},{"$f":"'Absorbance Data'!Y3926-Calculations!V$1","v":0},{"$f":"'Absorbance Data'!Z3926-Calculations!W$1","v":0}]
[{"$f":"'Absorbance Data'!D3927","v":803.710693359375},{"$f":"'Absorbance Data'!E3927-Calculations!B$1","v":0},{"$f":"'Absorbance Data'!F3927-Calculations!C$1","v":0},{"$f":"'Absorbance Data'!G3927-Calculations!D$1","v":0},{"$f":"'Absorbance Data'!H3927-Calculations!E$1","v":0},{"$f":"'Absorbance Data'!I3927-Calculations!F$1","v":0},{"$f":"'Absorbance Data'!J3927-Calculations!G$1","v":0},{"$f":"'Absorbance Data'!K3927-Calculations!H$1","v":0},{"$f":"'Absorbance Data'!L3927-Calculations!I$1","v":0},{"$f":"'Absorbance Data'!M3927-Calculations!J$1","v":0},{"$f":"'Absorbance Data'!N3927-Calculations!K$1","v":0},{"$f":"'Absorbance Data'!O3927-Calculations!L$1","v":0},{"$f":"'Absorbance Data'!P3927-Calculations!M$1","v":0},{"$f":"'Absorbance Data'!Q3927-Calculations!N$1","v":0},{"$f":"'Absorbance Data'!R3927-Calculations!O$1","v":0},{"$f":"'Absorbance Data'!S3927-Calculations!P$1","v":0},{"$f":"'Absorbance Data'!T3927-Calculations!Q$1","v":0},{"$f":"'Absorbance Data'!U3927-Calculations!R$1","v":0},{"$f":"'Absorbance Data'!V3927-Calculations!S$1","v":0},{"$f":"'Absorbance Data'!W3927-Calculations!T$1","v":0},{"$f":"'Absorbance Data'!X3927-Calculations!U$1","v":0},{"$f":"'Absorbance Data'!Y3927-Calculations!V$1","v":0},{"$f":"'Absorbance Data'!Z3927-Calculations!W$1","v":0}]
[{"$f":"'Absorbance Data'!D3928","v":804.00152587890625},{"$f":"'Absorbance Data'!E3928-Calculations!B$1","v":0},{"$f":"'Absorbance Data'!F3928-Calculations!C$1","v":0},{"$f":"'Absorbance Data'!G3928-Calculations!D$1","v":0},{"$f":"'Absorbance Data'!H3928-Calculations!E$1","v":0},{"$f":"'Absorbance Data'!I3928-Calculations!F$1","v":0},{"$f":"'Absorbance Data'!J3928-Calculations!G$1","v":0},{"$f":"'Absorbance Data'!K3928-Calculations!H$1","v":0},{"$f":"'Absorbance Data'!L3928-Calculations!I$1","v":0},{"$f":"'Absorbance Data'!M3928-Calculations!J$1","v":0},{"$f":"'Absorbance Data'!N3928-Calculations!K$1","v":0},{"$f":"'Absorbance Data'!O3928-Calculations!L$1","v":0},{"$f":"'Absorbance Data'!P3928-Calculations!M$1","v":0},{"$f":"'Absorbance Data'!Q3928-Calculations!N$1","v":0},{"$f":"'Absorbance Data'!R3928-Calculations!O$1","v":0},{"$f":"'Absorbance Data'!S3928-Calculations!P$1","v":0},{"$f":"'Absorbance Data'!T3928-Calculations!Q$1","v":0},{"$f":"'Absorbance Data'!U3928-Calculations!R$1","v":0},{"$f":"'Absorbance Data'!V3928-Calculations!S$1","v":0},{"$f":"'Absorbance Data'!W3928-Calculations!T$1","v":0},{"$f":"'Absorbance Data'!X3928-Calculations!U$1","v":0},{"$f":"'Absorbance Data'!Y3928-Calculations!V$1","v":0},{"$f":"'Absorbance Data'!Z3928-Calculations!W$1","v":0}]
[{"$f":"'Absorbance Data'!D3929","v":804.292236328125},{"$f":"'Absorbance Data'!E3929-Calculations!B$1","v":0},{"$f":"'Absorbance Data'!F3929-Calculations!C$1","v":0},{"$f":"'Absorbance Data'!G3929-Calculations!D$1","v":0},{"$f":"'Absorbance Data'!H3929-Calculations!E$1","v":0},{"$f":"'Absorbance Data'!I3929-Calculations!F$1","v":0},{"$f":"'Absorbance Data'!J3929-Calculations!G$1","v":0},{"$f":"'Absorbance Data'!K3929-Calculations!H$1","v":0},{"$f":"'Absorbance Data'!L3929-Calculations!I$1","v":0},{"$f":"'Absorbance Data'!M3929-Calculations!J$1","v":0},{"$f":"'Absorbance Data'!N3929-Calculations!K$1","v":0},{"$f":"'Absorbance Data'!O3929-Calculations!L$1","v":0},{"$f":"'Absorbance Data'!P3929-Calculations!M$1","v":0},{"$f":"'Absorbance Data'!Q3929-Calculations!N$1","v":0},{"$f":"'Absorbance Data'!R3929-Calculations!O$1","v":0},{"$f":"'Absorbance Data'!S3929-Calculations!P$1","v":0},{"$f":"'Absorbance Data'!T3929-Calculations!Q$1","v":0},{"$f":"'Absorbance Data'!U3929-Calculations!R$1","v":0},{"$f":"'Absorbance Data'!V3929-Calculations!S$1","v":0},{"$f":"'Absorbance Data'!W3929-Calculations!T$1","v":0},{"$f":"'Absorbance Data'!X3929-Calculations!U$1","v":0},{"$f":"'Absorbance Data'!Y3929-Calculations!V$1","v":0},{"$f":"'Absorbance Data'!Z3929-Calculations!W$1","v":0}]
[{"$f":"'Absorbance Data'!D3930","v":804.58294677734375},{"$f":"'Absorbance Data'!E3930-Calculations!B$1","v":0},{"$f":"'Absorbance Data'!F3930-Calculations!C$1","v":0},{"$f":"'Absorbance Data'!G3930-Calculations!D$1","v":0},{"$f":"'Absorbance Data'!H3930-Calculations!E$1","v":0},{"$f":"'Absorbance Data'!I3930-Calculations!F$1","v":0},{"$f":"'Absorbance Data'!J3930-Calculations!G$1","v":0},{"$f":"'Absorbance Data'!K3930-Calculations!H$1","v":0},{"$f":"'Absorbance Data'!L3930-Calculations!I$1","v":0},{"$f":"'Absorbance Data'!M3930-Calculations!J$1","v":0},{"$f":"'Absorbance Data'!N3930-Calculations!K$1","v":0},{"$f":"'Absorbance Data'!O3930-Calculations!L$1","v":0},{"$f":"'Absorbance Data'!P3930-Calculations!M$1","v":0},{"$f":"'Absorbance Data'!Q3930-Calculations!N$1","v":0},{"$f":"'Absorbance Data'!R3930-Calculations!O$1","v":0},{"$f":"'Absorbance Data'!S3930-Calculations!P$1","v":0},{"$f":"'Absorbance Data'!T3930-Calculations!Q$1","v":0},{"$f":"'Absorbance Data'!U3930-Calculations!R$1","v":0},{"$f":"'Absorbance Data'!V3930-Calculations!S$1","v":0},{"$f":"'Absorbance Data'!W3930-Calculations!T$1","v":0},{"$f":"'Absorbance Data'!X3930-Calculations!U$1","v":0},{"$f":"'Absorbance Data'!Y3930-Calculations!V$1","v":0},{"$f":"'Absorbance Data'!Z3930-Calculations!W$1","v":0}]
[{"$f":"'Absorbance Data'!D3931","v":804.87359619140625},{"$f":"'Absorbance Data'!E3931-Calculations!B$1","v":0},{"$f":"'Absorbance Data'!F3931-Calculations!C$1","v":0},{"$f":"'Absorbance Data'!G3931-Calculations!D$1","v":0},{"$f":"'Absorbance Data'!H3931-Calculations!E$1","v":0},{"$f":"'Absorbance Data'!I3931-Calculations!F$1","v":0},{"$f":"'Absorbance Data'!J3931-Calculations!G$1","v":0},{"$f":"'Absorbance Data'!K3931-Calculations!H$1","v":0},{"$f":"'Absorbance Data'!L3931-Calculations!I$1","v":0},{"$f":"'Absorbance Data'!M3931-Calculations!J$1","v":0},{"$f":"'Absorbance Data'!N3931-Calculations!K$1","v":0},{"$f":"'Absorbance Data'!O3931-Calculations!L$1","v":0},{"$f":"'Absorbance Data'!P3931-Calculations!M$1","v":0},{"$f":"'Absorbance Data'!Q3931-Calculations!N$1","v":0},{"$f":"'Absorbance Data'!R3931-Calculations!O$1","v":0},{"$f":"'Absorbance Data'!S3931-Calculations!P$1","v":0},{"$f":"'Absorbance Data'!T3931-Calculations!Q$1","v":0},{"$f":"'Absorbance Data'!U3931-Calculations!R$1","v":0},{"$f":"'Absorbance Data'!V3931-Calculations!S$1","v":0},{"$f":"'Absorbance Data'!W3931-Calculations!T$1","v":0},{"$f":"'Absorbance Data'!X3931-Calculations!U$1","v":0},{"$f":"'Absorbance Data'!Y3931-Calculations!V$1","v":0},{"$f":"'Absorbance Data'!Z3931-Calculations!W$1","v":0}]
[{"$f":"'Absorbance Data'!D3932","v":805.1641845703125},{"$f":"'Absorbance Data'!E3932-Calculations!B$1","v":0},{"$f":"'Absorbance Data'!F3932-Calculations!C$1","v":0},{"$f":"'Absorbance Data'!G3932-Calculations!D$1","v":0},{"$f":"'Absorbance Data'!H3932-Calculations!E$1","v":0},{"$f":"'Absorbance Data'!I3932-Calculations!F$1","v":0},{"$f":"'Absorbance Data'!J3932-Calculations!G$1","v":0},{"$f":"'Absorbance Data'!K3932-Calculations!H$1","v":0},{"$f":"'Absorbance Data'!L3932-Calculations!I$1","v":0},{"$f":"'Absorbance Data'!M3932-Calculations!J$1","v":0},{"$f":"'Absorbance Data'!N3932-Calculations!K$1","v":0},{"$f":"'Absorbance Data'!O3932-Calculations!L$1","v":0},{"$f":"'Absorbance Data'!P3932-Calculations!M$1","v":0},{"$f":"'Absorbance Data'!Q3932-Calculations!N$1","v":0},{"$f":"'Absorbance Data'!R3932-Calculations!O$1","v":0},{"$f":"'Absorbance Data'!S3932-Calculations!P$1","v":0},{"$f":"'Absorbance Data'!T3932-Calculations!Q$1","v":0},{"$f":"'Absorbance Data'!U3932-Calculations!R$1","v":0},{"$f":"'Absorbance Data'!V3932-Calculations!S$1","v":0},{"$f":"'Absorbance Data'!W3932-Calculations!T$1","v":0},{"$f":"'Absorbance Data'!X3932-Calculations!U$1","v":0},{"$f":"'Absorbance Data'!Y3932-Calculations!V$1","v":0},{"$f":"'Absorbance Data'!Z3932-Calculations!W$1","v":0}]
[{"$f":"'Absorbance Data'!D3933","v":805.45477294921875},{"$f":"'Absorbance Data'!E3933-Calculations!B$1","v":0},{"$f":"'Absorbance Data'!F3933-Calculations!C$1","v":0},{"$f":"'Absorbance Data'!G3933-Calculations!D$1","v":0},{"$f":"'Absorbance Data'!H3933-Calculations!E$1","v":0},{"$f":"'Absorbance Data'!I3933-Calculations!F$1","v":0},{"$f":"'Absorbance Data'!J3933-Calculations!G$1","v":0},{"$f":"'Absorbance Data'!K3933-Calculations!H$1","v":0},{"$f":"'Absorbance Data'!L3933-Calculations!I$1","v":0},{"$f":"'Absorbance Data'!M3933-Calculations!J$1","v":0},{"$f":"'Absorbance Data'!N3933-Calculations!K$1","v":0},{"$f":"'Absorbance Data'!O3933-Calculations!L$1","v":0},{"$f":"'Absorbance Data'!P3933-Calculations!M$1","v":0},{"$f":"'Absorbance Data'!Q3933-Calculations!N$1","v":0},{"$f":"'Absorbance Data'!R3933-Calculations!O$1","v":0},{"$f":"'Absorbance Data'!S3933-Calculations!P$1","v":0},{"$f":"'Absorbance Data'!T3933-Calculations!Q$1","v":0},{"$f":"'Absorbance Data'!U3933-Calculations!R$1","v":0},{"$f":"'Absorbance Data'!V3933-Calculations!S$1","v":0},{"$f":"'Absorbance Data'!W3933-Calculations!T$1","v":0},{"$f":"'Absorbance Data'!X3933-Calculations!U$1","v":0},{"$f":"'Absorbance Data'!Y3933-Calculations!V$1","v":0},{"$f":"'Absorbance Data'!Z3933-Calculations!W$1","v":0}]
[{"$f":"'Absorbance Data'!D3934","v":805.7452392578125},{"$f":"'Absorbance Data'!E3934-Calculations!B$1","v":0},{"$f":"'Absorbance Data'!F3934-Calculations!C$1","v":0},{"$f":"'Absorbance Data'!G3934-Calculations!D$1","v":0},{"$f":"'Absorbance Data'!H3934-Calculations!E$1","v":0},{"$f":"'Absorbance Data'!I3934-Calculations!F$1","v":0},{"$f":"'Absorbance Data'!J3934-Calculations!G$1","v":0},{"$f":"'Absorbance Data'!K3934-Calculations!H$1","v":0},{"$f":"'Absorbance Data'!L3934-Calculations!I$1","v":0},{"$f":"'Absorbance Data'!M3934-Calculations!J$1","v":0},{"$f":"'Absorbance Data'!N3934-Calculations!K$1","v":0},{"$f":"'Absorbance Data'!O3934-Calculations!L$1","v":0},{"$f":"'Absorbance Data'!P3934-Calculations!M$1","v":0},{"$f":"'Absorbance Data'!Q3934-Calculations!N$1","v":0},{"$f":"'Absorbance Data'!R3934-Calculations!O$1","v":0},{"$f":"'Absorbance Data'!S3934-Calculations!P$1","v":0},{"$f":"'Absorbance Data'!T3934-Calculations!Q$1","v":0},{"$f":"'Absorbance Data'!U3934-Calculations!R$1","v":0},{"$f":"'Absorbance Data'!V3934-Calculations!S$1","v":0},{"$f":"'Absorbance Data'!W3934-Calculations!T$1","v":0},{"$f":"'Absorbance Data'!X3934-Calculations!U$1","v":0},{"$f":"'Absorbance Data'!Y3934-Calculations!V$1","v":0},{"$f":"'Absorbance Data'!Z3934-Calculations!W$1","v":0}]
[{"$f":"'Absorbance Data'!D3935","v":806.03570556640625},{"$f":"'Absorbance Data'!E3935-Calculations!B$1","v":0},{"$f":"'Absorbance Data'!F3935-Calculations!C$1","v":0},{"$f":"'Absorbance Data'!G3935-Calculations!D$1","v":0},{"$f":"'Absorbance Data'!H3935-Calculations!E$1","v":0},{"$f":"'Absorbance Data'!I3935-Calculations!F$1","v":0},{"$f":"'Absorbance Data'!J3935-Calculations!G$1","v":0},{"$f":"'Absorbance Data'!K3935-Calculations!H$1","v":0},{"$f":"'Absorbance Data'!L3935-Calculations!I$1","v":0},{"$f":"'Absorbance Data'!M3935-Calculations!J$1","v":0},{"$f":"'Absorbance Data'!N3935-Calculations!K$1","v":0},{"$f":"'Absorbance Data'!O3935-Calculations!L$1","v":0},{"$f":"'Absorbance Data'!P3935-Calculations!M$1","v":0},{"$f":"'Absorbance Data'!Q3935-Calculations!N$1","v":0},{"$f":"'Absorbance Data'!R3935-Calculations!O$1","v":0},{"$f":"'Absorbance Data'!S3935-Calculations!P$1","v":0},{"$f":"'Absorbance Data'!T3935-Calculations!Q$1","v":0},{"$f":"'Absorbance Data'!U3935-Calculations!R$1","v":0},{"$f":"'Absorbance Data'!V3935-Calculations!S$1","v":0},{"$f":"'Absorbance Data'!W3935-Calculations!T$1","v":0},{"$f":"'Absorbance Data'!X3935-Calculations!U$1","v":0},{"$f":"'Absorbance Data'!Y3935-Calculations!V$1","v":0},{"$f":"'Absorbance Data'!Z3935-Calculations!W$1","v":0}]
[{"$f":"'Absorbance Data'!D3936","v":806.32598876953125},{"$f":"'Absorbance Data'!E3936-Calculations!B$1","v":0},{"$f":"'Absorbance Data'!F3936-Calculations!C$1","v":0},{"$f":"'Absorbance Data'!G3936-Calculations!D$1","v":0},{"$f":"'Absorbance Data'!H3936-Calculations!E$1","v":0},{"$f":"'Absorbance Data'!I3936-Calculations!F$1","v":0},{"$f":"'Absorbance Data'!J3936-Calculations!G$1","v":0},{"$f":"'Absorbance Data'!K3936-Calculations!H$1","v":0},{"$f":"'Absorbance Data'!L3936-Calculations!I$1","v":0},{"$f":"'Absorbance Data'!M3936-Calculations!J$1","v":0},{"$f":"'Absorbance Data'!N3936-Calculations!K$1","v":0},{"$f":"'Absorbance Data'!O3936-Calculations!L$1","v":0},{"$f":"'Absorbance Data'!P3936-Calculations!M$1","v":0},{"$f":"'Absorbance Data'!Q3936-Calculations!N$1","v":0},{"$f":"'Absorbance Data'!R3936-Calculations!O$1","v":0},{"$f":"'Absorbance Data'!S3936-Calculations!P$1","v":0},{"$f":"'Absorbance Data'!T3936-Calculations!Q$1","v":0},{"$f":"'Absorbance Data'!U3936-Calculations!R$1","v":0},{"$f":"'Absorbance Data'!V3936-Calculations!S$1","v":0},{"$f":"'Absorbance Data'!W3936-Calculations!T$1","v":0},{"$f":"'Absorbance Data'!X3936-Calculations!U$1","v":0},{"$f":"'Absorbance Data'!Y3936-Calculations!V$1","v":0},{"$f":"'Absorbance Data'!Z3936-Calculations!W$1","v":0}]
[{"$f":"'Absorbance Data'!D3937","v":806.61639404296875},{"$f":"'Absorbance Data'!E3937-Calculations!B$1","v":0},{"$f":"'Absorbance Data'!F3937-Calculations!C$1","v":0},{"$f":"'Absorbance Data'!G3937-Calculations!D$1","v":0},{"$f":"'Absorbance Data'!H3937-Calculations!E$1","v":0},{"$f":"'Absorbance Data'!I3937-Calculations!F$1","v":0},{"$f":"'Absorbance Data'!J3937-Calculations!G$1","v":0},{"$f":"'Absorbance Data'!K3937-Calculations!H$1","v":0},{"$f":"'Absorbance Data'!L3937-Calculations!I$1","v":0},{"$f":"'Absorbance Data'!M3937-Calculations!J$1","v":0},{"$f":"'Absorbance Data'!N3937-Calculations!K$1","v":0},{"$f":"'Absorbance Data'!O3937-Calculations!L$1","v":0},{"$f":"'Absorbance Data'!P3937-Calculations!M$1","v":0},{"$f":"'Absorbance Data'!Q3937-Calculations!N$1","v":0},{"$f":"'Absorbance Data'!R3937-Calculations!O$1","v":0},{"$f":"'Absorbance Data'!S3937-Calculations!P$1","v":0},{"$f":"'Absorbance Data'!T3937-Calculations!Q$1","v":0},{"$f":"'Absorbance Data'!U3937-Calculations!R$1","v":0},{"$f":"'Absorbance Data'!V3937-Calculations!S$1","v":0},{"$f":"'Absorbance Data'!W3937-Calculations!T$1","v":0},{"$f":"'Absorbance Data'!X3937-Calculations!U$1","v":0},{"$f":"'Absorbance Data'!Y3937-Calculations!V$1","v":0},{"$f":"'Absorbance Data'!Z3937-Calculations!W$1","v":0}]
[{"$f":"'Absorbance Data'!D3938","v":806.90667724609375},{"$f":"'Absorbance Data'!E3938-Calculations!B$1","v":0},{"$f":"'Absorbance Data'!F3938-Calculations!C$1","v":0},{"$f":"'Absorbance Data'!G3938-Calculations!D$1","v":0},{"$f":"'Absorbance Data'!H3938-Calculations!E$1","v":0},{"$f":"'Absorbance Data'!I3938-Calculations!F$1","v":0},{"$f":"'Absorbance Data'!J3938-Calculations!G$1","v":0},{"$f":"'Absorbance Data'!K3938-Calculations!H$1","v":0},{"$f":"'Absorbance Data'!L3938-Calculations!I$1","v":0},{"$f":"'Absorbance Data'!M3938-Calculations!J$1","v":0},{"$f":"'Absorbance Data'!N3938-Calculations!K$1","v":0},{"$f":"'Absorbance Data'!O3938-Calculations!L$1","v":0},{"$f":"'Absorbance Data'!P3938-Calculations!M$1","v":0},{"$f":"'Absorbance Data'!Q3938-Calculations!N$1","v":0},{"$f":"'Absorbance Data'!R3938-Calculations!O$1","v":0},{"$f":"'Absorbance Data'!S3938-Calculations!P$1","v":0},{"$f":"'Absorbance Data'!T3938-Calculations!Q$1","v":0},{"$f":"'Absorbance Data'!U3938-Calculations!R$1","v":0},{"$f":"'Absorbance Data'!V3938-Calculations!S$1","v":0},{"$f":"'Absorbance Data'!W3938-Calculations!T$1","v":0},{"$f":"'Absorbance Data'!X3938-Calculations!U$1","v":0},{"$f":"'Absorbance Data'!Y3938-Calculations!V$1","v":0},{"$f":"'Absorbance Data'!Z3938-Calculations!W$1","v":0}]
[{"$f":"'Absorbance Data'!D3939","v":807.1968994140625},{"$f":"'Absorbance Data'!E3939-Calculations!B$1","v":0},{"$f":"'Absorbance Data'!F3939-Calculations!C$1","v":0},{"$f":"'Absorbance Data'!G3939-Calculations!D$1","v":0},{"$f":"'Absorbance Data'!H3939-Calculations!E$1","v":0},{"$f":"'Absorbance Data'!I3939-Calculations!F$1","v":0},{"$f":"'Absorbance Data'!J3939-Calculations!G$1","v":0},{"$f":"'Absorbance Data'!K3939-Calculations!H$1","v":0},{"$f":"'Absorbance Data'!L3939-Calculations!I$1","v":0},{"$f":"'Absorbance Data'!M3939-Calculations!J$1","v":0},{"$f":"'Absorbance Data'!N3939-Calculations!K$1","v":0},{"$f":"'Absorbance Data'!O3939-Calculations!L$1","v":0},{"$f":"'Absorbance Data'!P3939-Calculations!M$1","v":0},{"$f":"'Absorbance Data'!Q3939-Calculations!N$1","v":0},{"$f":"'Absorbance Data'!R3939-Calculations!O$1","v":0},{"$f":"'Absorbance Data'!S3939-Calculations!P$1","v":0},{"$f":"'Absorbance Data'!T3939-Calculations!Q$1","v":0},{"$f":"'Absorbance Data'!U3939-Calculations!R$1","v":0},{"$f":"'Absorbance Data'!V3939-Calculations!S$1","v":0},{"$f":"'Absorbance Data'!W3939-Calculations!T$1","v":0},{"$f":"'Absorbance Data'!X3939-Calculations!U$1","v":0},{"$f":"'Absorbance Data'!Y3939-Calculations!V$1","v":0},{"$f":"'Absorbance Data'!Z3939-Calculations!W$1","v":0}]
[{"$f":"'Absorbance Data'!D3940","v":807.48712158203125},{"$f":"'Absorbance Data'!E3940-Calculations!B$1","v":0},{"$f":"'Absorbance Data'!F3940-Calculations!C$1","v":0},{"$f":"'Absorbance Data'!G3940-Calculations!D$1","v":0},{"$f":"'Absorbance Data'!H3940-Calculations!E$1","v":0},{"$f":"'Absorbance Data'!I3940-Calculations!F$1","v":0},{"$f":"'Absorbance Data'!J3940-Calculations!G$1","v":0},{"$f":"'Absorbance Data'!K3940-Calculations!H$1","v":0},{"$f":"'Absorbance Data'!L3940-Calculations!I$1","v":0},{"$f":"'Absorbance Data'!M3940-Calculations!J$1","v":0},{"$f":"'Absorbance Data'!N3940-Calculations!K$1","v":0},{"$f":"'Absorbance Data'!O3940-Calculations!L$1","v":0},{"$f":"'Absorbance Data'!P3940-Calculations!M$1","v":0},{"$f":"'Absorbance Data'!Q3940-Calculations!N$1","v":0},{"$f":"'Absorbance Data'!R3940-Calculations!O$1","v":0},{"$f":"'Absorbance Data'!S3940-Calculations!P$1","v":0},{"$f":"'Absorbance Data'!T3940-Calculations!Q$1","v":0},{"$f":"'Absorbance Data'!U3940-Calculations!R$1","v":0},{"$f":"'Absorbance Data'!V3940-Calculations!S$1","v":0},{"$f":"'Absorbance Data'!W3940-Calculations!T$1","v":0},{"$f":"'Absorbance Data'!X3940-Calculations!U$1","v":0},{"$f":"'Absorbance Data'!Y3940-Calculations!V$1","v":0},{"$f":"'Absorbance Data'!Z3940-Calculations!W$1","v":0}]
[{"$f":"'Absorbance Data'!D3941","v":807.7772216796875},{"$f":"'Absorbance Data'!E3941-Calculations!B$1","v":0},{"$f":"'Absorbance Data'!F3941-Calculations!C$1","v":0},{"$f":"'Absorbance Data'!G3941-Calculations!D$1","v":0},{"$f":"'Absorbance Data'!H3941-Calculations!E$1","v":0},{"$f":"'Absorbance Data'!I3941-Calculations!F$1","v":0},{"$f":"'Absorbance Data'!J3941-Calculations!G$1","v":0},{"$f":"'Absorbance Data'!K3941-Calculations!H$1","v":0},{"$f":"'Absorbance Data'!L3941-Calculations!I$1","v":0},{"$f":"'Absorbance Data'!M3941-Calculations!J$1","v":0},{"$f":"'Absorbance Data'!N3941-Calculations!K$1","v":0},{"$f":"'Absorbance Data'!O3941-Calculations!L$1","v":0},{"$f":"'Absorbance Data'!P3941-Calculations!M$1","v":0},{"$f":"'Absorbance Data'!Q3941-Calculations!N$1","v":0},{"$f":"'Absorbance Data'!R3941-Calculations!O$1","v":0},{"$f":"'Absorbance Data'!S3941-Calculations!P$1","v":0},{"$f":"'Absorbance Data'!T3941-Calculations!Q$1","v":0},{"$f":"'Absorbance Data'!U3941-Calculations!R$1","v":0},{"$f":"'Absorbance Data'!V3941-Calculations!S$1","v":0},{"$f":"'Absorbance Data'!W3941-Calculations!T$1","v":0},{"$f":"'Absorbance Data'!X3941-Calculations!U$1","v":0},{"$f":"'Absorbance Data'!Y3941-Calculations!V$1","v":0},{"$f":"'Absorbance Data'!Z3941-Calculations!W$1","v":0}]
[{"$f":"'Absorbance Data'!D3942","v":808.06732177734375},{"$f":"'Absorbance Data'!E3942-Calculations!B$1","v":0},{"$f":"'Absorbance Data'!F3942-Calculations!C$1","v":0},{"$f":"'Absorbance Data'!G3942-Calculations!D$1","v":0},{"$f":"'Absorbance Data'!H3942-Calculations!E$1","v":0},{"$f":"'Absorbance Data'!I3942-Calculations!F$1","v":0},{"$f":"'Absorbance Data'!J3942-Calculations!G$1","v":0},{"$f":"'Absorbance Data'!K3942-Calculations!H$1","v":0},{"$f":"'Absorbance Data'!L3942-Calculations!I$1","v":0},{"$f":"'Absorbance Data'!M3942-Calculations!J$1","v":0},{"$f":"'Absorbance Data'!N3942-Calculations!K$1","v":0},{"$f":"'Absorbance Data'!O3942-Calculations!L$1","v":0},{"$f":"'Absorbance Data'!P3942-Calculations!M$1","v":0},{"$f":"'Absorbance Data'!Q3942-Calculations!N$1","v":0},{"$f":"'Absorbance Data'!R3942-Calculations!O$1","v":0},{"$f":"'Absorbance Data'!S3942-Calculations!P$1","v":0},{"$f":"'Absorbance Data'!T3942-Calculations!Q$1","v":0},{"$f":"'Absorbance Data'!U3942-Calculations!R$1","v":0},{"$f":"'Absorbance Data'!V3942-Calculations!S$1","v":0},{"$f":"'Absorbance Data'!W3942-Calculations!T$1","v":0},{"$f":"'Absorbance Data'!X3942-Calculations!U$1","v":0},{"$f":"'Absorbance Data'!Y3942-Calculations!V$1","v":0},{"$f":"'Absorbance Data'!Z3942-Calculations!W$1","v":0}]
[{"$f":"'Absorbance Data'!D3943","v":808.35736083984375},{"$f":"'Absorbance Data'!E3943-Calculations!B$1","v":0},{"$f":"'Absorbance Data'!F3943-Calculations!C$1","v":0},{"$f":"'Absorbance Data'!G3943-Calculations!D$1","v":0},{"$f":"'Absorbance Data'!H3943-Calculations!E$1","v":0},{"$f":"'Absorbance Data'!I3943-Calculations!F$1","v":0},{"$f":"'Absorbance Data'!J3943-Calculations!G$1","v":0},{"$f":"'Absorbance Data'!K3943-Calculations!H$1","v":0},{"$f":"'Absorbance Data'!L3943-Calculations!I$1","v":0},{"$f":"'Absorbance Data'!M3943-Calculations!J$1","v":0},{"$f":"'Absorbance Data'!N3943-Calculations!K$1","v":0},{"$f":"'Absorbance Data'!O3943-Calculations!L$1","v":0},{"$f":"'Absorbance Data'!P3943-Calculations!M$1","v":0},{"$f":"'Absorbance Data'!Q3943-Calculations!N$1","v":0},{"$f":"'Absorbance Data'!R3943-Calculations!O$1","v":0},{"$f":"'Absorbance Data'!S3943-Calculations!P$1","v":0},{"$f":"'Absorbance Data'!T3943-Calculations!Q$1","v":0},{"$f":"'Absorbance Data'!U3943-Calculations!R$1","v":0},{"$f":"'Absorbance Data'!V3943-Calculations!S$1","v":0},{"$f":"'Absorbance Data'!W3943-Calculations!T$1","v":0},{"$f":"'Absorbance Data'!X3943-Calculations!U$1","v":0},{"$f":"'Absorbance Data'!Y3943-Calculations!V$1","v":0},{"$f":"'Absorbance Data'!Z3943-Calculations!W$1","v":0}]
[{"$f":"'Absorbance Data'!D3944","v":808.6473388671875},{"$f":"'Absorbance Data'!E3944-Calculations!B$1","v":0},{"$f":"'Absorbance Data'!F3944-Calculations!C$1","v":0},{"$f":"'Absorbance Data'!G3944-Calculations!D$1","v":0},{"$f":"'Absorbance Data'!H3944-Calculations!E$1","v":0},{"$f":"'Absorbance Data'!I3944-Calculations!F$1","v":0},{"$f":"'Absorbance Data'!J3944-Calculations!G$1","v":0},{"$f":"'Absorbance Data'!K3944-Calculations!H$1","v":0},{"$f":"'Absorbance Data'!L3944-Calculations!I$1","v":0},{"$f":"'Absorbance Data'!M3944-Calculations!J$1","v":0},{"$f":"'Absorbance Data'!N3944-Calculations!K$1","v":0},{"$f":"'Absorbance Data'!O3944-Calculations!L$1","v":0},{"$f":"'Absorbance Data'!P3944-Calculations!M$1","v":0},{"$f":"'Absorbance Data'!Q3944-Calculations!N$1","v":0},{"$f":"'Absorbance Data'!R3944-Calculations!O$1","v":0},{"$f":"'Absorbance Data'!S3944-Calculations!P$1","v":0},{"$f":"'Absorbance Data'!T3944-Calculations!Q$1","v":0},{"$f":"'Absorbance Data'!U3944-Calculations!R$1","v":0},{"$f":"'Absorbance Data'!V3944-Calculations!S$1","v":0},{"$f":"'Absorbance Data'!W3944-Calculations!T$1","v":0},{"$f":"'Absorbance Data'!X3944-Calculations!U$1","v":0},{"$f":"'Absorbance Data'!Y3944-Calculations!V$1","v":0},{"$f":"'Absorbance Data'!Z3944-Calculations!W$1","v":0}]
[{"$f":"'Absorbance Data'!D3945","v":808.93731689453125},{"$f":"'Absorbance Data'!E3945-Calculations!B$1","v":0},{"$f":"'Absorbance Data'!F3945-Calculations!C$1","v":0},{"$f":"'Absorbance Data'!G3945-Calculations!D$1","v":0},{"$f":"'Absorbance Data'!H3945-Calculations!E$1","v":0},{"$f":"'Absorbance Data'!I3945-Calculations!F$1","v":0},{"$f":"'Absorbance Data'!J3945-Calculations!G$1","v":0},{"$f":"'Absorbance Data'!K3945-Calculations!H$1","v":0},{"$f":"'Absorbance Data'!L3945-Calculations!I$1","v":0},{"$f":"'Absorbance Data'!M3945-Calculations!J$1","v":0},{"$f":"'Absorbance Data'!N3945-Calculations!K$1","v":0},{"$f":"'Absorbance Data'!O3945-Calculations!L$1","v":0},{"$f":"'Absorbance Data'!P3945-Calculations!M$1","v":0},{"$f":"'Absorbance Data'!Q3945-Calculations!N$1","v":0},{"$f":"'Absorbance Data'!R3945-Calculations!O$1","v":0},{"$f":"'Absorbance Data'!S3945-Calculations!P$1","v":0},{"$f":"'Absorbance Data'!T3945-Calculations!Q$1","v":0},{"$f":"'Absorbance Data'!U3945-Calculations!R$1","v":0},{"$f":"'Absorbance Data'!V3945-Calculations!S$1","v":0},{"$f":"'Absorbance Data'!W3945-Calculations!T$1","v":0},{"$f":"'Absorbance Data'!X3945-Calculations!U$1","v":0},{"$f":"'Absorbance Data'!Y3945-Calculations!V$1","v":0},{"$f":"'Absorbance Data'!Z3945-Calculations!W$1","v":0}]
[{"$f":"'Absorbance Data'!D3946","v":809.22723388671875},{"$f":"'Absorbance Data'!E3946-Calculations!B$1","v":0},{"$f":"'Absorbance Data'!F3946-Calculations!C$1","v":0},{"$f":"'Absorbance Data'!G3946-Calculations!D$1","v":0},{"$f":"'Absorbance Data'!H3946-Calculations!E$1","v":0},{"$f":"'Absorbance Data'!I3946-Calculations!F$1","v":0},{"$f":"'Absorbance Data'!J3946-Calculations!G$1","v":0},{"$f":"'Absorbance Data'!K3946-Calculations!H$1","v":0},{"$f":"'Absorbance Data'!L3946-Calculations!I$1","v":0},{"$f":"'Absorbance Data'!M3946-Calculations!J$1","v":0},{"$f":"'Absorbance Data'!N3946-Calculations!K$1","v":0},{"$f":"'Absorbance Data'!O3946-Calculations!L$1","v":0},{"$f":"'Absorbance Data'!P3946-Calculations!M$1","v":0},{"$f":"'Absorbance Data'!Q3946-Calculations!N$1","v":0},{"$f":"'Absorbance Data'!R3946-Calculations!O$1","v":0},{"$f":"'Absorbance Data'!S3946-Calculations!P$1","v":0},{"$f":"'Absorbance Data'!T3946-Calculations!Q$1","v":0},{"$f":"'Absorbance Data'!U3946-Calculations!R$1","v":0},{"$f":"'Absorbance Data'!V3946-Calculations!S$1","v":0},{"$f":"'Absorbance Data'!W3946-Calculations!T$1","v":0},{"$f":"'Absorbance Data'!X3946-Calculations!U$1","v":0},{"$f":"'Absorbance Data'!Y3946-Calculations!V$1","v":0},{"$f":"'Absorbance Data'!Z3946-Calculations!W$1","v":0}]
[{"$f":"'Absorbance Data'!D3947","v":809.51708984375},{"$f":"'Absorbance Data'!E3947-Calculations!B$1","v":0},{"$f":"'Absorbance Data'!F3947-Calculations!C$1","v":0},{"$f":"'Absorbance Data'!G3947-Calculations!D$1","v":0},{"$f":"'Absorbance Data'!H3947-Calculations!E$1","v":0},{"$f":"'Absorbance Data'!I3947-Calculations!F$1","v":0},{"$f":"'Absorbance Data'!J3947-Calculations!G$1","v":0},{"$f":"'Absorbance Data'!K3947-Calculations!H$1","v":0},{"$f":"'Absorbance Data'!L3947-Calculations!I$1","v":0},{"$f":"'Absorbance Data'!M3947-Calculations!J$1","v":0},{"$f":"'Absorbance Data'!N3947-Calculations!K$1","v":0},{"$f":"'Absorbance Data'!O3947-Calculations!L$1","v":0},{"$f":"'Absorbance Data'!P3947-Calculations!M$1","v":0},{"$f":"'Absorbance Data'!Q3947-Calculations!N$1","v":0},{"$f":"'Absorbance Data'!R3947-Calculations!O$1","v":0},{"$f":"'Absorbance Data'!S3947-Calculations!P$1","v":0},{"$f":"'Absorbance Data'!T3947-Calculations!Q$1","v":0},{"$f":"'Absorbance Data'!U3947-Calculations!R$1","v":0},{"$f":"'Absorbance Data'!V3947-Calculations!S$1","v":0},{"$f":"'Absorbance Data'!W3947-Calculations!T$1","v":0},{"$f":"'Absorbance Data'!X3947-Calculations!U$1","v":0},{"$f":"'Absorbance Data'!Y3947-Calculations!V$1","v":0},{"$f":"'Absorbance Data'!Z3947-Calculations!W$1","v":0}]
[{"$f":"'Absorbance Data'!D3948","v":809.806884765625},{"$f":"'Absorbance Data'!E3948-Calculations!B$1","v":0},{"$f":"'Absorbance Data'!F3948-Calculations!C$1","v":0},{"$f":"'Absorbance Data'!G3948-Calculations!D$1","v":0},{"$f":"'Absorbance Data'!H3948-Calculations!E$1","v":0},{"$f":"'Absorbance Data'!I3948-Calculations!F$1","v":0},{"$f":"'Absorbance Data'!J3948-Calculations!G$1","v":0},{"$f":"'Absorbance Data'!K3948-Calculations!H$1","v":0},{"$f":"'Absorbance Data'!L3948-Calculations!I$1","v":0},{"$f":"'Absorbance Data'!M3948-Calculations!J$1","v":0},{"$f":"'Absorbance Data'!N3948-Calculations!K$1","v":0},{"$f":"'Absorbance Data'!O3948-Calculations!L$1","v":0},{"$f":"'Absorbance Data'!P3948-Calculations!M$1","v":0},{"$f":"'Absorbance Data'!Q3948-Calculations!N$1","v":0},{"$f":"'Absorbance Data'!R3948-Calculations!O$1","v":0},{"$f":"'Absorbance Data'!S3948-Calculations!P$1","v":0},{"$f":"'Absorbance Data'!T3948-Calculations!Q$1","v":0},{"$f":"'Absorbance Data'!U3948-Calculations!R$1","v":0},{"$f":"'Absorbance Data'!V3948-Calculations!S$1","v":0},{"$f":"'Absorbance Data'!W3948-Calculations!T$1","v":0},{"$f":"'Absorbance Data'!X3948-Calculations!U$1","v":0},{"$f":"'Absorbance Data'!Y3948-Calculations!V$1","v":0},{"$f":"'Absorbance Data'!Z3948-Calculations!W$1","v":0}]
[{"$f":"'Absorbance Data'!D3949","v":810.09661865234375},{"$f":"'Absorbance Data'!E3949-Calculations!B$1","v":0},{"$f":"'Absorbance Data'!F3949-Calculations!C$1","v":0},{"$f":"'Absorbance Data'!G3949-Calculations!D$1","v":0},{"$f":"'Absorbance Data'!H3949-Calculations!E$1","v":0},{"$f":"'Absorbance Data'!I3949-Calculations!F$1","v":0},{"$f":"'Absorbance Data'!J3949-Calculations!G$1","v":0},{"$f":"'Absorbance Data'!K3949-Calculations!H$1","v":0},{"$f":"'Absorbance Data'!L3949-Calculations!I$1","v":0},{"$f":"'Absorbance Data'!M3949-Calculations!J$1","v":0},{"$f":"'Absorbance Data'!N3949-Calculations!K$1","v":0},{"$f":"'Absorbance Data'!O3949-Calculations!L$1","v":0},{"$f":"'Absorbance Data'!P3949-Calculations!M$1","v":0},{"$f":"'Absorbance Data'!Q3949-Calculations!N$1","v":0},{"$f":"'Absorbance Data'!R3949-Calculations!O$1","v":0},{"$f":"'Absorbance Data'!S3949-Calculations!P$1","v":0},{"$f":"'Absorbance Data'!T3949-Calculations!Q$1","v":0},{"$f":"'Absorbance Data'!U3949-Calculations!R$1","v":0},{"$f":"'Absorbance Data'!V3949-Calculations!S$1","v":0},{"$f":"'Absorbance Data'!W3949-Calculations!T$1","v":0},{"$f":"'Absorbance Data'!X3949-Calculations!U$1","v":0},{"$f":"'Absorbance Data'!Y3949-Calculations!V$1","v":0},{"$f":"'Absorbance Data'!Z3949-Calculations!W$1","v":0}]
[{"$f":"'Absorbance Data'!D3950","v":810.38629150390625},{"$f":"'Absorbance Data'!E3950-Calculations!B$1","v":0},{"$f":"'Absorbance Data'!F3950-Calculations!C$1","v":0},{"$f":"'Absorbance Data'!G3950-Calculations!D$1","v":0},{"$f":"'Absorbance Data'!H3950-Calculations!E$1","v":0},{"$f":"'Absorbance Data'!I3950-Calculations!F$1","v":0},{"$f":"'Absorbance Data'!J3950-Calculations!G$1","v":0},{"$f":"'Absorbance Data'!K3950-Calculations!H$1","v":0},{"$f":"'Absorbance Data'!L3950-Calculations!I$1","v":0},{"$f":"'Absorbance Data'!M3950-Calculations!J$1","v":0},{"$f":"'Absorbance Data'!N3950-Calculations!K$1","v":0},{"$f":"'Absorbance Data'!O3950-Calculations!L$1","v":0},{"$f":"'Absorbance Data'!P3950-Calculations!M$1","v":0},{"$f":"'Absorbance Data'!Q3950-Calculations!N$1","v":0},{"$f":"'Absorbance Data'!R3950-Calculations!O$1","v":0},{"$f":"'Absorbance Data'!S3950-Calculations!P$1","v":0},{"$f":"'Absorbance Data'!T3950-Calculations!Q$1","v":0},{"$f":"'Absorbance Data'!U3950-Calculations!R$1","v":0},{"$f":"'Absorbance Data'!V3950-Calculations!S$1","v":0},{"$f":"'Absorbance Data'!W3950-Calculations!T$1","v":0},{"$f":"'Absorbance Data'!X3950-Calculations!U$1","v":0},{"$f":"'Absorbance Data'!Y3950-Calculations!V$1","v":0},{"$f":"'Absorbance Data'!Z3950-Calculations!W$1","v":0}]
[{"$f":"'Absorbance Data'!D3951","v":810.676025390625},{"$f":"'Absorbance Data'!E3951-Calculations!B$1","v":0},{"$f":"'Absorbance Data'!F3951-Calculations!C$1","v":0},{"$f":"'Absorbance Data'!G3951-Calculations!D$1","v":0},{"$f":"'Absorbance Data'!H3951-Calculations!E$1","v":0},{"$f":"'Absorbance Data'!I3951-Calculations!F$1","v":0},{"$f":"'Absorbance Data'!J3951-Calculations!G$1","v":0},{"$f":"'Absorbance Data'!K3951-Calculations!H$1","v":0},{"$f":"'Absorbance Data'!L3951-Calculations!I$1","v":0},{"$f":"'Absorbance Data'!M3951-Calculations!J$1","v":0},{"$f":"'Absorbance Data'!N3951-Calculations!K$1","v":0},{"$f":"'Absorbance Data'!O3951-Calculations!L$1","v":0},{"$f":"'Absorbance Data'!P3951-Calculations!M$1","v":0},{"$f":"'Absorbance Data'!Q3951-Calculations!N$1","v":0},{"$f":"'Absorbance Data'!R3951-Calculations!O$1","v":0},{"$f":"'Absorbance Data'!S3951-Calculations!P$1","v":0},{"$f":"'Absorbance Data'!T3951-Calculations!Q$1","v":0},{"$f":"'Absorbance Data'!U3951-Calculations!R$1","v":0},{"$f":"'Absorbance Data'!V3951-Calculations!S$1","v":0},{"$f":"'Absorbance Data'!W3951-Calculations!T$1","v":0},{"$f":"'Absorbance Data'!X3951-Calculations!U$1","v":0},{"$f":"'Absorbance Data'!Y3951-Calculations!V$1","v":0},{"$f":"'Absorbance Data'!Z3951-Calculations!W$1","v":0}]
[{"$f":"'Absorbance Data'!D3952","v":810.965576171875},{"$f":"'Absorbance Data'!E3952-Calculations!B$1","v":0},{"$f":"'Absorbance Data'!F3952-Calculations!C$1","v":0},{"$f":"'Absorbance Data'!G3952-Calculations!D$1","v":0},{"$f":"'Absorbance Data'!H3952-Calculations!E$1","v":0},{"$f":"'Absorbance Data'!I3952-Calculations!F$1","v":0},{"$f":"'Absorbance Data'!J3952-Calculations!G$1","v":0},{"$f":"'Absorbance Data'!K3952-Calculations!H$1","v":0},{"$f":"'Absorbance Data'!L3952-Calculations!I$1","v":0},{"$f":"'Absorbance Data'!M3952-Calculations!J$1","v":0},{"$f":"'Absorbance Data'!N3952-Calculations!K$1","v":0},{"$f":"'Absorbance Data'!O3952-Calculations!L$1","v":0},{"$f":"'Absorbance Data'!P3952-Calculations!M$1","v":0},{"$f":"'Absorbance Data'!Q3952-Calculations!N$1","v":0},{"$f":"'Absorbance Data'!R3952-Calculations!O$1","v":0},{"$f":"'Absorbance Data'!S3952-Calculations!P$1","v":0},{"$f":"'Absorbance Data'!T3952-Calculations!Q$1","v":0},{"$f":"'Absorbance Data'!U3952-Calculations!R$1","v":0},{"$f":"'Absorbance Data'!V3952-Calculations!S$1","v":0},{"$f":"'Absorbance Data'!W3952-Calculations!T$1","v":0},{"$f":"'Absorbance Data'!X3952-Calculations!U$1","v":0},{"$f":"'Absorbance Data'!Y3952-Calculations!V$1","v":0},{"$f":"'Absorbance Data'!Z3952-Calculations!W$1","v":0}]
[{"$f":"'Absorbance Data'!D3953","v":811.255126953125},{"$f":"'Absorbance Data'!E3953-Calculations!B$1","v":0},{"$f":"'Absorbance Data'!F3953-Calculations!C$1","v":0},{"$f":"'Absorbance Data'!G3953-Calculations!D$1","v":0},{"$f":"'Absorbance Data'!H3953-Calculations!E$1","v":0},{"$f":"'Absorbance Data'!I3953-Calculations!F$1","v":0},{"$f":"'Absorbance Data'!J3953-Calculations!G$1","v":0},{"$f":"'Absorbance Data'!K3953-Calculations!H$1","v":0},{"$f":"'Absorbance Data'!L3953-Calculations!I$1","v":0},{"$f":"'Absorbance Data'!M3953-Calculations!J$1","v":0},{"$f":"'Absorbance Data'!N3953-Calculations!K$1","v":0},{"$f":"'Absorbance Data'!O3953-Calculations!L$1","v":0},{"$f":"'Absorbance Data'!P3953-Calculations!M$1","v":0},{"$f":"'Absorbance Data'!Q3953-Calculations!N$1","v":0},{"$f":"'Absorbance Data'!R3953-Calculations!O$1","v":0},{"$f":"'Absorbance Data'!S3953-Calculations!P$1","v":0},{"$f":"'Absorbance Data'!T3953-Calculations!Q$1","v":0},{"$f":"'Absorbance Data'!U3953-Calculations!R$1","v":0},{"$f":"'Absorbance Data'!V3953-Calculations!S$1","v":0},{"$f":"'Absorbance Data'!W3953-Calculations!T$1","v":0},{"$f":"'Absorbance Data'!X3953-Calculations!U$1","v":0},{"$f":"'Absorbance Data'!Y3953-Calculations!V$1","v":0},{"$f":"'Absorbance Data'!Z3953-Calculations!W$1","v":0}]
[{"$f":"'Absorbance Data'!D3954","v":811.54461669921875},{"$f":"'Absorbance Data'!E3954-Calculations!B$1","v":0},{"$f":"'Absorbance Data'!F3954-Calculations!C$1","v":0},{"$f":"'Absorbance Data'!G3954-Calculations!D$1","v":0},{"$f":"'Absorbance Data'!H3954-Calculations!E$1","v":0},{"$f":"'Absorbance Data'!I3954-Calculations!F$1","v":0},{"$f":"'Absorbance Data'!J3954-Calculations!G$1","v":0},{"$f":"'Absorbance Data'!K3954-Calculations!H$1","v":0},{"$f":"'Absorbance Data'!L3954-Calculations!I$1","v":0},{"$f":"'Absorbance Data'!M3954-Calculations!J$1","v":0},{"$f":"'Absorbance Data'!N3954-Calculations!K$1","v":0},{"$f":"'Absorbance Data'!O3954-Calculations!L$1","v":0},{"$f":"'Absorbance Data'!P3954-Calculations!M$1","v":0},{"$f":"'Absorbance Data'!Q3954-Calculations!N$1","v":0},{"$f":"'Absorbance Data'!R3954-Calculations!O$1","v":0},{"$f":"'Absorbance Data'!S3954-Calculations!P$1","v":0},{"$f":"'Absorbance Data'!T3954-Calculations!Q$1","v":0},{"$f":"'Absorbance Data'!U3954-Calculations!R$1","v":0},{"$f":"'Absorbance Data'!V3954-Calculations!S$1","v":0},{"$f":"'Absorbance Data'!W3954-Calculations!T$1","v":0},{"$f":"'Absorbance Data'!X3954-Calculations!U$1","v":0},{"$f":"'Absorbance Data'!Y3954-Calculations!V$1","v":0},{"$f":"'Absorbance Data'!Z3954-Calculations!W$1","v":0}]
[{"$f":"'Absorbance Data'!D3955","v":811.8341064453125},{"$f":"'Absorbance Data'!E3955-Calculations!B$1","v":0},{"$f":"'Absorbance Data'!F3955-Calculations!C$1","v":0},{"$f":"'Absorbance Data'!G3955-Calculations!D$1","v":0},{"$f":"'Absorbance Data'!H3955-Calculations!E$1","v":0},{"$f":"'Absorbance Data'!I3955-Calculations!F$1","v":0},{"$f":"'Absorbance Data'!J3955-Calculations!G$1","v":0},{"$f":"'Absorbance Data'!K3955-Calculations!H$1","v":0},{"$f":"'Absorbance Data'!L3955-Calculations!I$1","v":0},{"$f":"'Absorbance Data'!M3955-Calculations!J$1","v":0},{"$f":"'Absorbance Data'!N3955-Calculations!K$1","v":0},{"$f":"'Absorbance Data'!O3955-Calculations!L$1","v":0},{"$f":"'Absorbance Data'!P3955-Calculations!M$1","v":0},{"$f":"'Absorbance Data'!Q3955-Calculations!N$1","v":0},{"$f":"'Absorbance Data'!R3955-Calculations!O$1","v":0},{"$f":"'Absorbance Data'!S3955-Calculations!P$1","v":0},{"$f":"'Absorbance Data'!T3955-Calculations!Q$1","v":0},{"$f":"'Absorbance Data'!U3955-Calculations!R$1","v":0},{"$f":"'Absorbance Data'!V3955-Calculations!S$1","v":0},{"$f":"'Absorbance Data'!W3955-Calculations!T$1","v":0},{"$f":"'Absorbance Data'!X3955-Calculations!U$1","v":0},{"$f":"'Absorbance Data'!Y3955-Calculations!V$1","v":0},{"$f":"'Absorbance Data'!Z3955-Calculations!W$1","v":0}]
[{"$f":"'Absorbance Data'!D3956","v":812.12347412109375},{"$f":"'Absorbance Data'!E3956-Calculations!B$1","v":0},{"$f":"'Absorbance Data'!F3956-Calculations!C$1","v":0},{"$f":"'Absorbance Data'!G3956-Calculations!D$1","v":0},{"$f":"'Absorbance Data'!H3956-Calculations!E$1","v":0},{"$f":"'Absorbance Data'!I3956-Calculations!F$1","v":0},{"$f":"'Absorbance Data'!J3956-Calculations!G$1","v":0},{"$f":"'Absorbance Data'!K3956-Calculations!H$1","v":0},{"$f":"'Absorbance Data'!L3956-Calculations!I$1","v":0},{"$f":"'Absorbance Data'!M3956-Calculations!J$1","v":0},{"$f":"'Absorbance Data'!N3956-Calculations!K$1","v":0},{"$f":"'Absorbance Data'!O3956-Calculations!L$1","v":0},{"$f":"'Absorbance Data'!P3956-Calculations!M$1","v":0},{"$f":"'Absorbance Data'!Q3956-Calculations!N$1","v":0},{"$f":"'Absorbance Data'!R3956-Calculations!O$1","v":0},{"$f":"'Absorbance Data'!S3956-Calculations!P$1","v":0},{"$f":"'Absorbance Data'!T3956-Calculations!Q$1","v":0},{"$f":"'Absorbance Data'!U3956-Calculations!R$1","v":0},{"$f":"'Absorbance Data'!V3956-Calculations!S$1","v":0},{"$f":"'Absorbance Data'!W3956-Calculations!T$1","v":0},{"$f":"'Absorbance Data'!X3956-Calculations!U$1","v":0},{"$f":"'Absorbance Data'!Y3956-Calculations!V$1","v":0},{"$f":"'Absorbance Data'!Z3956-Calculations!W$1","v":0}]
[{"$f":"'Absorbance Data'!D3957","v":812.412841796875},{"$f":"'Absorbance Data'!E3957-Calculations!B$1","v":0},{"$f":"'Absorbance Data'!F3957-Calculations!C$1","v":0},{"$f":"'Absorbance Data'!G3957-Calculations!D$1","v":0},{"$f":"'Absorbance Data'!H3957-Calculations!E$1","v":0},{"$f":"'Absorbance Data'!I3957-Calculations!F$1","v":0},{"$f":"'Absorbance Data'!J3957-Calculations!G$1","v":0},{"$f":"'Absorbance Data'!K3957-Calculations!H$1","v":0},{"$f":"'Absorbance Data'!L3957-Calculations!I$1","v":0},{"$f":"'Absorbance Data'!M3957-Calculations!J$1","v":0},{"$f":"'Absorbance Data'!N3957-Calculations!K$1","v":0},{"$f":"'Absorbance Data'!O3957-Calculations!L$1","v":0},{"$f":"'Absorbance Data'!P3957-Calculations!M$1","v":0},{"$f":"'Absorbance Data'!Q3957-Calculations!N$1","v":0},{"$f":"'Absorbance Data'!R3957-Calculations!O$1","v":0},{"$f":"'Absorbance Data'!S3957-Calculations!P$1","v":0},{"$f":"'Absorbance Data'!T3957-Calculations!Q$1","v":0},{"$f":"'Absorbance Data'!U3957-Calculations!R$1","v":0},{"$f":"'Absorbance Data'!V3957-Calculations!S$1","v":0},{"$f":"'Absorbance Data'!W3957-Calculations!T$1","v":0},{"$f":"'Absorbance Data'!X3957-Calculations!U$1","v":0},{"$f":"'Absorbance Data'!Y3957-Calculations!V$1","v":0},{"$f":"'Absorbance Data'!Z3957-Calculations!W$1","v":0}]
[{"$f":"'Absorbance Data'!D3958","v":812.7021484375},{"$f":"'Absorbance Data'!E3958-Calculations!B$1","v":0},{"$f":"'Absorbance Data'!F3958-Calculations!C$1","v":0},{"$f":"'Absorbance Data'!G3958-Calculations!D$1","v":0},{"$f":"'Absorbance Data'!H3958-Calculations!E$1","v":0},{"$f":"'Absorbance Data'!I3958-Calculations!F$1","v":0},{"$f":"'Absorbance Data'!J3958-Calculations!G$1","v":0},{"$f":"'Absorbance Data'!K3958-Calculations!H$1","v":0},{"$f":"'Absorbance Data'!L3958-Calculations!I$1","v":0},{"$f":"'Absorbance Data'!M3958-Calculations!J$1","v":0},{"$f":"'Absorbance Data'!N3958-Calculations!K$1","v":0},{"$f":"'Absorbance Data'!O3958-Calculations!L$1","v":0},{"$f":"'Absorbance Data'!P3958-Calculations!M$1","v":0},{"$f":"'Absorbance Data'!Q3958-Calculations!N$1","v":0},{"$f":"'Absorbance Data'!R3958-Calculations!O$1","v":0},{"$f":"'Absorbance Data'!S3958-Calculations!P$1","v":0},{"$f":"'Absorbance Data'!T3958-Calculations!Q$1","v":0},{"$f":"'Absorbance Data'!U3958-Calculations!R$1","v":0},{"$f":"'Absorbance Data'!V3958-Calculations!S$1","v":0},{"$f":"'Absorbance Data'!W3958-Calculations!T$1","v":0},{"$f":"'Absorbance Data'!X3958-Calculations!U$1","v":0},{"$f":"'Absorbance Data'!Y3958-Calculations!V$1","v":0},{"$f":"'Absorbance Data'!Z3958-Calculations!W$1","v":0}]
[{"$f":"'Absorbance Data'!D3959","v":812.99139404296875},{"$f":"'Absorbance Data'!E3959-Calculations!B$1","v":0},{"$f":"'Absorbance Data'!F3959-Calculations!C$1","v":0},{"$f":"'Absorbance Data'!G3959-Calculations!D$1","v":0},{"$f":"'Absorbance Data'!H3959-Calculations!E$1","v":0},{"$f":"'Absorbance Data'!I3959-Calculations!F$1","v":0},{"$f":"'Absorbance Data'!J3959-Calculations!G$1","v":0},{"$f":"'Absorbance Data'!K3959-Calculations!H$1","v":0},{"$f":"'Absorbance Data'!L3959-Calculations!I$1","v":0},{"$f":"'Absorbance Data'!M3959-Calculations!J$1","v":0},{"$f":"'Absorbance Data'!N3959-Calculations!K$1","v":0},{"$f":"'Absorbance Data'!O3959-Calculations!L$1","v":0},{"$f":"'Absorbance Data'!P3959-Calculations!M$1","v":0},{"$f":"'Absorbance Data'!Q3959-Calculations!N$1","v":0},{"$f":"'Absorbance Data'!R3959-Calculations!O$1","v":0},{"$f":"'Absorbance Data'!S3959-Calculations!P$1","v":0},{"$f":"'Absorbance Data'!T3959-Calculations!Q$1","v":0},{"$f":"'Absorbance Data'!U3959-Calculations!R$1","v":0},{"$f":"'Absorbance Data'!V3959-Calculations!S$1","v":0},{"$f":"'Absorbance Data'!W3959-Calculations!T$1","v":0},{"$f":"'Absorbance Data'!X3959-Calculations!U$1","v":0},{"$f":"'Absorbance Data'!Y3959-Calculations!V$1","v":0},{"$f":"'Absorbance Data'!Z3959-Calculations!W$1","v":0}]
[{"$f":"'Absorbance Data'!D3960","v":813.2806396484375},{"$f":"'Absorbance Data'!E3960-Calculations!B$1","v":0},{"$f":"'Absorbance Data'!F3960-Calculations!C$1","v":0},{"$f":"'Absorbance Data'!G3960-Calculations!D$1","v":0},{"$f":"'Absorbance Data'!H3960-Calculations!E$1","v":0},{"$f":"'Absorbance Data'!I3960-Calculations!F$1","v":0},{"$f":"'Absorbance Data'!J3960-Calculations!G$1","v":0},{"$f":"'Absorbance Data'!K3960-Calculations!H$1","v":0},{"$f":"'Absorbance Data'!L3960-Calculations!I$1","v":0},{"$f":"'Absorbance Data'!M3960-Calculations!J$1","v":0},{"$f":"'Absorbance Data'!N3960-Calculations!K$1","v":0},{"$f":"'Absorbance Data'!O3960-Calculations!L$1","v":0},{"$f":"'Absorbance Data'!P3960-Calculations!M$1","v":0},{"$f":"'Absorbance Data'!Q3960-Calculations!N$1","v":0},{"$f":"'Absorbance Data'!R3960-Calculations!O$1","v":0},{"$f":"'Absorbance Data'!S3960-Calculations!P$1","v":0},{"$f":"'Absorbance Data'!T3960-Calculations!Q$1","v":0},{"$f":"'Absorbance Data'!U3960-Calculations!R$1","v":0},{"$f":"'Absorbance Data'!V3960-Calculations!S$1","v":0},{"$f":"'Absorbance Data'!W3960-Calculations!T$1","v":0},{"$f":"'Absorbance Data'!X3960-Calculations!U$1","v":0},{"$f":"'Absorbance Data'!Y3960-Calculations!V$1","v":0},{"$f":"'Absorbance Data'!Z3960-Calculations!W$1","v":0}]
[{"$f":"'Absorbance Data'!D3961","v":813.56976318359375},{"$f":"'Absorbance Data'!E3961-Calculations!B$1","v":0},{"$f":"'Absorbance Data'!F3961-Calculations!C$1","v":0},{"$f":"'Absorbance Data'!G3961-Calculations!D$1","v":0},{"$f":"'Absorbance Data'!H3961-Calculations!E$1","v":0},{"$f":"'Absorbance Data'!I3961-Calculations!F$1","v":0},{"$f":"'Absorbance Data'!J3961-Calculations!G$1","v":0},{"$f":"'Absorbance Data'!K3961-Calculations!H$1","v":0},{"$f":"'Absorbance Data'!L3961-Calculations!I$1","v":0},{"$f":"'Absorbance Data'!M3961-Calculations!J$1","v":0},{"$f":"'Absorbance Data'!N3961-Calculations!K$1","v":0},{"$f":"'Absorbance Data'!O3961-Calculations!L$1","v":0},{"$f":"'Absorbance Data'!P3961-Calculations!M$1","v":0},{"$f":"'Absorbance Data'!Q3961-Calculations!N$1","v":0},{"$f":"'Absorbance Data'!R3961-Calculations!O$1","v":0},{"$f":"'Absorbance Data'!S3961-Calculations!P$1","v":0},{"$f":"'Absorbance Data'!T3961-Calculations!Q$1","v":0},{"$f":"'Absorbance Data'!U3961-Calculations!R$1","v":0},{"$f":"'Absorbance Data'!V3961-Calculations!S$1","v":0},{"$f":"'Absorbance Data'!W3961-Calculations!T$1","v":0},{"$f":"'Absorbance Data'!X3961-Calculations!U$1","v":0},{"$f":"'Absorbance Data'!Y3961-Calculations!V$1","v":0},{"$f":"'Absorbance Data'!Z3961-Calculations!W$1","v":0}]
[{"$f":"'Absorbance Data'!D3962","v":813.85894775390625},{"$f":"'Absorbance Data'!E3962-Calculations!B$1","v":0},{"$f":"'Absorbance Data'!F3962-Calculations!C$1","v":0},{"$f":"'Absorbance Data'!G3962-Calculations!D$1","v":0},{"$f":"'Absorbance Data'!H3962-Calculations!E$1","v":0},{"$f":"'Absorbance Data'!I3962-Calculations!F$1","v":0},{"$f":"'Absorbance Data'!J3962-Calculations!G$1","v":0},{"$f":"'Absorbance Data'!K3962-Calculations!H$1","v":0},{"$f":"'Absorbance Data'!L3962-Calculations!I$1","v":0},{"$f":"'Absorbance Data'!M3962-Calculations!J$1","v":0},{"$f":"'Absorbance Data'!N3962-Calculations!K$1","v":0},{"$f":"'Absorbance Data'!O3962-Calculations!L$1","v":0},{"$f":"'Absorbance Data'!P3962-Calculations!M$1","v":0},{"$f":"'Absorbance Data'!Q3962-Calculations!N$1","v":0},{"$f":"'Absorbance Data'!R3962-Calculations!O$1","v":0},{"$f":"'Absorbance Data'!S3962-Calculations!P$1","v":0},{"$f":"'Absorbance Data'!T3962-Calculations!Q$1","v":0},{"$f":"'Absorbance Data'!U3962-Calculations!R$1","v":0},{"$f":"'Absorbance Data'!V3962-Calculations!S$1","v":0},{"$f":"'Absorbance Data'!W3962-Calculations!T$1","v":0},{"$f":"'Absorbance Data'!X3962-Calculations!U$1","v":0},{"$f":"'Absorbance Data'!Y3962-Calculations!V$1","v":0},{"$f":"'Absorbance Data'!Z3962-Calculations!W$1","v":0}]
[{"$f":"'Absorbance Data'!D3963","v":814.14794921875},{"$f":"'Absorbance Data'!E3963-Calculations!B$1","v":0},{"$f":"'Absorbance Data'!F3963-Calculations!C$1","v":0},{"$f":"'Absorbance Data'!G3963-Calculations!D$1","v":0},{"$f":"'Absorbance Data'!H3963-Calculations!E$1","v":0},{"$f":"'Absorbance Data'!I3963-Calculations!F$1","v":0},{"$f":"'Absorbance Data'!J3963-Calculations!G$1","v":0},{"$f":"'Absorbance Data'!K3963-Calculations!H$1","v":0},{"$f":"'Absorbance Data'!L3963-Calculations!I$1","v":0},{"$f":"'Absorbance Data'!M3963-Calculations!J$1","v":0},{"$f":"'Absorbance Data'!N3963-Calculations!K$1","v":0},{"$f":"'Absorbance Data'!O3963-Calculations!L$1","v":0},{"$f":"'Absorbance Data'!P3963-Calculations!M$1","v":0},{"$f":"'Absorbance Data'!Q3963-Calculations!N$1","v":0},{"$f":"'Absorbance Data'!R3963-Calculations!O$1","v":0},{"$f":"'Absorbance Data'!S3963-Calculations!P$1","v":0},{"$f":"'Absorbance Data'!T3963-Calculations!Q$1","v":0},{"$f":"'Absorbance Data'!U3963-Calculations!R$1","v":0},{"$f":"'Absorbance Data'!V3963-Calculations!S$1","v":0},{"$f":"'Absorbance Data'!W3963-Calculations!T$1","v":0},{"$f":"'Absorbance Data'!X3963-Calculations!U$1","v":0},{"$f":"'Absorbance Data'!Y3963-Calculations!V$1","v":0},{"$f":"'Absorbance Data'!Z3963-Calculations!W$1","v":0}]
[{"$f":"'Absorbance Data'!D3964","v":814.43701171875},{"$f":"'Absorbance Data'!E3964-Calculations!B$1","v":0},{"$f":"'Absorbance Data'!F3964-Calculations!C$1","v":0},{"$f":"'Absorbance Data'!G3964-Calculations!D$1","v":0},{"$f":"'Absorbance Data'!H3964-Calculations!E$1","v":0},{"$f":"'Absorbance Data'!I3964-Calculations!F$1","v":0},{"$f":"'Absorbance Data'!J3964-Calculations!G$1","v":0},{"$f":"'Absorbance Data'!K3964-Calculations!H$1","v":0},{"$f":"'Absorbance Data'!L3964-Calculations!I$1","v":0},{"$f":"'Absorbance Data'!M3964-Calculations!J$1","v":0},{"$f":"'Absorbance Data'!N3964-Calculations!K$1","v":0},{"$f":"'Absorbance Data'!O3964-Calculations!L$1","v":0},{"$f":"'Absorbance Data'!P3964-Calculations!M$1","v":0},{"$f":"'Absorbance Data'!Q3964-Calculations!N$1","v":0},{"$f":"'Absorbance Data'!R3964-Calculations!O$1","v":0},{"$f":"'Absorbance Data'!S3964-Calculations!P$1","v":0},{"$f":"'Absorbance Data'!T3964-Calculations!Q$1","v":0},{"$f":"'Absorbance Data'!U3964-Calculations!R$1","v":0},{"$f":"'Absorbance Data'!V3964-Calculations!S$1","v":0},{"$f":"'Absorbance Data'!W3964-Calculations!T$1","v":0},{"$f":"'Absorbance Data'!X3964-Calculations!U$1","v":0},{"$f":"'Absorbance Data'!Y3964-Calculations!V$1","v":0},{"$f":"'Absorbance Data'!Z3964-Calculations!W$1","v":0}]
[{"$f":"'Absorbance Data'!D3965","v":814.7259521484375},{"$f":"'Absorbance Data'!E3965-Calculations!B$1","v":0},{"$f":"'Absorbance Data'!F3965-Calculations!C$1","v":0},{"$f":"'Absorbance Data'!G3965-Calculations!D$1","v":0},{"$f":"'Absorbance Data'!H3965-Calculations!E$1","v":0},{"$f":"'Absorbance Data'!I3965-Calculations!F$1","v":0},{"$f":"'Absorbance Data'!J3965-Calculations!G$1","v":0},{"$f":"'Absorbance Data'!K3965-Calculations!H$1","v":0},{"$f":"'Absorbance Data'!L3965-Calculations!I$1","v":0},{"$f":"'Absorbance Data'!M3965-Calculations!J$1","v":0},{"$f":"'Absorbance Data'!N3965-Calculations!K$1","v":0},{"$f":"'Absorbance Data'!O3965-Calculations!L$1","v":0},{"$f":"'Absorbance Data'!P3965-Calculations!M$1","v":0},{"$f":"'Absorbance Data'!Q3965-Calculations!N$1","v":0},{"$f":"'Absorbance Data'!R3965-Calculations!O$1","v":0},{"$f":"'Absorbance Data'!S3965-Calculations!P$1","v":0},{"$f":"'Absorbance Data'!T3965-Calculations!Q$1","v":0},{"$f":"'Absorbance Data'!U3965-Calculations!R$1","v":0},{"$f":"'Absorbance Data'!V3965-Calculations!S$1","v":0},{"$f":"'Absorbance Data'!W3965-Calculations!T$1","v":0},{"$f":"'Absorbance Data'!X3965-Calculations!U$1","v":0},{"$f":"'Absorbance Data'!Y3965-Calculations!V$1","v":0},{"$f":"'Absorbance Data'!Z3965-Calculations!W$1","v":0}]
[{"$f":"'Absorbance Data'!D3966","v":815.014892578125},{"$f":"'Absorbance Data'!E3966-Calculations!B$1","v":0},{"$f":"'Absorbance Data'!F3966-Calculations!C$1","v":0},{"$f":"'Absorbance Data'!G3966-Calculations!D$1","v":0},{"$f":"'Absorbance Data'!H3966-Calculations!E$1","v":0},{"$f":"'Absorbance Data'!I3966-Calculations!F$1","v":0},{"$f":"'Absorbance Data'!J3966-Calculations!G$1","v":0},{"$f":"'Absorbance Data'!K3966-Calculations!H$1","v":0},{"$f":"'Absorbance Data'!L3966-Calculations!I$1","v":0},{"$f":"'Absorbance Data'!M3966-Calculations!J$1","v":0},{"$f":"'Absorbance Data'!N3966-Calculations!K$1","v":0},{"$f":"'Absorbance Data'!O3966-Calculations!L$1","v":0},{"$f":"'Absorbance Data'!P3966-Calculations!M$1","v":0},{"$f":"'Absorbance Data'!Q3966-Calculations!N$1","v":0},{"$f":"'Absorbance Data'!R3966-Calculations!O$1","v":0},{"$f":"'Absorbance Data'!S3966-Calculations!P$1","v":0},{"$f":"'Absorbance Data'!T3966-Calculations!Q$1","v":0},{"$f":"'Absorbance Data'!U3966-Calculations!R$1","v":0},{"$f":"'Absorbance Data'!V3966-Calculations!S$1","v":0},{"$f":"'Absorbance Data'!W3966-Calculations!T$1","v":0},{"$f":"'Absorbance Data'!X3966-Calculations!U$1","v":0},{"$f":"'Absorbance Data'!Y3966-Calculations!V$1","v":0},{"$f":"'Absorbance Data'!Z3966-Calculations!W$1","v":0}]
[{"$f":"'Absorbance Data'!D3967","v":815.3037109375},{"$f":"'Absorbance Data'!E3967-Calculations!B$1","v":0},{"$f":"'Absorbance Data'!F3967-Calculations!C$1","v":0},{"$f":"'Absorbance Data'!G3967-Calculations!D$1","v":0},{"$f":"'Absorbance Data'!H3967-Calculations!E$1","v":0},{"$f":"'Absorbance Data'!I3967-Calculations!F$1","v":0},{"$f":"'Absorbance Data'!J3967-Calculations!G$1","v":0},{"$f":"'Absorbance Data'!K3967-Calculations!H$1","v":0},{"$f":"'Absorbance Data'!L3967-Calculations!I$1","v":0},{"$f":"'Absorbance Data'!M3967-Calculations!J$1","v":0},{"$f":"'Absorbance Data'!N3967-Calculations!K$1","v":0},{"$f":"'Absorbance Data'!O3967-Calculations!L$1","v":0},{"$f":"'Absorbance Data'!P3967-Calculations!M$1","v":0},{"$f":"'Absorbance Data'!Q3967-Calculations!N$1","v":0},{"$f":"'Absorbance Data'!R3967-Calculations!O$1","v":0},{"$f":"'Absorbance Data'!S3967-Calculations!P$1","v":0},{"$f":"'Absorbance Data'!T3967-Calculations!Q$1","v":0},{"$f":"'Absorbance Data'!U3967-Calculations!R$1","v":0},{"$f":"'Absorbance Data'!V3967-Calculations!S$1","v":0},{"$f":"'Absorbance Data'!W3967-Calculations!T$1","v":0},{"$f":"'Absorbance Data'!X3967-Calculations!U$1","v":0},{"$f":"'Absorbance Data'!Y3967-Calculations!V$1","v":0},{"$f":"'Absorbance Data'!Z3967-Calculations!W$1","v":0}]
[{"$f":"'Absorbance Data'!D3968","v":815.592529296875},{"$f":"'Absorbance Data'!E3968-Calculations!B$1","v":0},{"$f":"'Absorbance Data'!F3968-Calculations!C$1","v":0},{"$f":"'Absorbance Data'!G3968-Calculations!D$1","v":0},{"$f":"'Absorbance Data'!H3968-Calculations!E$1","v":0},{"$f":"'Absorbance Data'!I3968-Calculations!F$1","v":0},{"$f":"'Absorbance Data'!J3968-Calculations!G$1","v":0},{"$f":"'Absorbance Data'!K3968-Calculations!H$1","v":0},{"$f":"'Absorbance Data'!L3968-Calculations!I$1","v":0},{"$f":"'Absorbance Data'!M3968-Calculations!J$1","v":0},{"$f":"'Absorbance Data'!N3968-Calculations!K$1","v":0},{"$f":"'Absorbance Data'!O3968-Calculations!L$1","v":0},{"$f":"'Absorbance Data'!P3968-Calculations!M$1","v":0},{"$f":"'Absorbance Data'!Q3968-Calculations!N$1","v":0},{"$f":"'Absorbance Data'!R3968-Calculations!O$1","v":0},{"$f":"'Absorbance Data'!S3968-Calculations!P$1","v":0},{"$f":"'Absorbance Data'!T3968-Calculations!Q$1","v":0},{"$f":"'Absorbance Data'!U3968-Calculations!R$1","v":0},{"$f":"'Absorbance Data'!V3968-Calculations!S$1","v":0},{"$f":"'Absorbance Data'!W3968-Calculations!T$1","v":0},{"$f":"'Absorbance Data'!X3968-Calculations!U$1","v":0},{"$f":"'Absorbance Data'!Y3968-Calculations!V$1","v":0},{"$f":"'Absorbance Data'!Z3968-Calculations!W$1","v":0}]
[{"$f":"'Absorbance Data'!D3969","v":815.88128662109375},{"$f":"'Absorbance Data'!E3969-Calculations!B$1","v":0},{"$f":"'Absorbance Data'!F3969-Calculations!C$1","v":0},{"$f":"'Absorbance Data'!G3969-Calculations!D$1","v":0},{"$f":"'Absorbance Data'!H3969-Calculations!E$1","v":0},{"$f":"'Absorbance Data'!I3969-Calculations!F$1","v":0},{"$f":"'Absorbance Data'!J3969-Calculations!G$1","v":0},{"$f":"'Absorbance Data'!K3969-Calculations!H$1","v":0},{"$f":"'Absorbance Data'!L3969-Calculations!I$1","v":0},{"$f":"'Absorbance Data'!M3969-Calculations!J$1","v":0},{"$f":"'Absorbance Data'!N3969-Calculations!K$1","v":0},{"$f":"'Absorbance Data'!O3969-Calculations!L$1","v":0},{"$f":"'Absorbance Data'!P3969-Calculations!M$1","v":0},{"$f":"'Absorbance Data'!Q3969-Calculations!N$1","v":0},{"$f":"'Absorbance Data'!R3969-Calculations!O$1","v":0},{"$f":"'Absorbance Data'!S3969-Calculations!P$1","v":0},{"$f":"'Absorbance Data'!T3969-Calculations!Q$1","v":0},{"$f":"'Absorbance Data'!U3969-Calculations!R$1","v":0},{"$f":"'Absorbance Data'!V3969-Calculations!S$1","v":0},{"$f":"'Absorbance Data'!W3969-Calculations!T$1","v":0},{"$f":"'Absorbance Data'!X3969-Calculations!U$1","v":0},{"$f":"'Absorbance Data'!Y3969-Calculations!V$1","v":0},{"$f":"'Absorbance Data'!Z3969-Calculations!W$1","v":0}]
[{"$f":"'Absorbance Data'!D3970","v":816.1700439453125},{"$f":"'Absorbance Data'!E3970-Calculations!B$1","v":0},{"$f":"'Absorbance Data'!F3970-Calculations!C$1","v":0},{"$f":"'Absorbance Data'!G3970-Calculations!D$1","v":0},{"$f":"'Absorbance Data'!H3970-Calculations!E$1","v":0},{"$f":"'Absorbance Data'!I3970-Calculations!F$1","v":0},{"$f":"'Absorbance Data'!J3970-Calculations!G$1","v":0},{"$f":"'Absorbance Data'!K3970-Calculations!H$1","v":0},{"$f":"'Absorbance Data'!L3970-Calculations!I$1","v":0},{"$f":"'Absorbance Data'!M3970-Calculations!J$1","v":0},{"$f":"'Absorbance Data'!N3970-Calculations!K$1","v":0},{"$f":"'Absorbance Data'!O3970-Calculations!L$1","v":0},{"$f":"'Absorbance Data'!P3970-Calculations!M$1","v":0},{"$f":"'Absorbance Data'!Q3970-Calculations!N$1","v":0},{"$f":"'Absorbance Data'!R3970-Calculations!O$1","v":0},{"$f":"'Absorbance Data'!S3970-Calculations!P$1","v":0},{"$f":"'Absorbance Data'!T3970-Calculations!Q$1","v":0},{"$f":"'Absorbance Data'!U3970-Calculations!R$1","v":0},{"$f":"'Absorbance Data'!V3970-Calculations!S$1","v":0},{"$f":"'Absorbance Data'!W3970-Calculations!T$1","v":0},{"$f":"'Absorbance Data'!X3970-Calculations!U$1","v":0},{"$f":"'Absorbance Data'!Y3970-Calculations!V$1","v":0},{"$f":"'Absorbance Data'!Z3970-Calculations!W$1","v":0}]
[{"$f":"'Absorbance Data'!D3971","v":816.45867919921875},{"$f":"'Absorbance Data'!E3971-Calculations!B$1","v":0},{"$f":"'Absorbance Data'!F3971-Calculations!C$1","v":0},{"$f":"'Absorbance Data'!G3971-Calculations!D$1","v":0},{"$f":"'Absorbance Data'!H3971-Calculations!E$1","v":0},{"$f":"'Absorbance Data'!I3971-Calculations!F$1","v":0},{"$f":"'Absorbance Data'!J3971-Calculations!G$1","v":0},{"$f":"'Absorbance Data'!K3971-Calculations!H$1","v":0},{"$f":"'Absorbance Data'!L3971-Calculations!I$1","v":0},{"$f":"'Absorbance Data'!M3971-Calculations!J$1","v":0},{"$f":"'Absorbance Data'!N3971-Calculations!K$1","v":0},{"$f":"'Absorbance Data'!O3971-Calculations!L$1","v":0},{"$f":"'Absorbance Data'!P3971-Calculations!M$1","v":0},{"$f":"'Absorbance Data'!Q3971-Calculations!N$1","v":0},{"$f":"'Absorbance Data'!R3971-Calculations!O$1","v":0},{"$f":"'Absorbance Data'!S3971-Calculations!P$1","v":0},{"$f":"'Absorbance Data'!T3971-Calculations!Q$1","v":0},{"$f":"'Absorbance Data'!U3971-Calculations!R$1","v":0},{"$f":"'Absorbance Data'!V3971-Calculations!S$1","v":0},{"$f":"'Absorbance Data'!W3971-Calculations!T$1","v":0},{"$f":"'Absorbance Data'!X3971-Calculations!U$1","v":0},{"$f":"'Absorbance Data'!Y3971-Calculations!V$1","v":0},{"$f":"'Absorbance Data'!Z3971-Calculations!W$1","v":0}]
[{"$f":"'Absorbance Data'!D3972","v":816.747314453125},{"$f":"'Absorbance Data'!E3972-Calculations!B$1","v":0},{"$f":"'Absorbance Data'!F3972-Calculations!C$1","v":0},{"$f":"'Absorbance Data'!G3972-Calculations!D$1","v":0},{"$f":"'Absorbance Data'!H3972-Calculations!E$1","v":0},{"$f":"'Absorbance Data'!I3972-Calculations!F$1","v":0},{"$f":"'Absorbance Data'!J3972-Calculations!G$1","v":0},{"$f":"'Absorbance Data'!K3972-Calculations!H$1","v":0},{"$f":"'Absorbance Data'!L3972-Calculations!I$1","v":0},{"$f":"'Absorbance Data'!M3972-Calculations!J$1","v":0},{"$f":"'Absorbance Data'!N3972-Calculations!K$1","v":0},{"$f":"'Absorbance Data'!O3972-Calculations!L$1","v":0},{"$f":"'Absorbance Data'!P3972-Calculations!M$1","v":0},{"$f":"'Absorbance Data'!Q3972-Calculations!N$1","v":0},{"$f":"'Absorbance Data'!R3972-Calculations!O$1","v":0},{"$f":"'Absorbance Data'!S3972-Calculations!P$1","v":0},{"$f":"'Absorbance Data'!T3972-Calculations!Q$1","v":0},{"$f":"'Absorbance Data'!U3972-Calculations!R$1","v":0},{"$f":"'Absorbance Data'!V3972-Calculations!S$1","v":0},{"$f":"'Absorbance Data'!W3972-Calculations!T$1","v":0},{"$f":"'Absorbance Data'!X3972-Calculations!U$1","v":0},{"$f":"'Absorbance Data'!Y3972-Calculations!V$1","v":0},{"$f":"'Absorbance Data'!Z3972-Calculations!W$1","v":0}]
[{"$f":"'Absorbance Data'!D3973","v":817.03582763671875},{"$f":"'Absorbance Data'!E3973-Calculations!B$1","v":0},{"$f":"'Absorbance Data'!F3973-Calculations!C$1","v":0},{"$f":"'Absorbance Data'!G3973-Calculations!D$1","v":0},{"$f":"'Absorbance Data'!H3973-Calculations!E$1","v":0},{"$f":"'Absorbance Data'!I3973-Calculations!F$1","v":0},{"$f":"'Absorbance Data'!J3973-Calculations!G$1","v":0},{"$f":"'Absorbance Data'!K3973-Calculations!H$1","v":0},{"$f":"'Absorbance Data'!L3973-Calculations!I$1","v":0},{"$f":"'Absorbance Data'!M3973-Calculations!J$1","v":0},{"$f":"'Absorbance Data'!N3973-Calculations!K$1","v":0},{"$f":"'Absorbance Data'!O3973-Calculations!L$1","v":0},{"$f":"'Absorbance Data'!P3973-Calculations!M$1","v":0},{"$f":"'Absorbance Data'!Q3973-Calculations!N$1","v":0},{"$f":"'Absorbance Data'!R3973-Calculations!O$1","v":0},{"$f":"'Absorbance Data'!S3973-Calculations!P$1","v":0},{"$f":"'Absorbance Data'!T3973-Calculations!Q$1","v":0},{"$f":"'Absorbance Data'!U3973-Calculations!R$1","v":0},{"$f":"'Absorbance Data'!V3973-Calculations!S$1","v":0},{"$f":"'Absorbance Data'!W3973-Calculations!T$1","v":0},{"$f":"'Absorbance Data'!X3973-Calculations!U$1","v":0},{"$f":"'Absorbance Data'!Y3973-Calculations!V$1","v":0},{"$f":"'Absorbance Data'!Z3973-Calculations!W$1","v":0}]
[{"$f":"'Absorbance Data'!D3974","v":817.32440185546875},{"$f":"'Absorbance Data'!E3974-Calculations!B$1","v":0},{"$f":"'Absorbance Data'!F3974-Calculations!C$1","v":0},{"$f":"'Absorbance Data'!G3974-Calculations!D$1","v":0},{"$f":"'Absorbance Data'!H3974-Calculations!E$1","v":0},{"$f":"'Absorbance Data'!I3974-Calculations!F$1","v":0},{"$f":"'Absorbance Data'!J3974-Calculations!G$1","v":0},{"$f":"'Absorbance Data'!K3974-Calculations!H$1","v":0},{"$f":"'Absorbance Data'!L3974-Calculations!I$1","v":0},{"$f":"'Absorbance Data'!M3974-Calculations!J$1","v":0},{"$f":"'Absorbance Data'!N3974-Calculations!K$1","v":0},{"$f":"'Absorbance Data'!O3974-Calculations!L$1","v":0},{"$f":"'Absorbance Data'!P3974-Calculations!M$1","v":0},{"$f":"'Absorbance Data'!Q3974-Calculations!N$1","v":0},{"$f":"'Absorbance Data'!R3974-Calculations!O$1","v":0},{"$f":"'Absorbance Data'!S3974-Calculations!P$1","v":0},{"$f":"'Absorbance Data'!T3974-Calculations!Q$1","v":0},{"$f":"'Absorbance Data'!U3974-Calculations!R$1","v":0},{"$f":"'Absorbance Data'!V3974-Calculations!S$1","v":0},{"$f":"'Absorbance Data'!W3974-Calculations!T$1","v":0},{"$f":"'Absorbance Data'!X3974-Calculations!U$1","v":0},{"$f":"'Absorbance Data'!Y3974-Calculations!V$1","v":0},{"$f":"'Absorbance Data'!Z3974-Calculations!W$1","v":0}]
[{"$f":"'Absorbance Data'!D3975","v":817.61285400390625},{"$f":"'Absorbance Data'!E3975-Calculations!B$1","v":0},{"$f":"'Absorbance Data'!F3975-Calculations!C$1","v":0},{"$f":"'Absorbance Data'!G3975-Calculations!D$1","v":0},{"$f":"'Absorbance Data'!H3975-Calculations!E$1","v":0},{"$f":"'Absorbance Data'!I3975-Calculations!F$1","v":0},{"$f":"'Absorbance Data'!J3975-Calculations!G$1","v":0},{"$f":"'Absorbance Data'!K3975-Calculations!H$1","v":0},{"$f":"'Absorbance Data'!L3975-Calculations!I$1","v":0},{"$f":"'Absorbance Data'!M3975-Calculations!J$1","v":0},{"$f":"'Absorbance Data'!N3975-Calculations!K$1","v":0},{"$f":"'Absorbance Data'!O3975-Calculations!L$1","v":0},{"$f":"'Absorbance Data'!P3975-Calculations!M$1","v":0},{"$f":"'Absorbance Data'!Q3975-Calculations!N$1","v":0},{"$f":"'Absorbance Data'!R3975-Calculations!O$1","v":0},{"$f":"'Absorbance Data'!S3975-Calculations!P$1","v":0},{"$f":"'Absorbance Data'!T3975-Calculations!Q$1","v":0},{"$f":"'Absorbance Data'!U3975-Calculations!R$1","v":0},{"$f":"'Absorbance Data'!V3975-Calculations!S$1","v":0},{"$f":"'Absorbance Data'!W3975-Calculations!T$1","v":0},{"$f":"'Absorbance Data'!X3975-Calculations!U$1","v":0},{"$f":"'Absorbance Data'!Y3975-Calculations!V$1","v":0},{"$f":"'Absorbance Data'!Z3975-Calculations!W$1","v":0}]
[{"$f":"'Absorbance Data'!D3976","v":817.90130615234375},{"$f":"'Absorbance Data'!E3976-Calculations!B$1","v":0},{"$f":"'Absorbance Data'!F3976-Calculations!C$1","v":0},{"$f":"'Absorbance Data'!G3976-Calculations!D$1","v":0},{"$f":"'Absorbance Data'!H3976-Calculations!E$1","v":0},{"$f":"'Absorbance Data'!I3976-Calculations!F$1","v":0},{"$f":"'Absorbance Data'!J3976-Calculations!G$1","v":0},{"$f":"'Absorbance Data'!K3976-Calculations!H$1","v":0},{"$f":"'Absorbance Data'!L3976-Calculations!I$1","v":0},{"$f":"'Absorbance Data'!M3976-Calculations!J$1","v":0},{"$f":"'Absorbance Data'!N3976-Calculations!K$1","v":0},{"$f":"'Absorbance Data'!O3976-Calculations!L$1","v":0},{"$f":"'Absorbance Data'!P3976-Calculations!M$1","v":0},{"$f":"'Absorbance Data'!Q3976-Calculations!N$1","v":0},{"$f":"'Absorbance Data'!R3976-Calculations!O$1","v":0},{"$f":"'Absorbance Data'!S3976-Calculations!P$1","v":0},{"$f":"'Absorbance Data'!T3976-Calculations!Q$1","v":0},{"$f":"'Absorbance Data'!U3976-Calculations!R$1","v":0},{"$f":"'Absorbance Data'!V3976-Calculations!S$1","v":0},{"$f":"'Absorbance Data'!W3976-Calculations!T$1","v":0},{"$f":"'Absorbance Data'!X3976-Calculations!U$1","v":0},{"$f":"'Absorbance Data'!Y3976-Calculations!V$1","v":0},{"$f":"'Absorbance Data'!Z3976-Calculations!W$1","v":0}]
[{"$f":"'Absorbance Data'!D3977","v":818.18963623046875},{"$f":"'Absorbance Data'!E3977-Calculations!B$1","v":0},{"$f":"'Absorbance Data'!F3977-Calculations!C$1","v":0},{"$f":"'Absorbance Data'!G3977-Calculations!D$1","v":0},{"$f":"'Absorbance Data'!H3977-Calculations!E$1","v":0},{"$f":"'Absorbance Data'!I3977-Calculations!F$1","v":0},{"$f":"'Absorbance Data'!J3977-Calculations!G$1","v":0},{"$f":"'Absorbance Data'!K3977-Calculations!H$1","v":0},{"$f":"'Absorbance Data'!L3977-Calculations!I$1","v":0},{"$f":"'Absorbance Data'!M3977-Calculations!J$1","v":0},{"$f":"'Absorbance Data'!N3977-Calculations!K$1","v":0},{"$f":"'Absorbance Data'!O3977-Calculations!L$1","v":0},{"$f":"'Absorbance Data'!P3977-Calculations!M$1","v":0},{"$f":"'Absorbance Data'!Q3977-Calculations!N$1","v":0},{"$f":"'Absorbance Data'!R3977-Calculations!O$1","v":0},{"$f":"'Absorbance Data'!S3977-Calculations!P$1","v":0},{"$f":"'Absorbance Data'!T3977-Calculations!Q$1","v":0},{"$f":"'Absorbance Data'!U3977-Calculations!R$1","v":0},{"$f":"'Absorbance Data'!V3977-Calculations!S$1","v":0},{"$f":"'Absorbance Data'!W3977-Calculations!T$1","v":0},{"$f":"'Absorbance Data'!X3977-Calculations!U$1","v":0},{"$f":"'Absorbance Data'!Y3977-Calculations!V$1","v":0},{"$f":"'Absorbance Data'!Z3977-Calculations!W$1","v":0}]
[{"$f":"'Absorbance Data'!D3978","v":818.47796630859375},{"$f":"'Absorbance Data'!E3978-Calculations!B$1","v":0},{"$f":"'Absorbance Data'!F3978-Calculations!C$1","v":0},{"$f":"'Absorbance Data'!G3978-Calculations!D$1","v":0},{"$f":"'Absorbance Data'!H3978-Calculations!E$1","v":0},{"$f":"'Absorbance Data'!I3978-Calculations!F$1","v":0},{"$f":"'Absorbance Data'!J3978-Calculations!G$1","v":0},{"$f":"'Absorbance Data'!K3978-Calculations!H$1","v":0},{"$f":"'Absorbance Data'!L3978-Calculations!I$1","v":0},{"$f":"'Absorbance Data'!M3978-Calculations!J$1","v":0},{"$f":"'Absorbance Data'!N3978-Calculations!K$1","v":0},{"$f":"'Absorbance Data'!O3978-Calculations!L$1","v":0},{"$f":"'Absorbance Data'!P3978-Calculations!M$1","v":0},{"$f":"'Absorbance Data'!Q3978-Calculations!N$1","v":0},{"$f":"'Absorbance Data'!R3978-Calculations!O$1","v":0},{"$f":"'Absorbance Data'!S3978-Calculations!P$1","v":0},{"$f":"'Absorbance Data'!T3978-Calculations!Q$1","v":0},{"$f":"'Absorbance Data'!U3978-Calculations!R$1","v":0},{"$f":"'Absorbance Data'!V3978-Calculations!S$1","v":0},{"$f":"'Absorbance Data'!W3978-Calculations!T$1","v":0},{"$f":"'Absorbance Data'!X3978-Calculations!U$1","v":0},{"$f":"'Absorbance Data'!Y3978-Calculations!V$1","v":0},{"$f":"'Absorbance Data'!Z3978-Calculations!W$1","v":0}]
[{"$f":"'Absorbance Data'!D3979","v":818.7662353515625},{"$f":"'Absorbance Data'!E3979-Calculations!B$1","v":0},{"$f":"'Absorbance Data'!F3979-Calculations!C$1","v":0},{"$f":"'Absorbance Data'!G3979-Calculations!D$1","v":0},{"$f":"'Absorbance Data'!H3979-Calculations!E$1","v":0},{"$f":"'Absorbance Data'!I3979-Calculations!F$1","v":0},{"$f":"'Absorbance Data'!J3979-Calculations!G$1","v":0},{"$f":"'Absorbance Data'!K3979-Calculations!H$1","v":0},{"$f":"'Absorbance Data'!L3979-Calculations!I$1","v":0},{"$f":"'Absorbance Data'!M3979-Calculations!J$1","v":0},{"$f":"'Absorbance Data'!N3979-Calculations!K$1","v":0},{"$f":"'Absorbance Data'!O3979-Calculations!L$1","v":0},{"$f":"'Absorbance Data'!P3979-Calculations!M$1","v":0},{"$f":"'Absorbance Data'!Q3979-Calculations!N$1","v":0},{"$f":"'Absorbance Data'!R3979-Calculations!O$1","v":0},{"$f":"'Absorbance Data'!S3979-Calculations!P$1","v":0},{"$f":"'Absorbance Data'!T3979-Calculations!Q$1","v":0},{"$f":"'Absorbance Data'!U3979-Calculations!R$1","v":0},{"$f":"'Absorbance Data'!V3979-Calculations!S$1","v":0},{"$f":"'Absorbance Data'!W3979-Calculations!T$1","v":0},{"$f":"'Absorbance Data'!X3979-Calculations!U$1","v":0},{"$f":"'Absorbance Data'!Y3979-Calculations!V$1","v":0},{"$f":"'Absorbance Data'!Z3979-Calculations!W$1","v":0}]
[{"$f":"'Absorbance Data'!D3980","v":819.05450439453125},{"$f":"'Absorbance Data'!E3980-Calculations!B$1","v":0},{"$f":"'Absorbance Data'!F3980-Calculations!C$1","v":0},{"$f":"'Absorbance Data'!G3980-Calculations!D$1","v":0},{"$f":"'Absorbance Data'!H3980-Calculations!E$1","v":0},{"$f":"'Absorbance Data'!I3980-Calculations!F$1","v":0},{"$f":"'Absorbance Data'!J3980-Calculations!G$1","v":0},{"$f":"'Absorbance Data'!K3980-Calculations!H$1","v":0},{"$f":"'Absorbance Data'!L3980-Calculations!I$1","v":0},{"$f":"'Absorbance Data'!M3980-Calculations!J$1","v":0},{"$f":"'Absorbance Data'!N3980-Calculations!K$1","v":0},{"$f":"'Absorbance Data'!O3980-Calculations!L$1","v":0},{"$f":"'Absorbance Data'!P3980-Calculations!M$1","v":0},{"$f":"'Absorbance Data'!Q3980-Calculations!N$1","v":0},{"$f":"'Absorbance Data'!R3980-Calculations!O$1","v":0},{"$f":"'Absorbance Data'!S3980-Calculations!P$1","v":0},{"$f":"'Absorbance Data'!T3980-Calculations!Q$1","v":0},{"$f":"'Absorbance Data'!U3980-Calculations!R$1","v":0},{"$f":"'Absorbance Data'!V3980-Calculations!S$1","v":0},{"$f":"'Absorbance Data'!W3980-Calculations!T$1","v":0},{"$f":"'Absorbance Data'!X3980-Calculations!U$1","v":0},{"$f":"'Absorbance Data'!Y3980-Calculations!V$1","v":0},{"$f":"'Absorbance Data'!Z3980-Calculations!W$1","v":0}]
[{"$f":"'Absorbance Data'!D3981","v":819.3426513671875},{"$f":"'Absorbance Data'!E3981-Calculations!B$1","v":0},{"$f":"'Absorbance Data'!F3981-Calculations!C$1","v":0},{"$f":"'Absorbance Data'!G3981-Calculations!D$1","v":0},{"$f":"'Absorbance Data'!H3981-Calculations!E$1","v":0},{"$f":"'Absorbance Data'!I3981-Calculations!F$1","v":0},{"$f":"'Absorbance Data'!J3981-Calculations!G$1","v":0},{"$f":"'Absorbance Data'!K3981-Calculations!H$1","v":0},{"$f":"'Absorbance Data'!L3981-Calculations!I$1","v":0},{"$f":"'Absorbance Data'!M3981-Calculations!J$1","v":0},{"$f":"'Absorbance Data'!N3981-Calculations!K$1","v":0},{"$f":"'Absorbance Data'!O3981-Calculations!L$1","v":0},{"$f":"'Absorbance Data'!P3981-Calculations!M$1","v":0},{"$f":"'Absorbance Data'!Q3981-Calculations!N$1","v":0},{"$f":"'Absorbance Data'!R3981-Calculations!O$1","v":0},{"$f":"'Absorbance Data'!S3981-Calculations!P$1","v":0},{"$f":"'Absorbance Data'!T3981-Calculations!Q$1","v":0},{"$f":"'Absorbance Data'!U3981-Calculations!R$1","v":0},{"$f":"'Absorbance Data'!V3981-Calculations!S$1","v":0},{"$f":"'Absorbance Data'!W3981-Calculations!T$1","v":0},{"$f":"'Absorbance Data'!X3981-Calculations!U$1","v":0},{"$f":"'Absorbance Data'!Y3981-Calculations!V$1","v":0},{"$f":"'Absorbance Data'!Z3981-Calculations!W$1","v":0}]
[{"$f":"'Absorbance Data'!D3982","v":819.6307373046875},{"$f":"'Absorbance Data'!E3982-Calculations!B$1","v":0},{"$f":"'Absorbance Data'!F3982-Calculations!C$1","v":0},{"$f":"'Absorbance Data'!G3982-Calculations!D$1","v":0},{"$f":"'Absorbance Data'!H3982-Calculations!E$1","v":0},{"$f":"'Absorbance Data'!I3982-Calculations!F$1","v":0},{"$f":"'Absorbance Data'!J3982-Calculations!G$1","v":0},{"$f":"'Absorbance Data'!K3982-Calculations!H$1","v":0},{"$f":"'Absorbance Data'!L3982-Calculations!I$1","v":0},{"$f":"'Absorbance Data'!M3982-Calculations!J$1","v":0},{"$f":"'Absorbance Data'!N3982-Calculations!K$1","v":0},{"$f":"'Absorbance Data'!O3982-Calculations!L$1","v":0},{"$f":"'Absorbance Data'!P3982-Calculations!M$1","v":0},{"$f":"'Absorbance Data'!Q3982-Calculations!N$1","v":0},{"$f":"'Absorbance Data'!R3982-Calculations!O$1","v":0},{"$f":"'Absorbance Data'!S3982-Calculations!P$1","v":0},{"$f":"'Absorbance Data'!T3982-Calculations!Q$1","v":0},{"$f":"'Absorbance Data'!U3982-Calculations!R$1","v":0},{"$f":"'Absorbance Data'!V3982-Calculations!S$1","v":0},{"$f":"'Absorbance Data'!W3982-Calculations!T$1","v":0},{"$f":"'Absorbance Data'!X3982-Calculations!U$1","v":0},{"$f":"'Absorbance Data'!Y3982-Calculations!V$1","v":0},{"$f":"'Absorbance Data'!Z3982-Calculations!W$1","v":0}]
[{"$f":"'Absorbance Data'!D3983","v":819.91876220703125},{"$f":"'Absorbance Data'!E3983-Calculations!B$1","v":0},{"$f":"'Absorbance Data'!F3983-Calculations!C$1","v":0},{"$f":"'Absorbance Data'!G3983-Calculations!D$1","v":0},{"$f":"'Absorbance Data'!H3983-Calculations!E$1","v":0},{"$f":"'Absorbance Data'!I3983-Calculations!F$1","v":0},{"$f":"'Absorbance Data'!J3983-Calculations!G$1","v":0},{"$f":"'Absorbance Data'!K3983-Calculations!H$1","v":0},{"$f":"'Absorbance Data'!L3983-Calculations!I$1","v":0},{"$f":"'Absorbance Data'!M3983-Calculations!J$1","v":0},{"$f":"'Absorbance Data'!N3983-Calculations!K$1","v":0},{"$f":"'Absorbance Data'!O3983-Calculations!L$1","v":0},{"$f":"'Absorbance Data'!P3983-Calculations!M$1","v":0},{"$f":"'Absorbance Data'!Q3983-Calculations!N$1","v":0},{"$f":"'Absorbance Data'!R3983-Calculations!O$1","v":0},{"$f":"'Absorbance Data'!S3983-Calculations!P$1","v":0},{"$f":"'Absorbance Data'!T3983-Calculations!Q$1","v":0},{"$f":"'Absorbance Data'!U3983-Calculations!R$1","v":0},{"$f":"'Absorbance Data'!V3983-Calculations!S$1","v":0},{"$f":"'Absorbance Data'!W3983-Calculations!T$1","v":0},{"$f":"'Absorbance Data'!X3983-Calculations!U$1","v":0},{"$f":"'Absorbance Data'!Y3983-Calculations!V$1","v":0},{"$f":"'Absorbance Data'!Z3983-Calculations!W$1","v":0}]
[{"$f":"'Absorbance Data'!D3984","v":820.20684814453125},{"$f":"'Absorbance Data'!E3984-Calculations!B$1","v":0},{"$f":"'Absorbance Data'!F3984-Calculations!C$1","v":0},{"$f":"'Absorbance Data'!G3984-Calculations!D$1","v":0},{"$f":"'Absorbance Data'!H3984-Calculations!E$1","v":0},{"$f":"'Absorbance Data'!I3984-Calculations!F$1","v":0},{"$f":"'Absorbance Data'!J3984-Calculations!G$1","v":0},{"$f":"'Absorbance Data'!K3984-Calculations!H$1","v":0},{"$f":"'Absorbance Data'!L3984-Calculations!I$1","v":0},{"$f":"'Absorbance Data'!M3984-Calculations!J$1","v":0},{"$f":"'Absorbance Data'!N3984-Calculations!K$1","v":0},{"$f":"'Absorbance Data'!O3984-Calculations!L$1","v":0},{"$f":"'Absorbance Data'!P3984-Calculations!M$1","v":0},{"$f":"'Absorbance Data'!Q3984-Calculations!N$1","v":0},{"$f":"'Absorbance Data'!R3984-Calculations!O$1","v":0},{"$f":"'Absorbance Data'!S3984-Calculations!P$1","v":0},{"$f":"'Absorbance Data'!T3984-Calculations!Q$1","v":0},{"$f":"'Absorbance Data'!U3984-Calculations!R$1","v":0},{"$f":"'Absorbance Data'!V3984-Calculations!S$1","v":0},{"$f":"'Absorbance Data'!W3984-Calculations!T$1","v":0},{"$f":"'Absorbance Data'!X3984-Calculations!U$1","v":0},{"$f":"'Absorbance Data'!Y3984-Calculations!V$1","v":0},{"$f":"'Absorbance Data'!Z3984-Calculations!W$1","v":0}]
[{"$f":"'Absorbance Data'!D3985","v":820.49481201171875},{"$f":"'Absorbance Data'!E3985-Calculations!B$1","v":0},{"$f":"'Absorbance Data'!F3985-Calculations!C$1","v":0},{"$f":"'Absorbance Data'!G3985-Calculations!D$1","v":0},{"$f":"'Absorbance Data'!H3985-Calculations!E$1","v":0},{"$f":"'Absorbance Data'!I3985-Calculations!F$1","v":0},{"$f":"'Absorbance Data'!J3985-Calculations!G$1","v":0},{"$f":"'Absorbance Data'!K3985-Calculations!H$1","v":0},{"$f":"'Absorbance Data'!L3985-Calculations!I$1","v":0},{"$f":"'Absorbance Data'!M3985-Calculations!J$1","v":0},{"$f":"'Absorbance Data'!N3985-Calculations!K$1","v":0},{"$f":"'Absorbance Data'!O3985-Calculations!L$1","v":0},{"$f":"'Absorbance Data'!P3985-Calculations!M$1","v":0},{"$f":"'Absorbance Data'!Q3985-Calculations!N$1","v":0},{"$f":"'Absorbance Data'!R3985-Calculations!O$1","v":0},{"$f":"'Absorbance Data'!S3985-Calculations!P$1","v":0},{"$f":"'Absorbance Data'!T3985-Calculations!Q$1","v":0},{"$f":"'Absorbance Data'!U3985-Calculations!R$1","v":0},{"$f":"'Absorbance Data'!V3985-Calculations!S$1","v":0},{"$f":"'Absorbance Data'!W3985-Calculations!T$1","v":0},{"$f":"'Absorbance Data'!X3985-Calculations!U$1","v":0},{"$f":"'Absorbance Data'!Y3985-Calculations!V$1","v":0},{"$f":"'Absorbance Data'!Z3985-Calculations!W$1","v":0}]
[{"$f":"'Absorbance Data'!D3986","v":820.78277587890625},{"$f":"'Absorbance Data'!E3986-Calculations!B$1","v":0},{"$f":"'Absorbance Data'!F3986-Calculations!C$1","v":0},{"$f":"'Absorbance Data'!G3986-Calculations!D$1","v":0},{"$f":"'Absorbance Data'!H3986-Calculations!E$1","v":0},{"$f":"'Absorbance Data'!I3986-Calculations!F$1","v":0},{"$f":"'Absorbance Data'!J3986-Calculations!G$1","v":0},{"$f":"'Absorbance Data'!K3986-Calculations!H$1","v":0},{"$f":"'Absorbance Data'!L3986-Calculations!I$1","v":0},{"$f":"'Absorbance Data'!M3986-Calculations!J$1","v":0},{"$f":"'Absorbance Data'!N3986-Calculations!K$1","v":0},{"$f":"'Absorbance Data'!O3986-Calculations!L$1","v":0},{"$f":"'Absorbance Data'!P3986-Calculations!M$1","v":0},{"$f":"'Absorbance Data'!Q3986-Calculations!N$1","v":0},{"$f":"'Absorbance Data'!R3986-Calculations!O$1","v":0},{"$f":"'Absorbance Data'!S3986-Calculations!P$1","v":0},{"$f":"'Absorbance Data'!T3986-Calculations!Q$1","v":0},{"$f":"'Absorbance Data'!U3986-Calculations!R$1","v":0},{"$f":"'Absorbance Data'!V3986-Calculations!S$1","v":0},{"$f":"'Absorbance Data'!W3986-Calculations!T$1","v":0},{"$f":"'Absorbance Data'!X3986-Calculations!U$1","v":0},{"$f":"'Absorbance Data'!Y3986-Calculations!V$1","v":0},{"$f":"'Absorbance Data'!Z3986-Calculations!W$1","v":0}]
[{"$f":"'Absorbance Data'!D3987","v":821.070556640625},{"$f":"'Absorbance Data'!E3987-Calculations!B$1","v":0},{"$f":"'Absorbance Data'!F3987-Calculations!C$1","v":0},{"$f":"'Absorbance Data'!G3987-Calculations!D$1","v":0},{"$f":"'Absorbance Data'!H3987-Calculations!E$1","v":0},{"$f":"'Absorbance Data'!I3987-Calculations!F$1","v":0},{"$f":"'Absorbance Data'!J3987-Calculations!G$1","v":0},{"$f":"'Absorbance Data'!K3987-Calculations!H$1","v":0},{"$f":"'Absorbance Data'!L3987-Calculations!I$1","v":0},{"$f":"'Absorbance Data'!M3987-Calculations!J$1","v":0},{"$f":"'Absorbance Data'!N3987-Calculations!K$1","v":0},{"$f":"'Absorbance Data'!O3987-Calculations!L$1","v":0},{"$f":"'Absorbance Data'!P3987-Calculations!M$1","v":0},{"$f":"'Absorbance Data'!Q3987-Calculations!N$1","v":0},{"$f":"'Absorbance Data'!R3987-Calculations!O$1","v":0},{"$f":"'Absorbance Data'!S3987-Calculations!P$1","v":0},{"$f":"'Absorbance Data'!T3987-Calculations!Q$1","v":0},{"$f":"'Absorbance Data'!U3987-Calculations!R$1","v":0},{"$f":"'Absorbance Data'!V3987-Calculations!S$1","v":0},{"$f":"'Absorbance Data'!W3987-Calculations!T$1","v":0},{"$f":"'Absorbance Data'!X3987-Calculations!U$1","v":0},{"$f":"'Absorbance Data'!Y3987-Calculations!V$1","v":0},{"$f":"'Absorbance Data'!Z3987-Calculations!W$1","v":0}]
[{"$f":"'Absorbance Data'!D3988","v":821.3583984375},{"$f":"'Absorbance Data'!E3988-Calculations!B$1","v":0},{"$f":"'Absorbance Data'!F3988-Calculations!C$1","v":0},{"$f":"'Absorbance Data'!G3988-Calculations!D$1","v":0},{"$f":"'Absorbance Data'!H3988-Calculations!E$1","v":0},{"$f":"'Absorbance Data'!I3988-Calculations!F$1","v":0},{"$f":"'Absorbance Data'!J3988-Calculations!G$1","v":0},{"$f":"'Absorbance Data'!K3988-Calculations!H$1","v":0},{"$f":"'Absorbance Data'!L3988-Calculations!I$1","v":0},{"$f":"'Absorbance Data'!M3988-Calculations!J$1","v":0},{"$f":"'Absorbance Data'!N3988-Calculations!K$1","v":0},{"$f":"'Absorbance Data'!O3988-Calculations!L$1","v":0},{"$f":"'Absorbance Data'!P3988-Calculations!M$1","v":0},{"$f":"'Absorbance Data'!Q3988-Calculations!N$1","v":0},{"$f":"'Absorbance Data'!R3988-Calculations!O$1","v":0},{"$f":"'Absorbance Data'!S3988-Calculations!P$1","v":0},{"$f":"'Absorbance Data'!T3988-Calculations!Q$1","v":0},{"$f":"'Absorbance Data'!U3988-Calculations!R$1","v":0},{"$f":"'Absorbance Data'!V3988-Calculations!S$1","v":0},{"$f":"'Absorbance Data'!W3988-Calculations!T$1","v":0},{"$f":"'Absorbance Data'!X3988-Calculations!U$1","v":0},{"$f":"'Absorbance Data'!Y3988-Calculations!V$1","v":0},{"$f":"'Absorbance Data'!Z3988-Calculations!W$1","v":0}]
[{"$f":"'Absorbance Data'!D3989","v":821.64617919921875},{"$f":"'Absorbance Data'!E3989-Calculations!B$1","v":0},{"$f":"'Absorbance Data'!F3989-Calculations!C$1","v":0},{"$f":"'Absorbance Data'!G3989-Calculations!D$1","v":0},{"$f":"'Absorbance Data'!H3989-Calculations!E$1","v":0},{"$f":"'Absorbance Data'!I3989-Calculations!F$1","v":0},{"$f":"'Absorbance Data'!J3989-Calculations!G$1","v":0},{"$f":"'Absorbance Data'!K3989-Calculations!H$1","v":0},{"$f":"'Absorbance Data'!L3989-Calculations!I$1","v":0},{"$f":"'Absorbance Data'!M3989-Calculations!J$1","v":0},{"$f":"'Absorbance Data'!N3989-Calculations!K$1","v":0},{"$f":"'Absorbance Data'!O3989-Calculations!L$1","v":0},{"$f":"'Absorbance Data'!P3989-Calculations!M$1","v":0},{"$f":"'Absorbance Data'!Q3989-Calculations!N$1","v":0},{"$f":"'Absorbance Data'!R3989-Calculations!O$1","v":0},{"$f":"'Absorbance Data'!S3989-Calculations!P$1","v":0},{"$f":"'Absorbance Data'!T3989-Calculations!Q$1","v":0},{"$f":"'Absorbance Data'!U3989-Calculations!R$1","v":0},{"$f":"'Absorbance Data'!V3989-Calculations!S$1","v":0},{"$f":"'Absorbance Data'!W3989-Calculations!T$1","v":0},{"$f":"'Absorbance Data'!X3989-Calculations!U$1","v":0},{"$f":"'Absorbance Data'!Y3989-Calculations!V$1","v":0},{"$f":"'Absorbance Data'!Z3989-Calculations!W$1","v":0}]
[{"$f":"'Absorbance Data'!D3990","v":821.93389892578125},{"$f":"'Absorbance Data'!E3990-Calculations!B$1","v":0},{"$f":"'Absorbance Data'!F3990-Calculations!C$1","v":0},{"$f":"'Absorbance Data'!G3990-Calculations!D$1","v":0},{"$f":"'Absorbance Data'!H3990-Calculations!E$1","v":0},{"$f":"'Absorbance Data'!I3990-Calculations!F$1","v":0},{"$f":"'Absorbance Data'!J3990-Calculations!G$1","v":0},{"$f":"'Absorbance Data'!K3990-Calculations!H$1","v":0},{"$f":"'Absorbance Data'!L3990-Calculations!I$1","v":0},{"$f":"'Absorbance Data'!M3990-Calculations!J$1","v":0},{"$f":"'Absorbance Data'!N3990-Calculations!K$1","v":0},{"$f":"'Absorbance Data'!O3990-Calculations!L$1","v":0},{"$f":"'Absorbance Data'!P3990-Calculations!M$1","v":0},{"$f":"'Absorbance Data'!Q3990-Calculations!N$1","v":0},{"$f":"'Absorbance Data'!R3990-Calculations!O$1","v":0},{"$f":"'Absorbance Data'!S3990-Calculations!P$1","v":0},{"$f":"'Absorbance Data'!T3990-Calculations!Q$1","v":0},{"$f":"'Absorbance Data'!U3990-Calculations!R$1","v":0},{"$f":"'Absorbance Data'!V3990-Calculations!S$1","v":0},{"$f":"'Absorbance Data'!W3990-Calculations!T$1","v":0},{"$f":"'Absorbance Data'!X3990-Calculations!U$1","v":0},{"$f":"'Absorbance Data'!Y3990-Calculations!V$1","v":0},{"$f":"'Absorbance Data'!Z3990-Calculations!W$1","v":0}]
[{"$f":"'Absorbance Data'!D3991","v":822.22161865234375},{"$f":"'Absorbance Data'!E3991-Calculations!B$1","v":0},{"$f":"'Absorbance Data'!F3991-Calculations!C$1","v":0},{"$f":"'Absorbance Data'!G3991-Calculations!D$1","v":0},{"$f":"'Absorbance Data'!H3991-Calculations!E$1","v":0},{"$f":"'Absorbance Data'!I3991-Calculations!F$1","v":0},{"$f":"'Absorbance Data'!J3991-Calculations!G$1","v":0},{"$f":"'Absorbance Data'!K3991-Calculations!H$1","v":0},{"$f":"'Absorbance Data'!L3991-Calculations!I$1","v":0},{"$f":"'Absorbance Data'!M3991-Calculations!J$1","v":0},{"$f":"'Absorbance Data'!N3991-Calculations!K$1","v":0},{"$f":"'Absorbance Data'!O3991-Calculations!L$1","v":0},{"$f":"'Absorbance Data'!P3991-Calculations!M$1","v":0},{"$f":"'Absorbance Data'!Q3991-Calculations!N$1","v":0},{"$f":"'Absorbance Data'!R3991-Calculations!O$1","v":0},{"$f":"'Absorbance Data'!S3991-Calculations!P$1","v":0},{"$f":"'Absorbance Data'!T3991-Calculations!Q$1","v":0},{"$f":"'Absorbance Data'!U3991-Calculations!R$1","v":0},{"$f":"'Absorbance Data'!V3991-Calculations!S$1","v":0},{"$f":"'Absorbance Data'!W3991-Calculations!T$1","v":0},{"$f":"'Absorbance Data'!X3991-Calculations!U$1","v":0},{"$f":"'Absorbance Data'!Y3991-Calculations!V$1","v":0},{"$f":"'Absorbance Data'!Z3991-Calculations!W$1","v":0}]
[{"$f":"'Absorbance Data'!D3992","v":822.50927734375},{"$f":"'Absorbance Data'!E3992-Calculations!B$1","v":0},{"$f":"'Absorbance Data'!F3992-Calculations!C$1","v":0},{"$f":"'Absorbance Data'!G3992-Calculations!D$1","v":0},{"$f":"'Absorbance Data'!H3992-Calculations!E$1","v":0},{"$f":"'Absorbance Data'!I3992-Calculations!F$1","v":0},{"$f":"'Absorbance Data'!J3992-Calculations!G$1","v":0},{"$f":"'Absorbance Data'!K3992-Calculations!H$1","v":0},{"$f":"'Absorbance Data'!L3992-Calculations!I$1","v":0},{"$f":"'Absorbance Data'!M3992-Calculations!J$1","v":0},{"$f":"'Absorbance Data'!N3992-Calculations!K$1","v":0},{"$f":"'Absorbance Data'!O3992-Calculations!L$1","v":0},{"$f":"'Absorbance Data'!P3992-Calculations!M$1","v":0},{"$f":"'Absorbance Data'!Q3992-Calculations!N$1","v":0},{"$f":"'Absorbance Data'!R3992-Calculations!O$1","v":0},{"$f":"'Absorbance Data'!S3992-Calculations!P$1","v":0},{"$f":"'Absorbance Data'!T3992-Calculations!Q$1","v":0},{"$f":"'Absorbance Data'!U3992-Calculations!R$1","v":0},{"$f":"'Absorbance Data'!V3992-Calculations!S$1","v":0},{"$f":"'Absorbance Data'!W3992-Calculations!T$1","v":0},{"$f":"'Absorbance Data'!X3992-Calculations!U$1","v":0},{"$f":"'Absorbance Data'!Y3992-Calculations!V$1","v":0},{"$f":"'Absorbance Data'!Z3992-Calculations!W$1","v":0}]
[{"$f":"'Absorbance Data'!D3993","v":822.796875},{"$f":"'Absorbance Data'!E3993-Calculations!B$1","v":0},{"$f":"'Absorbance Data'!F3993-Calculations!C$1","v":0},{"$f":"'Absorbance Data'!G3993-Calculations!D$1","v":0},{"$f":"'Absorbance Data'!H3993-Calculations!E$1","v":0},{"$f":"'Absorbance Data'!I3993-Calculations!F$1","v":0},{"$f":"'Absorbance Data'!J3993-Calculations!G$1","v":0},{"$f":"'Absorbance Data'!K3993-Calculations!H$1","v":0},{"$f":"'Absorbance Data'!L3993-Calculations!I$1","v":0},{"$f":"'Absorbance Data'!M3993-Calculations!J$1","v":0},{"$f":"'Absorbance Data'!N3993-Calculations!K$1","v":0},{"$f":"'Absorbance Data'!O3993-Calculations!L$1","v":0},{"$f":"'Absorbance Data'!P3993-Calculations!M$1","v":0},{"$f":"'Absorbance Data'!Q3993-Calculations!N$1","v":0},{"$f":"'Absorbance Data'!R3993-Calculations!O$1","v":0},{"$f":"'Absorbance Data'!S3993-Calculations!P$1","v":0},{"$f":"'Absorbance Data'!T3993-Calculations!Q$1","v":0},{"$f":"'Absorbance Data'!U3993-Calculations!R$1","v":0},{"$f":"'Absorbance Data'!V3993-Calculations!S$1","v":0},{"$f":"'Absorbance Data'!W3993-Calculations!T$1","v":0},{"$f":"'Absorbance Data'!X3993-Calculations!U$1","v":0},{"$f":"'Absorbance Data'!Y3993-Calculations!V$1","v":0},{"$f":"'Absorbance Data'!Z3993-Calculations!W$1","v":0}]
[{"$f":"'Absorbance Data'!D3994","v":823.08428955078125},{"$f":"'Absorbance Data'!E3994-Calculations!B$1","v":0},{"$f":"'Absorbance Data'!F3994-Calculations!C$1","v":0},{"$f":"'Absorbance Data'!G3994-Calculations!D$1","v":0},{"$f":"'Absorbance Data'!H3994-Calculations!E$1","v":0},{"$f":"'Absorbance Data'!I3994-Calculations!F$1","v":0},{"$f":"'Absorbance Data'!J3994-Calculations!G$1","v":0},{"$f":"'Absorbance Data'!K3994-Calculations!H$1","v":0},{"$f":"'Absorbance Data'!L3994-Calculations!I$1","v":0},{"$f":"'Absorbance Data'!M3994-Calculations!J$1","v":0},{"$f":"'Absorbance Data'!N3994-Calculations!K$1","v":0},{"$f":"'Absorbance Data'!O3994-Calculations!L$1","v":0},{"$f":"'Absorbance Data'!P3994-Calculations!M$1","v":0},{"$f":"'Absorbance Data'!Q3994-Calculations!N$1","v":0},{"$f":"'Absorbance Data'!R3994-Calculations!O$1","v":0},{"$f":"'Absorbance Data'!S3994-Calculations!P$1","v":0},{"$f":"'Absorbance Data'!T3994-Calculations!Q$1","v":0},{"$f":"'Absorbance Data'!U3994-Calculations!R$1","v":0},{"$f":"'Absorbance Data'!V3994-Calculations!S$1","v":0},{"$f":"'Absorbance Data'!W3994-Calculations!T$1","v":0},{"$f":"'Absorbance Data'!X3994-Calculations!U$1","v":0},{"$f":"'Absorbance Data'!Y3994-Calculations!V$1","v":0},{"$f":"'Absorbance Data'!Z3994-Calculations!W$1","v":0}]
[{"$f":"'Absorbance Data'!D3995","v":823.37188720703125},{"$f":"'Absorbance Data'!E3995-Calculations!B$1","v":0},{"$f":"'Absorbance Data'!F3995-Calculations!C$1","v":0},{"$f":"'Absorbance Data'!G3995-Calculations!D$1","v":0},{"$f":"'Absorbance Data'!H3995-Calculations!E$1","v":0},{"$f":"'Absorbance Data'!I3995-Calculations!F$1","v":0},{"$f":"'Absorbance Data'!J3995-Calculations!G$1","v":0},{"$f":"'Absorbance Data'!K3995-Calculations!H$1","v":0},{"$f":"'Absorbance Data'!L3995-Calculations!I$1","v":0},{"$f":"'Absorbance Data'!M3995-Calculations!J$1","v":0},{"$f":"'Absorbance Data'!N3995-Calculations!K$1","v":0},{"$f":"'Absorbance Data'!O3995-Calculations!L$1","v":0},{"$f":"'Absorbance Data'!P3995-Calculations!M$1","v":0},{"$f":"'Absorbance Data'!Q3995-Calculations!N$1","v":0},{"$f":"'Absorbance Data'!R3995-Calculations!O$1","v":0},{"$f":"'Absorbance Data'!S3995-Calculations!P$1","v":0},{"$f":"'Absorbance Data'!T3995-Calculations!Q$1","v":0},{"$f":"'Absorbance Data'!U3995-Calculations!R$1","v":0},{"$f":"'Absorbance Data'!V3995-Calculations!S$1","v":0},{"$f":"'Absorbance Data'!W3995-Calculations!T$1","v":0},{"$f":"'Absorbance Data'!X3995-Calculations!U$1","v":0},{"$f":"'Absorbance Data'!Y3995-Calculations!V$1","v":0},{"$f":"'Absorbance Data'!Z3995-Calculations!W$1","v":0}]
[{"$f":"'Absorbance Data'!D3996","v":823.6593017578125},{"$f":"'Absorbance Data'!E3996-Calculations!B$1","v":0},{"$f":"'Absorbance Data'!F3996-Calculations!C$1","v":0},{"$f":"'Absorbance Data'!G3996-Calculations!D$1","v":0},{"$f":"'Absorbance Data'!H3996-Calculations!E$1","v":0},{"$f":"'Absorbance Data'!I3996-Calculations!F$1","v":0},{"$f":"'Absorbance Data'!J3996-Calculations!G$1","v":0},{"$f":"'Absorbance Data'!K3996-Calculations!H$1","v":0},{"$f":"'Absorbance Data'!L3996-Calculations!I$1","v":0},{"$f":"'Absorbance Data'!M3996-Calculations!J$1","v":0},{"$f":"'Absorbance Data'!N3996-Calculations!K$1","v":0},{"$f":"'Absorbance Data'!O3996-Calculations!L$1","v":0},{"$f":"'Absorbance Data'!P3996-Calculations!M$1","v":0},{"$f":"'Absorbance Data'!Q3996-Calculations!N$1","v":0},{"$f":"'Absorbance Data'!R3996-Calculations!O$1","v":0},{"$f":"'Absorbance Data'!S3996-Calculations!P$1","v":0},{"$f":"'Absorbance Data'!T3996-Calculations!Q$1","v":0},{"$f":"'Absorbance Data'!U3996-Calculations!R$1","v":0},{"$f":"'Absorbance Data'!V3996-Calculations!S$1","v":0},{"$f":"'Absorbance Data'!W3996-Calculations!T$1","v":0},{"$f":"'Absorbance Data'!X3996-Calculations!U$1","v":0},{"$f":"'Absorbance Data'!Y3996-Calculations!V$1","v":0},{"$f":"'Absorbance Data'!Z3996-Calculations!W$1","v":0}]
[{"$f":"'Absorbance Data'!D3997","v":823.9466552734375},{"$f":"'Absorbance Data'!E3997-Calculations!B$1","v":0},{"$f":"'Absorbance Data'!F3997-Calculations!C$1","v":0},{"$f":"'Absorbance Data'!G3997-Calculations!D$1","v":0},{"$f":"'Absorbance Data'!H3997-Calculations!E$1","v":0},{"$f":"'Absorbance Data'!I3997-Calculations!F$1","v":0},{"$f":"'Absorbance Data'!J3997-Calculations!G$1","v":0},{"$f":"'Absorbance Data'!K3997-Calculations!H$1","v":0},{"$f":"'Absorbance Data'!L3997-Calculations!I$1","v":0},{"$f":"'Absorbance Data'!M3997-Calculations!J$1","v":0},{"$f":"'Absorbance Data'!N3997-Calculations!K$1","v":0},{"$f":"'Absorbance Data'!O3997-Calculations!L$1","v":0},{"$f":"'Absorbance Data'!P3997-Calculations!M$1","v":0},{"$f":"'Absorbance Data'!Q3997-Calculations!N$1","v":0},{"$f":"'Absorbance Data'!R3997-Calculations!O$1","v":0},{"$f":"'Absorbance Data'!S3997-Calculations!P$1","v":0},{"$f":"'Absorbance Data'!T3997-Calculations!Q$1","v":0},{"$f":"'Absorbance Data'!U3997-Calculations!R$1","v":0},{"$f":"'Absorbance Data'!V3997-Calculations!S$1","v":0},{"$f":"'Absorbance Data'!W3997-Calculations!T$1","v":0},{"$f":"'Absorbance Data'!X3997-Calculations!U$1","v":0},{"$f":"'Absorbance Data'!Y3997-Calculations!V$1","v":0},{"$f":"'Absorbance Data'!Z3997-Calculations!W$1","v":0}]
[{"$f":"'Absorbance Data'!D3998","v":824.23394775390625},{"$f":"'Absorbance Data'!E3998-Calculations!B$1","v":0},{"$f":"'Absorbance Data'!F3998-Calculations!C$1","v":0},{"$f":"'Absorbance Data'!G3998-Calculations!D$1","v":0},{"$f":"'Absorbance Data'!H3998-Calculations!E$1","v":0},{"$f":"'Absorbance Data'!I3998-Calculations!F$1","v":0},{"$f":"'Absorbance Data'!J3998-Calculations!G$1","v":0},{"$f":"'Absorbance Data'!K3998-Calculations!H$1","v":0},{"$f":"'Absorbance Data'!L3998-Calculations!I$1","v":0},{"$f":"'Absorbance Data'!M3998-Calculations!J$1","v":0},{"$f":"'Absorbance Data'!N3998-Calculations!K$1","v":0},{"$f":"'Absorbance Data'!O3998-Calculations!L$1","v":0},{"$f":"'Absorbance Data'!P3998-Calculations!M$1","v":0},{"$f":"'Absorbance Data'!Q3998-Calculations!N$1","v":0},{"$f":"'Absorbance Data'!R3998-Calculations!O$1","v":0},{"$f":"'Absorbance Data'!S3998-Calculations!P$1","v":0},{"$f":"'Absorbance Data'!T3998-Calculations!Q$1","v":0},{"$f":"'Absorbance Data'!U3998-Calculations!R$1","v":0},{"$f":"'Absorbance Data'!V3998-Calculations!S$1","v":0},{"$f":"'Absorbance Data'!W3998-Calculations!T$1","v":0},{"$f":"'Absorbance Data'!X3998-Calculations!U$1","v":0},{"$f":"'Absorbance Data'!Y3998-Calculations!V$1","v":0},{"$f":"'Absorbance Data'!Z3998-Calculations!W$1","v":0}]
[{"$f":"'Absorbance Data'!D3999","v":824.521240234375},{"$f":"'Absorbance Data'!E3999-Calculations!B$1","v":0},{"$f":"'Absorbance Data'!F3999-Calculations!C$1","v":0},{"$f":"'Absorbance Data'!G3999-Calculations!D$1","v":0},{"$f":"'Absorbance Data'!H3999-Calculations!E$1","v":0},{"$f":"'Absorbance Data'!I3999-Calculations!F$1","v":0},{"$f":"'Absorbance Data'!J3999-Calculations!G$1","v":0},{"$f":"'Absorbance Data'!K3999-Calculations!H$1","v":0},{"$f":"'Absorbance Data'!L3999-Calculations!I$1","v":0},{"$f":"'Absorbance Data'!M3999-Calculations!J$1","v":0},{"$f":"'Absorbance Data'!N3999-Calculations!K$1","v":0},{"$f":"'Absorbance Data'!O3999-Calculations!L$1","v":0},{"$f":"'Absorbance Data'!P3999-Calculations!M$1","v":0},{"$f":"'Absorbance Data'!Q3999-Calculations!N$1","v":0},{"$f":"'Absorbance Data'!R3999-Calculations!O$1","v":0},{"$f":"'Absorbance Data'!S3999-Calculations!P$1","v":0},{"$f":"'Absorbance Data'!T3999-Calculations!Q$1","v":0},{"$f":"'Absorbance Data'!U3999-Calculations!R$1","v":0},{"$f":"'Absorbance Data'!V3999-Calculations!S$1","v":0},{"$f":"'Absorbance Data'!W3999-Calculations!T$1","v":0},{"$f":"'Absorbance Data'!X3999-Calculations!U$1","v":0},{"$f":"'Absorbance Data'!Y3999-Calculations!V$1","v":0},{"$f":"'Absorbance Data'!Z3999-Calculations!W$1","v":0}]
[{"$f":"'Absorbance Data'!D4000","v":824.8084716796875},{"$f":"'Absorbance Data'!E4000-Calculations!B$1","v":0},{"$f":"'Absorbance Data'!F4000-Calculations!C$1","v":0},{"$f":"'Absorbance Data'!G4000-Calculations!D$1","v":0},{"$f":"'Absorbance Data'!H4000-Calculations!E$1","v":0},{"$f":"'Absorbance Data'!I4000-Calculations!F$1","v":0},{"$f":"'Absorbance Data'!J4000-Calculations!G$1","v":0},{"$f":"'Absorbance Data'!K4000-Calculations!H$1","v":0},{"$f":"'Absorbance Data'!L4000-Calculations!I$1","v":0},{"$f":"'Absorbance Data'!M4000-Calculations!J$1","v":0},{"$f":"'Absorbance Data'!N4000-Calculations!K$1","v":0},{"$f":"'Absorbance Data'!O4000-Calculations!L$1","v":0},{"$f":"'Absorbance Data'!P4000-Calculations!M$1","v":0},{"$f":"'Absorbance Data'!Q4000-Calculations!N$1","v":0},{"$f":"'Absorbance Data'!R4000-Calculations!O$1","v":0},{"$f":"'Absorbance Data'!S4000-Calculations!P$1","v":0},{"$f":"'Absorbance Data'!T4000-Calculations!Q$1","v":0},{"$f":"'Absorbance Data'!U4000-Calculations!R$1","v":0},{"$f":"'Absorbance Data'!V4000-Calculations!S$1","v":0},{"$f":"'Absorbance Data'!W4000-Calculations!T$1","v":0},{"$f":"'Absorbance Data'!X4000-Calculations!U$1","v":0},{"$f":"'Absorbance Data'!Y4000-Calculations!V$1","v":0},{"$f":"'Absorbance Data'!Z4000-Calculations!W$1","v":0}]
[{"$f":"'Absorbance Data'!D4001","v":825.09564208984375},{"$f":"'Absorbance Data'!E4001-Calculations!B$1","v":0},{"$f":"'Absorbance Data'!F4001-Calculations!C$1","v":0},{"$f":"'Absorbance Data'!G4001-Calculations!D$1","v":0},{"$f":"'Absorbance Data'!H4001-Calculations!E$1","v":0},{"$f":"'Absorbance Data'!I4001-Calculations!F$1","v":0},{"$f":"'Absorbance Data'!J4001-Calculations!G$1","v":0},{"$f":"'Absorbance Data'!K4001-Calculations!H$1","v":0},{"$f":"'Absorbance Data'!L4001-Calculations!I$1","v":0},{"$f":"'Absorbance Data'!M4001-Calculations!J$1","v":0},{"$f":"'Absorbance Data'!N4001-Calculations!K$1","v":0},{"$f":"'Absorbance Data'!O4001-Calculations!L$1","v":0},{"$f":"'Absorbance Data'!P4001-Calculations!M$1","v":0},{"$f":"'Absorbance Data'!Q4001-Calculations!N$1","v":0},{"$f":"'Absorbance Data'!R4001-Calculations!O$1","v":0},{"$f":"'Absorbance Data'!S4001-Calculations!P$1","v":0},{"$f":"'Absorbance Data'!T4001-Calculations!Q$1","v":0},{"$f":"'Absorbance Data'!U4001-Calculations!R$1","v":0},{"$f":"'Absorbance Data'!V4001-Calculations!S$1","v":0},{"$f":"'Absorbance Data'!W4001-Calculations!T$1","v":0},{"$f":"'Absorbance Data'!X4001-Calculations!U$1","v":0},{"$f":"'Absorbance Data'!Y4001-Calculations!V$1","v":0},{"$f":"'Absorbance Data'!Z4001-Calculations!W$1","v":0}]
[{"$f":"'Absorbance Data'!D4002","v":825.3828125},{"$f":"'Absorbance Data'!E4002-Calculations!B$1","v":0},{"$f":"'Absorbance Data'!F4002-Calculations!C$1","v":0},{"$f":"'Absorbance Data'!G4002-Calculations!D$1","v":0},{"$f":"'Absorbance Data'!H4002-Calculations!E$1","v":0},{"$f":"'Absorbance Data'!I4002-Calculations!F$1","v":0},{"$f":"'Absorbance Data'!J4002-Calculations!G$1","v":0},{"$f":"'Absorbance Data'!K4002-Calculations!H$1","v":0},{"$f":"'Absorbance Data'!L4002-Calculations!I$1","v":0},{"$f":"'Absorbance Data'!M4002-Calculations!J$1","v":0},{"$f":"'Absorbance Data'!N4002-Calculations!K$1","v":0},{"$f":"'Absorbance Data'!O4002-Calculations!L$1","v":0},{"$f":"'Absorbance Data'!P4002-Calculations!M$1","v":0},{"$f":"'Absorbance Data'!Q4002-Calculations!N$1","v":0},{"$f":"'Absorbance Data'!R4002-Calculations!O$1","v":0},{"$f":"'Absorbance Data'!S4002-Calculations!P$1","v":0},{"$f":"'Absorbance Data'!T4002-Calculations!Q$1","v":0},{"$f":"'Absorbance Data'!U4002-Calculations!R$1","v":0},{"$f":"'Absorbance Data'!V4002-Calculations!S$1","v":0},{"$f":"'Absorbance Data'!W4002-Calculations!T$1","v":0},{"$f":"'Absorbance Data'!X4002-Calculations!U$1","v":0},{"$f":"'Absorbance Data'!Y4002-Calculations!V$1","v":0},{"$f":"'Absorbance Data'!Z4002-Calculations!W$1","v":0}]
[{"$f":"'Absorbance Data'!D4003","v":825.669921875},{"$f":"'Absorbance Data'!E4003-Calculations!B$1","v":0},{"$f":"'Absorbance Data'!F4003-Calculations!C$1","v":0},{"$f":"'Absorbance Data'!G4003-Calculations!D$1","v":0},{"$f":"'Absorbance Data'!H4003-Calculations!E$1","v":0},{"$f":"'Absorbance Data'!I4003-Calculations!F$1","v":0},{"$f":"'Absorbance Data'!J4003-Calculations!G$1","v":0},{"$f":"'Absorbance Data'!K4003-Calculations!H$1","v":0},{"$f":"'Absorbance Data'!L4003-Calculations!I$1","v":0},{"$f":"'Absorbance Data'!M4003-Calculations!J$1","v":0},{"$f":"'Absorbance Data'!N4003-Calculations!K$1","v":0},{"$f":"'Absorbance Data'!O4003-Calculations!L$1","v":0},{"$f":"'Absorbance Data'!P4003-Calculations!M$1","v":0},{"$f":"'Absorbance Data'!Q4003-Calculations!N$1","v":0},{"$f":"'Absorbance Data'!R4003-Calculations!O$1","v":0},{"$f":"'Absorbance Data'!S4003-Calculations!P$1","v":0},{"$f":"'Absorbance Data'!T4003-Calculations!Q$1","v":0},{"$f":"'Absorbance Data'!U4003-Calculations!R$1","v":0},{"$f":"'Absorbance Data'!V4003-Calculations!S$1","v":0},{"$f":"'Absorbance Data'!W4003-Calculations!T$1","v":0},{"$f":"'Absorbance Data'!X4003-Calculations!U$1","v":0},{"$f":"'Absorbance Data'!Y4003-Calculations!V$1","v":0},{"$f":"'Absorbance Data'!Z4003-Calculations!W$1","v":0}]
[{"$f":"'Absorbance Data'!D4004","v":825.95684814453125},{"$f":"'Absorbance Data'!E4004-Calculations!B$1","v":0},{"$f":"'Absorbance Data'!F4004-Calculations!C$1","v":0},{"$f":"'Absorbance Data'!G4004-Calculations!D$1","v":0},{"$f":"'Absorbance Data'!H4004-Calculations!E$1","v":0},{"$f":"'Absorbance Data'!I4004-Calculations!F$1","v":0},{"$f":"'Absorbance Data'!J4004-Calculations!G$1","v":0},{"$f":"'Absorbance Data'!K4004-Calculations!H$1","v":0},{"$f":"'Absorbance Data'!L4004-Calculations!I$1","v":0},{"$f":"'Absorbance Data'!M4004-Calculations!J$1","v":0},{"$f":"'Absorbance Data'!N4004-Calculations!K$1","v":0},{"$f":"'Absorbance Data'!O4004-Calculations!L$1","v":0},{"$f":"'Absorbance Data'!P4004-Calculations!M$1","v":0},{"$f":"'Absorbance Data'!Q4004-Calculations!N$1","v":0},{"$f":"'Absorbance Data'!R4004-Calculations!O$1","v":0},{"$f":"'Absorbance Data'!S4004-Calculations!P$1","v":0},{"$f":"'Absorbance Data'!T4004-Calculations!Q$1","v":0},{"$f":"'Absorbance Data'!U4004-Calculations!R$1","v":0},{"$f":"'Absorbance Data'!V4004-Calculations!S$1","v":0},{"$f":"'Absorbance Data'!W4004-Calculations!T$1","v":0},{"$f":"'Absorbance Data'!X4004-Calculations!U$1","v":0},{"$f":"'Absorbance Data'!Y4004-Calculations!V$1","v":0},{"$f":"'Absorbance Data'!Z4004-Calculations!W$1","v":0}]
[{"$f":"'Absorbance Data'!D4005","v":826.243896484375},{"$f":"'Absorbance Data'!E4005-Calculations!B$1","v":0},{"$f":"'Absorbance Data'!F4005-Calculations!C$1","v":0},{"$f":"'Absorbance Data'!G4005-Calculations!D$1","v":0},{"$f":"'Absorbance Data'!H4005-Calculations!E$1","v":0},{"$f":"'Absorbance Data'!I4005-Calculations!F$1","v":0},{"$f":"'Absorbance Data'!J4005-Calculations!G$1","v":0},{"$f":"'Absorbance Data'!K4005-Calculations!H$1","v":0},{"$f":"'Absorbance Data'!L4005-Calculations!I$1","v":0},{"$f":"'Absorbance Data'!M4005-Calculations!J$1","v":0},{"$f":"'Absorbance Data'!N4005-Calculations!K$1","v":0},{"$f":"'Absorbance Data'!O4005-Calculations!L$1","v":0},{"$f":"'Absorbance Data'!P4005-Calculations!M$1","v":0},{"$f":"'Absorbance Data'!Q4005-Calculations!N$1","v":0},{"$f":"'Absorbance Data'!R4005-Calculations!O$1","v":0},{"$f":"'Absorbance Data'!S4005-Calculations!P$1","v":0},{"$f":"'Absorbance Data'!T4005-Calculations!Q$1","v":0},{"$f":"'Absorbance Data'!U4005-Calculations!R$1","v":0},{"$f":"'Absorbance Data'!V4005-Calculations!S$1","v":0},{"$f":"'Absorbance Data'!W4005-Calculations!T$1","v":0},{"$f":"'Absorbance Data'!X4005-Calculations!U$1","v":0},{"$f":"'Absorbance Data'!Y4005-Calculations!V$1","v":0},{"$f":"'Absorbance Data'!Z4005-Calculations!W$1","v":0}]
[{"$f":"'Absorbance Data'!D4006","v":826.53076171875},{"$f":"'Absorbance Data'!E4006-Calculations!B$1","v":0},{"$f":"'Absorbance Data'!F4006-Calculations!C$1","v":0},{"$f":"'Absorbance Data'!G4006-Calculations!D$1","v":0},{"$f":"'Absorbance Data'!H4006-Calculations!E$1","v":0},{"$f":"'Absorbance Data'!I4006-Calculations!F$1","v":0},{"$f":"'Absorbance Data'!J4006-Calculations!G$1","v":0},{"$f":"'Absorbance Data'!K4006-Calculations!H$1","v":0},{"$f":"'Absorbance Data'!L4006-Calculations!I$1","v":0},{"$f":"'Absorbance Data'!M4006-Calculations!J$1","v":0},{"$f":"'Absorbance Data'!N4006-Calculations!K$1","v":0},{"$f":"'Absorbance Data'!O4006-Calculations!L$1","v":0},{"$f":"'Absorbance Data'!P4006-Calculations!M$1","v":0},{"$f":"'Absorbance Data'!Q4006-Calculations!N$1","v":0},{"$f":"'Absorbance Data'!R4006-Calculations!O$1","v":0},{"$f":"'Absorbance Data'!S4006-Calculations!P$1","v":0},{"$f":"'Absorbance Data'!T4006-Calculations!Q$1","v":0},{"$f":"'Absorbance Data'!U4006-Calculations!R$1","v":0},{"$f":"'Absorbance Data'!V4006-Calculations!S$1","v":0},{"$f":"'Absorbance Data'!W4006-Calculations!T$1","v":0},{"$f":"'Absorbance Data'!X4006-Calculations!U$1","v":0},{"$f":"'Absorbance Data'!Y4006-Calculations!V$1","v":0},{"$f":"'Absorbance Data'!Z4006-Calculations!W$1","v":0}]
[{"$f":"'Absorbance Data'!D4007","v":826.81768798828125},{"$f":"'Absorbance Data'!E4007-Calculations!B$1","v":0},{"$f":"'Absorbance Data'!F4007-Calculations!C$1","v":0},{"$f":"'Absorbance Data'!G4007-Calculations!D$1","v":0},{"$f":"'Absorbance Data'!H4007-Calculations!E$1","v":0},{"$f":"'Absorbance Data'!I4007-Calculations!F$1","v":0},{"$f":"'Absorbance Data'!J4007-Calculations!G$1","v":0},{"$f":"'Absorbance Data'!K4007-Calculations!H$1","v":0},{"$f":"'Absorbance Data'!L4007-Calculations!I$1","v":0},{"$f":"'Absorbance Data'!M4007-Calculations!J$1","v":0},{"$f":"'Absorbance Data'!N4007-Calculations!K$1","v":0},{"$f":"'Absorbance Data'!O4007-Calculations!L$1","v":0},{"$f":"'Absorbance Data'!P4007-Calculations!M$1","v":0},{"$f":"'Absorbance Data'!Q4007-Calculations!N$1","v":0},{"$f":"'Absorbance Data'!R4007-Calculations!O$1","v":0},{"$f":"'Absorbance Data'!S4007-Calculations!P$1","v":0},{"$f":"'Absorbance Data'!T4007-Calculations!Q$1","v":0},{"$f":"'Absorbance Data'!U4007-Calculations!R$1","v":0},{"$f":"'Absorbance Data'!V4007-Calculations!S$1","v":0},{"$f":"'Absorbance Data'!W4007-Calculations!T$1","v":0},{"$f":"'Absorbance Data'!X4007-Calculations!U$1","v":0},{"$f":"'Absorbance Data'!Y4007-Calculations!V$1","v":0},{"$f":"'Absorbance Data'!Z4007-Calculations!W$1","v":0}]
[{"$f":"'Absorbance Data'!D4008","v":827.1044921875},{"$f":"'Absorbance Data'!E4008-Calculations!B$1","v":0},{"$f":"'Absorbance Data'!F4008-Calculations!C$1","v":0},{"$f":"'Absorbance Data'!G4008-Calculations!D$1","v":0},{"$f":"'Absorbance Data'!H4008-Calculations!E$1","v":0},{"$f":"'Absorbance Data'!I4008-Calculations!F$1","v":0},{"$f":"'Absorbance Data'!J4008-Calculations!G$1","v":0},{"$f":"'Absorbance Data'!K4008-Calculations!H$1","v":0},{"$f":"'Absorbance Data'!L4008-Calculations!I$1","v":0},{"$f":"'Absorbance Data'!M4008-Calculations!J$1","v":0},{"$f":"'Absorbance Data'!N4008-Calculations!K$1","v":0},{"$f":"'Absorbance Data'!O4008-Calculations!L$1","v":0},{"$f":"'Absorbance Data'!P4008-Calculations!M$1","v":0},{"$f":"'Absorbance Data'!Q4008-Calculations!N$1","v":0},{"$f":"'Absorbance Data'!R4008-Calculations!O$1","v":0},{"$f":"'Absorbance Data'!S4008-Calculations!P$1","v":0},{"$f":"'Absorbance Data'!T4008-Calculations!Q$1","v":0},{"$f":"'Absorbance Data'!U4008-Calculations!R$1","v":0},{"$f":"'Absorbance Data'!V4008-Calculations!S$1","v":0},{"$f":"'Absorbance Data'!W4008-Calculations!T$1","v":0},{"$f":"'Absorbance Data'!X4008-Calculations!U$1","v":0},{"$f":"'Absorbance Data'!Y4008-Calculations!V$1","v":0},{"$f":"'Absorbance Data'!Z4008-Calculations!W$1","v":0}]
[{"$f":"'Absorbance Data'!D4009","v":827.39129638671875},{"$f":"'Absorbance Data'!E4009-Calculations!B$1","v":0},{"$f":"'Absorbance Data'!F4009-Calculations!C$1","v":0},{"$f":"'Absorbance Data'!G4009-Calculations!D$1","v":0},{"$f":"'Absorbance Data'!H4009-Calculations!E$1","v":0},{"$f":"'Absorbance Data'!I4009-Calculations!F$1","v":0},{"$f":"'Absorbance Data'!J4009-Calculations!G$1","v":0},{"$f":"'Absorbance Data'!K4009-Calculations!H$1","v":0},{"$f":"'Absorbance Data'!L4009-Calculations!I$1","v":0},{"$f":"'Absorbance Data'!M4009-Calculations!J$1","v":0},{"$f":"'Absorbance Data'!N4009-Calculations!K$1","v":0},{"$f":"'Absorbance Data'!O4009-Calculations!L$1","v":0},{"$f":"'Absorbance Data'!P4009-Calculations!M$1","v":0},{"$f":"'Absorbance Data'!Q4009-Calculations!N$1","v":0},{"$f":"'Absorbance Data'!R4009-Calculations!O$1","v":0},{"$f":"'Absorbance Data'!S4009-Calculations!P$1","v":0},{"$f":"'Absorbance Data'!T4009-Calculations!Q$1","v":0},{"$f":"'Absorbance Data'!U4009-Calculations!R$1","v":0},{"$f":"'Absorbance Data'!V4009-Calculations!S$1","v":0},{"$f":"'Absorbance Data'!W4009-Calculations!T$1","v":0},{"$f":"'Absorbance Data'!X4009-Calculations!U$1","v":0},{"$f":"'Absorbance Data'!Y4009-Calculations!V$1","v":0},{"$f":"'Absorbance Data'!Z4009-Calculations!W$1","v":0}]
[{"$f":"'Absorbance Data'!D4010","v":827.677978515625},{"$f":"'Absorbance Data'!E4010-Calculations!B$1","v":0},{"$f":"'Absorbance Data'!F4010-Calculations!C$1","v":0},{"$f":"'Absorbance Data'!G4010-Calculations!D$1","v":0},{"$f":"'Absorbance Data'!H4010-Calculations!E$1","v":0},{"$f":"'Absorbance Data'!I4010-Calculations!F$1","v":0},{"$f":"'Absorbance Data'!J4010-Calculations!G$1","v":0},{"$f":"'Absorbance Data'!K4010-Calculations!H$1","v":0},{"$f":"'Absorbance Data'!L4010-Calculations!I$1","v":0},{"$f":"'Absorbance Data'!M4010-Calculations!J$1","v":0},{"$f":"'Absorbance Data'!N4010-Calculations!K$1","v":0},{"$f":"'Absorbance Data'!O4010-Calculations!L$1","v":0},{"$f":"'Absorbance Data'!P4010-Calculations!M$1","v":0},{"$f":"'Absorbance Data'!Q4010-Calculations!N$1","v":0},{"$f":"'Absorbance Data'!R4010-Calculations!O$1","v":0},{"$f":"'Absorbance Data'!S4010-Calculations!P$1","v":0},{"$f":"'Absorbance Data'!T4010-Calculations!Q$1","v":0},{"$f":"'Absorbance Data'!U4010-Calculations!R$1","v":0},{"$f":"'Absorbance Data'!V4010-Calculations!S$1","v":0},{"$f":"'Absorbance Data'!W4010-Calculations!T$1","v":0},{"$f":"'Absorbance Data'!X4010-Calculations!U$1","v":0},{"$f":"'Absorbance Data'!Y4010-Calculations!V$1","v":0},{"$f":"'Absorbance Data'!Z4010-Calculations!W$1","v":0}]
[{"$f":"'Absorbance Data'!D4011","v":827.9647216796875},{"$f":"'Absorbance Data'!E4011-Calculations!B$1","v":0},{"$f":"'Absorbance Data'!F4011-Calculations!C$1","v":0},{"$f":"'Absorbance Data'!G4011-Calculations!D$1","v":0},{"$f":"'Absorbance Data'!H4011-Calculations!E$1","v":0},{"$f":"'Absorbance Data'!I4011-Calculations!F$1","v":0},{"$f":"'Absorbance Data'!J4011-Calculations!G$1","v":0},{"$f":"'Absorbance Data'!K4011-Calculations!H$1","v":0},{"$f":"'Absorbance Data'!L4011-Calculations!I$1","v":0},{"$f":"'Absorbance Data'!M4011-Calculations!J$1","v":0},{"$f":"'Absorbance Data'!N4011-Calculations!K$1","v":0},{"$f":"'Absorbance Data'!O4011-Calculations!L$1","v":0},{"$f":"'Absorbance Data'!P4011-Calculations!M$1","v":0},{"$f":"'Absorbance Data'!Q4011-Calculations!N$1","v":0},{"$f":"'Absorbance Data'!R4011-Calculations!O$1","v":0},{"$f":"'Absorbance Data'!S4011-Calculations!P$1","v":0},{"$f":"'Absorbance Data'!T4011-Calculations!Q$1","v":0},{"$f":"'Absorbance Data'!U4011-Calculations!R$1","v":0},{"$f":"'Absorbance Data'!V4011-Calculations!S$1","v":0},{"$f":"'Absorbance Data'!W4011-Calculations!T$1","v":0},{"$f":"'Absorbance Data'!X4011-Calculations!U$1","v":0},{"$f":"'Absorbance Data'!Y4011-Calculations!V$1","v":0},{"$f":"'Absorbance Data'!Z4011-Calculations!W$1","v":0}]
[{"$f":"'Absorbance Data'!D4012","v":828.25128173828125},{"$f":"'Absorbance Data'!E4012-Calculations!B$1","v":0},{"$f":"'Absorbance Data'!F4012-Calculations!C$1","v":0},{"$f":"'Absorbance Data'!G4012-Calculations!D$1","v":0},{"$f":"'Absorbance Data'!H4012-Calculations!E$1","v":0},{"$f":"'Absorbance Data'!I4012-Calculations!F$1","v":0},{"$f":"'Absorbance Data'!J4012-Calculations!G$1","v":0},{"$f":"'Absorbance Data'!K4012-Calculations!H$1","v":0},{"$f":"'Absorbance Data'!L4012-Calculations!I$1","v":0},{"$f":"'Absorbance Data'!M4012-Calculations!J$1","v":0},{"$f":"'Absorbance Data'!N4012-Calculations!K$1","v":0},{"$f":"'Absorbance Data'!O4012-Calculations!L$1","v":0},{"$f":"'Absorbance Data'!P4012-Calculations!M$1","v":0},{"$f":"'Absorbance Data'!Q4012-Calculations!N$1","v":0},{"$f":"'Absorbance Data'!R4012-Calculations!O$1","v":0},{"$f":"'Absorbance Data'!S4012-Calculations!P$1","v":0},{"$f":"'Absorbance Data'!T4012-Calculations!Q$1","v":0},{"$f":"'Absorbance Data'!U4012-Calculations!R$1","v":0},{"$f":"'Absorbance Data'!V4012-Calculations!S$1","v":0},{"$f":"'Absorbance Data'!W4012-Calculations!T$1","v":0},{"$f":"'Absorbance Data'!X4012-Calculations!U$1","v":0},{"$f":"'Absorbance Data'!Y4012-Calculations!V$1","v":0},{"$f":"'Absorbance Data'!Z4012-Calculations!W$1","v":0}]
[{"$f":"'Absorbance Data'!D4013","v":828.53790283203125},{"$f":"'Absorbance Data'!E4013-Calculations!B$1","v":0},{"$f":"'Absorbance Data'!F4013-Calculations!C$1","v":0},{"$f":"'Absorbance Data'!G4013-Calculations!D$1","v":0},{"$f":"'Absorbance Data'!H4013-Calculations!E$1","v":0},{"$f":"'Absorbance Data'!I4013-Calculations!F$1","v":0},{"$f":"'Absorbance Data'!J4013-Calculations!G$1","v":0},{"$f":"'Absorbance Data'!K4013-Calculations!H$1","v":0},{"$f":"'Absorbance Data'!L4013-Calculations!I$1","v":0},{"$f":"'Absorbance Data'!M4013-Calculations!J$1","v":0},{"$f":"'Absorbance Data'!N4013-Calculations!K$1","v":0},{"$f":"'Absorbance Data'!O4013-Calculations!L$1","v":0},{"$f":"'Absorbance Data'!P4013-Calculations!M$1","v":0},{"$f":"'Absorbance Data'!Q4013-Calculations!N$1","v":0},{"$f":"'Absorbance Data'!R4013-Calculations!O$1","v":0},{"$f":"'Absorbance Data'!S4013-Calculations!P$1","v":0},{"$f":"'Absorbance Data'!T4013-Calculations!Q$1","v":0},{"$f":"'Absorbance Data'!U4013-Calculations!R$1","v":0},{"$f":"'Absorbance Data'!V4013-Calculations!S$1","v":0},{"$f":"'Absorbance Data'!W4013-Calculations!T$1","v":0},{"$f":"'Absorbance Data'!X4013-Calculations!U$1","v":0},{"$f":"'Absorbance Data'!Y4013-Calculations!V$1","v":0},{"$f":"'Absorbance Data'!Z4013-Calculations!W$1","v":0}]
[{"$f":"'Absorbance Data'!D4014","v":828.82440185546875},{"$f":"'Absorbance Data'!E4014-Calculations!B$1","v":0},{"$f":"'Absorbance Data'!F4014-Calculations!C$1","v":0},{"$f":"'Absorbance Data'!G4014-Calculations!D$1","v":0},{"$f":"'Absorbance Data'!H4014-Calculations!E$1","v":0},{"$f":"'Absorbance Data'!I4014-Calculations!F$1","v":0},{"$f":"'Absorbance Data'!J4014-Calculations!G$1","v":0},{"$f":"'Absorbance Data'!K4014-Calculations!H$1","v":0},{"$f":"'Absorbance Data'!L4014-Calculations!I$1","v":0},{"$f":"'Absorbance Data'!M4014-Calculations!J$1","v":0},{"$f":"'Absorbance Data'!N4014-Calculations!K$1","v":0},{"$f":"'Absorbance Data'!O4014-Calculations!L$1","v":0},{"$f":"'Absorbance Data'!P4014-Calculations!M$1","v":0},{"$f":"'Absorbance Data'!Q4014-Calculations!N$1","v":0},{"$f":"'Absorbance Data'!R4014-Calculations!O$1","v":0},{"$f":"'Absorbance Data'!S4014-Calculations!P$1","v":0},{"$f":"'Absorbance Data'!T4014-Calculations!Q$1","v":0},{"$f":"'Absorbance Data'!U4014-Calculations!R$1","v":0},{"$f":"'Absorbance Data'!V4014-Calculations!S$1","v":0},{"$f":"'Absorbance Data'!W4014-Calculations!T$1","v":0},{"$f":"'Absorbance Data'!X4014-Calculations!U$1","v":0},{"$f":"'Absorbance Data'!Y4014-Calculations!V$1","v":0},{"$f":"'Absorbance Data'!Z4014-Calculations!W$1","v":0}]
[{"$f":"'Absorbance Data'!D4015","v":829.11090087890625},{"$f":"'Absorbance Data'!E4015-Calculations!B$1","v":0},{"$f":"'Absorbance Data'!F4015-Calculations!C$1","v":0},{"$f":"'Absorbance Data'!G4015-Calculations!D$1","v":0},{"$f":"'Absorbance Data'!H4015-Calculations!E$1","v":0},{"$f":"'Absorbance Data'!I4015-Calculations!F$1","v":0},{"$f":"'Absorbance Data'!J4015-Calculations!G$1","v":0},{"$f":"'Absorbance Data'!K4015-Calculations!H$1","v":0},{"$f":"'Absorbance Data'!L4015-Calculations!I$1","v":0},{"$f":"'Absorbance Data'!M4015-Calculations!J$1","v":0},{"$f":"'Absorbance Data'!N4015-Calculations!K$1","v":0},{"$f":"'Absorbance Data'!O4015-Calculations!L$1","v":0},{"$f":"'Absorbance Data'!P4015-Calculations!M$1","v":0},{"$f":"'Absorbance Data'!Q4015-Calculations!N$1","v":0},{"$f":"'Absorbance Data'!R4015-Calculations!O$1","v":0},{"$f":"'Absorbance Data'!S4015-Calculations!P$1","v":0},{"$f":"'Absorbance Data'!T4015-Calculations!Q$1","v":0},{"$f":"'Absorbance Data'!U4015-Calculations!R$1","v":0},{"$f":"'Absorbance Data'!V4015-Calculations!S$1","v":0},{"$f":"'Absorbance Data'!W4015-Calculations!T$1","v":0},{"$f":"'Absorbance Data'!X4015-Calculations!U$1","v":0},{"$f":"'Absorbance Data'!Y4015-Calculations!V$1","v":0},{"$f":"'Absorbance Data'!Z4015-Calculations!W$1","v":0}]
[{"$f":"'Absorbance Data'!D4016","v":829.39727783203125},{"$f":"'Absorbance Data'!E4016-Calculations!B$1","v":0},{"$f":"'Absorbance Data'!F4016-Calculations!C$1","v":0},{"$f":"'Absorbance Data'!G4016-Calculations!D$1","v":0},{"$f":"'Absorbance Data'!H4016-Calculations!E$1","v":0},{"$f":"'Absorbance Data'!I4016-Calculations!F$1","v":0},{"$f":"'Absorbance Data'!J4016-Calculations!G$1","v":0},{"$f":"'Absorbance Data'!K4016-Calculations!H$1","v":0},{"$f":"'Absorbance Data'!L4016-Calculations!I$1","v":0},{"$f":"'Absorbance Data'!M4016-Calculations!J$1","v":0},{"$f":"'Absorbance Data'!N4016-Calculations!K$1","v":0},{"$f":"'Absorbance Data'!O4016-Calculations!L$1","v":0},{"$f":"'Absorbance Data'!P4016-Calculations!M$1","v":0},{"$f":"'Absorbance Data'!Q4016-Calculations!N$1","v":0},{"$f":"'Absorbance Data'!R4016-Calculations!O$1","v":0},{"$f":"'Absorbance Data'!S4016-Calculations!P$1","v":0},{"$f":"'Absorbance Data'!T4016-Calculations!Q$1","v":0},{"$f":"'Absorbance Data'!U4016-Calculations!R$1","v":0},{"$f":"'Absorbance Data'!V4016-Calculations!S$1","v":0},{"$f":"'Absorbance Data'!W4016-Calculations!T$1","v":0},{"$f":"'Absorbance Data'!X4016-Calculations!U$1","v":0},{"$f":"'Absorbance Data'!Y4016-Calculations!V$1","v":0},{"$f":"'Absorbance Data'!Z4016-Calculations!W$1","v":0}]
[{"$f":"'Absorbance Data'!D4017","v":829.6837158203125},{"$f":"'Absorbance Data'!E4017-Calculations!B$1","v":0},{"$f":"'Absorbance Data'!F4017-Calculations!C$1","v":0},{"$f":"'Absorbance Data'!G4017-Calculations!D$1","v":0},{"$f":"'Absorbance Data'!H4017-Calculations!E$1","v":0},{"$f":"'Absorbance Data'!I4017-Calculations!F$1","v":0},{"$f":"'Absorbance Data'!J4017-Calculations!G$1","v":0},{"$f":"'Absorbance Data'!K4017-Calculations!H$1","v":0},{"$f":"'Absorbance Data'!L4017-Calculations!I$1","v":0},{"$f":"'Absorbance Data'!M4017-Calculations!J$1","v":0},{"$f":"'Absorbance Data'!N4017-Calculations!K$1","v":0},{"$f":"'Absorbance Data'!O4017-Calculations!L$1","v":0},{"$f":"'Absorbance Data'!P4017-Calculations!M$1","v":0},{"$f":"'Absorbance Data'!Q4017-Calculations!N$1","v":0},{"$f":"'Absorbance Data'!R4017-Calculations!O$1","v":0},{"$f":"'Absorbance Data'!S4017-Calculations!P$1","v":0},{"$f":"'Absorbance Data'!T4017-Calculations!Q$1","v":0},{"$f":"'Absorbance Data'!U4017-Calculations!R$1","v":0},{"$f":"'Absorbance Data'!V4017-Calculations!S$1","v":0},{"$f":"'Absorbance Data'!W4017-Calculations!T$1","v":0},{"$f":"'Absorbance Data'!X4017-Calculations!U$1","v":0},{"$f":"'Absorbance Data'!Y4017-Calculations!V$1","v":0},{"$f":"'Absorbance Data'!Z4017-Calculations!W$1","v":0}]
[{"$f":"'Absorbance Data'!D4018","v":829.97003173828125},{"$f":"'Absorbance Data'!E4018-Calculations!B$1","v":0},{"$f":"'Absorbance Data'!F4018-Calculations!C$1","v":0},{"$f":"'Absorbance Data'!G4018-Calculations!D$1","v":0},{"$f":"'Absorbance Data'!H4018-Calculations!E$1","v":0},{"$f":"'Absorbance Data'!I4018-Calculations!F$1","v":0},{"$f":"'Absorbance Data'!J4018-Calculations!G$1","v":0},{"$f":"'Absorbance Data'!K4018-Calculations!H$1","v":0},{"$f":"'Absorbance Data'!L4018-Calculations!I$1","v":0},{"$f":"'Absorbance Data'!M4018-Calculations!J$1","v":0},{"$f":"'Absorbance Data'!N4018-Calculations!K$1","v":0},{"$f":"'Absorbance Data'!O4018-Calculations!L$1","v":0},{"$f":"'Absorbance Data'!P4018-Calculations!M$1","v":0},{"$f":"'Absorbance Data'!Q4018-Calculations!N$1","v":0},{"$f":"'Absorbance Data'!R4018-Calculations!O$1","v":0},{"$f":"'Absorbance Data'!S4018-Calculations!P$1","v":0},{"$f":"'Absorbance Data'!T4018-Calculations!Q$1","v":0},{"$f":"'Absorbance Data'!U4018-Calculations!R$1","v":0},{"$f":"'Absorbance Data'!V4018-Calculations!S$1","v":0},{"$f":"'Absorbance Data'!W4018-Calculations!T$1","v":0},{"$f":"'Absorbance Data'!X4018-Calculations!U$1","v":0},{"$f":"'Absorbance Data'!Y4018-Calculations!V$1","v":0},{"$f":"'Absorbance Data'!Z4018-Calculations!W$1","v":0}]
[{"$f":"'Absorbance Data'!D4019","v":830.25628662109375},{"$f":"'Absorbance Data'!E4019-Calculations!B$1","v":0},{"$f":"'Absorbance Data'!F4019-Calculations!C$1","v":0},{"$f":"'Absorbance Data'!G4019-Calculations!D$1","v":0},{"$f":"'Absorbance Data'!H4019-Calculations!E$1","v":0},{"$f":"'Absorbance Data'!I4019-Calculations!F$1","v":0},{"$f":"'Absorbance Data'!J4019-Calculations!G$1","v":0},{"$f":"'Absorbance Data'!K4019-Calculations!H$1","v":0},{"$f":"'Absorbance Data'!L4019-Calculations!I$1","v":0},{"$f":"'Absorbance Data'!M4019-Calculations!J$1","v":0},{"$f":"'Absorbance Data'!N4019-Calculations!K$1","v":0},{"$f":"'Absorbance Data'!O4019-Calculations!L$1","v":0},{"$f":"'Absorbance Data'!P4019-Calculations!M$1","v":0},{"$f":"'Absorbance Data'!Q4019-Calculations!N$1","v":0},{"$f":"'Absorbance Data'!R4019-Calculations!O$1","v":0},{"$f":"'Absorbance Data'!S4019-Calculations!P$1","v":0},{"$f":"'Absorbance Data'!T4019-Calculations!Q$1","v":0},{"$f":"'Absorbance Data'!U4019-Calculations!R$1","v":0},{"$f":"'Absorbance Data'!V4019-Calculations!S$1","v":0},{"$f":"'Absorbance Data'!W4019-Calculations!T$1","v":0},{"$f":"'Absorbance Data'!X4019-Calculations!U$1","v":0},{"$f":"'Absorbance Data'!Y4019-Calculations!V$1","v":0},{"$f":"'Absorbance Data'!Z4019-Calculations!W$1","v":0}]
[{"$f":"'Absorbance Data'!D4020","v":830.5426025390625},{"$f":"'Absorbance Data'!E4020-Calculations!B$1","v":0},{"$f":"'Absorbance Data'!F4020-Calculations!C$1","v":0},{"$f":"'Absorbance Data'!G4020-Calculations!D$1","v":0},{"$f":"'Absorbance Data'!H4020-Calculations!E$1","v":0},{"$f":"'Absorbance Data'!I4020-Calculations!F$1","v":0},{"$f":"'Absorbance Data'!J4020-Calculations!G$1","v":0},{"$f":"'Absorbance Data'!K4020-Calculations!H$1","v":0},{"$f":"'Absorbance Data'!L4020-Calculations!I$1","v":0},{"$f":"'Absorbance Data'!M4020-Calculations!J$1","v":0},{"$f":"'Absorbance Data'!N4020-Calculations!K$1","v":0},{"$f":"'Absorbance Data'!O4020-Calculations!L$1","v":0},{"$f":"'Absorbance Data'!P4020-Calculations!M$1","v":0},{"$f":"'Absorbance Data'!Q4020-Calculations!N$1","v":0},{"$f":"'Absorbance Data'!R4020-Calculations!O$1","v":0},{"$f":"'Absorbance Data'!S4020-Calculations!P$1","v":0},{"$f":"'Absorbance Data'!T4020-Calculations!Q$1","v":0},{"$f":"'Absorbance Data'!U4020-Calculations!R$1","v":0},{"$f":"'Absorbance Data'!V4020-Calculations!S$1","v":0},{"$f":"'Absorbance Data'!W4020-Calculations!T$1","v":0},{"$f":"'Absorbance Data'!X4020-Calculations!U$1","v":0},{"$f":"'Absorbance Data'!Y4020-Calculations!V$1","v":0},{"$f":"'Absorbance Data'!Z4020-Calculations!W$1","v":0}]
[{"$f":"'Absorbance Data'!D4021","v":830.82879638671875},{"$f":"'Absorbance Data'!E4021-Calculations!B$1","v":0},{"$f":"'Absorbance Data'!F4021-Calculations!C$1","v":0},{"$f":"'Absorbance Data'!G4021-Calculations!D$1","v":0},{"$f":"'Absorbance Data'!H4021-Calculations!E$1","v":0},{"$f":"'Absorbance Data'!I4021-Calculations!F$1","v":0},{"$f":"'Absorbance Data'!J4021-Calculations!G$1","v":0},{"$f":"'Absorbance Data'!K4021-Calculations!H$1","v":0},{"$f":"'Absorbance Data'!L4021-Calculations!I$1","v":0},{"$f":"'Absorbance Data'!M4021-Calculations!J$1","v":0},{"$f":"'Absorbance Data'!N4021-Calculations!K$1","v":0},{"$f":"'Absorbance Data'!O4021-Calculations!L$1","v":0},{"$f":"'Absorbance Data'!P4021-Calculations!M$1","v":0},{"$f":"'Absorbance Data'!Q4021-Calculations!N$1","v":0},{"$f":"'Absorbance Data'!R4021-Calculations!O$1","v":0},{"$f":"'Absorbance Data'!S4021-Calculations!P$1","v":0},{"$f":"'Absorbance Data'!T4021-Calculations!Q$1","v":0},{"$f":"'Absorbance Data'!U4021-Calculations!R$1","v":0},{"$f":"'Absorbance Data'!V4021-Calculations!S$1","v":0},{"$f":"'Absorbance Data'!W4021-Calculations!T$1","v":0},{"$f":"'Absorbance Data'!X4021-Calculations!U$1","v":0},{"$f":"'Absorbance Data'!Y4021-Calculations!V$1","v":0},{"$f":"'Absorbance Data'!Z4021-Calculations!W$1","v":0}]
[{"$f":"'Absorbance Data'!D4022","v":831.11492919921875},{"$f":"'Absorbance Data'!E4022-Calculations!B$1","v":0},{"$f":"'Absorbance Data'!F4022-Calculations!C$1","v":0},{"$f":"'Absorbance Data'!G4022-Calculations!D$1","v":0},{"$f":"'Absorbance Data'!H4022-Calculations!E$1","v":0},{"$f":"'Absorbance Data'!I4022-Calculations!F$1","v":0},{"$f":"'Absorbance Data'!J4022-Calculations!G$1","v":0},{"$f":"'Absorbance Data'!K4022-Calculations!H$1","v":0},{"$f":"'Absorbance Data'!L4022-Calculations!I$1","v":0},{"$f":"'Absorbance Data'!M4022-Calculations!J$1","v":0},{"$f":"'Absorbance Data'!N4022-Calculations!K$1","v":0},{"$f":"'Absorbance Data'!O4022-Calculations!L$1","v":0},{"$f":"'Absorbance Data'!P4022-Calculations!M$1","v":0},{"$f":"'Absorbance Data'!Q4022-Calculations!N$1","v":0},{"$f":"'Absorbance Data'!R4022-Calculations!O$1","v":0},{"$f":"'Absorbance Data'!S4022-Calculations!P$1","v":0},{"$f":"'Absorbance Data'!T4022-Calculations!Q$1","v":0},{"$f":"'Absorbance Data'!U4022-Calculations!R$1","v":0},{"$f":"'Absorbance Data'!V4022-Calculations!S$1","v":0},{"$f":"'Absorbance Data'!W4022-Calculations!T$1","v":0},{"$f":"'Absorbance Data'!X4022-Calculations!U$1","v":0},{"$f":"'Absorbance Data'!Y4022-Calculations!V$1","v":0},{"$f":"'Absorbance Data'!Z4022-Calculations!W$1","v":0}]
[{"$f":"'Absorbance Data'!D4023","v":831.40093994140625},{"$f":"'Absorbance Data'!E4023-Calculations!B$1","v":0},{"$f":"'Absorbance Data'!F4023-Calculations!C$1","v":0},{"$f":"'Absorbance Data'!G4023-Calculations!D$1","v":0},{"$f":"'Absorbance Data'!H4023-Calculations!E$1","v":0},{"$f":"'Absorbance Data'!I4023-Calculations!F$1","v":0},{"$f":"'Absorbance Data'!J4023-Calculations!G$1","v":0},{"$f":"'Absorbance Data'!K4023-Calculations!H$1","v":0},{"$f":"'Absorbance Data'!L4023-Calculations!I$1","v":0},{"$f":"'Absorbance Data'!M4023-Calculations!J$1","v":0},{"$f":"'Absorbance Data'!N4023-Calculations!K$1","v":0},{"$f":"'Absorbance Data'!O4023-Calculations!L$1","v":0},{"$f":"'Absorbance Data'!P4023-Calculations!M$1","v":0},{"$f":"'Absorbance Data'!Q4023-Calculations!N$1","v":0},{"$f":"'Absorbance Data'!R4023-Calculations!O$1","v":0},{"$f":"'Absorbance Data'!S4023-Calculations!P$1","v":0},{"$f":"'Absorbance Data'!T4023-Calculations!Q$1","v":0},{"$f":"'Absorbance Data'!U4023-Calculations!R$1","v":0},{"$f":"'Absorbance Data'!V4023-Calculations!S$1","v":0},{"$f":"'Absorbance Data'!W4023-Calculations!T$1","v":0},{"$f":"'Absorbance Data'!X4023-Calculations!U$1","v":0},{"$f":"'Absorbance Data'!Y4023-Calculations!V$1","v":0},{"$f":"'Absorbance Data'!Z4023-Calculations!W$1","v":0}]
[{"$f":"'Absorbance Data'!D4024","v":831.68701171875},{"$f":"'Absorbance Data'!E4024-Calculations!B$1","v":0},{"$f":"'Absorbance Data'!F4024-Calculations!C$1","v":0},{"$f":"'Absorbance Data'!G4024-Calculations!D$1","v":0},{"$f":"'Absorbance Data'!H4024-Calculations!E$1","v":0},{"$f":"'Absorbance Data'!I4024-Calculations!F$1","v":0},{"$f":"'Absorbance Data'!J4024-Calculations!G$1","v":0},{"$f":"'Absorbance Data'!K4024-Calculations!H$1","v":0},{"$f":"'Absorbance Data'!L4024-Calculations!I$1","v":0},{"$f":"'Absorbance Data'!M4024-Calculations!J$1","v":0},{"$f":"'Absorbance Data'!N4024-Calculations!K$1","v":0},{"$f":"'Absorbance Data'!O4024-Calculations!L$1","v":0},{"$f":"'Absorbance Data'!P4024-Calculations!M$1","v":0},{"$f":"'Absorbance Data'!Q4024-Calculations!N$1","v":0},{"$f":"'Absorbance Data'!R4024-Calculations!O$1","v":0},{"$f":"'Absorbance Data'!S4024-Calculations!P$1","v":0},{"$f":"'Absorbance Data'!T4024-Calculations!Q$1","v":0},{"$f":"'Absorbance Data'!U4024-Calculations!R$1","v":0},{"$f":"'Absorbance Data'!V4024-Calculations!S$1","v":0},{"$f":"'Absorbance Data'!W4024-Calculations!T$1","v":0},{"$f":"'Absorbance Data'!X4024-Calculations!U$1","v":0},{"$f":"'Absorbance Data'!Y4024-Calculations!V$1","v":0},{"$f":"'Absorbance Data'!Z4024-Calculations!W$1","v":0}]
[{"$f":"'Absorbance Data'!D4025","v":831.97296142578125},{"$f":"'Absorbance Data'!E4025-Calculations!B$1","v":0},{"$f":"'Absorbance Data'!F4025-Calculations!C$1","v":0},{"$f":"'Absorbance Data'!G4025-Calculations!D$1","v":0},{"$f":"'Absorbance Data'!H4025-Calculations!E$1","v":0},{"$f":"'Absorbance Data'!I4025-Calculations!F$1","v":0},{"$f":"'Absorbance Data'!J4025-Calculations!G$1","v":0},{"$f":"'Absorbance Data'!K4025-Calculations!H$1","v":0},{"$f":"'Absorbance Data'!L4025-Calculations!I$1","v":0},{"$f":"'Absorbance Data'!M4025-Calculations!J$1","v":0},{"$f":"'Absorbance Data'!N4025-Calculations!K$1","v":0},{"$f":"'Absorbance Data'!O4025-Calculations!L$1","v":0},{"$f":"'Absorbance Data'!P4025-Calculations!M$1","v":0},{"$f":"'Absorbance Data'!Q4025-Calculations!N$1","v":0},{"$f":"'Absorbance Data'!R4025-Calculations!O$1","v":0},{"$f":"'Absorbance Data'!S4025-Calculations!P$1","v":0},{"$f":"'Absorbance Data'!T4025-Calculations!Q$1","v":0},{"$f":"'Absorbance Data'!U4025-Calculations!R$1","v":0},{"$f":"'Absorbance Data'!V4025-Calculations!S$1","v":0},{"$f":"'Absorbance Data'!W4025-Calculations!T$1","v":0},{"$f":"'Absorbance Data'!X4025-Calculations!U$1","v":0},{"$f":"'Absorbance Data'!Y4025-Calculations!V$1","v":0},{"$f":"'Absorbance Data'!Z4025-Calculations!W$1","v":0}]
[{"$f":"'Absorbance Data'!D4026","v":832.2589111328125},{"$f":"'Absorbance Data'!E4026-Calculations!B$1","v":0},{"$f":"'Absorbance Data'!F4026-Calculations!C$1","v":0},{"$f":"'Absorbance Data'!G4026-Calculations!D$1","v":0},{"$f":"'Absorbance Data'!H4026-Calculations!E$1","v":0},{"$f":"'Absorbance Data'!I4026-Calculations!F$1","v":0},{"$f":"'Absorbance Data'!J4026-Calculations!G$1","v":0},{"$f":"'Absorbance Data'!K4026-Calculations!H$1","v":0},{"$f":"'Absorbance Data'!L4026-Calculations!I$1","v":0},{"$f":"'Absorbance Data'!M4026-Calculations!J$1","v":0},{"$f":"'Absorbance Data'!N4026-Calculations!K$1","v":0},{"$f":"'Absorbance Data'!O4026-Calculations!L$1","v":0},{"$f":"'Absorbance Data'!P4026-Calculations!M$1","v":0},{"$f":"'Absorbance Data'!Q4026-Calculations!N$1","v":0},{"$f":"'Absorbance Data'!R4026-Calculations!O$1","v":0},{"$f":"'Absorbance Data'!S4026-Calculations!P$1","v":0},{"$f":"'Absorbance Data'!T4026-Calculations!Q$1","v":0},{"$f":"'Absorbance Data'!U4026-Calculations!R$1","v":0},{"$f":"'Absorbance Data'!V4026-Calculations!S$1","v":0},{"$f":"'Absorbance Data'!W4026-Calculations!T$1","v":0},{"$f":"'Absorbance Data'!X4026-Calculations!U$1","v":0},{"$f":"'Absorbance Data'!Y4026-Calculations!V$1","v":0},{"$f":"'Absorbance Data'!Z4026-Calculations!W$1","v":0}]
[{"$f":"'Absorbance Data'!D4027","v":832.54473876953125},{"$f":"'Absorbance Data'!E4027-Calculations!B$1","v":0},{"$f":"'Absorbance Data'!F4027-Calculations!C$1","v":0},{"$f":"'Absorbance Data'!G4027-Calculations!D$1","v":0},{"$f":"'Absorbance Data'!H4027-Calculations!E$1","v":0},{"$f":"'Absorbance Data'!I4027-Calculations!F$1","v":0},{"$f":"'Absorbance Data'!J4027-Calculations!G$1","v":0},{"$f":"'Absorbance Data'!K4027-Calculations!H$1","v":0},{"$f":"'Absorbance Data'!L4027-Calculations!I$1","v":0},{"$f":"'Absorbance Data'!M4027-Calculations!J$1","v":0},{"$f":"'Absorbance Data'!N4027-Calculations!K$1","v":0},{"$f":"'Absorbance Data'!O4027-Calculations!L$1","v":0},{"$f":"'Absorbance Data'!P4027-Calculations!M$1","v":0},{"$f":"'Absorbance Data'!Q4027-Calculations!N$1","v":0},{"$f":"'Absorbance Data'!R4027-Calculations!O$1","v":0},{"$f":"'Absorbance Data'!S4027-Calculations!P$1","v":0},{"$f":"'Absorbance Data'!T4027-Calculations!Q$1","v":0},{"$f":"'Absorbance Data'!U4027-Calculations!R$1","v":0},{"$f":"'Absorbance Data'!V4027-Calculations!S$1","v":0},{"$f":"'Absorbance Data'!W4027-Calculations!T$1","v":0},{"$f":"'Absorbance Data'!X4027-Calculations!U$1","v":0},{"$f":"'Absorbance Data'!Y4027-Calculations!V$1","v":0},{"$f":"'Absorbance Data'!Z4027-Calculations!W$1","v":0}]
[{"$f":"'Absorbance Data'!D4028","v":832.83062744140625},{"$f":"'Absorbance Data'!E4028-Calculations!B$1","v":0},{"$f":"'Absorbance Data'!F4028-Calculations!C$1","v":0},{"$f":"'Absorbance Data'!G4028-Calculations!D$1","v":0},{"$f":"'Absorbance Data'!H4028-Calculations!E$1","v":0},{"$f":"'Absorbance Data'!I4028-Calculations!F$1","v":0},{"$f":"'Absorbance Data'!J4028-Calculations!G$1","v":0},{"$f":"'Absorbance Data'!K4028-Calculations!H$1","v":0},{"$f":"'Absorbance Data'!L4028-Calculations!I$1","v":0},{"$f":"'Absorbance Data'!M4028-Calculations!J$1","v":0},{"$f":"'Absorbance Data'!N4028-Calculations!K$1","v":0},{"$f":"'Absorbance Data'!O4028-Calculations!L$1","v":0},{"$f":"'Absorbance Data'!P4028-Calculations!M$1","v":0},{"$f":"'Absorbance Data'!Q4028-Calculations!N$1","v":0},{"$f":"'Absorbance Data'!R4028-Calculations!O$1","v":0},{"$f":"'Absorbance Data'!S4028-Calculations!P$1","v":0},{"$f":"'Absorbance Data'!T4028-Calculations!Q$1","v":0},{"$f":"'Absorbance Data'!U4028-Calculations!R$1","v":0},{"$f":"'Absorbance Data'!V4028-Calculations!S$1","v":0},{"$f":"'Absorbance Data'!W4028-Calculations!T$1","v":0},{"$f":"'Absorbance Data'!X4028-Calculations!U$1","v":0},{"$f":"'Absorbance Data'!Y4028-Calculations!V$1","v":0},{"$f":"'Absorbance Data'!Z4028-Calculations!W$1","v":0}]
[{"$f":"'Absorbance Data'!D4029","v":833.11639404296875},{"$f":"'Absorbance Data'!E4029-Calculations!B$1","v":0},{"$f":"'Absorbance Data'!F4029-Calculations!C$1","v":0},{"$f":"'Absorbance Data'!G4029-Calculations!D$1","v":0},{"$f":"'Absorbance Data'!H4029-Calculations!E$1","v":0},{"$f":"'Absorbance Data'!I4029-Calculations!F$1","v":0},{"$f":"'Absorbance Data'!J4029-Calculations!G$1","v":0},{"$f":"'Absorbance Data'!K4029-Calculations!H$1","v":0},{"$f":"'Absorbance Data'!L4029-Calculations!I$1","v":0},{"$f":"'Absorbance Data'!M4029-Calculations!J$1","v":0},{"$f":"'Absorbance Data'!N4029-Calculations!K$1","v":0},{"$f":"'Absorbance Data'!O4029-Calculations!L$1","v":0},{"$f":"'Absorbance Data'!P4029-Calculations!M$1","v":0},{"$f":"'Absorbance Data'!Q4029-Calculations!N$1","v":0},{"$f":"'Absorbance Data'!R4029-Calculations!O$1","v":0},{"$f":"'Absorbance Data'!S4029-Calculations!P$1","v":0},{"$f":"'Absorbance Data'!T4029-Calculations!Q$1","v":0},{"$f":"'Absorbance Data'!U4029-Calculations!R$1","v":0},{"$f":"'Absorbance Data'!V4029-Calculations!S$1","v":0},{"$f":"'Absorbance Data'!W4029-Calculations!T$1","v":0},{"$f":"'Absorbance Data'!X4029-Calculations!U$1","v":0},{"$f":"'Absorbance Data'!Y4029-Calculations!V$1","v":0},{"$f":"'Absorbance Data'!Z4029-Calculations!W$1","v":0}]
[{"$f":"'Absorbance Data'!D4030","v":833.40216064453125},{"$f":"'Absorbance Data'!E4030-Calculations!B$1","v":0},{"$f":"'Absorbance Data'!F4030-Calculations!C$1","v":0},{"$f":"'Absorbance Data'!G4030-Calculations!D$1","v":0},{"$f":"'Absorbance Data'!H4030-Calculations!E$1","v":0},{"$f":"'Absorbance Data'!I4030-Calculations!F$1","v":0},{"$f":"'Absorbance Data'!J4030-Calculations!G$1","v":0},{"$f":"'Absorbance Data'!K4030-Calculations!H$1","v":0},{"$f":"'Absorbance Data'!L4030-Calculations!I$1","v":0},{"$f":"'Absorbance Data'!M4030-Calculations!J$1","v":0},{"$f":"'Absorbance Data'!N4030-Calculations!K$1","v":0},{"$f":"'Absorbance Data'!O4030-Calculations!L$1","v":0},{"$f":"'Absorbance Data'!P4030-Calculations!M$1","v":0},{"$f":"'Absorbance Data'!Q4030-Calculations!N$1","v":0},{"$f":"'Absorbance Data'!R4030-Calculations!O$1","v":0},{"$f":"'Absorbance Data'!S4030-Calculations!P$1","v":0},{"$f":"'Absorbance Data'!T4030-Calculations!Q$1","v":0},{"$f":"'Absorbance Data'!U4030-Calculations!R$1","v":0},{"$f":"'Absorbance Data'!V4030-Calculations!S$1","v":0},{"$f":"'Absorbance Data'!W4030-Calculations!T$1","v":0},{"$f":"'Absorbance Data'!X4030-Calculations!U$1","v":0},{"$f":"'Absorbance Data'!Y4030-Calculations!V$1","v":0},{"$f":"'Absorbance Data'!Z4030-Calculations!W$1","v":0}]
[{"$f":"'Absorbance Data'!D4031","v":833.68780517578125},{"$f":"'Absorbance Data'!E4031-Calculations!B$1","v":0},{"$f":"'Absorbance Data'!F4031-Calculations!C$1","v":0},{"$f":"'Absorbance Data'!G4031-Calculations!D$1","v":0},{"$f":"'Absorbance Data'!H4031-Calculations!E$1","v":0},{"$f":"'Absorbance Data'!I4031-Calculations!F$1","v":0},{"$f":"'Absorbance Data'!J4031-Calculations!G$1","v":0},{"$f":"'Absorbance Data'!K4031-Calculations!H$1","v":0},{"$f":"'Absorbance Data'!L4031-Calculations!I$1","v":0},{"$f":"'Absorbance Data'!M4031-Calculations!J$1","v":0},{"$f":"'Absorbance Data'!N4031-Calculations!K$1","v":0},{"$f":"'Absorbance Data'!O4031-Calculations!L$1","v":0},{"$f":"'Absorbance Data'!P4031-Calculations!M$1","v":0},{"$f":"'Absorbance Data'!Q4031-Calculations!N$1","v":0},{"$f":"'Absorbance Data'!R4031-Calculations!O$1","v":0},{"$f":"'Absorbance Data'!S4031-Calculations!P$1","v":0},{"$f":"'Absorbance Data'!T4031-Calculations!Q$1","v":0},{"$f":"'Absorbance Data'!U4031-Calculations!R$1","v":0},{"$f":"'Absorbance Data'!V4031-Calculations!S$1","v":0},{"$f":"'Absorbance Data'!W4031-Calculations!T$1","v":0},{"$f":"'Absorbance Data'!X4031-Calculations!U$1","v":0},{"$f":"'Absorbance Data'!Y4031-Calculations!V$1","v":0},{"$f":"'Absorbance Data'!Z4031-Calculations!W$1","v":0}]
[{"$f":"'Absorbance Data'!D4032","v":833.97344970703125},{"$f":"'Absorbance Data'!E4032-Calculations!B$1","v":0},{"$f":"'Absorbance Data'!F4032-Calculations!C$1","v":0},{"$f":"'Absorbance Data'!G4032-Calculations!D$1","v":0},{"$f":"'Absorbance Data'!H4032-Calculations!E$1","v":0},{"$f":"'Absorbance Data'!I4032-Calculations!F$1","v":0},{"$f":"'Absorbance Data'!J4032-Calculations!G$1","v":0},{"$f":"'Absorbance Data'!K4032-Calculations!H$1","v":0},{"$f":"'Absorbance Data'!L4032-Calculations!I$1","v":0},{"$f":"'Absorbance Data'!M4032-Calculations!J$1","v":0},{"$f":"'Absorbance Data'!N4032-Calculations!K$1","v":0},{"$f":"'Absorbance Data'!O4032-Calculations!L$1","v":0},{"$f":"'Absorbance Data'!P4032-Calculations!M$1","v":0},{"$f":"'Absorbance Data'!Q4032-Calculations!N$1","v":0},{"$f":"'Absorbance Data'!R4032-Calculations!O$1","v":0},{"$f":"'Absorbance Data'!S4032-Calculations!P$1","v":0},{"$f":"'Absorbance Data'!T4032-Calculations!Q$1","v":0},{"$f":"'Absorbance Data'!U4032-Calculations!R$1","v":0},{"$f":"'Absorbance Data'!V4032-Calculations!S$1","v":0},{"$f":"'Absorbance Data'!W4032-Calculations!T$1","v":0},{"$f":"'Absorbance Data'!X4032-Calculations!U$1","v":0},{"$f":"'Absorbance Data'!Y4032-Calculations!V$1","v":0},{"$f":"'Absorbance Data'!Z4032-Calculations!W$1","v":0}]
[{"$f":"'Absorbance Data'!D4033","v":834.25897216796875},{"$f":"'Absorbance Data'!E4033-Calculations!B$1","v":0},{"$f":"'Absorbance Data'!F4033-Calculations!C$1","v":0},{"$f":"'Absorbance Data'!G4033-Calculations!D$1","v":0},{"$f":"'Absorbance Data'!H4033-Calculations!E$1","v":0},{"$f":"'Absorbance Data'!I4033-Calculations!F$1","v":0},{"$f":"'Absorbance Data'!J4033-Calculations!G$1","v":0},{"$f":"'Absorbance Data'!K4033-Calculations!H$1","v":0},{"$f":"'Absorbance Data'!L4033-Calculations!I$1","v":0},{"$f":"'Absorbance Data'!M4033-Calculations!J$1","v":0},{"$f":"'Absorbance Data'!N4033-Calculations!K$1","v":0},{"$f":"'Absorbance Data'!O4033-Calculations!L$1","v":0},{"$f":"'Absorbance Data'!P4033-Calculations!M$1","v":0},{"$f":"'Absorbance Data'!Q4033-Calculations!N$1","v":0},{"$f":"'Absorbance Data'!R4033-Calculations!O$1","v":0},{"$f":"'Absorbance Data'!S4033-Calculations!P$1","v":0},{"$f":"'Absorbance Data'!T4033-Calculations!Q$1","v":0},{"$f":"'Absorbance Data'!U4033-Calculations!R$1","v":0},{"$f":"'Absorbance Data'!V4033-Calculations!S$1","v":0},{"$f":"'Absorbance Data'!W4033-Calculations!T$1","v":0},{"$f":"'Absorbance Data'!X4033-Calculations!U$1","v":0},{"$f":"'Absorbance Data'!Y4033-Calculations!V$1","v":0},{"$f":"'Absorbance Data'!Z4033-Calculations!W$1","v":0}]
[{"$f":"'Absorbance Data'!D4034","v":834.5445556640625},{"$f":"'Absorbance Data'!E4034-Calculations!B$1","v":0},{"$f":"'Absorbance Data'!F4034-Calculations!C$1","v":0},{"$f":"'Absorbance Data'!G4034-Calculations!D$1","v":0},{"$f":"'Absorbance Data'!H4034-Calculations!E$1","v":0},{"$f":"'Absorbance Data'!I4034-Calculations!F$1","v":0},{"$f":"'Absorbance Data'!J4034-Calculations!G$1","v":0},{"$f":"'Absorbance Data'!K4034-Calculations!H$1","v":0},{"$f":"'Absorbance Data'!L4034-Calculations!I$1","v":0},{"$f":"'Absorbance Data'!M4034-Calculations!J$1","v":0},{"$f":"'Absorbance Data'!N4034-Calculations!K$1","v":0},{"$f":"'Absorbance Data'!O4034-Calculations!L$1","v":0},{"$f":"'Absorbance Data'!P4034-Calculations!M$1","v":0},{"$f":"'Absorbance Data'!Q4034-Calculations!N$1","v":0},{"$f":"'Absorbance Data'!R4034-Calculations!O$1","v":0},{"$f":"'Absorbance Data'!S4034-Calculations!P$1","v":0},{"$f":"'Absorbance Data'!T4034-Calculations!Q$1","v":0},{"$f":"'Absorbance Data'!U4034-Calculations!R$1","v":0},{"$f":"'Absorbance Data'!V4034-Calculations!S$1","v":0},{"$f":"'Absorbance Data'!W4034-Calculations!T$1","v":0},{"$f":"'Absorbance Data'!X4034-Calculations!U$1","v":0},{"$f":"'Absorbance Data'!Y4034-Calculations!V$1","v":0},{"$f":"'Absorbance Data'!Z4034-Calculations!W$1","v":0}]
[{"$f":"'Absorbance Data'!D4035","v":834.83001708984375},{"$f":"'Absorbance Data'!E4035-Calculations!B$1","v":0},{"$f":"'Absorbance Data'!F4035-Calculations!C$1","v":0},{"$f":"'Absorbance Data'!G4035-Calculations!D$1","v":0},{"$f":"'Absorbance Data'!H4035-Calculations!E$1","v":0},{"$f":"'Absorbance Data'!I4035-Calculations!F$1","v":0},{"$f":"'Absorbance Data'!J4035-Calculations!G$1","v":0},{"$f":"'Absorbance Data'!K4035-Calculations!H$1","v":0},{"$f":"'Absorbance Data'!L4035-Calculations!I$1","v":0},{"$f":"'Absorbance Data'!M4035-Calculations!J$1","v":0},{"$f":"'Absorbance Data'!N4035-Calculations!K$1","v":0},{"$f":"'Absorbance Data'!O4035-Calculations!L$1","v":0},{"$f":"'Absorbance Data'!P4035-Calculations!M$1","v":0},{"$f":"'Absorbance Data'!Q4035-Calculations!N$1","v":0},{"$f":"'Absorbance Data'!R4035-Calculations!O$1","v":0},{"$f":"'Absorbance Data'!S4035-Calculations!P$1","v":0},{"$f":"'Absorbance Data'!T4035-Calculations!Q$1","v":0},{"$f":"'Absorbance Data'!U4035-Calculations!R$1","v":0},{"$f":"'Absorbance Data'!V4035-Calculations!S$1","v":0},{"$f":"'Absorbance Data'!W4035-Calculations!T$1","v":0},{"$f":"'Absorbance Data'!X4035-Calculations!U$1","v":0},{"$f":"'Absorbance Data'!Y4035-Calculations!V$1","v":0},{"$f":"'Absorbance Data'!Z4035-Calculations!W$1","v":0}]
[{"$f":"'Absorbance Data'!D4036","v":835.115478515625},{"$f":"'Absorbance Data'!E4036-Calculations!B$1","v":0},{"$f":"'Absorbance Data'!F4036-Calculations!C$1","v":0},{"$f":"'Absorbance Data'!G4036-Calculations!D$1","v":0},{"$f":"'Absorbance Data'!H4036-Calculations!E$1","v":0},{"$f":"'Absorbance Data'!I4036-Calculations!F$1","v":0},{"$f":"'Absorbance Data'!J4036-Calculations!G$1","v":0},{"$f":"'Absorbance Data'!K4036-Calculations!H$1","v":0},{"$f":"'Absorbance Data'!L4036-Calculations!I$1","v":0},{"$f":"'Absorbance Data'!M4036-Calculations!J$1","v":0},{"$f":"'Absorbance Data'!N4036-Calculations!K$1","v":0},{"$f":"'Absorbance Data'!O4036-Calculations!L$1","v":0},{"$f":"'Absorbance Data'!P4036-Calculations!M$1","v":0},{"$f":"'Absorbance Data'!Q4036-Calculations!N$1","v":0},{"$f":"'Absorbance Data'!R4036-Calculations!O$1","v":0},{"$f":"'Absorbance Data'!S4036-Calculations!P$1","v":0},{"$f":"'Absorbance Data'!T4036-Calculations!Q$1","v":0},{"$f":"'Absorbance Data'!U4036-Calculations!R$1","v":0},{"$f":"'Absorbance Data'!V4036-Calculations!S$1","v":0},{"$f":"'Absorbance Data'!W4036-Calculations!T$1","v":0},{"$f":"'Absorbance Data'!X4036-Calculations!U$1","v":0},{"$f":"'Absorbance Data'!Y4036-Calculations!V$1","v":0},{"$f":"'Absorbance Data'!Z4036-Calculations!W$1","v":0}]
[{"$f":"'Absorbance Data'!D4037","v":835.4007568359375},{"$f":"'Absorbance Data'!E4037-Calculations!B$1","v":0},{"$f":"'Absorbance Data'!F4037-Calculations!C$1","v":0},{"$f":"'Absorbance Data'!G4037-Calculations!D$1","v":0},{"$f":"'Absorbance Data'!H4037-Calculations!E$1","v":0},{"$f":"'Absorbance Data'!I4037-Calculations!F$1","v":0},{"$f":"'Absorbance Data'!J4037-Calculations!G$1","v":0},{"$f":"'Absorbance Data'!K4037-Calculations!H$1","v":0},{"$f":"'Absorbance Data'!L4037-Calculations!I$1","v":0},{"$f":"'Absorbance Data'!M4037-Calculations!J$1","v":0},{"$f":"'Absorbance Data'!N4037-Calculations!K$1","v":0},{"$f":"'Absorbance Data'!O4037-Calculations!L$1","v":0},{"$f":"'Absorbance Data'!P4037-Calculations!M$1","v":0},{"$f":"'Absorbance Data'!Q4037-Calculations!N$1","v":0},{"$f":"'Absorbance Data'!R4037-Calculations!O$1","v":0},{"$f":"'Absorbance Data'!S4037-Calculations!P$1","v":0},{"$f":"'Absorbance Data'!T4037-Calculations!Q$1","v":0},{"$f":"'Absorbance Data'!U4037-Calculations!R$1","v":0},{"$f":"'Absorbance Data'!V4037-Calculations!S$1","v":0},{"$f":"'Absorbance Data'!W4037-Calculations!T$1","v":0},{"$f":"'Absorbance Data'!X4037-Calculations!U$1","v":0},{"$f":"'Absorbance Data'!Y4037-Calculations!V$1","v":0},{"$f":"'Absorbance Data'!Z4037-Calculations!W$1","v":0}]
[{"$f":"'Absorbance Data'!D4038","v":835.6861572265625},{"$f":"'Absorbance Data'!E4038-Calculations!B$1","v":0},{"$f":"'Absorbance Data'!F4038-Calculations!C$1","v":0},{"$f":"'Absorbance Data'!G4038-Calculations!D$1","v":0},{"$f":"'Absorbance Data'!H4038-Calculations!E$1","v":0},{"$f":"'Absorbance Data'!I4038-Calculations!F$1","v":0},{"$f":"'Absorbance Data'!J4038-Calculations!G$1","v":0},{"$f":"'Absorbance Data'!K4038-Calculations!H$1","v":0},{"$f":"'Absorbance Data'!L4038-Calculations!I$1","v":0},{"$f":"'Absorbance Data'!M4038-Calculations!J$1","v":0},{"$f":"'Absorbance Data'!N4038-Calculations!K$1","v":0},{"$f":"'Absorbance Data'!O4038-Calculations!L$1","v":0},{"$f":"'Absorbance Data'!P4038-Calculations!M$1","v":0},{"$f":"'Absorbance Data'!Q4038-Calculations!N$1","v":0},{"$f":"'Absorbance Data'!R4038-Calculations!O$1","v":0},{"$f":"'Absorbance Data'!S4038-Calculations!P$1","v":0},{"$f":"'Absorbance Data'!T4038-Calculations!Q$1","v":0},{"$f":"'Absorbance Data'!U4038-Calculations!R$1","v":0},{"$f":"'Absorbance Data'!V4038-Calculations!S$1","v":0},{"$f":"'Absorbance Data'!W4038-Calculations!T$1","v":0},{"$f":"'Absorbance Data'!X4038-Calculations!U$1","v":0},{"$f":"'Absorbance Data'!Y4038-Calculations!V$1","v":0},{"$f":"'Absorbance Data'!Z4038-Calculations!W$1","v":0}]
[{"$f":"'Absorbance Data'!D4039","v":835.971435546875},{"$f":"'Absorbance Data'!E4039-Calculations!B$1","v":0},{"$f":"'Absorbance Data'!F4039-Calculations!C$1","v":0},{"$f":"'Absorbance Data'!G4039-Calculations!D$1","v":0},{"$f":"'Absorbance Data'!H4039-Calculations!E$1","v":0},{"$f":"'Absorbance Data'!I4039-Calculations!F$1","v":0},{"$f":"'Absorbance Data'!J4039-Calculations!G$1","v":0},{"$f":"'Absorbance Data'!K4039-Calculations!H$1","v":0},{"$f":"'Absorbance Data'!L4039-Calculations!I$1","v":0},{"$f":"'Absorbance Data'!M4039-Calculations!J$1","v":0},{"$f":"'Absorbance Data'!N4039-Calculations!K$1","v":0},{"$f":"'Absorbance Data'!O4039-Calculations!L$1","v":0},{"$f":"'Absorbance Data'!P4039-Calculations!M$1","v":0},{"$f":"'Absorbance Data'!Q4039-Calculations!N$1","v":0},{"$f":"'Absorbance Data'!R4039-Calculations!O$1","v":0},{"$f":"'Absorbance Data'!S4039-Calculations!P$1","v":0},{"$f":"'Absorbance Data'!T4039-Calculations!Q$1","v":0},{"$f":"'Absorbance Data'!U4039-Calculations!R$1","v":0},{"$f":"'Absorbance Data'!V4039-Calculations!S$1","v":0},{"$f":"'Absorbance Data'!W4039-Calculations!T$1","v":0},{"$f":"'Absorbance Data'!X4039-Calculations!U$1","v":0},{"$f":"'Absorbance Data'!Y4039-Calculations!V$1","v":0},{"$f":"'Absorbance Data'!Z4039-Calculations!W$1","v":0}]
[{"$f":"'Absorbance Data'!D4040","v":836.25665283203125},{"$f":"'Absorbance Data'!E4040-Calculations!B$1","v":0},{"$f":"'Absorbance Data'!F4040-Calculations!C$1","v":0},{"$f":"'Absorbance Data'!G4040-Calculations!D$1","v":0},{"$f":"'Absorbance Data'!H4040-Calculations!E$1","v":0},{"$f":"'Absorbance Data'!I4040-Calculations!F$1","v":0},{"$f":"'Absorbance Data'!J4040-Calculations!G$1","v":0},{"$f":"'Absorbance Data'!K4040-Calculations!H$1","v":0},{"$f":"'Absorbance Data'!L4040-Calculations!I$1","v":0},{"$f":"'Absorbance Data'!M4040-Calculations!J$1","v":0},{"$f":"'Absorbance Data'!N4040-Calculations!K$1","v":0},{"$f":"'Absorbance Data'!O4040-Calculations!L$1","v":0},{"$f":"'Absorbance Data'!P4040-Calculations!M$1","v":0},{"$f":"'Absorbance Data'!Q4040-Calculations!N$1","v":0},{"$f":"'Absorbance Data'!R4040-Calculations!O$1","v":0},{"$f":"'Absorbance Data'!S4040-Calculations!P$1","v":0},{"$f":"'Absorbance Data'!T4040-Calculations!Q$1","v":0},{"$f":"'Absorbance Data'!U4040-Calculations!R$1","v":0},{"$f":"'Absorbance Data'!V4040-Calculations!S$1","v":0},{"$f":"'Absorbance Data'!W4040-Calculations!T$1","v":0},{"$f":"'Absorbance Data'!X4040-Calculations!U$1","v":0},{"$f":"'Absorbance Data'!Y4040-Calculations!V$1","v":0},{"$f":"'Absorbance Data'!Z4040-Calculations!W$1","v":0}]
[{"$f":"'Absorbance Data'!D4041","v":836.54180908203125},{"$f":"'Absorbance Data'!E4041-Calculations!B$1","v":0},{"$f":"'Absorbance Data'!F4041-Calculations!C$1","v":0},{"$f":"'Absorbance Data'!G4041-Calculations!D$1","v":0},{"$f":"'Absorbance Data'!H4041-Calculations!E$1","v":0},{"$f":"'Absorbance Data'!I4041-Calculations!F$1","v":0},{"$f":"'Absorbance Data'!J4041-Calculations!G$1","v":0},{"$f":"'Absorbance Data'!K4041-Calculations!H$1","v":0},{"$f":"'Absorbance Data'!L4041-Calculations!I$1","v":0},{"$f":"'Absorbance Data'!M4041-Calculations!J$1","v":0},{"$f":"'Absorbance Data'!N4041-Calculations!K$1","v":0},{"$f":"'Absorbance Data'!O4041-Calculations!L$1","v":0},{"$f":"'Absorbance Data'!P4041-Calculations!M$1","v":0},{"$f":"'Absorbance Data'!Q4041-Calculations!N$1","v":0},{"$f":"'Absorbance Data'!R4041-Calculations!O$1","v":0},{"$f":"'Absorbance Data'!S4041-Calculations!P$1","v":0},{"$f":"'Absorbance Data'!T4041-Calculations!Q$1","v":0},{"$f":"'Absorbance Data'!U4041-Calculations!R$1","v":0},{"$f":"'Absorbance Data'!V4041-Calculations!S$1","v":0},{"$f":"'Absorbance Data'!W4041-Calculations!T$1","v":0},{"$f":"'Absorbance Data'!X4041-Calculations!U$1","v":0},{"$f":"'Absorbance Data'!Y4041-Calculations!V$1","v":0},{"$f":"'Absorbance Data'!Z4041-Calculations!W$1","v":0}]
[{"$f":"'Absorbance Data'!D4042","v":836.82696533203125},{"$f":"'Absorbance Data'!E4042-Calculations!B$1","v":0},{"$f":"'Absorbance Data'!F4042-Calculations!C$1","v":0},{"$f":"'Absorbance Data'!G4042-Calculations!D$1","v":0},{"$f":"'Absorbance Data'!H4042-Calculations!E$1","v":0},{"$f":"'Absorbance Data'!I4042-Calculations!F$1","v":0},{"$f":"'Absorbance Data'!J4042-Calculations!G$1","v":0},{"$f":"'Absorbance Data'!K4042-Calculations!H$1","v":0},{"$f":"'Absorbance Data'!L4042-Calculations!I$1","v":0},{"$f":"'Absorbance Data'!M4042-Calculations!J$1","v":0},{"$f":"'Absorbance Data'!N4042-Calculations!K$1","v":0},{"$f":"'Absorbance Data'!O4042-Calculations!L$1","v":0},{"$f":"'Absorbance Data'!P4042-Calculations!M$1","v":0},{"$f":"'Absorbance Data'!Q4042-Calculations!N$1","v":0},{"$f":"'Absorbance Data'!R4042-Calculations!O$1","v":0},{"$f":"'Absorbance Data'!S4042-Calculations!P$1","v":0},{"$f":"'Absorbance Data'!T4042-Calculations!Q$1","v":0},{"$f":"'Absorbance Data'!U4042-Calculations!R$1","v":0},{"$f":"'Absorbance Data'!V4042-Calculations!S$1","v":0},{"$f":"'Absorbance Data'!W4042-Calculations!T$1","v":0},{"$f":"'Absorbance Data'!X4042-Calculations!U$1","v":0},{"$f":"'Absorbance Data'!Y4042-Calculations!V$1","v":0},{"$f":"'Absorbance Data'!Z4042-Calculations!W$1","v":0}]
[{"$f":"'Absorbance Data'!D4043","v":837.11199951171875},{"$f":"'Absorbance Data'!E4043-Calculations!B$1","v":0},{"$f":"'Absorbance Data'!F4043-Calculations!C$1","v":0},{"$f":"'Absorbance Data'!G4043-Calculations!D$1","v":0},{"$f":"'Absorbance Data'!H4043-Calculations!E$1","v":0},{"$f":"'Absorbance Data'!I4043-Calculations!F$1","v":0},{"$f":"'Absorbance Data'!J4043-Calculations!G$1","v":0},{"$f":"'Absorbance Data'!K4043-Calculations!H$1","v":0},{"$f":"'Absorbance Data'!L4043-Calculations!I$1","v":0},{"$f":"'Absorbance Data'!M4043-Calculations!J$1","v":0},{"$f":"'Absorbance Data'!N4043-Calculations!K$1","v":0},{"$f":"'Absorbance Data'!O4043-Calculations!L$1","v":0},{"$f":"'Absorbance Data'!P4043-Calculations!M$1","v":0},{"$f":"'Absorbance Data'!Q4043-Calculations!N$1","v":0},{"$f":"'Absorbance Data'!R4043-Calculations!O$1","v":0},{"$f":"'Absorbance Data'!S4043-Calculations!P$1","v":0},{"$f":"'Absorbance Data'!T4043-Calculations!Q$1","v":0},{"$f":"'Absorbance Data'!U4043-Calculations!R$1","v":0},{"$f":"'Absorbance Data'!V4043-Calculations!S$1","v":0},{"$f":"'Absorbance Data'!W4043-Calculations!T$1","v":0},{"$f":"'Absorbance Data'!X4043-Calculations!U$1","v":0},{"$f":"'Absorbance Data'!Y4043-Calculations!V$1","v":0},{"$f":"'Absorbance Data'!Z4043-Calculations!W$1","v":0}]
[{"$f":"'Absorbance Data'!D4044","v":837.39703369140625},{"$f":"'Absorbance Data'!E4044-Calculations!B$1","v":0},{"$f":"'Absorbance Data'!F4044-Calculations!C$1","v":0},{"$f":"'Absorbance Data'!G4044-Calculations!D$1","v":0},{"$f":"'Absorbance Data'!H4044-Calculations!E$1","v":0},{"$f":"'Absorbance Data'!I4044-Calculations!F$1","v":0},{"$f":"'Absorbance Data'!J4044-Calculations!G$1","v":0},{"$f":"'Absorbance Data'!K4044-Calculations!H$1","v":0},{"$f":"'Absorbance Data'!L4044-Calculations!I$1","v":0},{"$f":"'Absorbance Data'!M4044-Calculations!J$1","v":0},{"$f":"'Absorbance Data'!N4044-Calculations!K$1","v":0},{"$f":"'Absorbance Data'!O4044-Calculations!L$1","v":0},{"$f":"'Absorbance Data'!P4044-Calculations!M$1","v":0},{"$f":"'Absorbance Data'!Q4044-Calculations!N$1","v":0},{"$f":"'Absorbance Data'!R4044-Calculations!O$1","v":0},{"$f":"'Absorbance Data'!S4044-Calculations!P$1","v":0},{"$f":"'Absorbance Data'!T4044-Calculations!Q$1","v":0},{"$f":"'Absorbance Data'!U4044-Calculations!R$1","v":0},{"$f":"'Absorbance Data'!V4044-Calculations!S$1","v":0},{"$f":"'Absorbance Data'!W4044-Calculations!T$1","v":0},{"$f":"'Absorbance Data'!X4044-Calculations!U$1","v":0},{"$f":"'Absorbance Data'!Y4044-Calculations!V$1","v":0},{"$f":"'Absorbance Data'!Z4044-Calculations!W$1","v":0}]
[{"$f":"'Absorbance Data'!D4045","v":837.6820068359375},{"$f":"'Absorbance Data'!E4045-Calculations!B$1","v":0},{"$f":"'Absorbance Data'!F4045-Calculations!C$1","v":0},{"$f":"'Absorbance Data'!G4045-Calculations!D$1","v":0},{"$f":"'Absorbance Data'!H4045-Calculations!E$1","v":0},{"$f":"'Absorbance Data'!I4045-Calculations!F$1","v":0},{"$f":"'Absorbance Data'!J4045-Calculations!G$1","v":0},{"$f":"'Absorbance Data'!K4045-Calculations!H$1","v":0},{"$f":"'Absorbance Data'!L4045-Calculations!I$1","v":0},{"$f":"'Absorbance Data'!M4045-Calculations!J$1","v":0},{"$f":"'Absorbance Data'!N4045-Calculations!K$1","v":0},{"$f":"'Absorbance Data'!O4045-Calculations!L$1","v":0},{"$f":"'Absorbance Data'!P4045-Calculations!M$1","v":0},{"$f":"'Absorbance Data'!Q4045-Calculations!N$1","v":0},{"$f":"'Absorbance Data'!R4045-Calculations!O$1","v":0},{"$f":"'Absorbance Data'!S4045-Calculations!P$1","v":0},{"$f":"'Absorbance Data'!T4045-Calculations!Q$1","v":0},{"$f":"'Absorbance Data'!U4045-Calculations!R$1","v":0},{"$f":"'Absorbance Data'!V4045-Calculations!S$1","v":0},{"$f":"'Absorbance Data'!W4045-Calculations!T$1","v":0},{"$f":"'Absorbance Data'!X4045-Calculations!U$1","v":0},{"$f":"'Absorbance Data'!Y4045-Calculations!V$1","v":0},{"$f":"'Absorbance Data'!Z4045-Calculations!W$1","v":0}]
[{"$f":"'Absorbance Data'!D4046","v":837.9669189453125},{"$f":"'Absorbance Data'!E4046-Calculations!B$1","v":0},{"$f":"'Absorbance Data'!F4046-Calculations!C$1","v":0},{"$f":"'Absorbance Data'!G4046-Calculations!D$1","v":0},{"$f":"'Absorbance Data'!H4046-Calculations!E$1","v":0},{"$f":"'Absorbance Data'!I4046-Calculations!F$1","v":0},{"$f":"'Absorbance Data'!J4046-Calculations!G$1","v":0},{"$f":"'Absorbance Data'!K4046-Calculations!H$1","v":0},{"$f":"'Absorbance Data'!L4046-Calculations!I$1","v":0},{"$f":"'Absorbance Data'!M4046-Calculations!J$1","v":0},{"$f":"'Absorbance Data'!N4046-Calculations!K$1","v":0},{"$f":"'Absorbance Data'!O4046-Calculations!L$1","v":0},{"$f":"'Absorbance Data'!P4046-Calculations!M$1","v":0},{"$f":"'Absorbance Data'!Q4046-Calculations!N$1","v":0},{"$f":"'Absorbance Data'!R4046-Calculations!O$1","v":0},{"$f":"'Absorbance Data'!S4046-Calculations!P$1","v":0},{"$f":"'Absorbance Data'!T4046-Calculations!Q$1","v":0},{"$f":"'Absorbance Data'!U4046-Calculations!R$1","v":0},{"$f":"'Absorbance Data'!V4046-Calculations!S$1","v":0},{"$f":"'Absorbance Data'!W4046-Calculations!T$1","v":0},{"$f":"'Absorbance Data'!X4046-Calculations!U$1","v":0},{"$f":"'Absorbance Data'!Y4046-Calculations!V$1","v":0},{"$f":"'Absorbance Data'!Z4046-Calculations!W$1","v":0}]
[{"$f":"'Absorbance Data'!D4047","v":838.2518310546875},{"$f":"'Absorbance Data'!E4047-Calculations!B$1","v":0},{"$f":"'Absorbance Data'!F4047-Calculations!C$1","v":0},{"$f":"'Absorbance Data'!G4047-Calculations!D$1","v":0},{"$f":"'Absorbance Data'!H4047-Calculations!E$1","v":0},{"$f":"'Absorbance Data'!I4047-Calculations!F$1","v":0},{"$f":"'Absorbance Data'!J4047-Calculations!G$1","v":0},{"$f":"'Absorbance Data'!K4047-Calculations!H$1","v":0},{"$f":"'Absorbance Data'!L4047-Calculations!I$1","v":0},{"$f":"'Absorbance Data'!M4047-Calculations!J$1","v":0},{"$f":"'Absorbance Data'!N4047-Calculations!K$1","v":0},{"$f":"'Absorbance Data'!O4047-Calculations!L$1","v":0},{"$f":"'Absorbance Data'!P4047-Calculations!M$1","v":0},{"$f":"'Absorbance Data'!Q4047-Calculations!N$1","v":0},{"$f":"'Absorbance Data'!R4047-Calculations!O$1","v":0},{"$f":"'Absorbance Data'!S4047-Calculations!P$1","v":0},{"$f":"'Absorbance Data'!T4047-Calculations!Q$1","v":0},{"$f":"'Absorbance Data'!U4047-Calculations!R$1","v":0},{"$f":"'Absorbance Data'!V4047-Calculations!S$1","v":0},{"$f":"'Absorbance Data'!W4047-Calculations!T$1","v":0},{"$f":"'Absorbance Data'!X4047-Calculations!U$1","v":0},{"$f":"'Absorbance Data'!Y4047-Calculations!V$1","v":0},{"$f":"'Absorbance Data'!Z4047-Calculations!W$1","v":0}]
[{"$f":"'Absorbance Data'!D4048","v":838.53662109375},{"$f":"'Absorbance Data'!E4048-Calculations!B$1","v":0},{"$f":"'Absorbance Data'!F4048-Calculations!C$1","v":0},{"$f":"'Absorbance Data'!G4048-Calculations!D$1","v":0},{"$f":"'Absorbance Data'!H4048-Calculations!E$1","v":0},{"$f":"'Absorbance Data'!I4048-Calculations!F$1","v":0},{"$f":"'Absorbance Data'!J4048-Calculations!G$1","v":0},{"$f":"'Absorbance Data'!K4048-Calculations!H$1","v":0},{"$f":"'Absorbance Data'!L4048-Calculations!I$1","v":0},{"$f":"'Absorbance Data'!M4048-Calculations!J$1","v":0},{"$f":"'Absorbance Data'!N4048-Calculations!K$1","v":0},{"$f":"'Absorbance Data'!O4048-Calculations!L$1","v":0},{"$f":"'Absorbance Data'!P4048-Calculations!M$1","v":0},{"$f":"'Absorbance Data'!Q4048-Calculations!N$1","v":0},{"$f":"'Absorbance Data'!R4048-Calculations!O$1","v":0},{"$f":"'Absorbance Data'!S4048-Calculations!P$1","v":0},{"$f":"'Absorbance Data'!T4048-Calculations!Q$1","v":0},{"$f":"'Absorbance Data'!U4048-Calculations!R$1","v":0},{"$f":"'Absorbance Data'!V4048-Calculations!S$1","v":0},{"$f":"'Absorbance Data'!W4048-Calculations!T$1","v":0},{"$f":"'Absorbance Data'!X4048-Calculations!U$1","v":0},{"$f":"'Absorbance Data'!Y4048-Calculations!V$1","v":0},{"$f":"'Absorbance Data'!Z4048-Calculations!W$1","v":0}]
[{"$f":"'Absorbance Data'!D4049","v":838.8214111328125},{"$f":"'Absorbance Data'!E4049-Calculations!B$1","v":0},{"$f":"'Absorbance Data'!F4049-Calculations!C$1","v":0},{"$f":"'Absorbance Data'!G4049-Calculations!D$1","v":0},{"$f":"'Absorbance Data'!H4049-Calculations!E$1","v":0},{"$f":"'Absorbance Data'!I4049-Calculations!F$1","v":0},{"$f":"'Absorbance Data'!J4049-Calculations!G$1","v":0},{"$f":"'Absorbance Data'!K4049-Calculations!H$1","v":0},{"$f":"'Absorbance Data'!L4049-Calculations!I$1","v":0},{"$f":"'Absorbance Data'!M4049-Calculations!J$1","v":0},{"$f":"'Absorbance Data'!N4049-Calculations!K$1","v":0},{"$f":"'Absorbance Data'!O4049-Calculations!L$1","v":0},{"$f":"'Absorbance Data'!P4049-Calculations!M$1","v":0},{"$f":"'Absorbance Data'!Q4049-Calculations!N$1","v":0},{"$f":"'Absorbance Data'!R4049-Calculations!O$1","v":0},{"$f":"'Absorbance Data'!S4049-Calculations!P$1","v":0},{"$f":"'Absorbance Data'!T4049-Calculations!Q$1","v":0},{"$f":"'Absorbance Data'!U4049-Calculations!R$1","v":0},{"$f":"'Absorbance Data'!V4049-Calculations!S$1","v":0},{"$f":"'Absorbance Data'!W4049-Calculations!T$1","v":0},{"$f":"'Absorbance Data'!X4049-Calculations!U$1","v":0},{"$f":"'Absorbance Data'!Y4049-Calculations!V$1","v":0},{"$f":"'Absorbance Data'!Z4049-Calculations!W$1","v":0}]
[{"$f":"'Absorbance Data'!D4050","v":839.10614013671875},{"$f":"'Absorbance Data'!E4050-Calculations!B$1","v":0},{"$f":"'Absorbance Data'!F4050-Calculations!C$1","v":0},{"$f":"'Absorbance Data'!G4050-Calculations!D$1","v":0},{"$f":"'Absorbance Data'!H4050-Calculations!E$1","v":0},{"$f":"'Absorbance Data'!I4050-Calculations!F$1","v":0},{"$f":"'Absorbance Data'!J4050-Calculations!G$1","v":0},{"$f":"'Absorbance Data'!K4050-Calculations!H$1","v":0},{"$f":"'Absorbance Data'!L4050-Calculations!I$1","v":0},{"$f":"'Absorbance Data'!M4050-Calculations!J$1","v":0},{"$f":"'Absorbance Data'!N4050-Calculations!K$1","v":0},{"$f":"'Absorbance Data'!O4050-Calculations!L$1","v":0},{"$f":"'Absorbance Data'!P4050-Calculations!M$1","v":0},{"$f":"'Absorbance Data'!Q4050-Calculations!N$1","v":0},{"$f":"'Absorbance Data'!R4050-Calculations!O$1","v":0},{"$f":"'Absorbance Data'!S4050-Calculations!P$1","v":0},{"$f":"'Absorbance Data'!T4050-Calculations!Q$1","v":0},{"$f":"'Absorbance Data'!U4050-Calculations!R$1","v":0},{"$f":"'Absorbance Data'!V4050-Calculations!S$1","v":0},{"$f":"'Absorbance Data'!W4050-Calculations!T$1","v":0},{"$f":"'Absorbance Data'!X4050-Calculations!U$1","v":0},{"$f":"'Absorbance Data'!Y4050-Calculations!V$1","v":0},{"$f":"'Absorbance Data'!Z4050-Calculations!W$1","v":0}]
[{"$f":"'Absorbance Data'!D4051","v":839.390869140625},{"$f":"'Absorbance Data'!E4051-Calculations!B$1","v":0},{"$f":"'Absorbance Data'!F4051-Calculations!C$1","v":0},{"$f":"'Absorbance Data'!G4051-Calculations!D$1","v":0},{"$f":"'Absorbance Data'!H4051-Calculations!E$1","v":0},{"$f":"'Absorbance Data'!I4051-Calculations!F$1","v":0},{"$f":"'Absorbance Data'!J4051-Calculations!G$1","v":0},{"$f":"'Absorbance Data'!K4051-Calculations!H$1","v":0},{"$f":"'Absorbance Data'!L4051-Calculations!I$1","v":0},{"$f":"'Absorbance Data'!M4051-Calculations!J$1","v":0},{"$f":"'Absorbance Data'!N4051-Calculations!K$1","v":0},{"$f":"'Absorbance Data'!O4051-Calculations!L$1","v":0},{"$f":"'Absorbance Data'!P4051-Calculations!M$1","v":0},{"$f":"'Absorbance Data'!Q4051-Calculations!N$1","v":0},{"$f":"'Absorbance Data'!R4051-Calculations!O$1","v":0},{"$f":"'Absorbance Data'!S4051-Calculations!P$1","v":0},{"$f":"'Absorbance Data'!T4051-Calculations!Q$1","v":0},{"$f":"'Absorbance Data'!U4051-Calculations!R$1","v":0},{"$f":"'Absorbance Data'!V4051-Calculations!S$1","v":0},{"$f":"'Absorbance Data'!W4051-Calculations!T$1","v":0},{"$f":"'Absorbance Data'!X4051-Calculations!U$1","v":0},{"$f":"'Absorbance Data'!Y4051-Calculations!V$1","v":0},{"$f":"'Absorbance Data'!Z4051-Calculations!W$1","v":0}]
[{"$f":"'Absorbance Data'!D4052","v":839.67547607421875},{"$f":"'Absorbance Data'!E4052-Calculations!B$1","v":0},{"$f":"'Absorbance Data'!F4052-Calculations!C$1","v":0},{"$f":"'Absorbance Data'!G4052-Calculations!D$1","v":0},{"$f":"'Absorbance Data'!H4052-Calculations!E$1","v":0},{"$f":"'Absorbance Data'!I4052-Calculations!F$1","v":0},{"$f":"'Absorbance Data'!J4052-Calculations!G$1","v":0},{"$f":"'Absorbance Data'!K4052-Calculations!H$1","v":0},{"$f":"'Absorbance Data'!L4052-Calculations!I$1","v":0},{"$f":"'Absorbance Data'!M4052-Calculations!J$1","v":0},{"$f":"'Absorbance Data'!N4052-Calculations!K$1","v":0},{"$f":"'Absorbance Data'!O4052-Calculations!L$1","v":0},{"$f":"'Absorbance Data'!P4052-Calculations!M$1","v":0},{"$f":"'Absorbance Data'!Q4052-Calculations!N$1","v":0},{"$f":"'Absorbance Data'!R4052-Calculations!O$1","v":0},{"$f":"'Absorbance Data'!S4052-Calculations!P$1","v":0},{"$f":"'Absorbance Data'!T4052-Calculations!Q$1","v":0},{"$f":"'Absorbance Data'!U4052-Calculations!R$1","v":0},{"$f":"'Absorbance Data'!V4052-Calculations!S$1","v":0},{"$f":"'Absorbance Data'!W4052-Calculations!T$1","v":0},{"$f":"'Absorbance Data'!X4052-Calculations!U$1","v":0},{"$f":"'Absorbance Data'!Y4052-Calculations!V$1","v":0},{"$f":"'Absorbance Data'!Z4052-Calculations!W$1","v":0}]
[{"$f":"'Absorbance Data'!D4053","v":839.9600830078125},{"$f":"'Absorbance Data'!E4053-Calculations!B$1","v":0},{"$f":"'Absorbance Data'!F4053-Calculations!C$1","v":0},{"$f":"'Absorbance Data'!G4053-Calculations!D$1","v":0},{"$f":"'Absorbance Data'!H4053-Calculations!E$1","v":0},{"$f":"'Absorbance Data'!I4053-Calculations!F$1","v":0},{"$f":"'Absorbance Data'!J4053-Calculations!G$1","v":0},{"$f":"'Absorbance Data'!K4053-Calculations!H$1","v":0},{"$f":"'Absorbance Data'!L4053-Calculations!I$1","v":0},{"$f":"'Absorbance Data'!M4053-Calculations!J$1","v":0},{"$f":"'Absorbance Data'!N4053-Calculations!K$1","v":0},{"$f":"'Absorbance Data'!O4053-Calculations!L$1","v":0},{"$f":"'Absorbance Data'!P4053-Calculations!M$1","v":0},{"$f":"'Absorbance Data'!Q4053-Calculations!N$1","v":0},{"$f":"'Absorbance Data'!R4053-Calculations!O$1","v":0},{"$f":"'Absorbance Data'!S4053-Calculations!P$1","v":0},{"$f":"'Absorbance Data'!T4053-Calculations!Q$1","v":0},{"$f":"'Absorbance Data'!U4053-Calculations!R$1","v":0},{"$f":"'Absorbance Data'!V4053-Calculations!S$1","v":0},{"$f":"'Absorbance Data'!W4053-Calculations!T$1","v":0},{"$f":"'Absorbance Data'!X4053-Calculations!U$1","v":0},{"$f":"'Absorbance Data'!Y4053-Calculations!V$1","v":0},{"$f":"'Absorbance Data'!Z4053-Calculations!W$1","v":0}]
[{"$f":"'Absorbance Data'!D4054","v":840.2445068359375},{"$f":"'Absorbance Data'!E4054-Calculations!B$1","v":0},{"$f":"'Absorbance Data'!F4054-Calculations!C$1","v":0},{"$f":"'Absorbance Data'!G4054-Calculations!D$1","v":0},{"$f":"'Absorbance Data'!H4054-Calculations!E$1","v":0},{"$f":"'Absorbance Data'!I4054-Calculations!F$1","v":0},{"$f":"'Absorbance Data'!J4054-Calculations!G$1","v":0},{"$f":"'Absorbance Data'!K4054-Calculations!H$1","v":0},{"$f":"'Absorbance Data'!L4054-Calculations!I$1","v":0},{"$f":"'Absorbance Data'!M4054-Calculations!J$1","v":0},{"$f":"'Absorbance Data'!N4054-Calculations!K$1","v":0},{"$f":"'Absorbance Data'!O4054-Calculations!L$1","v":0},{"$f":"'Absorbance Data'!P4054-Calculations!M$1","v":0},{"$f":"'Absorbance Data'!Q4054-Calculations!N$1","v":0},{"$f":"'Absorbance Data'!R4054-Calculations!O$1","v":0},{"$f":"'Absorbance Data'!S4054-Calculations!P$1","v":0},{"$f":"'Absorbance Data'!T4054-Calculations!Q$1","v":0},{"$f":"'Absorbance Data'!U4054-Calculations!R$1","v":0},{"$f":"'Absorbance Data'!V4054-Calculations!S$1","v":0},{"$f":"'Absorbance Data'!W4054-Calculations!T$1","v":0},{"$f":"'Absorbance Data'!X4054-Calculations!U$1","v":0},{"$f":"'Absorbance Data'!Y4054-Calculations!V$1","v":0},{"$f":"'Absorbance Data'!Z4054-Calculations!W$1","v":0}]
[{"$f":"'Absorbance Data'!D4055","v":840.529052734375},{"$f":"'Absorbance Data'!E4055-Calculations!B$1","v":0},{"$f":"'Absorbance Data'!F4055-Calculations!C$1","v":0},{"$f":"'Absorbance Data'!G4055-Calculations!D$1","v":0},{"$f":"'Absorbance Data'!H4055-Calculations!E$1","v":0},{"$f":"'Absorbance Data'!I4055-Calculations!F$1","v":0},{"$f":"'Absorbance Data'!J4055-Calculations!G$1","v":0},{"$f":"'Absorbance Data'!K4055-Calculations!H$1","v":0},{"$f":"'Absorbance Data'!L4055-Calculations!I$1","v":0},{"$f":"'Absorbance Data'!M4055-Calculations!J$1","v":0},{"$f":"'Absorbance Data'!N4055-Calculations!K$1","v":0},{"$f":"'Absorbance Data'!O4055-Calculations!L$1","v":0},{"$f":"'Absorbance Data'!P4055-Calculations!M$1","v":0},{"$f":"'Absorbance Data'!Q4055-Calculations!N$1","v":0},{"$f":"'Absorbance Data'!R4055-Calculations!O$1","v":0},{"$f":"'Absorbance Data'!S4055-Calculations!P$1","v":0},{"$f":"'Absorbance Data'!T4055-Calculations!Q$1","v":0},{"$f":"'Absorbance Data'!U4055-Calculations!R$1","v":0},{"$f":"'Absorbance Data'!V4055-Calculations!S$1","v":0},{"$f":"'Absorbance Data'!W4055-Calculations!T$1","v":0},{"$f":"'Absorbance Data'!X4055-Calculations!U$1","v":0},{"$f":"'Absorbance Data'!Y4055-Calculations!V$1","v":0},{"$f":"'Absorbance Data'!Z4055-Calculations!W$1","v":0}]
[{"$f":"'Absorbance Data'!D4056","v":840.81341552734375},{"$f":"'Absorbance Data'!E4056-Calculations!B$1","v":0},{"$f":"'Absorbance Data'!F4056-Calculations!C$1","v":0},{"$f":"'Absorbance Data'!G4056-Calculations!D$1","v":0},{"$f":"'Absorbance Data'!H4056-Calculations!E$1","v":0},{"$f":"'Absorbance Data'!I4056-Calculations!F$1","v":0},{"$f":"'Absorbance Data'!J4056-Calculations!G$1","v":0},{"$f":"'Absorbance Data'!K4056-Calculations!H$1","v":0},{"$f":"'Absorbance Data'!L4056-Calculations!I$1","v":0},{"$f":"'Absorbance Data'!M4056-Calculations!J$1","v":0},{"$f":"'Absorbance Data'!N4056-Calculations!K$1","v":0},{"$f":"'Absorbance Data'!O4056-Calculations!L$1","v":0},{"$f":"'Absorbance Data'!P4056-Calculations!M$1","v":0},{"$f":"'Absorbance Data'!Q4056-Calculations!N$1","v":0},{"$f":"'Absorbance Data'!R4056-Calculations!O$1","v":0},{"$f":"'Absorbance Data'!S4056-Calculations!P$1","v":0},{"$f":"'Absorbance Data'!T4056-Calculations!Q$1","v":0},{"$f":"'Absorbance Data'!U4056-Calculations!R$1","v":0},{"$f":"'Absorbance Data'!V4056-Calculations!S$1","v":0},{"$f":"'Absorbance Data'!W4056-Calculations!T$1","v":0},{"$f":"'Absorbance Data'!X4056-Calculations!U$1","v":0},{"$f":"'Absorbance Data'!Y4056-Calculations!V$1","v":0},{"$f":"'Absorbance Data'!Z4056-Calculations!W$1","v":0}]
[{"$f":"'Absorbance Data'!D4057","v":841.09783935546875},{"$f":"'Absorbance Data'!E4057-Calculations!B$1","v":0},{"$f":"'Absorbance Data'!F4057-Calculations!C$1","v":0},{"$f":"'Absorbance Data'!G4057-Calculations!D$1","v":0},{"$f":"'Absorbance Data'!H4057-Calculations!E$1","v":0},{"$f":"'Absorbance Data'!I4057-Calculations!F$1","v":0},{"$f":"'Absorbance Data'!J4057-Calculations!G$1","v":0},{"$f":"'Absorbance Data'!K4057-Calculations!H$1","v":0},{"$f":"'Absorbance Data'!L4057-Calculations!I$1","v":0},{"$f":"'Absorbance Data'!M4057-Calculations!J$1","v":0},{"$f":"'Absorbance Data'!N4057-Calculations!K$1","v":0},{"$f":"'Absorbance Data'!O4057-Calculations!L$1","v":0},{"$f":"'Absorbance Data'!P4057-Calculations!M$1","v":0},{"$f":"'Absorbance Data'!Q4057-Calculations!N$1","v":0},{"$f":"'Absorbance Data'!R4057-Calculations!O$1","v":0},{"$f":"'Absorbance Data'!S4057-Calculations!P$1","v":0},{"$f":"'Absorbance Data'!T4057-Calculations!Q$1","v":0},{"$f":"'Absorbance Data'!U4057-Calculations!R$1","v":0},{"$f":"'Absorbance Data'!V4057-Calculations!S$1","v":0},{"$f":"'Absorbance Data'!W4057-Calculations!T$1","v":0},{"$f":"'Absorbance Data'!X4057-Calculations!U$1","v":0},{"$f":"'Absorbance Data'!Y4057-Calculations!V$1","v":0},{"$f":"'Absorbance Data'!Z4057-Calculations!W$1","v":0}]
[{"$f":"'Absorbance Data'!D4058","v":841.38214111328125},{"$f":"'Absorbance Data'!E4058-Calculations!B$1","v":0},{"$f":"'Absorbance Data'!F4058-Calculations!C$1","v":0},{"$f":"'Absorbance Data'!G4058-Calculations!D$1","v":0},{"$f":"'Absorbance Data'!H4058-Calculations!E$1","v":0},{"$f":"'Absorbance Data'!I4058-Calculations!F$1","v":0},{"$f":"'Absorbance Data'!J4058-Calculations!G$1","v":0},{"$f":"'Absorbance Data'!K4058-Calculations!H$1","v":0},{"$f":"'Absorbance Data'!L4058-Calculations!I$1","v":0},{"$f":"'Absorbance Data'!M4058-Calculations!J$1","v":0},{"$f":"'Absorbance Data'!N4058-Calculations!K$1","v":0},{"$f":"'Absorbance Data'!O4058-Calculations!L$1","v":0},{"$f":"'Absorbance Data'!P4058-Calculations!M$1","v":0},{"$f":"'Absorbance Data'!Q4058-Calculations!N$1","v":0},{"$f":"'Absorbance Data'!R4058-Calculations!O$1","v":0},{"$f":"'Absorbance Data'!S4058-Calculations!P$1","v":0},{"$f":"'Absorbance Data'!T4058-Calculations!Q$1","v":0},{"$f":"'Absorbance Data'!U4058-Calculations!R$1","v":0},{"$f":"'Absorbance Data'!V4058-Calculations!S$1","v":0},{"$f":"'Absorbance Data'!W4058-Calculations!T$1","v":0},{"$f":"'Absorbance Data'!X4058-Calculations!U$1","v":0},{"$f":"'Absorbance Data'!Y4058-Calculations!V$1","v":0},{"$f":"'Absorbance Data'!Z4058-Calculations!W$1","v":0}]
[{"$f":"'Absorbance Data'!D4059","v":841.6663818359375},{"$f":"'Absorbance Data'!E4059-Calculations!B$1","v":0},{"$f":"'Absorbance Data'!F4059-Calculations!C$1","v":0},{"$f":"'Absorbance Data'!G4059-Calculations!D$1","v":0},{"$f":"'Absorbance Data'!H4059-Calculations!E$1","v":0},{"$f":"'Absorbance Data'!I4059-Calculations!F$1","v":0},{"$f":"'Absorbance Data'!J4059-Calculations!G$1","v":0},{"$f":"'Absorbance Data'!K4059-Calculations!H$1","v":0},{"$f":"'Absorbance Data'!L4059-Calculations!I$1","v":0},{"$f":"'Absorbance Data'!M4059-Calculations!J$1","v":0},{"$f":"'Absorbance Data'!N4059-Calculations!K$1","v":0},{"$f":"'Absorbance Data'!O4059-Calculations!L$1","v":0},{"$f":"'Absorbance Data'!P4059-Calculations!M$1","v":0},{"$f":"'Absorbance Data'!Q4059-Calculations!N$1","v":0},{"$f":"'Absorbance Data'!R4059-Calculations!O$1","v":0},{"$f":"'Absorbance Data'!S4059-Calculations!P$1","v":0},{"$f":"'Absorbance Data'!T4059-Calculations!Q$1","v":0},{"$f":"'Absorbance Data'!U4059-Calculations!R$1","v":0},{"$f":"'Absorbance Data'!V4059-Calculations!S$1","v":0},{"$f":"'Absorbance Data'!W4059-Calculations!T$1","v":0},{"$f":"'Absorbance Data'!X4059-Calculations!U$1","v":0},{"$f":"'Absorbance Data'!Y4059-Calculations!V$1","v":0},{"$f":"'Absorbance Data'!Z4059-Calculations!W$1","v":0}]
[{"$f":"'Absorbance Data'!D4060","v":841.95062255859375},{"$f":"'Absorbance Data'!E4060-Calculations!B$1","v":0},{"$f":"'Absorbance Data'!F4060-Calculations!C$1","v":0},{"$f":"'Absorbance Data'!G4060-Calculations!D$1","v":0},{"$f":"'Absorbance Data'!H4060-Calculations!E$1","v":0},{"$f":"'Absorbance Data'!I4060-Calculations!F$1","v":0},{"$f":"'Absorbance Data'!J4060-Calculations!G$1","v":0},{"$f":"'Absorbance Data'!K4060-Calculations!H$1","v":0},{"$f":"'Absorbance Data'!L4060-Calculations!I$1","v":0},{"$f":"'Absorbance Data'!M4060-Calculations!J$1","v":0},{"$f":"'Absorbance Data'!N4060-Calculations!K$1","v":0},{"$f":"'Absorbance Data'!O4060-Calculations!L$1","v":0},{"$f":"'Absorbance Data'!P4060-Calculations!M$1","v":0},{"$f":"'Absorbance Data'!Q4060-Calculations!N$1","v":0},{"$f":"'Absorbance Data'!R4060-Calculations!O$1","v":0},{"$f":"'Absorbance Data'!S4060-Calculations!P$1","v":0},{"$f":"'Absorbance Data'!T4060-Calculations!Q$1","v":0},{"$f":"'Absorbance Data'!U4060-Calculations!R$1","v":0},{"$f":"'Absorbance Data'!V4060-Calculations!S$1","v":0},{"$f":"'Absorbance Data'!W4060-Calculations!T$1","v":0},{"$f":"'Absorbance Data'!X4060-Calculations!U$1","v":0},{"$f":"'Absorbance Data'!Y4060-Calculations!V$1","v":0},{"$f":"'Absorbance Data'!Z4060-Calculations!W$1","v":0}]
[{"$f":"'Absorbance Data'!D4061","v":842.23480224609375},{"$f":"'Absorbance Data'!E4061-Calculations!B$1","v":0},{"$f":"'Absorbance Data'!F4061-Calculations!C$1","v":0},{"$f":"'Absorbance Data'!G4061-Calculations!D$1","v":0},{"$f":"'Absorbance Data'!H4061-Calculations!E$1","v":0},{"$f":"'Absorbance Data'!I4061-Calculations!F$1","v":0},{"$f":"'Absorbance Data'!J4061-Calculations!G$1","v":0},{"$f":"'Absorbance Data'!K4061-Calculations!H$1","v":0},{"$f":"'Absorbance Data'!L4061-Calculations!I$1","v":0},{"$f":"'Absorbance Data'!M4061-Calculations!J$1","v":0},{"$f":"'Absorbance Data'!N4061-Calculations!K$1","v":0},{"$f":"'Absorbance Data'!O4061-Calculations!L$1","v":0},{"$f":"'Absorbance Data'!P4061-Calculations!M$1","v":0},{"$f":"'Absorbance Data'!Q4061-Calculations!N$1","v":0},{"$f":"'Absorbance Data'!R4061-Calculations!O$1","v":0},{"$f":"'Absorbance Data'!S4061-Calculations!P$1","v":0},{"$f":"'Absorbance Data'!T4061-Calculations!Q$1","v":0},{"$f":"'Absorbance Data'!U4061-Calculations!R$1","v":0},{"$f":"'Absorbance Data'!V4061-Calculations!S$1","v":0},{"$f":"'Absorbance Data'!W4061-Calculations!T$1","v":0},{"$f":"'Absorbance Data'!X4061-Calculations!U$1","v":0},{"$f":"'Absorbance Data'!Y4061-Calculations!V$1","v":0},{"$f":"'Absorbance Data'!Z4061-Calculations!W$1","v":0}]
[{"$f":"'Absorbance Data'!D4062","v":842.5189208984375},{"$f":"'Absorbance Data'!E4062-Calculations!B$1","v":0},{"$f":"'Absorbance Data'!F4062-Calculations!C$1","v":0},{"$f":"'Absorbance Data'!G4062-Calculations!D$1","v":0},{"$f":"'Absorbance Data'!H4062-Calculations!E$1","v":0},{"$f":"'Absorbance Data'!I4062-Calculations!F$1","v":0},{"$f":"'Absorbance Data'!J4062-Calculations!G$1","v":0},{"$f":"'Absorbance Data'!K4062-Calculations!H$1","v":0},{"$f":"'Absorbance Data'!L4062-Calculations!I$1","v":0},{"$f":"'Absorbance Data'!M4062-Calculations!J$1","v":0},{"$f":"'Absorbance Data'!N4062-Calculations!K$1","v":0},{"$f":"'Absorbance Data'!O4062-Calculations!L$1","v":0},{"$f":"'Absorbance Data'!P4062-Calculations!M$1","v":0},{"$f":"'Absorbance Data'!Q4062-Calculations!N$1","v":0},{"$f":"'Absorbance Data'!R4062-Calculations!O$1","v":0},{"$f":"'Absorbance Data'!S4062-Calculations!P$1","v":0},{"$f":"'Absorbance Data'!T4062-Calculations!Q$1","v":0},{"$f":"'Absorbance Data'!U4062-Calculations!R$1","v":0},{"$f":"'Absorbance Data'!V4062-Calculations!S$1","v":0},{"$f":"'Absorbance Data'!W4062-Calculations!T$1","v":0},{"$f":"'Absorbance Data'!X4062-Calculations!U$1","v":0},{"$f":"'Absorbance Data'!Y4062-Calculations!V$1","v":0},{"$f":"'Absorbance Data'!Z4062-Calculations!W$1","v":0}]
[{"$f":"'Absorbance Data'!D4063","v":842.80303955078125},{"$f":"'Absorbance Data'!E4063-Calculations!B$1","v":0},{"$f":"'Absorbance Data'!F4063-Calculations!C$1","v":0},{"$f":"'Absorbance Data'!G4063-Calculations!D$1","v":0},{"$f":"'Absorbance Data'!H4063-Calculations!E$1","v":0},{"$f":"'Absorbance Data'!I4063-Calculations!F$1","v":0},{"$f":"'Absorbance Data'!J4063-Calculations!G$1","v":0},{"$f":"'Absorbance Data'!K4063-Calculations!H$1","v":0},{"$f":"'Absorbance Data'!L4063-Calculations!I$1","v":0},{"$f":"'Absorbance Data'!M4063-Calculations!J$1","v":0},{"$f":"'Absorbance Data'!N4063-Calculations!K$1","v":0},{"$f":"'Absorbance Data'!O4063-Calculations!L$1","v":0},{"$f":"'Absorbance Data'!P4063-Calculations!M$1","v":0},{"$f":"'Absorbance Data'!Q4063-Calculations!N$1","v":0},{"$f":"'Absorbance Data'!R4063-Calculations!O$1","v":0},{"$f":"'Absorbance Data'!S4063-Calculations!P$1","v":0},{"$f":"'Absorbance Data'!T4063-Calculations!Q$1","v":0},{"$f":"'Absorbance Data'!U4063-Calculations!R$1","v":0},{"$f":"'Absorbance Data'!V4063-Calculations!S$1","v":0},{"$f":"'Absorbance Data'!W4063-Calculations!T$1","v":0},{"$f":"'Absorbance Data'!X4063-Calculations!U$1","v":0},{"$f":"'Absorbance Data'!Y4063-Calculations!V$1","v":0},{"$f":"'Absorbance Data'!Z4063-Calculations!W$1","v":0}]
[{"$f":"'Absorbance Data'!D4064","v":843.08697509765625},{"$f":"'Absorbance Data'!E4064-Calculations!B$1","v":0},{"$f":"'Absorbance Data'!F4064-Calculations!C$1","v":0},{"$f":"'Absorbance Data'!G4064-Calculations!D$1","v":0},{"$f":"'Absorbance Data'!H4064-Calculations!E$1","v":0},{"$f":"'Absorbance Data'!I4064-Calculations!F$1","v":0},{"$f":"'Absorbance Data'!J4064-Calculations!G$1","v":0},{"$f":"'Absorbance Data'!K4064-Calculations!H$1","v":0},{"$f":"'Absorbance Data'!L4064-Calculations!I$1","v":0},{"$f":"'Absorbance Data'!M4064-Calculations!J$1","v":0},{"$f":"'Absorbance Data'!N4064-Calculations!K$1","v":0},{"$f":"'Absorbance Data'!O4064-Calculations!L$1","v":0},{"$f":"'Absorbance Data'!P4064-Calculations!M$1","v":0},{"$f":"'Absorbance Data'!Q4064-Calculations!N$1","v":0},{"$f":"'Absorbance Data'!R4064-Calculations!O$1","v":0},{"$f":"'Absorbance Data'!S4064-Calculations!P$1","v":0},{"$f":"'Absorbance Data'!T4064-Calculations!Q$1","v":0},{"$f":"'Absorbance Data'!U4064-Calculations!R$1","v":0},{"$f":"'Absorbance Data'!V4064-Calculations!S$1","v":0},{"$f":"'Absorbance Data'!W4064-Calculations!T$1","v":0},{"$f":"'Absorbance Data'!X4064-Calculations!U$1","v":0},{"$f":"'Absorbance Data'!Y4064-Calculations!V$1","v":0},{"$f":"'Absorbance Data'!Z4064-Calculations!W$1","v":0}]
[{"$f":"'Absorbance Data'!D4065","v":843.3709716796875},{"$f":"'Absorbance Data'!E4065-Calculations!B$1","v":0},{"$f":"'Absorbance Data'!F4065-Calculations!C$1","v":0},{"$f":"'Absorbance Data'!G4065-Calculations!D$1","v":0},{"$f":"'Absorbance Data'!H4065-Calculations!E$1","v":0},{"$f":"'Absorbance Data'!I4065-Calculations!F$1","v":0},{"$f":"'Absorbance Data'!J4065-Calculations!G$1","v":0},{"$f":"'Absorbance Data'!K4065-Calculations!H$1","v":0},{"$f":"'Absorbance Data'!L4065-Calculations!I$1","v":0},{"$f":"'Absorbance Data'!M4065-Calculations!J$1","v":0},{"$f":"'Absorbance Data'!N4065-Calculations!K$1","v":0},{"$f":"'Absorbance Data'!O4065-Calculations!L$1","v":0},{"$f":"'Absorbance Data'!P4065-Calculations!M$1","v":0},{"$f":"'Absorbance Data'!Q4065-Calculations!N$1","v":0},{"$f":"'Absorbance Data'!R4065-Calculations!O$1","v":0},{"$f":"'Absorbance Data'!S4065-Calculations!P$1","v":0},{"$f":"'Absorbance Data'!T4065-Calculations!Q$1","v":0},{"$f":"'Absorbance Data'!U4065-Calculations!R$1","v":0},{"$f":"'Absorbance Data'!V4065-Calculations!S$1","v":0},{"$f":"'Absorbance Data'!W4065-Calculations!T$1","v":0},{"$f":"'Absorbance Data'!X4065-Calculations!U$1","v":0},{"$f":"'Absorbance Data'!Y4065-Calculations!V$1","v":0},{"$f":"'Absorbance Data'!Z4065-Calculations!W$1","v":0}]
[{"$f":"'Absorbance Data'!D4066","v":843.65484619140625},{"$f":"'Absorbance Data'!E4066-Calculations!B$1","v":0},{"$f":"'Absorbance Data'!F4066-Calculations!C$1","v":0},{"$f":"'Absorbance Data'!G4066-Calculations!D$1","v":0},{"$f":"'Absorbance Data'!H4066-Calculations!E$1","v":0},{"$f":"'Absorbance Data'!I4066-Calculations!F$1","v":0},{"$f":"'Absorbance Data'!J4066-Calculations!G$1","v":0},{"$f":"'Absorbance Data'!K4066-Calculations!H$1","v":0},{"$f":"'Absorbance Data'!L4066-Calculations!I$1","v":0},{"$f":"'Absorbance Data'!M4066-Calculations!J$1","v":0},{"$f":"'Absorbance Data'!N4066-Calculations!K$1","v":0},{"$f":"'Absorbance Data'!O4066-Calculations!L$1","v":0},{"$f":"'Absorbance Data'!P4066-Calculations!M$1","v":0},{"$f":"'Absorbance Data'!Q4066-Calculations!N$1","v":0},{"$f":"'Absorbance Data'!R4066-Calculations!O$1","v":0},{"$f":"'Absorbance Data'!S4066-Calculations!P$1","v":0},{"$f":"'Absorbance Data'!T4066-Calculations!Q$1","v":0},{"$f":"'Absorbance Data'!U4066-Calculations!R$1","v":0},{"$f":"'Absorbance Data'!V4066-Calculations!S$1","v":0},{"$f":"'Absorbance Data'!W4066-Calculations!T$1","v":0},{"$f":"'Absorbance Data'!X4066-Calculations!U$1","v":0},{"$f":"'Absorbance Data'!Y4066-Calculations!V$1","v":0},{"$f":"'Absorbance Data'!Z4066-Calculations!W$1","v":0}]
[{"$f":"'Absorbance Data'!D4067","v":843.938720703125},{"$f":"'Absorbance Data'!E4067-Calculations!B$1","v":0},{"$f":"'Absorbance Data'!F4067-Calculations!C$1","v":0},{"$f":"'Absorbance Data'!G4067-Calculations!D$1","v":0},{"$f":"'Absorbance Data'!H4067-Calculations!E$1","v":0},{"$f":"'Absorbance Data'!I4067-Calculations!F$1","v":0},{"$f":"'Absorbance Data'!J4067-Calculations!G$1","v":0},{"$f":"'Absorbance Data'!K4067-Calculations!H$1","v":0},{"$f":"'Absorbance Data'!L4067-Calculations!I$1","v":0},{"$f":"'Absorbance Data'!M4067-Calculations!J$1","v":0},{"$f":"'Absorbance Data'!N4067-Calculations!K$1","v":0},{"$f":"'Absorbance Data'!O4067-Calculations!L$1","v":0},{"$f":"'Absorbance Data'!P4067-Calculations!M$1","v":0},{"$f":"'Absorbance Data'!Q4067-Calculations!N$1","v":0},{"$f":"'Absorbance Data'!R4067-Calculations!O$1","v":0},{"$f":"'Absorbance Data'!S4067-Calculations!P$1","v":0},{"$f":"'Absorbance Data'!T4067-Calculations!Q$1","v":0},{"$f":"'Absorbance Data'!U4067-Calculations!R$1","v":0},{"$f":"'Absorbance Data'!V4067-Calculations!S$1","v":0},{"$f":"'Absorbance Data'!W4067-Calculations!T$1","v":0},{"$f":"'Absorbance Data'!X4067-Calculations!U$1","v":0},{"$f":"'Absorbance Data'!Y4067-Calculations!V$1","v":0},{"$f":"'Absorbance Data'!Z4067-Calculations!W$1","v":0}]
[{"$f":"'Absorbance Data'!D4068","v":844.2225341796875},{"$f":"'Absorbance Data'!E4068-Calculations!B$1","v":0},{"$f":"'Absorbance Data'!F4068-Calculations!C$1","v":0},{"$f":"'Absorbance Data'!G4068-Calculations!D$1","v":0},{"$f":"'Absorbance Data'!H4068-Calculations!E$1","v":0},{"$f":"'Absorbance Data'!I4068-Calculations!F$1","v":0},{"$f":"'Absorbance Data'!J4068-Calculations!G$1","v":0},{"$f":"'Absorbance Data'!K4068-Calculations!H$1","v":0},{"$f":"'Absorbance Data'!L4068-Calculations!I$1","v":0},{"$f":"'Absorbance Data'!M4068-Calculations!J$1","v":0},{"$f":"'Absorbance Data'!N4068-Calculations!K$1","v":0},{"$f":"'Absorbance Data'!O4068-Calculations!L$1","v":0},{"$f":"'Absorbance Data'!P4068-Calculations!M$1","v":0},{"$f":"'Absorbance Data'!Q4068-Calculations!N$1","v":0},{"$f":"'Absorbance Data'!R4068-Calculations!O$1","v":0},{"$f":"'Absorbance Data'!S4068-Calculations!P$1","v":0},{"$f":"'Absorbance Data'!T4068-Calculations!Q$1","v":0},{"$f":"'Absorbance Data'!U4068-Calculations!R$1","v":0},{"$f":"'Absorbance Data'!V4068-Calculations!S$1","v":0},{"$f":"'Absorbance Data'!W4068-Calculations!T$1","v":0},{"$f":"'Absorbance Data'!X4068-Calculations!U$1","v":0},{"$f":"'Absorbance Data'!Y4068-Calculations!V$1","v":0},{"$f":"'Absorbance Data'!Z4068-Calculations!W$1","v":0}]
[{"$f":"'Absorbance Data'!D4069","v":844.50628662109375},{"$f":"'Absorbance Data'!E4069-Calculations!B$1","v":0},{"$f":"'Absorbance Data'!F4069-Calculations!C$1","v":0},{"$f":"'Absorbance Data'!G4069-Calculations!D$1","v":0},{"$f":"'Absorbance Data'!H4069-Calculations!E$1","v":0},{"$f":"'Absorbance Data'!I4069-Calculations!F$1","v":0},{"$f":"'Absorbance Data'!J4069-Calculations!G$1","v":0},{"$f":"'Absorbance Data'!K4069-Calculations!H$1","v":0},{"$f":"'Absorbance Data'!L4069-Calculations!I$1","v":0},{"$f":"'Absorbance Data'!M4069-Calculations!J$1","v":0},{"$f":"'Absorbance Data'!N4069-Calculations!K$1","v":0},{"$f":"'Absorbance Data'!O4069-Calculations!L$1","v":0},{"$f":"'Absorbance Data'!P4069-Calculations!M$1","v":0},{"$f":"'Absorbance Data'!Q4069-Calculations!N$1","v":0},{"$f":"'Absorbance Data'!R4069-Calculations!O$1","v":0},{"$f":"'Absorbance Data'!S4069-Calculations!P$1","v":0},{"$f":"'Absorbance Data'!T4069-Calculations!Q$1","v":0},{"$f":"'Absorbance Data'!U4069-Calculations!R$1","v":0},{"$f":"'Absorbance Data'!V4069-Calculations!S$1","v":0},{"$f":"'Absorbance Data'!W4069-Calculations!T$1","v":0},{"$f":"'Absorbance Data'!X4069-Calculations!U$1","v":0},{"$f":"'Absorbance Data'!Y4069-Calculations!V$1","v":0},{"$f":"'Absorbance Data'!Z4069-Calculations!W$1","v":0}]
[{"$f":"'Absorbance Data'!D4070","v":844.78997802734375},{"$f":"'Absorbance Data'!E4070-Calculations!B$1","v":0},{"$f":"'Absorbance Data'!F4070-Calculations!C$1","v":0},{"$f":"'Absorbance Data'!G4070-Calculations!D$1","v":0},{"$f":"'Absorbance Data'!H4070-Calculations!E$1","v":0},{"$f":"'Absorbance Data'!I4070-Calculations!F$1","v":0},{"$f":"'Absorbance Data'!J4070-Calculations!G$1","v":0},{"$f":"'Absorbance Data'!K4070-Calculations!H$1","v":0},{"$f":"'Absorbance Data'!L4070-Calculations!I$1","v":0},{"$f":"'Absorbance Data'!M4070-Calculations!J$1","v":0},{"$f":"'Absorbance Data'!N4070-Calculations!K$1","v":0},{"$f":"'Absorbance Data'!O4070-Calculations!L$1","v":0},{"$f":"'Absorbance Data'!P4070-Calculations!M$1","v":0},{"$f":"'Absorbance Data'!Q4070-Calculations!N$1","v":0},{"$f":"'Absorbance Data'!R4070-Calculations!O$1","v":0},{"$f":"'Absorbance Data'!S4070-Calculations!P$1","v":0},{"$f":"'Absorbance Data'!T4070-Calculations!Q$1","v":0},{"$f":"'Absorbance Data'!U4070-Calculations!R$1","v":0},{"$f":"'Absorbance Data'!V4070-Calculations!S$1","v":0},{"$f":"'Absorbance Data'!W4070-Calculations!T$1","v":0},{"$f":"'Absorbance Data'!X4070-Calculations!U$1","v":0},{"$f":"'Absorbance Data'!Y4070-Calculations!V$1","v":0},{"$f":"'Absorbance Data'!Z4070-Calculations!W$1","v":0}]
[{"$f":"'Absorbance Data'!D4071","v":845.07373046875},{"$f":"'Absorbance Data'!E4071-Calculations!B$1","v":0},{"$f":"'Absorbance Data'!F4071-Calculations!C$1","v":0},{"$f":"'Absorbance Data'!G4071-Calculations!D$1","v":0},{"$f":"'Absorbance Data'!H4071-Calculations!E$1","v":0},{"$f":"'Absorbance Data'!I4071-Calculations!F$1","v":0},{"$f":"'Absorbance Data'!J4071-Calculations!G$1","v":0},{"$f":"'Absorbance Data'!K4071-Calculations!H$1","v":0},{"$f":"'Absorbance Data'!L4071-Calculations!I$1","v":0},{"$f":"'Absorbance Data'!M4071-Calculations!J$1","v":0},{"$f":"'Absorbance Data'!N4071-Calculations!K$1","v":0},{"$f":"'Absorbance Data'!O4071-Calculations!L$1","v":0},{"$f":"'Absorbance Data'!P4071-Calculations!M$1","v":0},{"$f":"'Absorbance Data'!Q4071-Calculations!N$1","v":0},{"$f":"'Absorbance Data'!R4071-Calculations!O$1","v":0},{"$f":"'Absorbance Data'!S4071-Calculations!P$1","v":0},{"$f":"'Absorbance Data'!T4071-Calculations!Q$1","v":0},{"$f":"'Absorbance Data'!U4071-Calculations!R$1","v":0},{"$f":"'Absorbance Data'!V4071-Calculations!S$1","v":0},{"$f":"'Absorbance Data'!W4071-Calculations!T$1","v":0},{"$f":"'Absorbance Data'!X4071-Calculations!U$1","v":0},{"$f":"'Absorbance Data'!Y4071-Calculations!V$1","v":0},{"$f":"'Absorbance Data'!Z4071-Calculations!W$1","v":0}]
[{"$f":"'Absorbance Data'!D4072","v":845.3572998046875},{"$f":"'Absorbance Data'!E4072-Calculations!B$1","v":0},{"$f":"'Absorbance Data'!F4072-Calculations!C$1","v":0},{"$f":"'Absorbance Data'!G4072-Calculations!D$1","v":0},{"$f":"'Absorbance Data'!H4072-Calculations!E$1","v":0},{"$f":"'Absorbance Data'!I4072-Calculations!F$1","v":0},{"$f":"'Absorbance Data'!J4072-Calculations!G$1","v":0},{"$f":"'Absorbance Data'!K4072-Calculations!H$1","v":0},{"$f":"'Absorbance Data'!L4072-Calculations!I$1","v":0},{"$f":"'Absorbance Data'!M4072-Calculations!J$1","v":0},{"$f":"'Absorbance Data'!N4072-Calculations!K$1","v":0},{"$f":"'Absorbance Data'!O4072-Calculations!L$1","v":0},{"$f":"'Absorbance Data'!P4072-Calculations!M$1","v":0},{"$f":"'Absorbance Data'!Q4072-Calculations!N$1","v":0},{"$f":"'Absorbance Data'!R4072-Calculations!O$1","v":0},{"$f":"'Absorbance Data'!S4072-Calculations!P$1","v":0},{"$f":"'Absorbance Data'!T4072-Calculations!Q$1","v":0},{"$f":"'Absorbance Data'!U4072-Calculations!R$1","v":0},{"$f":"'Absorbance Data'!V4072-Calculations!S$1","v":0},{"$f":"'Absorbance Data'!W4072-Calculations!T$1","v":0},{"$f":"'Absorbance Data'!X4072-Calculations!U$1","v":0},{"$f":"'Absorbance Data'!Y4072-Calculations!V$1","v":0},{"$f":"'Absorbance Data'!Z4072-Calculations!W$1","v":0}]
[{"$f":"'Absorbance Data'!D4073","v":845.640869140625},{"$f":"'Absorbance Data'!E4073-Calculations!B$1","v":0},{"$f":"'Absorbance Data'!F4073-Calculations!C$1","v":0},{"$f":"'Absorbance Data'!G4073-Calculations!D$1","v":0},{"$f":"'Absorbance Data'!H4073-Calculations!E$1","v":0},{"$f":"'Absorbance Data'!I4073-Calculations!F$1","v":0},{"$f":"'Absorbance Data'!J4073-Calculations!G$1","v":0},{"$f":"'Absorbance Data'!K4073-Calculations!H$1","v":0},{"$f":"'Absorbance Data'!L4073-Calculations!I$1","v":0},{"$f":"'Absorbance Data'!M4073-Calculations!J$1","v":0},{"$f":"'Absorbance Data'!N4073-Calculations!K$1","v":0},{"$f":"'Absorbance Data'!O4073-Calculations!L$1","v":0},{"$f":"'Absorbance Data'!P4073-Calculations!M$1","v":0},{"$f":"'Absorbance Data'!Q4073-Calculations!N$1","v":0},{"$f":"'Absorbance Data'!R4073-Calculations!O$1","v":0},{"$f":"'Absorbance Data'!S4073-Calculations!P$1","v":0},{"$f":"'Absorbance Data'!T4073-Calculations!Q$1","v":0},{"$f":"'Absorbance Data'!U4073-Calculations!R$1","v":0},{"$f":"'Absorbance Data'!V4073-Calculations!S$1","v":0},{"$f":"'Absorbance Data'!W4073-Calculations!T$1","v":0},{"$f":"'Absorbance Data'!X4073-Calculations!U$1","v":0},{"$f":"'Absorbance Data'!Y4073-Calculations!V$1","v":0},{"$f":"'Absorbance Data'!Z4073-Calculations!W$1","v":0}]
[{"$f":"'Absorbance Data'!D4074","v":845.92431640625},{"$f":"'Absorbance Data'!E4074-Calculations!B$1","v":0},{"$f":"'Absorbance Data'!F4074-Calculations!C$1","v":0},{"$f":"'Absorbance Data'!G4074-Calculations!D$1","v":0},{"$f":"'Absorbance Data'!H4074-Calculations!E$1","v":0},{"$f":"'Absorbance Data'!I4074-Calculations!F$1","v":0},{"$f":"'Absorbance Data'!J4074-Calculations!G$1","v":0},{"$f":"'Absorbance Data'!K4074-Calculations!H$1","v":0},{"$f":"'Absorbance Data'!L4074-Calculations!I$1","v":0},{"$f":"'Absorbance Data'!M4074-Calculations!J$1","v":0},{"$f":"'Absorbance Data'!N4074-Calculations!K$1","v":0},{"$f":"'Absorbance Data'!O4074-Calculations!L$1","v":0},{"$f":"'Absorbance Data'!P4074-Calculations!M$1","v":0},{"$f":"'Absorbance Data'!Q4074-Calculations!N$1","v":0},{"$f":"'Absorbance Data'!R4074-Calculations!O$1","v":0},{"$f":"'Absorbance Data'!S4074-Calculations!P$1","v":0},{"$f":"'Absorbance Data'!T4074-Calculations!Q$1","v":0},{"$f":"'Absorbance Data'!U4074-Calculations!R$1","v":0},{"$f":"'Absorbance Data'!V4074-Calculations!S$1","v":0},{"$f":"'Absorbance Data'!W4074-Calculations!T$1","v":0},{"$f":"'Absorbance Data'!X4074-Calculations!U$1","v":0},{"$f":"'Absorbance Data'!Y4074-Calculations!V$1","v":0},{"$f":"'Absorbance Data'!Z4074-Calculations!W$1","v":0}]
[{"$f":"'Absorbance Data'!D4075","v":846.20782470703125},{"$f":"'Absorbance Data'!E4075-Calculations!B$1","v":0},{"$f":"'Absorbance Data'!F4075-Calculations!C$1","v":0},{"$f":"'Absorbance Data'!G4075-Calculations!D$1","v":0},{"$f":"'Absorbance Data'!H4075-Calculations!E$1","v":0},{"$f":"'Absorbance Data'!I4075-Calculations!F$1","v":0},{"$f":"'Absorbance Data'!J4075-Calculations!G$1","v":0},{"$f":"'Absorbance Data'!K4075-Calculations!H$1","v":0},{"$f":"'Absorbance Data'!L4075-Calculations!I$1","v":0},{"$f":"'Absorbance Data'!M4075-Calculations!J$1","v":0},{"$f":"'Absorbance Data'!N4075-Calculations!K$1","v":0},{"$f":"'Absorbance Data'!O4075-Calculations!L$1","v":0},{"$f":"'Absorbance Data'!P4075-Calculations!M$1","v":0},{"$f":"'Absorbance Data'!Q4075-Calculations!N$1","v":0},{"$f":"'Absorbance Data'!R4075-Calculations!O$1","v":0},{"$f":"'Absorbance Data'!S4075-Calculations!P$1","v":0},{"$f":"'Absorbance Data'!T4075-Calculations!Q$1","v":0},{"$f":"'Absorbance Data'!U4075-Calculations!R$1","v":0},{"$f":"'Absorbance Data'!V4075-Calculations!S$1","v":0},{"$f":"'Absorbance Data'!W4075-Calculations!T$1","v":0},{"$f":"'Absorbance Data'!X4075-Calculations!U$1","v":0},{"$f":"'Absorbance Data'!Y4075-Calculations!V$1","v":0},{"$f":"'Absorbance Data'!Z4075-Calculations!W$1","v":0}]
[{"$f":"'Absorbance Data'!D4076","v":846.4912109375},{"$f":"'Absorbance Data'!E4076-Calculations!B$1","v":0},{"$f":"'Absorbance Data'!F4076-Calculations!C$1","v":0},{"$f":"'Absorbance Data'!G4076-Calculations!D$1","v":0},{"$f":"'Absorbance Data'!H4076-Calculations!E$1","v":0},{"$f":"'Absorbance Data'!I4076-Calculations!F$1","v":0},{"$f":"'Absorbance Data'!J4076-Calculations!G$1","v":0},{"$f":"'Absorbance Data'!K4076-Calculations!H$1","v":0},{"$f":"'Absorbance Data'!L4076-Calculations!I$1","v":0},{"$f":"'Absorbance Data'!M4076-Calculations!J$1","v":0},{"$f":"'Absorbance Data'!N4076-Calculations!K$1","v":0},{"$f":"'Absorbance Data'!O4076-Calculations!L$1","v":0},{"$f":"'Absorbance Data'!P4076-Calculations!M$1","v":0},{"$f":"'Absorbance Data'!Q4076-Calculations!N$1","v":0},{"$f":"'Absorbance Data'!R4076-Calculations!O$1","v":0},{"$f":"'Absorbance Data'!S4076-Calculations!P$1","v":0},{"$f":"'Absorbance Data'!T4076-Calculations!Q$1","v":0},{"$f":"'Absorbance Data'!U4076-Calculations!R$1","v":0},{"$f":"'Absorbance Data'!V4076-Calculations!S$1","v":0},{"$f":"'Absorbance Data'!W4076-Calculations!T$1","v":0},{"$f":"'Absorbance Data'!X4076-Calculations!U$1","v":0},{"$f":"'Absorbance Data'!Y4076-Calculations!V$1","v":0},{"$f":"'Absorbance Data'!Z4076-Calculations!W$1","v":0}]
[{"$f":"'Absorbance Data'!D4077","v":846.77459716796875},{"$f":"'Absorbance Data'!E4077-Calculations!B$1","v":0},{"$f":"'Absorbance Data'!F4077-Calculations!C$1","v":0},{"$f":"'Absorbance Data'!G4077-Calculations!D$1","v":0},{"$f":"'Absorbance Data'!H4077-Calculations!E$1","v":0},{"$f":"'Absorbance Data'!I4077-Calculations!F$1","v":0},{"$f":"'Absorbance Data'!J4077-Calculations!G$1","v":0},{"$f":"'Absorbance Data'!K4077-Calculations!H$1","v":0},{"$f":"'Absorbance Data'!L4077-Calculations!I$1","v":0},{"$f":"'Absorbance Data'!M4077-Calculations!J$1","v":0},{"$f":"'Absorbance Data'!N4077-Calculations!K$1","v":0},{"$f":"'Absorbance Data'!O4077-Calculations!L$1","v":0},{"$f":"'Absorbance Data'!P4077-Calculations!M$1","v":0},{"$f":"'Absorbance Data'!Q4077-Calculations!N$1","v":0},{"$f":"'Absorbance Data'!R4077-Calculations!O$1","v":0},{"$f":"'Absorbance Data'!S4077-Calculations!P$1","v":0},{"$f":"'Absorbance Data'!T4077-Calculations!Q$1","v":0},{"$f":"'Absorbance Data'!U4077-Calculations!R$1","v":0},{"$f":"'Absorbance Data'!V4077-Calculations!S$1","v":0},{"$f":"'Absorbance Data'!W4077-Calculations!T$1","v":0},{"$f":"'Absorbance Data'!X4077-Calculations!U$1","v":0},{"$f":"'Absorbance Data'!Y4077-Calculations!V$1","v":0},{"$f":"'Absorbance Data'!Z4077-Calculations!W$1","v":0}]
[{"$f":"'Absorbance Data'!D4078","v":847.057861328125},{"$f":"'Absorbance Data'!E4078-Calculations!B$1","v":0},{"$f":"'Absorbance Data'!F4078-Calculations!C$1","v":0},{"$f":"'Absorbance Data'!G4078-Calculations!D$1","v":0},{"$f":"'Absorbance Data'!H4078-Calculations!E$1","v":0},{"$f":"'Absorbance Data'!I4078-Calculations!F$1","v":0},{"$f":"'Absorbance Data'!J4078-Calculations!G$1","v":0},{"$f":"'Absorbance Data'!K4078-Calculations!H$1","v":0},{"$f":"'Absorbance Data'!L4078-Calculations!I$1","v":0},{"$f":"'Absorbance Data'!M4078-Calculations!J$1","v":0},{"$f":"'Absorbance Data'!N4078-Calculations!K$1","v":0},{"$f":"'Absorbance Data'!O4078-Calculations!L$1","v":0},{"$f":"'Absorbance Data'!P4078-Calculations!M$1","v":0},{"$f":"'Absorbance Data'!Q4078-Calculations!N$1","v":0},{"$f":"'Absorbance Data'!R4078-Calculations!O$1","v":0},{"$f":"'Absorbance Data'!S4078-Calculations!P$1","v":0},{"$f":"'Absorbance Data'!T4078-Calculations!Q$1","v":0},{"$f":"'Absorbance Data'!U4078-Calculations!R$1","v":0},{"$f":"'Absorbance Data'!V4078-Calculations!S$1","v":0},{"$f":"'Absorbance Data'!W4078-Calculations!T$1","v":0},{"$f":"'Absorbance Data'!X4078-Calculations!U$1","v":0},{"$f":"'Absorbance Data'!Y4078-Calculations!V$1","v":0},{"$f":"'Absorbance Data'!Z4078-Calculations!W$1","v":0}]
[{"$f":"'Absorbance Data'!D4079","v":847.3411865234375},{"$f":"'Absorbance Data'!E4079-Calculations!B$1","v":0},{"$f":"'Absorbance Data'!F4079-Calculations!C$1","v":0},{"$f":"'Absorbance Data'!G4079-Calculations!D$1","v":0},{"$f":"'Absorbance Data'!H4079-Calculations!E$1","v":0},{"$f":"'Absorbance Data'!I4079-Calculations!F$1","v":0},{"$f":"'Absorbance Data'!J4079-Calculations!G$1","v":0},{"$f":"'Absorbance Data'!K4079-Calculations!H$1","v":0},{"$f":"'Absorbance Data'!L4079-Calculations!I$1","v":0},{"$f":"'Absorbance Data'!M4079-Calculations!J$1","v":0},{"$f":"'Absorbance Data'!N4079-Calculations!K$1","v":0},{"$f":"'Absorbance Data'!O4079-Calculations!L$1","v":0},{"$f":"'Absorbance Data'!P4079-Calculations!M$1","v":0},{"$f":"'Absorbance Data'!Q4079-Calculations!N$1","v":0},{"$f":"'Absorbance Data'!R4079-Calculations!O$1","v":0},{"$f":"'Absorbance Data'!S4079-Calculations!P$1","v":0},{"$f":"'Absorbance Data'!T4079-Calculations!Q$1","v":0},{"$f":"'Absorbance Data'!U4079-Calculations!R$1","v":0},{"$f":"'Absorbance Data'!V4079-Calculations!S$1","v":0},{"$f":"'Absorbance Data'!W4079-Calculations!T$1","v":0},{"$f":"'Absorbance Data'!X4079-Calculations!U$1","v":0},{"$f":"'Absorbance Data'!Y4079-Calculations!V$1","v":0},{"$f":"'Absorbance Data'!Z4079-Calculations!W$1","v":0}]
[{"$f":"'Absorbance Data'!D4080","v":847.6243896484375},{"$f":"'Absorbance Data'!E4080-Calculations!B$1","v":0},{"$f":"'Absorbance Data'!F4080-Calculations!C$1","v":0},{"$f":"'Absorbance Data'!G4080-Calculations!D$1","v":0},{"$f":"'Absorbance Data'!H4080-Calculations!E$1","v":0},{"$f":"'Absorbance Data'!I4080-Calculations!F$1","v":0},{"$f":"'Absorbance Data'!J4080-Calculations!G$1","v":0},{"$f":"'Absorbance Data'!K4080-Calculations!H$1","v":0},{"$f":"'Absorbance Data'!L4080-Calculations!I$1","v":0},{"$f":"'Absorbance Data'!M4080-Calculations!J$1","v":0},{"$f":"'Absorbance Data'!N4080-Calculations!K$1","v":0},{"$f":"'Absorbance Data'!O4080-Calculations!L$1","v":0},{"$f":"'Absorbance Data'!P4080-Calculations!M$1","v":0},{"$f":"'Absorbance Data'!Q4080-Calculations!N$1","v":0},{"$f":"'Absorbance Data'!R4080-Calculations!O$1","v":0},{"$f":"'Absorbance Data'!S4080-Calculations!P$1","v":0},{"$f":"'Absorbance Data'!T4080-Calculations!Q$1","v":0},{"$f":"'Absorbance Data'!U4080-Calculations!R$1","v":0},{"$f":"'Absorbance Data'!V4080-Calculations!S$1","v":0},{"$f":"'Absorbance Data'!W4080-Calculations!T$1","v":0},{"$f":"'Absorbance Data'!X4080-Calculations!U$1","v":0},{"$f":"'Absorbance Data'!Y4080-Calculations!V$1","v":0},{"$f":"'Absorbance Data'!Z4080-Calculations!W$1","v":0}]
[{"$f":"'Absorbance Data'!D4081","v":847.90753173828125},{"$f":"'Absorbance Data'!E4081-Calculations!B$1","v":0},{"$f":"'Absorbance Data'!F4081-Calculations!C$1","v":0},{"$f":"'Absorbance Data'!G4081-Calculations!D$1","v":0},{"$f":"'Absorbance Data'!H4081-Calculations!E$1","v":0},{"$f":"'Absorbance Data'!I4081-Calculations!F$1","v":0},{"$f":"'Absorbance Data'!J4081-Calculations!G$1","v":0},{"$f":"'Absorbance Data'!K4081-Calculations!H$1","v":0},{"$f":"'Absorbance Data'!L4081-Calculations!I$1","v":0},{"$f":"'Absorbance Data'!M4081-Calculations!J$1","v":0},{"$f":"'Absorbance Data'!N4081-Calculations!K$1","v":0},{"$f":"'Absorbance Data'!O4081-Calculations!L$1","v":0},{"$f":"'Absorbance Data'!P4081-Calculations!M$1","v":0},{"$f":"'Absorbance Data'!Q4081-Calculations!N$1","v":0},{"$f":"'Absorbance Data'!R4081-Calculations!O$1","v":0},{"$f":"'Absorbance Data'!S4081-Calculations!P$1","v":0},{"$f":"'Absorbance Data'!T4081-Calculations!Q$1","v":0},{"$f":"'Absorbance Data'!U4081-Calculations!R$1","v":0},{"$f":"'Absorbance Data'!V4081-Calculations!S$1","v":0},{"$f":"'Absorbance Data'!W4081-Calculations!T$1","v":0},{"$f":"'Absorbance Data'!X4081-Calculations!U$1","v":0},{"$f":"'Absorbance Data'!Y4081-Calculations!V$1","v":0},{"$f":"'Absorbance Data'!Z4081-Calculations!W$1","v":0}]
[{"$f":"'Absorbance Data'!D4082","v":848.190673828125},{"$f":"'Absorbance Data'!E4082-Calculations!B$1","v":0},{"$f":"'Absorbance Data'!F4082-Calculations!C$1","v":0},{"$f":"'Absorbance Data'!G4082-Calculations!D$1","v":0},{"$f":"'Absorbance Data'!H4082-Calculations!E$1","v":0},{"$f":"'Absorbance Data'!I4082-Calculations!F$1","v":0},{"$f":"'Absorbance Data'!J4082-Calculations!G$1","v":0},{"$f":"'Absorbance Data'!K4082-Calculations!H$1","v":0},{"$f":"'Absorbance Data'!L4082-Calculations!I$1","v":0},{"$f":"'Absorbance Data'!M4082-Calculations!J$1","v":0},{"$f":"'Absorbance Data'!N4082-Calculations!K$1","v":0},{"$f":"'Absorbance Data'!O4082-Calculations!L$1","v":0},{"$f":"'Absorbance Data'!P4082-Calculations!M$1","v":0},{"$f":"'Absorbance Data'!Q4082-Calculations!N$1","v":0},{"$f":"'Absorbance Data'!R4082-Calculations!O$1","v":0},{"$f":"'Absorbance Data'!S4082-Calculations!P$1","v":0},{"$f":"'Absorbance Data'!T4082-Calculations!Q$1","v":0},{"$f":"'Absorbance Data'!U4082-Calculations!R$1","v":0},{"$f":"'Absorbance Data'!V4082-Calculations!S$1","v":0},{"$f":"'Absorbance Data'!W4082-Calculations!T$1","v":0},{"$f":"'Absorbance Data'!X4082-Calculations!U$1","v":0},{"$f":"'Absorbance Data'!Y4082-Calculations!V$1","v":0},{"$f":"'Absorbance Data'!Z4082-Calculations!W$1","v":0}]
[{"$f":"'Absorbance Data'!D4083","v":848.4736328125},{"$f":"'Absorbance Data'!E4083-Calculations!B$1","v":0},{"$f":"'Absorbance Data'!F4083-Calculations!C$1","v":0},{"$f":"'Absorbance Data'!G4083-Calculations!D$1","v":0},{"$f":"'Absorbance Data'!H4083-Calculations!E$1","v":0},{"$f":"'Absorbance Data'!I4083-Calculations!F$1","v":0},{"$f":"'Absorbance Data'!J4083-Calculations!G$1","v":0},{"$f":"'Absorbance Data'!K4083-Calculations!H$1","v":0},{"$f":"'Absorbance Data'!L4083-Calculations!I$1","v":0},{"$f":"'Absorbance Data'!M4083-Calculations!J$1","v":0},{"$f":"'Absorbance Data'!N4083-Calculations!K$1","v":0},{"$f":"'Absorbance Data'!O4083-Calculations!L$1","v":0},{"$f":"'Absorbance Data'!P4083-Calculations!M$1","v":0},{"$f":"'Absorbance Data'!Q4083-Calculations!N$1","v":0},{"$f":"'Absorbance Data'!R4083-Calculations!O$1","v":0},{"$f":"'Absorbance Data'!S4083-Calculations!P$1","v":0},{"$f":"'Absorbance Data'!T4083-Calculations!Q$1","v":0},{"$f":"'Absorbance Data'!U4083-Calculations!R$1","v":0},{"$f":"'Absorbance Data'!V4083-Calculations!S$1","v":0},{"$f":"'Absorbance Data'!W4083-Calculations!T$1","v":0},{"$f":"'Absorbance Data'!X4083-Calculations!U$1","v":0},{"$f":"'Absorbance Data'!Y4083-Calculations!V$1","v":0},{"$f":"'Absorbance Data'!Z4083-Calculations!W$1","v":0}]
[{"$f":"'Absorbance Data'!D4084","v":848.7567138671875},{"$f":"'Absorbance Data'!E4084-Calculations!B$1","v":0},{"$f":"'Absorbance Data'!F4084-Calculations!C$1","v":0},{"$f":"'Absorbance Data'!G4084-Calculations!D$1","v":0},{"$f":"'Absorbance Data'!H4084-Calculations!E$1","v":0},{"$f":"'Absorbance Data'!I4084-Calculations!F$1","v":0},{"$f":"'Absorbance Data'!J4084-Calculations!G$1","v":0},{"$f":"'Absorbance Data'!K4084-Calculations!H$1","v":0},{"$f":"'Absorbance Data'!L4084-Calculations!I$1","v":0},{"$f":"'Absorbance Data'!M4084-Calculations!J$1","v":0},{"$f":"'Absorbance Data'!N4084-Calculations!K$1","v":0},{"$f":"'Absorbance Data'!O4084-Calculations!L$1","v":0},{"$f":"'Absorbance Data'!P4084-Calculations!M$1","v":0},{"$f":"'Absorbance Data'!Q4084-Calculations!N$1","v":0},{"$f":"'Absorbance Data'!R4084-Calculations!O$1","v":0},{"$f":"'Absorbance Data'!S4084-Calculations!P$1","v":0},{"$f":"'Absorbance Data'!T4084-Calculations!Q$1","v":0},{"$f":"'Absorbance Data'!U4084-Calculations!R$1","v":0},{"$f":"'Absorbance Data'!V4084-Calculations!S$1","v":0},{"$f":"'Absorbance Data'!W4084-Calculations!T$1","v":0},{"$f":"'Absorbance Data'!X4084-Calculations!U$1","v":0},{"$f":"'Absorbance Data'!Y4084-Calculations!V$1","v":0},{"$f":"'Absorbance Data'!Z4084-Calculations!W$1","v":0}]
[{"$f":"'Absorbance Data'!D4085","v":849.03961181640625},{"$f":"'Absorbance Data'!E4085-Calculations!B$1","v":0},{"$f":"'Absorbance Data'!F4085-Calculations!C$1","v":0},{"$f":"'Absorbance Data'!G4085-Calculations!D$1","v":0},{"$f":"'Absorbance Data'!H4085-Calculations!E$1","v":0},{"$f":"'Absorbance Data'!I4085-Calculations!F$1","v":0},{"$f":"'Absorbance Data'!J4085-Calculations!G$1","v":0},{"$f":"'Absorbance Data'!K4085-Calculations!H$1","v":0},{"$f":"'Absorbance Data'!L4085-Calculations!I$1","v":0},{"$f":"'Absorbance Data'!M4085-Calculations!J$1","v":0},{"$f":"'Absorbance Data'!N4085-Calculations!K$1","v":0},{"$f":"'Absorbance Data'!O4085-Calculations!L$1","v":0},{"$f":"'Absorbance Data'!P4085-Calculations!M$1","v":0},{"$f":"'Absorbance Data'!Q4085-Calculations!N$1","v":0},{"$f":"'Absorbance Data'!R4085-Calculations!O$1","v":0},{"$f":"'Absorbance Data'!S4085-Calculations!P$1","v":0},{"$f":"'Absorbance Data'!T4085-Calculations!Q$1","v":0},{"$f":"'Absorbance Data'!U4085-Calculations!R$1","v":0},{"$f":"'Absorbance Data'!V4085-Calculations!S$1","v":0},{"$f":"'Absorbance Data'!W4085-Calculations!T$1","v":0},{"$f":"'Absorbance Data'!X4085-Calculations!U$1","v":0},{"$f":"'Absorbance Data'!Y4085-Calculations!V$1","v":0},{"$f":"'Absorbance Data'!Z4085-Calculations!W$1","v":0}]
[{"$f":"'Absorbance Data'!D4086","v":849.32257080078125},{"$f":"'Absorbance Data'!E4086-Calculations!B$1","v":0},{"$f":"'Absorbance Data'!F4086-Calculations!C$1","v":0},{"$f":"'Absorbance Data'!G4086-Calculations!D$1","v":0},{"$f":"'Absorbance Data'!H4086-Calculations!E$1","v":0},{"$f":"'Absorbance Data'!I4086-Calculations!F$1","v":0},{"$f":"'Absorbance Data'!J4086-Calculations!G$1","v":0},{"$f":"'Absorbance Data'!K4086-Calculations!H$1","v":0},{"$f":"'Absorbance Data'!L4086-Calculations!I$1","v":0},{"$f":"'Absorbance Data'!M4086-Calculations!J$1","v":0},{"$f":"'Absorbance Data'!N4086-Calculations!K$1","v":0},{"$f":"'Absorbance Data'!O4086-Calculations!L$1","v":0},{"$f":"'Absorbance Data'!P4086-Calculations!M$1","v":0},{"$f":"'Absorbance Data'!Q4086-Calculations!N$1","v":0},{"$f":"'Absorbance Data'!R4086-Calculations!O$1","v":0},{"$f":"'Absorbance Data'!S4086-Calculations!P$1","v":0},{"$f":"'Absorbance Data'!T4086-Calculations!Q$1","v":0},{"$f":"'Absorbance Data'!U4086-Calculations!R$1","v":0},{"$f":"'Absorbance Data'!V4086-Calculations!S$1","v":0},{"$f":"'Absorbance Data'!W4086-Calculations!T$1","v":0},{"$f":"'Absorbance Data'!X4086-Calculations!U$1","v":0},{"$f":"'Absorbance Data'!Y4086-Calculations!V$1","v":0},{"$f":"'Absorbance Data'!Z4086-Calculations!W$1","v":0}]
[{"$f":"'Absorbance Data'!D4087","v":849.60540771484375},{"$f":"'Absorbance Data'!E4087-Calculations!B$1","v":0},{"$f":"'Absorbance Data'!F4087-Calculations!C$1","v":0},{"$f":"'Absorbance Data'!G4087-Calculations!D$1","v":0},{"$f":"'Absorbance Data'!H4087-Calculations!E$1","v":0},{"$f":"'Absorbance Data'!I4087-Calculations!F$1","v":0},{"$f":"'Absorbance Data'!J4087-Calculations!G$1","v":0},{"$f":"'Absorbance Data'!K4087-Calculations!H$1","v":0},{"$f":"'Absorbance Data'!L4087-Calculations!I$1","v":0},{"$f":"'Absorbance Data'!M4087-Calculations!J$1","v":0},{"$f":"'Absorbance Data'!N4087-Calculations!K$1","v":0},{"$f":"'Absorbance Data'!O4087-Calculations!L$1","v":0},{"$f":"'Absorbance Data'!P4087-Calculations!M$1","v":0},{"$f":"'Absorbance Data'!Q4087-Calculations!N$1","v":0},{"$f":"'Absorbance Data'!R4087-Calculations!O$1","v":0},{"$f":"'Absorbance Data'!S4087-Calculations!P$1","v":0},{"$f":"'Absorbance Data'!T4087-Calculations!Q$1","v":0},{"$f":"'Absorbance Data'!U4087-Calculations!R$1","v":0},{"$f":"'Absorbance Data'!V4087-Calculations!S$1","v":0},{"$f":"'Absorbance Data'!W4087-Calculations!T$1","v":0},{"$f":"'Absorbance Data'!X4087-Calculations!U$1","v":0},{"$f":"'Absorbance Data'!Y4087-Calculations!V$1","v":0},{"$f":"'Absorbance Data'!Z4087-Calculations!W$1","v":0}]
[{"$f":"'Absorbance Data'!D4088","v":849.88818359375},{"$f":"'Absorbance Data'!E4088-Calculations!B$1","v":0},{"$f":"'Absorbance Data'!F4088-Calculations!C$1","v":0},{"$f":"'Absorbance Data'!G4088-Calculations!D$1","v":0},{"$f":"'Absorbance Data'!H4088-Calculations!E$1","v":0},{"$f":"'Absorbance Data'!I4088-Calculations!F$1","v":0},{"$f":"'Absorbance Data'!J4088-Calculations!G$1","v":0},{"$f":"'Absorbance Data'!K4088-Calculations!H$1","v":0},{"$f":"'Absorbance Data'!L4088-Calculations!I$1","v":0},{"$f":"'Absorbance Data'!M4088-Calculations!J$1","v":0},{"$f":"'Absorbance Data'!N4088-Calculations!K$1","v":0},{"$f":"'Absorbance Data'!O4088-Calculations!L$1","v":0},{"$f":"'Absorbance Data'!P4088-Calculations!M$1","v":0},{"$f":"'Absorbance Data'!Q4088-Calculations!N$1","v":0},{"$f":"'Absorbance Data'!R4088-Calculations!O$1","v":0},{"$f":"'Absorbance Data'!S4088-Calculations!P$1","v":0},{"$f":"'Absorbance Data'!T4088-Calculations!Q$1","v":0},{"$f":"'Absorbance Data'!U4088-Calculations!R$1","v":0},{"$f":"'Absorbance Data'!V4088-Calculations!S$1","v":0},{"$f":"'Absorbance Data'!W4088-Calculations!T$1","v":0},{"$f":"'Absorbance Data'!X4088-Calculations!U$1","v":0},{"$f":"'Absorbance Data'!Y4088-Calculations!V$1","v":0},{"$f":"'Absorbance Data'!Z4088-Calculations!W$1","v":0}]
[{"$f":"'Absorbance Data'!D4089","v":850.1708984375},{"$f":"'Absorbance Data'!E4089-Calculations!B$1","v":0},{"$f":"'Absorbance Data'!F4089-Calculations!C$1","v":0},{"$f":"'Absorbance Data'!G4089-Calculations!D$1","v":0},{"$f":"'Absorbance Data'!H4089-Calculations!E$1","v":0},{"$f":"'Absorbance Data'!I4089-Calculations!F$1","v":0},{"$f":"'Absorbance Data'!J4089-Calculations!G$1","v":0},{"$f":"'Absorbance Data'!K4089-Calculations!H$1","v":0},{"$f":"'Absorbance Data'!L4089-Calculations!I$1","v":0},{"$f":"'Absorbance Data'!M4089-Calculations!J$1","v":0},{"$f":"'Absorbance Data'!N4089-Calculations!K$1","v":0},{"$f":"'Absorbance Data'!O4089-Calculations!L$1","v":0},{"$f":"'Absorbance Data'!P4089-Calculations!M$1","v":0},{"$f":"'Absorbance Data'!Q4089-Calculations!N$1","v":0},{"$f":"'Absorbance Data'!R4089-Calculations!O$1","v":0},{"$f":"'Absorbance Data'!S4089-Calculations!P$1","v":0},{"$f":"'Absorbance Data'!T4089-Calculations!Q$1","v":0},{"$f":"'Absorbance Data'!U4089-Calculations!R$1","v":0},{"$f":"'Absorbance Data'!V4089-Calculations!S$1","v":0},{"$f":"'Absorbance Data'!W4089-Calculations!T$1","v":0},{"$f":"'Absorbance Data'!X4089-Calculations!U$1","v":0},{"$f":"'Absorbance Data'!Y4089-Calculations!V$1","v":0},{"$f":"'Absorbance Data'!Z4089-Calculations!W$1","v":0}]
[{"$f":"'Absorbance Data'!D4090","v":850.45367431640625},{"$f":"'Absorbance Data'!E4090-Calculations!B$1","v":0},{"$f":"'Absorbance Data'!F4090-Calculations!C$1","v":0},{"$f":"'Absorbance Data'!G4090-Calculations!D$1","v":0},{"$f":"'Absorbance Data'!H4090-Calculations!E$1","v":0},{"$f":"'Absorbance Data'!I4090-Calculations!F$1","v":0},{"$f":"'Absorbance Data'!J4090-Calculations!G$1","v":0},{"$f":"'Absorbance Data'!K4090-Calculations!H$1","v":0},{"$f":"'Absorbance Data'!L4090-Calculations!I$1","v":0},{"$f":"'Absorbance Data'!M4090-Calculations!J$1","v":0},{"$f":"'Absorbance Data'!N4090-Calculations!K$1","v":0},{"$f":"'Absorbance Data'!O4090-Calculations!L$1","v":0},{"$f":"'Absorbance Data'!P4090-Calculations!M$1","v":0},{"$f":"'Absorbance Data'!Q4090-Calculations!N$1","v":0},{"$f":"'Absorbance Data'!R4090-Calculations!O$1","v":0},{"$f":"'Absorbance Data'!S4090-Calculations!P$1","v":0},{"$f":"'Absorbance Data'!T4090-Calculations!Q$1","v":0},{"$f":"'Absorbance Data'!U4090-Calculations!R$1","v":0},{"$f":"'Absorbance Data'!V4090-Calculations!S$1","v":0},{"$f":"'Absorbance Data'!W4090-Calculations!T$1","v":0},{"$f":"'Absorbance Data'!X4090-Calculations!U$1","v":0},{"$f":"'Absorbance Data'!Y4090-Calculations!V$1","v":0},{"$f":"'Absorbance Data'!Z4090-Calculations!W$1","v":0}]
[{"$f":"'Absorbance Data'!D4091","v":850.73626708984375},{"$f":"'Absorbance Data'!E4091-Calculations!B$1","v":0},{"$f":"'Absorbance Data'!F4091-Calculations!C$1","v":0},{"$f":"'Absorbance Data'!G4091-Calculations!D$1","v":0},{"$f":"'Absorbance Data'!H4091-Calculations!E$1","v":0},{"$f":"'Absorbance Data'!I4091-Calculations!F$1","v":0},{"$f":"'Absorbance Data'!J4091-Calculations!G$1","v":0},{"$f":"'Absorbance Data'!K4091-Calculations!H$1","v":0},{"$f":"'Absorbance Data'!L4091-Calculations!I$1","v":0},{"$f":"'Absorbance Data'!M4091-Calculations!J$1","v":0},{"$f":"'Absorbance Data'!N4091-Calculations!K$1","v":0},{"$f":"'Absorbance Data'!O4091-Calculations!L$1","v":0},{"$f":"'Absorbance Data'!P4091-Calculations!M$1","v":0},{"$f":"'Absorbance Data'!Q4091-Calculations!N$1","v":0},{"$f":"'Absorbance Data'!R4091-Calculations!O$1","v":0},{"$f":"'Absorbance Data'!S4091-Calculations!P$1","v":0},{"$f":"'Absorbance Data'!T4091-Calculations!Q$1","v":0},{"$f":"'Absorbance Data'!U4091-Calculations!R$1","v":0},{"$f":"'Absorbance Data'!V4091-Calculations!S$1","v":0},{"$f":"'Absorbance Data'!W4091-Calculations!T$1","v":0},{"$f":"'Absorbance Data'!X4091-Calculations!U$1","v":0},{"$f":"'Absorbance Data'!Y4091-Calculations!V$1","v":0},{"$f":"'Absorbance Data'!Z4091-Calculations!W$1","v":0}]
[{"$f":"'Absorbance Data'!D4092","v":851.01885986328125},{"$f":"'Absorbance Data'!E4092-Calculations!B$1","v":0},{"$f":"'Absorbance Data'!F4092-Calculations!C$1","v":0},{"$f":"'Absorbance Data'!G4092-Calculations!D$1","v":0},{"$f":"'Absorbance Data'!H4092-Calculations!E$1","v":0},{"$f":"'Absorbance Data'!I4092-Calculations!F$1","v":0},{"$f":"'Absorbance Data'!J4092-Calculations!G$1","v":0},{"$f":"'Absorbance Data'!K4092-Calculations!H$1","v":0},{"$f":"'Absorbance Data'!L4092-Calculations!I$1","v":0},{"$f":"'Absorbance Data'!M4092-Calculations!J$1","v":0},{"$f":"'Absorbance Data'!N4092-Calculations!K$1","v":0},{"$f":"'Absorbance Data'!O4092-Calculations!L$1","v":0},{"$f":"'Absorbance Data'!P4092-Calculations!M$1","v":0},{"$f":"'Absorbance Data'!Q4092-Calculations!N$1","v":0},{"$f":"'Absorbance Data'!R4092-Calculations!O$1","v":0},{"$f":"'Absorbance Data'!S4092-Calculations!P$1","v":0},{"$f":"'Absorbance Data'!T4092-Calculations!Q$1","v":0},{"$f":"'Absorbance Data'!U4092-Calculations!R$1","v":0},{"$f":"'Absorbance Data'!V4092-Calculations!S$1","v":0},{"$f":"'Absorbance Data'!W4092-Calculations!T$1","v":0},{"$f":"'Absorbance Data'!X4092-Calculations!U$1","v":0},{"$f":"'Absorbance Data'!Y4092-Calculations!V$1","v":0},{"$f":"'Absorbance Data'!Z4092-Calculations!W$1","v":0}]
[{"$f":"'Absorbance Data'!D4093","v":851.3013916015625},{"$f":"'Absorbance Data'!E4093-Calculations!B$1","v":0},{"$f":"'Absorbance Data'!F4093-Calculations!C$1","v":0},{"$f":"'Absorbance Data'!G4093-Calculations!D$1","v":0},{"$f":"'Absorbance Data'!H4093-Calculations!E$1","v":0},{"$f":"'Absorbance Data'!I4093-Calculations!F$1","v":0},{"$f":"'Absorbance Data'!J4093-Calculations!G$1","v":0},{"$f":"'Absorbance Data'!K4093-Calculations!H$1","v":0},{"$f":"'Absorbance Data'!L4093-Calculations!I$1","v":0},{"$f":"'Absorbance Data'!M4093-Calculations!J$1","v":0},{"$f":"'Absorbance Data'!N4093-Calculations!K$1","v":0},{"$f":"'Absorbance Data'!O4093-Calculations!L$1","v":0},{"$f":"'Absorbance Data'!P4093-Calculations!M$1","v":0},{"$f":"'Absorbance Data'!Q4093-Calculations!N$1","v":0},{"$f":"'Absorbance Data'!R4093-Calculations!O$1","v":0},{"$f":"'Absorbance Data'!S4093-Calculations!P$1","v":0},{"$f":"'Absorbance Data'!T4093-Calculations!Q$1","v":0},{"$f":"'Absorbance Data'!U4093-Calculations!R$1","v":0},{"$f":"'Absorbance Data'!V4093-Calculations!S$1","v":0},{"$f":"'Absorbance Data'!W4093-Calculations!T$1","v":0},{"$f":"'Absorbance Data'!X4093-Calculations!U$1","v":0},{"$f":"'Absorbance Data'!Y4093-Calculations!V$1","v":0},{"$f":"'Absorbance Data'!Z4093-Calculations!W$1","v":0}]
[{"$f":"'Absorbance Data'!D4094","v":851.58392333984375},{"$f":"'Absorbance Data'!E4094-Calculations!B$1","v":0},{"$f":"'Absorbance Data'!F4094-Calculations!C$1","v":0},{"$f":"'Absorbance Data'!G4094-Calculations!D$1","v":0},{"$f":"'Absorbance Data'!H4094-Calculations!E$1","v":0},{"$f":"'Absorbance Data'!I4094-Calculations!F$1","v":0},{"$f":"'Absorbance Data'!J4094-Calculations!G$1","v":0},{"$f":"'Absorbance Data'!K4094-Calculations!H$1","v":0},{"$f":"'Absorbance Data'!L4094-Calculations!I$1","v":0},{"$f":"'Absorbance Data'!M4094-Calculations!J$1","v":0},{"$f":"'Absorbance Data'!N4094-Calculations!K$1","v":0},{"$f":"'Absorbance Data'!O4094-Calculations!L$1","v":0},{"$f":"'Absorbance Data'!P4094-Calculations!M$1","v":0},{"$f":"'Absorbance Data'!Q4094-Calculations!N$1","v":0},{"$f":"'Absorbance Data'!R4094-Calculations!O$1","v":0},{"$f":"'Absorbance Data'!S4094-Calculations!P$1","v":0},{"$f":"'Absorbance Data'!T4094-Calculations!Q$1","v":0},{"$f":"'Absorbance Data'!U4094-Calculations!R$1","v":0},{"$f":"'Absorbance Data'!V4094-Calculations!S$1","v":0},{"$f":"'Absorbance Data'!W4094-Calculations!T$1","v":0},{"$f":"'Absorbance Data'!X4094-Calculations!U$1","v":0},{"$f":"'Absorbance Data'!Y4094-Calculations!V$1","v":0},{"$f":"'Absorbance Data'!Z4094-Calculations!W$1","v":0}]
[{"$f":"'Absorbance Data'!D4095","v":851.8663330078125},{"$f":"'Absorbance Data'!E4095-Calculations!B$1","v":0},{"$f":"'Absorbance Data'!F4095-Calculations!C$1","v":0},{"$f":"'Absorbance Data'!G4095-Calculations!D$1","v":0},{"$f":"'Absorbance Data'!H4095-Calculations!E$1","v":0},{"$f":"'Absorbance Data'!I4095-Calculations!F$1","v":0},{"$f":"'Absorbance Data'!J4095-Calculations!G$1","v":0},{"$f":"'Absorbance Data'!K4095-Calculations!H$1","v":0},{"$f":"'Absorbance Data'!L4095-Calculations!I$1","v":0},{"$f":"'Absorbance Data'!M4095-Calculations!J$1","v":0},{"$f":"'Absorbance Data'!N4095-Calculations!K$1","v":0},{"$f":"'Absorbance Data'!O4095-Calculations!L$1","v":0},{"$f":"'Absorbance Data'!P4095-Calculations!M$1","v":0},{"$f":"'Absorbance Data'!Q4095-Calculations!N$1","v":0},{"$f":"'Absorbance Data'!R4095-Calculations!O$1","v":0},{"$f":"'Absorbance Data'!S4095-Calculations!P$1","v":0},{"$f":"'Absorbance Data'!T4095-Calculations!Q$1","v":0},{"$f":"'Absorbance Data'!U4095-Calculations!R$1","v":0},{"$f":"'Absorbance Data'!V4095-Calculations!S$1","v":0},{"$f":"'Absorbance Data'!W4095-Calculations!T$1","v":0},{"$f":"'Absorbance Data'!X4095-Calculations!U$1","v":0},{"$f":"'Absorbance Data'!Y4095-Calculations!V$1","v":0},{"$f":"'Absorbance Data'!Z4095-Calculations!W$1","v":0}]
[{"$f":"'Absorbance Data'!D4096","v":852.14874267578125},{"$f":"'Absorbance Data'!E4096-Calculations!B$1","v":0},{"$f":"'Absorbance Data'!F4096-Calculations!C$1","v":0},{"$f":"'Absorbance Data'!G4096-Calculations!D$1","v":0},{"$f":"'Absorbance Data'!H4096-Calculations!E$1","v":0},{"$f":"'Absorbance Data'!I4096-Calculations!F$1","v":0},{"$f":"'Absorbance Data'!J4096-Calculations!G$1","v":0},{"$f":"'Absorbance Data'!K4096-Calculations!H$1","v":0},{"$f":"'Absorbance Data'!L4096-Calculations!I$1","v":0},{"$f":"'Absorbance Data'!M4096-Calculations!J$1","v":0},{"$f":"'Absorbance Data'!N4096-Calculations!K$1","v":0},{"$f":"'Absorbance Data'!O4096-Calculations!L$1","v":0},{"$f":"'Absorbance Data'!P4096-Calculations!M$1","v":0},{"$f":"'Absorbance Data'!Q4096-Calculations!N$1","v":0},{"$f":"'Absorbance Data'!R4096-Calculations!O$1","v":0},{"$f":"'Absorbance Data'!S4096-Calculations!P$1","v":0},{"$f":"'Absorbance Data'!T4096-Calculations!Q$1","v":0},{"$f":"'Absorbance Data'!U4096-Calculations!R$1","v":0},{"$f":"'Absorbance Data'!V4096-Calculations!S$1","v":0},{"$f":"'Absorbance Data'!W4096-Calculations!T$1","v":0},{"$f":"'Absorbance Data'!X4096-Calculations!U$1","v":0},{"$f":"'Absorbance Data'!Y4096-Calculations!V$1","v":0},{"$f":"'Absorbance Data'!Z4096-Calculations!W$1","v":0}]
[{"$f":"'Absorbance Data'!D4097","v":852.43109130859375},{"$f":"'Absorbance Data'!E4097-Calculations!B$1","v":0},{"$f":"'Absorbance Data'!F4097-Calculations!C$1","v":0},{"$f":"'Absorbance Data'!G4097-Calculations!D$1","v":0},{"$f":"'Absorbance Data'!H4097-Calculations!E$1","v":0},{"$f":"'Absorbance Data'!I4097-Calculations!F$1","v":0},{"$f":"'Absorbance Data'!J4097-Calculations!G$1","v":0},{"$f":"'Absorbance Data'!K4097-Calculations!H$1","v":0},{"$f":"'Absorbance Data'!L4097-Calculations!I$1","v":0},{"$f":"'Absorbance Data'!M4097-Calculations!J$1","v":0},{"$f":"'Absorbance Data'!N4097-Calculations!K$1","v":0},{"$f":"'Absorbance Data'!O4097-Calculations!L$1","v":0},{"$f":"'Absorbance Data'!P4097-Calculations!M$1","v":0},{"$f":"'Absorbance Data'!Q4097-Calculations!N$1","v":0},{"$f":"'Absorbance Data'!R4097-Calculations!O$1","v":0},{"$f":"'Absorbance Data'!S4097-Calculations!P$1","v":0},{"$f":"'Absorbance Data'!T4097-Calculations!Q$1","v":0},{"$f":"'Absorbance Data'!U4097-Calculations!R$1","v":0},{"$f":"'Absorbance Data'!V4097-Calculations!S$1","v":0},{"$f":"'Absorbance Data'!W4097-Calculations!T$1","v":0},{"$f":"'Absorbance Data'!X4097-Calculations!U$1","v":0},{"$f":"'Absorbance Data'!Y4097-Calculations!V$1","v":0},{"$f":"'Absorbance Data'!Z4097-Calculations!W$1","v":0}]
[{"$f":"'Absorbance Data'!D4098","v":852.71337890625},{"$f":"'Absorbance Data'!E4098-Calculations!B$1","v":0},{"$f":"'Absorbance Data'!F4098-Calculations!C$1","v":0},{"$f":"'Absorbance Data'!G4098-Calculations!D$1","v":0},{"$f":"'Absorbance Data'!H4098-Calculations!E$1","v":0},{"$f":"'Absorbance Data'!I4098-Calculations!F$1","v":0},{"$f":"'Absorbance Data'!J4098-Calculations!G$1","v":0},{"$f":"'Absorbance Data'!K4098-Calculations!H$1","v":0},{"$f":"'Absorbance Data'!L4098-Calculations!I$1","v":0},{"$f":"'Absorbance Data'!M4098-Calculations!J$1","v":0},{"$f":"'Absorbance Data'!N4098-Calculations!K$1","v":0},{"$f":"'Absorbance Data'!O4098-Calculations!L$1","v":0},{"$f":"'Absorbance Data'!P4098-Calculations!M$1","v":0},{"$f":"'Absorbance Data'!Q4098-Calculations!N$1","v":0},{"$f":"'Absorbance Data'!R4098-Calculations!O$1","v":0},{"$f":"'Absorbance Data'!S4098-Calculations!P$1","v":0},{"$f":"'Absorbance Data'!T4098-Calculations!Q$1","v":0},{"$f":"'Absorbance Data'!U4098-Calculations!R$1","v":0},{"$f":"'Absorbance Data'!V4098-Calculations!S$1","v":0},{"$f":"'Absorbance Data'!W4098-Calculations!T$1","v":0},{"$f":"'Absorbance Data'!X4098-Calculations!U$1","v":0},{"$f":"'Absorbance Data'!Y4098-Calculations!V$1","v":0},{"$f":"'Absorbance Data'!Z4098-Calculations!W$1","v":0}]
[{"$f":"'Absorbance Data'!D4099","v":852.99560546875},{"$f":"'Absorbance Data'!E4099-Calculations!B$1","v":0},{"$f":"'Absorbance Data'!F4099-Calculations!C$1","v":0},{"$f":"'Absorbance Data'!G4099-Calculations!D$1","v":0},{"$f":"'Absorbance Data'!H4099-Calculations!E$1","v":0},{"$f":"'Absorbance Data'!I4099-Calculations!F$1","v":0},{"$f":"'Absorbance Data'!J4099-Calculations!G$1","v":0},{"$f":"'Absorbance Data'!K4099-Calculations!H$1","v":0},{"$f":"'Absorbance Data'!L4099-Calculations!I$1","v":0},{"$f":"'Absorbance Data'!M4099-Calculations!J$1","v":0},{"$f":"'Absorbance Data'!N4099-Calculations!K$1","v":0},{"$f":"'Absorbance Data'!O4099-Calculations!L$1","v":0},{"$f":"'Absorbance Data'!P4099-Calculations!M$1","v":0},{"$f":"'Absorbance Data'!Q4099-Calculations!N$1","v":0},{"$f":"'Absorbance Data'!R4099-Calculations!O$1","v":0},{"$f":"'Absorbance Data'!S4099-Calculations!P$1","v":0},{"$f":"'Absorbance Data'!T4099-Calculations!Q$1","v":0},{"$f":"'Absorbance Data'!U4099-Calculations!R$1","v":0},{"$f":"'Absorbance Data'!V4099-Calculations!S$1","v":0},{"$f":"'Absorbance Data'!W4099-Calculations!T$1","v":0},{"$f":"'Absorbance Data'!X4099-Calculations!U$1","v":0},{"$f":"'Absorbance Data'!Y4099-Calculations!V$1","v":0},{"$f":"'Absorbance Data'!Z4099-Calculations!W$1","v":0}]
[{"$f":"'Absorbance Data'!D4100","v":853.27783203125},{"$f":"'Absorbance Data'!E4100-Calculations!B$1","v":0},{"$f":"'Absorbance Data'!F4100-Calculations!C$1","v":0},{"$f":"'Absorbance Data'!G4100-Calculations!D$1","v":0},{"$f":"'Absorbance Data'!H4100-Calculations!E$1","v":0},{"$f":"'Absorbance Data'!I4100-Calculations!F$1","v":0},{"$f":"'Absorbance Data'!J4100-Calculations!G$1","v":0},{"$f":"'Absorbance Data'!K4100-Calculations!H$1","v":0},{"$f":"'Absorbance Data'!L4100-Calculations!I$1","v":0},{"$f":"'Absorbance Data'!M4100-Calculations!J$1","v":0},{"$f":"'Absorbance Data'!N4100-Calculations!K$1","v":0},{"$f":"'Absorbance Data'!O4100-Calculations!L$1","v":0},{"$f":"'Absorbance Data'!P4100-Calculations!M$1","v":0},{"$f":"'Absorbance Data'!Q4100-Calculations!N$1","v":0},{"$f":"'Absorbance Data'!R4100-Calculations!O$1","v":0},{"$f":"'Absorbance Data'!S4100-Calculations!P$1","v":0},{"$f":"'Absorbance Data'!T4100-Calculations!Q$1","v":0},{"$f":"'Absorbance Data'!U4100-Calculations!R$1","v":0},{"$f":"'Absorbance Data'!V4100-Calculations!S$1","v":0},{"$f":"'Absorbance Data'!W4100-Calculations!T$1","v":0},{"$f":"'Absorbance Data'!X4100-Calculations!U$1","v":0},{"$f":"'Absorbance Data'!Y4100-Calculations!V$1","v":0},{"$f":"'Absorbance Data'!Z4100-Calculations!W$1","v":0}]
[{"$f":"'Absorbance Data'!D4101","v":853.5599365234375},{"$f":"'Absorbance Data'!E4101-Calculations!B$1","v":0},{"$f":"'Absorbance Data'!F4101-Calculations!C$1","v":0},{"$f":"'Absorbance Data'!G4101-Calculations!D$1","v":0},{"$f":"'Absorbance Data'!H4101-Calculations!E$1","v":0},{"$f":"'Absorbance Data'!I4101-Calculations!F$1","v":0},{"$f":"'Absorbance Data'!J4101-Calculations!G$1","v":0},{"$f":"'Absorbance Data'!K4101-Calculations!H$1","v":0},{"$f":"'Absorbance Data'!L4101-Calculations!I$1","v":0},{"$f":"'Absorbance Data'!M4101-Calculations!J$1","v":0},{"$f":"'Absorbance Data'!N4101-Calculations!K$1","v":0},{"$f":"'Absorbance Data'!O4101-Calculations!L$1","v":0},{"$f":"'Absorbance Data'!P4101-Calculations!M$1","v":0},{"$f":"'Absorbance Data'!Q4101-Calculations!N$1","v":0},{"$f":"'Absorbance Data'!R4101-Calculations!O$1","v":0},{"$f":"'Absorbance Data'!S4101-Calculations!P$1","v":0},{"$f":"'Absorbance Data'!T4101-Calculations!Q$1","v":0},{"$f":"'Absorbance Data'!U4101-Calculations!R$1","v":0},{"$f":"'Absorbance Data'!V4101-Calculations!S$1","v":0},{"$f":"'Absorbance Data'!W4101-Calculations!T$1","v":0},{"$f":"'Absorbance Data'!X4101-Calculations!U$1","v":0},{"$f":"'Absorbance Data'!Y4101-Calculations!V$1","v":0},{"$f":"'Absorbance Data'!Z4101-Calculations!W$1","v":0}]
[{"$f":"'Absorbance Data'!D4102","v":853.84197998046875},{"$f":"'Absorbance Data'!E4102-Calculations!B$1","v":0},{"$f":"'Absorbance Data'!F4102-Calculations!C$1","v":0},{"$f":"'Absorbance Data'!G4102-Calculations!D$1","v":0},{"$f":"'Absorbance Data'!H4102-Calculations!E$1","v":0},{"$f":"'Absorbance Data'!I4102-Calculations!F$1","v":0},{"$f":"'Absorbance Data'!J4102-Calculations!G$1","v":0},{"$f":"'Absorbance Data'!K4102-Calculations!H$1","v":0},{"$f":"'Absorbance Data'!L4102-Calculations!I$1","v":0},{"$f":"'Absorbance Data'!M4102-Calculations!J$1","v":0},{"$f":"'Absorbance Data'!N4102-Calculations!K$1","v":0},{"$f":"'Absorbance Data'!O4102-Calculations!L$1","v":0},{"$f":"'Absorbance Data'!P4102-Calculations!M$1","v":0},{"$f":"'Absorbance Data'!Q4102-Calculations!N$1","v":0},{"$f":"'Absorbance Data'!R4102-Calculations!O$1","v":0},{"$f":"'Absorbance Data'!S4102-Calculations!P$1","v":0},{"$f":"'Absorbance Data'!T4102-Calculations!Q$1","v":0},{"$f":"'Absorbance Data'!U4102-Calculations!R$1","v":0},{"$f":"'Absorbance Data'!V4102-Calculations!S$1","v":0},{"$f":"'Absorbance Data'!W4102-Calculations!T$1","v":0},{"$f":"'Absorbance Data'!X4102-Calculations!U$1","v":0},{"$f":"'Absorbance Data'!Y4102-Calculations!V$1","v":0},{"$f":"'Absorbance Data'!Z4102-Calculations!W$1","v":0}]
[{"$f":"'Absorbance Data'!D4103","v":854.1240234375},{"$f":"'Absorbance Data'!E4103-Calculations!B$1","v":0},{"$f":"'Absorbance Data'!F4103-Calculations!C$1","v":0},{"$f":"'Absorbance Data'!G4103-Calculations!D$1","v":0},{"$f":"'Absorbance Data'!H4103-Calculations!E$1","v":0},{"$f":"'Absorbance Data'!I4103-Calculations!F$1","v":0},{"$f":"'Absorbance Data'!J4103-Calculations!G$1","v":0},{"$f":"'Absorbance Data'!K4103-Calculations!H$1","v":0},{"$f":"'Absorbance Data'!L4103-Calculations!I$1","v":0},{"$f":"'Absorbance Data'!M4103-Calculations!J$1","v":0},{"$f":"'Absorbance Data'!N4103-Calculations!K$1","v":0},{"$f":"'Absorbance Data'!O4103-Calculations!L$1","v":0},{"$f":"'Absorbance Data'!P4103-Calculations!M$1","v":0},{"$f":"'Absorbance Data'!Q4103-Calculations!N$1","v":0},{"$f":"'Absorbance Data'!R4103-Calculations!O$1","v":0},{"$f":"'Absorbance Data'!S4103-Calculations!P$1","v":0},{"$f":"'Absorbance Data'!T4103-Calculations!Q$1","v":0},{"$f":"'Absorbance Data'!U4103-Calculations!R$1","v":0},{"$f":"'Absorbance Data'!V4103-Calculations!S$1","v":0},{"$f":"'Absorbance Data'!W4103-Calculations!T$1","v":0},{"$f":"'Absorbance Data'!X4103-Calculations!U$1","v":0},{"$f":"'Absorbance Data'!Y4103-Calculations!V$1","v":0},{"$f":"'Absorbance Data'!Z4103-Calculations!W$1","v":0}]
[{"$f":"'Absorbance Data'!D4104","v":854.40606689453125},{"$f":"'Absorbance Data'!E4104-Calculations!B$1","v":0},{"$f":"'Absorbance Data'!F4104-Calculations!C$1","v":0},{"$f":"'Absorbance Data'!G4104-Calculations!D$1","v":0},{"$f":"'Absorbance Data'!H4104-Calculations!E$1","v":0},{"$f":"'Absorbance Data'!I4104-Calculations!F$1","v":0},{"$f":"'Absorbance Data'!J4104-Calculations!G$1","v":0},{"$f":"'Absorbance Data'!K4104-Calculations!H$1","v":0},{"$f":"'Absorbance Data'!L4104-Calculations!I$1","v":0},{"$f":"'Absorbance Data'!M4104-Calculations!J$1","v":0},{"$f":"'Absorbance Data'!N4104-Calculations!K$1","v":0},{"$f":"'Absorbance Data'!O4104-Calculations!L$1","v":0},{"$f":"'Absorbance Data'!P4104-Calculations!M$1","v":0},{"$f":"'Absorbance Data'!Q4104-Calculations!N$1","v":0},{"$f":"'Absorbance Data'!R4104-Calculations!O$1","v":0},{"$f":"'Absorbance Data'!S4104-Calculations!P$1","v":0},{"$f":"'Absorbance Data'!T4104-Calculations!Q$1","v":0},{"$f":"'Absorbance Data'!U4104-Calculations!R$1","v":0},{"$f":"'Absorbance Data'!V4104-Calculations!S$1","v":0},{"$f":"'Absorbance Data'!W4104-Calculations!T$1","v":0},{"$f":"'Absorbance Data'!X4104-Calculations!U$1","v":0},{"$f":"'Absorbance Data'!Y4104-Calculations!V$1","v":0},{"$f":"'Absorbance Data'!Z4104-Calculations!W$1","v":0}]
[{"$f":"'Absorbance Data'!D4105","v":854.68792724609375},{"$f":"'Absorbance Data'!E4105-Calculations!B$1","v":0},{"$f":"'Absorbance Data'!F4105-Calculations!C$1","v":0},{"$f":"'Absorbance Data'!G4105-Calculations!D$1","v":0},{"$f":"'Absorbance Data'!H4105-Calculations!E$1","v":0},{"$f":"'Absorbance Data'!I4105-Calculations!F$1","v":0},{"$f":"'Absorbance Data'!J4105-Calculations!G$1","v":0},{"$f":"'Absorbance Data'!K4105-Calculations!H$1","v":0},{"$f":"'Absorbance Data'!L4105-Calculations!I$1","v":0},{"$f":"'Absorbance Data'!M4105-Calculations!J$1","v":0},{"$f":"'Absorbance Data'!N4105-Calculations!K$1","v":0},{"$f":"'Absorbance Data'!O4105-Calculations!L$1","v":0},{"$f":"'Absorbance Data'!P4105-Calculations!M$1","v":0},{"$f":"'Absorbance Data'!Q4105-Calculations!N$1","v":0},{"$f":"'Absorbance Data'!R4105-Calculations!O$1","v":0},{"$f":"'Absorbance Data'!S4105-Calculations!P$1","v":0},{"$f":"'Absorbance Data'!T4105-Calculations!Q$1","v":0},{"$f":"'Absorbance Data'!U4105-Calculations!R$1","v":0},{"$f":"'Absorbance Data'!V4105-Calculations!S$1","v":0},{"$f":"'Absorbance Data'!W4105-Calculations!T$1","v":0},{"$f":"'Absorbance Data'!X4105-Calculations!U$1","v":0},{"$f":"'Absorbance Data'!Y4105-Calculations!V$1","v":0},{"$f":"'Absorbance Data'!Z4105-Calculations!W$1","v":0}]
[{"$f":"'Absorbance Data'!D4106","v":854.9698486328125},{"$f":"'Absorbance Data'!E4106-Calculations!B$1","v":0},{"$f":"'Absorbance Data'!F4106-Calculations!C$1","v":0},{"$f":"'Absorbance Data'!G4106-Calculations!D$1","v":0},{"$f":"'Absorbance Data'!H4106-Calculations!E$1","v":0},{"$f":"'Absorbance Data'!I4106-Calculations!F$1","v":0},{"$f":"'Absorbance Data'!J4106-Calculations!G$1","v":0},{"$f":"'Absorbance Data'!K4106-Calculations!H$1","v":0},{"$f":"'Absorbance Data'!L4106-Calculations!I$1","v":0},{"$f":"'Absorbance Data'!M4106-Calculations!J$1","v":0},{"$f":"'Absorbance Data'!N4106-Calculations!K$1","v":0},{"$f":"'Absorbance Data'!O4106-Calculations!L$1","v":0},{"$f":"'Absorbance Data'!P4106-Calculations!M$1","v":0},{"$f":"'Absorbance Data'!Q4106-Calculations!N$1","v":0},{"$f":"'Absorbance Data'!R4106-Calculations!O$1","v":0},{"$f":"'Absorbance Data'!S4106-Calculations!P$1","v":0},{"$f":"'Absorbance Data'!T4106-Calculations!Q$1","v":0},{"$f":"'Absorbance Data'!U4106-Calculations!R$1","v":0},{"$f":"'Absorbance Data'!V4106-Calculations!S$1","v":0},{"$f":"'Absorbance Data'!W4106-Calculations!T$1","v":0},{"$f":"'Absorbance Data'!X4106-Calculations!U$1","v":0},{"$f":"'Absorbance Data'!Y4106-Calculations!V$1","v":0},{"$f":"'Absorbance Data'!Z4106-Calculations!W$1","v":0}]
[{"$f":"'Absorbance Data'!D4107","v":855.25164794921875},{"$f":"'Absorbance Data'!E4107-Calculations!B$1","v":0},{"$f":"'Absorbance Data'!F4107-Calculations!C$1","v":0},{"$f":"'Absorbance Data'!G4107-Calculations!D$1","v":0},{"$f":"'Absorbance Data'!H4107-Calculations!E$1","v":0},{"$f":"'Absorbance Data'!I4107-Calculations!F$1","v":0},{"$f":"'Absorbance Data'!J4107-Calculations!G$1","v":0},{"$f":"'Absorbance Data'!K4107-Calculations!H$1","v":0},{"$f":"'Absorbance Data'!L4107-Calculations!I$1","v":0},{"$f":"'Absorbance Data'!M4107-Calculations!J$1","v":0},{"$f":"'Absorbance Data'!N4107-Calculations!K$1","v":0},{"$f":"'Absorbance Data'!O4107-Calculations!L$1","v":0},{"$f":"'Absorbance Data'!P4107-Calculations!M$1","v":0},{"$f":"'Absorbance Data'!Q4107-Calculations!N$1","v":0},{"$f":"'Absorbance Data'!R4107-Calculations!O$1","v":0},{"$f":"'Absorbance Data'!S4107-Calculations!P$1","v":0},{"$f":"'Absorbance Data'!T4107-Calculations!Q$1","v":0},{"$f":"'Absorbance Data'!U4107-Calculations!R$1","v":0},{"$f":"'Absorbance Data'!V4107-Calculations!S$1","v":0},{"$f":"'Absorbance Data'!W4107-Calculations!T$1","v":0},{"$f":"'Absorbance Data'!X4107-Calculations!U$1","v":0},{"$f":"'Absorbance Data'!Y4107-Calculations!V$1","v":0},{"$f":"'Absorbance Data'!Z4107-Calculations!W$1","v":0}]
[{"$f":"'Absorbance Data'!D4108","v":855.533447265625},{"$f":"'Absorbance Data'!E4108-Calculations!B$1","v":0},{"$f":"'Absorbance Data'!F4108-Calculations!C$1","v":0},{"$f":"'Absorbance Data'!G4108-Calculations!D$1","v":0},{"$f":"'Absorbance Data'!H4108-Calculations!E$1","v":0},{"$f":"'Absorbance Data'!I4108-Calculations!F$1","v":0},{"$f":"'Absorbance Data'!J4108-Calculations!G$1","v":0},{"$f":"'Absorbance Data'!K4108-Calculations!H$1","v":0},{"$f":"'Absorbance Data'!L4108-Calculations!I$1","v":0},{"$f":"'Absorbance Data'!M4108-Calculations!J$1","v":0},{"$f":"'Absorbance Data'!N4108-Calculations!K$1","v":0},{"$f":"'Absorbance Data'!O4108-Calculations!L$1","v":0},{"$f":"'Absorbance Data'!P4108-Calculations!M$1","v":0},{"$f":"'Absorbance Data'!Q4108-Calculations!N$1","v":0},{"$f":"'Absorbance Data'!R4108-Calculations!O$1","v":0},{"$f":"'Absorbance Data'!S4108-Calculations!P$1","v":0},{"$f":"'Absorbance Data'!T4108-Calculations!Q$1","v":0},{"$f":"'Absorbance Data'!U4108-Calculations!R$1","v":0},{"$f":"'Absorbance Data'!V4108-Calculations!S$1","v":0},{"$f":"'Absorbance Data'!W4108-Calculations!T$1","v":0},{"$f":"'Absorbance Data'!X4108-Calculations!U$1","v":0},{"$f":"'Absorbance Data'!Y4108-Calculations!V$1","v":0},{"$f":"'Absorbance Data'!Z4108-Calculations!W$1","v":0}]
[{"$f":"'Absorbance Data'!D4109","v":855.81512451171875},{"$f":"'Absorbance Data'!E4109-Calculations!B$1","v":0},{"$f":"'Absorbance Data'!F4109-Calculations!C$1","v":0},{"$f":"'Absorbance Data'!G4109-Calculations!D$1","v":0},{"$f":"'Absorbance Data'!H4109-Calculations!E$1","v":0},{"$f":"'Absorbance Data'!I4109-Calculations!F$1","v":0},{"$f":"'Absorbance Data'!J4109-Calculations!G$1","v":0},{"$f":"'Absorbance Data'!K4109-Calculations!H$1","v":0},{"$f":"'Absorbance Data'!L4109-Calculations!I$1","v":0},{"$f":"'Absorbance Data'!M4109-Calculations!J$1","v":0},{"$f":"'Absorbance Data'!N4109-Calculations!K$1","v":0},{"$f":"'Absorbance Data'!O4109-Calculations!L$1","v":0},{"$f":"'Absorbance Data'!P4109-Calculations!M$1","v":0},{"$f":"'Absorbance Data'!Q4109-Calculations!N$1","v":0},{"$f":"'Absorbance Data'!R4109-Calculations!O$1","v":0},{"$f":"'Absorbance Data'!S4109-Calculations!P$1","v":0},{"$f":"'Absorbance Data'!T4109-Calculations!Q$1","v":0},{"$f":"'Absorbance Data'!U4109-Calculations!R$1","v":0},{"$f":"'Absorbance Data'!V4109-Calculations!S$1","v":0},{"$f":"'Absorbance Data'!W4109-Calculations!T$1","v":0},{"$f":"'Absorbance Data'!X4109-Calculations!U$1","v":0},{"$f":"'Absorbance Data'!Y4109-Calculations!V$1","v":0},{"$f":"'Absorbance Data'!Z4109-Calculations!W$1","v":0}]